{"text_format":"1","workbook":"xlsx","n_sheets":37,"sheets":["メニュー画面","使用上の注意","１号入力","１号Ｐ","２号入力","２号Ｐ","３号入力","３号Ｐ","４号入力","４号Ｐ","５号入力","５号Ｐ","６号入力","６号Ｐ","７号入力","７号Ｐ","８号入力","８号Ｐ","９号入力","９号Ｐ","１０号入力","１０号Ｐ","１１号入力","１１号Ｐ","１２号入力","１２号Ｐ","１３号入力","１３号Ｐ","１４号入力","１４号Ｐ","液肥名リスト","肥料名リスト","農薬名リスト","施用粒剤リスト","記入帳","隠しページ","隠しページ２"],"not_rendered":{"charts":0,"images":1,"macros":1,"external_links":0,"defined_names":45,"comments":14,"pivot_tables":0},"unopened":[],"bounds":{"document_bytes":16777216,"sheet_cells":100000,"rows_first":2000,"rows_last":500,"rows_between":2000,"halvings":0,"cell_chars":16384,"cell_head_chars":4096},"cells_cut":0,"cells_raw":0,"read":"whole","date_system":"1900"}

{"sheet":"メニュー画面","index":0,"n_rows":23,"n_cols":6,"rows_kept":23,"cut":false,"hidden":false,"merged":[[19,5,19,7],[17,5,17,7],[15,5,15,10]]}
[]
[]
[]
[]
[]
[]
[]
[]
[]
[]
[]
[]
[]
[null,"最初の登録"]
[]
[null,"所属支所名を選択して下さい。",null,null,null,"静岡県温室農業協同組合（クラウンメロン支所）"]
[]
[null,"組合員番号を入力して下さい。",null,null,null,"４　３　６"]
[null,null,null,null,null,"９○９○８　　　　※○はスペースです。"]
[null,"名前を入力して下さい。",null,null,null,"中　條　文　義"]
[null,null,null,null,null,"静○岡○太○郎"]
[]
[null,"栽培履歴Melo_1を終了するときは、メニューバーの　ファイル（Ｆ）→終了　でお願いします。"]

{"sheet":"使用上の注意","index":1,"n_rows":117,"n_cols":13,"rows_kept":117,"cut":false,"hidden":false,"merged":[[92,4,92,7],[1,10,1,11],[56,1,56,14],[18,1,18,14],[38,1,38,13],[46,1,46,12],[54,1,54,12],[52,1,52,12],[50,1,50,12],[48,1,48,12]]}
[]
[null,"使用上の注意",null,null,null,null,null,null,null,null,"2007-09-02",null,"更新"]
[]
[]
[]
[]
[null,"　栽培履歴Melo_１は、静岡県温室農業協同組合の栽培履歴書を自宅のパソコンで簡単に作製できるようにと作ったものです。"]
[]
[null,"筆記用具の一つと考えて　自己責任にて使用していただくことを切にお願い申し上げます。"]
[]
[null,"栽培履歴Melo_１は、ＰＣ初心者でも扱いやすいように便利な機能が満載。末永くご愛用願えると嬉しい限りです。"]
[]
[]
[]
[null,"　栽培履歴Melo_１を使うと楽チンです。「楽チンになった分、より正確な履歴を作成する。」と言う考え方でご使用願います。"]
[]
[null,"それでないとトレーサビリティの意味がなくなってしまいますからね。（便利な機能は、より正確な履歴書を作成するためのもの）"]
[]
[null,"くれぐれもパソコン使用は禁止とされることにならないように気をつけてください。"]
[]
[null,"特徴"]
[]
[null,"１．マクロを使用しています。　　　Windows版のエクセル2000以上でないと正常に動作しないかもしれません。"]
[]
[]
[]
[null,"構成"]
[]
[null,"メニュー画面と使用上の注意、各部屋ごとの履歴入力画面、印刷プレビュー画面と農薬・肥料・液肥等の資材リストで構成され"]
[]
[null,"入力画面で入力したデータが、印刷プレビュー画面に反映され印刷するしくみになっています。"]
[]
[null,"使用方法"]
[]
[null,"１．メニュー画面の最初の登録で　所属支所名、組合員番号、氏名を入力してください。　（必須）"]
[]
[null,"２．各部屋の入力画面を選択して　各項目順にデータを入力してください。"]
[]
[null,"　　極力、打ち込むのを減らすため　㎏、ｍｌ、鉢、倍などは、数字だけを打てば自動的に付く様にしてあります。"]
[]
[null,"　　ℓ、ｇ、などで表示したいときだけ、数字に続けて「りっとる」「ｇ」と打ち込んでください。"]
[]
[null,"　　セルを選択したときに　▼マークが出れば、ドロップダウンリストから選択記入できます。"]
[]
[null,"　　県の決まりと違う品種名を入れると赤色になりますが、無視できます。収穫日はＰＣが、計算して表示します。"]
[]
[null,"　　使用農薬・肥料名などの文字は、ドロップダウンリストから選択記入。数字はテンキーからと覚えてください。"]
[]
[null,"　　植物成長調整剤は、エルゴール以外のものが登録されたら農薬名リストに新規登録してください。"]
[]
[null,"　　入力画面にて選択記入できるようになります。（入力画面のエルゴールに上書きしてもかまいません）"]
[]
[null,"　　トップジンの場合も同じで、代わりにトリフミンなどを選択できます。"]
[]
[null,"　　なお、入力できるのは白抜きのセルだけで　色の付いたセルは保護されていて、PCが自動で入れます。"]
[]
[null,"３．入力の途中でも画面右上の「印刷プレビュー」ボタンを押せば履歴書本体への入力状況がわかります。"]
[]
[null,"　　「戻る」ボタンで　元の入力画面に戻ります。"]
[]
[null,"　　入力が終了したら「印刷プレビュー」→「印刷する」で　印刷できます。"]
[]
[null,"４．農薬名リスト、施用粒剤リスト、肥料名リスト、液肥名リストには、７００種類以上の資材が登録してあります。"]
[]
[null,"　　新しい資材がデビューしたときは、メニューの「○○名リストを編集する」で　追加登録してください。"]
[]
[null,"   ○○名リストを編集する"]
[]
[null,"    例：　新しい農薬がデビューした。　　メニュー画面の「農薬名リストを編集する」を選択→「追加登録をする」→"]
[]
[null,"　　　　　「農薬新規登録」フォームが起ち上がる。→名前、回数、時期、希釈倍数を記入→「登録する」"]
[]
[null,"　　　　　アイウエオ順に並べ替えてくれて登録完了！　　チョロイもんだぜ！！"]
[]
[null,"５．シートのコピーは出来ませんが、１号室の入力画面の施用肥料の表を選択コピーして２号～１６号まで"]
[]
[null,"　　貼り付けることは出来ます。シート１枚と言う形でなくシートの中のデータの固まり（ブロック）で"]
[]
[null,"　　コピー＆ペイストして下さい。"]
[]
[null,"６．追肥（１）、追肥（２）、追肥（３）というのは？・・・「定植肥え」「交配肥え」「ネット肥え」どれでも一回目に"]
[]
[null,"　　施した追肥を　「追肥（１）」とする。これは県温室組合での決定事項ですので逆らわないで下さい。"]
[]
[null,"※平成30年にクラウンメロン支所法により　木作り、交配、ネット　と栽培ステージで記載するように変更されました。"]
[]
[null,"７．小メロンの出荷の有無を記載できるようにしました。"]
[]
[]
[]
[null,"なお、困ったとき、エラーがあったときは私の携帯電話（090-6095-0936）を鳴らしてください。いつでもサポートします。"]
[]
[null,"メールでの質問はこちらへ　→",null,null,"yasumitsu0322@mail.goo.ne.jp"]
[]
[]
[null,"更新履歴"]
[null,"平成１６年３月３０日・・・・・栽培履歴９９８、エラー等修正"]
[null,"平成１６年４月１９日・・・・・肥料、液肥のリスト枠拡大"]
[null,"平成１６年５月１日・・・・・・部屋番号・坪数を分割、ビギナーズヘルプ（Ｍｏｏｎｋｉｄｓ作）追加"]
[null,"　　　　　　　　　　　　　　　　これで、ほとんどリストボタンとテンキーだけで入力できるようになりました。"]
[null,"平成１６年５月２日・・・・・・粒剤処理枠を４枠に増設"]
[null,"平成１６年５月４日・・・・・・バグ取りしました。"]
[null,"平成１６年５月８日・・・・・・使用上の注意を書き換え。エラーの修正。"]
[null,"平成１６年５月１３日・・・・・数式を強化。(^^♪"]
[null,"平成１６年６月１５日・・・・・エクセル２０００以前のものをお使いのユーザーのために書込み禁止メッセージを追加。"]
[]
[null,"平成１６年８月１２日・・・・・新しい決め事に対応。栽培履歴９９７として生まれ変わりました。"]
[null,"平成１６年８月２２日・・・・・各種リスト範囲を拡張。"]
[null,"平成１６年１０月１５日・・・・スモーキー終了日のエラー表示修正。文字サイズをを１８から１６に落として改修。"]
[null,"平成１６年１０月２３日・・・・使用上の注意に　「たまにある質問」を掲載。"]
[null,"平成１７年２月１７日・・・・・栽培履歴Ｍｅｌｏｘとして　県温室組合のどの支所でも使用可能にしました。"]
[]
[null,"平成１７年４月１日・・・・・・栽培履歴の変更に伴い、いままでのバージョンの欠点を修正して「栽培履歴Melo.1」となりました。"]
[null,"平成１７年７月１日・・・・・マクロバージョン完成。"]
[null,"平成１８年７月６日・・・・・品種名をリストからの選択記入に。植物成長調整剤とトップジンの欄を選択変更出来る様に変更しました。"]
[null,"平成１９年９月２日・・・・・小メロンの出荷の有無を記載できるようにしました。"]
[null,"平成30年12月19日・・・・追肥の書き込みは栽培ステージに変更しました。　追肥（１）、追肥（２）、追肥（３）→木作り、交配、ネット"]

{"sheet":"１号入力","index":2,"n_rows":128,"n_cols":53,"rows_kept":128,"cut":false,"hidden":false,"merged":[[14,2,14,4],[14,5,14,11],[123,27,123,32],[57,17,57,19],[60,17,60,19],[57,20,57,26],[58,20,58,26],[59,20,59,26],[60,20,60,26],[59,17,59,19],[58,17,58,19],[87,11,87,17],[66,29,66,31],[66,32,66,34],[67,2,67,16],[67,17,67,19],[67,20,67,22],[67,23,67,25],[67,26,67,28],[67,29,67,31],[67,32,67,34],[69,2,85,2],[69,3,69,16],[69,17,69,19],[11,2,11,4],[11,5,11,11],[10,5,10,11],[10,2,10,4],[12,2,12,4],[12,5,12,11],[12,14,12,31],[13,2,13,4],[13,5,13,11],[13,14,13,31],[1,9,1,10],[1,11,1,14],[3,9,3,11],[3,12,3,18],[8,2,8,4],[8,5,8,11],[8,14,8,16],[8,17,8,23],[9,2,9,4],[9,5,9,11],[15,2,15,4],[15,5,15,11],[19,5,19,7],[18,5,18,7],[22,26,22,29],[20,33,20,39],[21,2,21,4],[21,5,21,7],[21,8,21,25],[21,26,21,29],[21,33,21,39],[20,2,20,4],[20,5,20,7],[20,8,20,25],[20,26,20,29],[22,33,22,39],[23,2,23,4],[23,5,23,7],[23,8,23,25],[23,26,23,29],[23,33,23,39],[22,2,22,4],[22,5,22,7],[22,8,22,25],[24,33,24,39],[25,2,25,4],[25,5,25,7],[25,8,25,25],[25,26,25,29],[25,33,25,39],[24,2,24,4],[24,5,24,7],[24,8,24,25],[24,26,24,29],[26,33,26,39],[27,2,27,4],[27,5,27,7],[27,8,27,25],[27,26,27,29],[27,33,27,39],[26,2,26,4],[26,5,26,7],[26,8,26,25],[26,26,26,29],[28,33,28,39],[29,2,29,4],[29,5,29,7],[29,8,29,25],[29,26,29,29],[29,33,29,39],[28,2,28,4],[28,5,28,7],[28,8,28,25],[28,26,28,29],[30,33,30,39],[31,2,31,4],[31,5,31,7],[31,8,31,25],[31,26,31,29],[31,33,31,39],[30,2,30,4],[30,5,30,7],[30,8,30,25],[30,26,30,29],[32,33,32,39],[33,2,33,4],[33,5,33,7],[33,8,33,25],[33,26,33,29],[33,33,33,39],[32,2,32,4],[32,5,32,7],[32,8,32,25],[32,26,32,29],[34,33,34,39],[35,2,35,4],[35,5,35,7],[35,8,35,25],[35,26,35,29],[35,33,35,39],[34,2,34,4],[34,5,34,7],[34,8,34,25],[34,26,34,29],[36,33,36,39],[37,2,37,4],[37,5,37,7],[37,8,37,25],[37,26,37,29],[37,33,37,39],[36,2,36,4],[36,5,36,7],[36,8,36,25],[36,26,36,29],[38,33,38,39],[39,2,39,4],[39,5,39,7],[39,8,39,25],[39,26,39,29],[39,33,39,39],[38,2,38,4],[38,5,38,7],[38,8,38,25],[38,26,38,29],[40,33,40,39],[41,2,41,4],[41,5,41,7],[41,8,41,25],[41,26,41,29],[41,33,41,39],[40,2,40,4],[40,5,40,7],[40,8,40,25],[40,26,40,29],[42,33,42,39],[43,2,43,4],[43,5,43,7],[43,8,43,25],[43,26,43,29],[43,33,43,39],[42,2,42,4],[42,5,42,7],[42,8,42,25],[42,26,42,29],[51,25,51,29],[51,15,51,18],[44,33,44,39],[45,2,45,4],[45,5,45,7],[45,8,45,25],[45,26,45,29],[45,33,45,39],[44,2,44,4],[44,5,44,7],[44,8,44,25],[46,33,46,39],[46,2,46,4],[46,5,46,7],[46,8,46,25],[46,26,46,29],[51,32,51,37],[44,26,44,29],[51,2,51,4],[51,19,51,23],[51,30,51,31],[51,5,51,7],[51,8,51,14],[52,2,52,4],[52,5,52,7],[52,8,52,14],[52,15,52,18],[52,19,52,23],[52,25,52,29],[52,30,52,31],[53,32,53,37],[54,2,54,4],[54,5,54,7],[54,8,54,14],[54,15,54,18],[54,19,54,23],[53,15,53,18],[53,19,53,23],[52,32,52,37],[57,2,57,13],[53,25,53,29],[53,30,53,31],[53,2,53,4],[53,5,53,7],[53,8,53,14],[66,35,66,37],[58,2,58,6],[58,7,58,13],[61,2,61,6],[61,7,61,13],[59,2,59,6],[59,7,59,13],[66,38,66,40],[66,17,66,19],[66,20,66,22],[66,23,66,25],[66,26,66,28],[60,2,60,6],[60,7,60,13],[67,35,67,37],[67,38,67,40],[68,2,68,16],[68,17,68,19],[68,20,68,22],[68,23,68,25],[68,26,68,28],[68,29,68,31],[68,32,68,34],[68,35,68,37],[68,38,68,40],[69,38,69,40],[70,3,70,10],[70,14,70,16],[70,17,70,19],[70,20,70,22],[70,23,70,25],[70,26,70,28],[70,29,70,31],[70,32,70,34],[70,35,70,37],[70,38,70,40],[69,23,69,25],[69,26,69,28],[69,29,69,31],[69,32,69,34],[69,35,69,37],[69,20,69,22],[71,38,71,40],[72,3,72,10],[72,14,72,16],[72,17,72,19],[72,20,72,22],[72,23,72,25],[72,26,72,28],[72,29,72,31],[72,32,72,34],[72,35,72,37],[72,38,72,40],[71,3,71,10],[71,14,71,16],[71,17,71,19],[71,20,71,22],[71,23,71,25],[71,26,71,28],[71,29,71,31],[71,32,71,34],[71,35,71,37],[73,38,73,40],[74,3,74,10],[74,14,74,16],[74,17,74,19],[74,20,74,22],[74,23,74,25],[74,26,74,28],[74,29,74,31],[74,32,74,34],[74,35,74,37],[74,38,74,40],[73,3,73,10],[73,14,73,16],[73,17,73,19],[73,20,73,22],[73,23,73,25],[73,26,73,28],[73,29,73,31],[73,32,73,34],[73,35,73,37],[75,38,75,40],[76,3,76,10],[76,14,76,16],[76,17,76,19],[76,20,76,22],[76,23,76,25],[76,26,76,28],[76,29,76,31],[76,32,76,34],[76,35,76,37],[76,38,76,40],[75,3,75,10],[75,14,75,16],[75,17,75,19],[75,20,75,22],[75,23,75,25],[75,26,75,28],[75,29,75,31],[75,32,75,34],[75,35,75,37],[77,38,77,40],[78,3,78,10],[78,14,78,16],[78,17,78,19],[78,20,78,22],[78,23,78,25],[78,26,78,28],[78,29,78,31],[78,32,78,34],[78,35,78,37],[78,38,78,40],[77,3,77,10],[77,14,77,16],[77,17,77,19],[77,20,77,22],[77,23,77,25],[77,26,77,28],[77,29,77,31],[77,32,77,34],[77,35,77,37],[79,38,79,40],[80,3,80,10],[80,14,80,16],[80,17,80,19],[80,20,80,22],[80,23,80,25],[80,26,80,28],[80,29,80,31],[80,32,80,34],[80,35,80,37],[80,38,80,40],[79,3,79,10],[79,14,79,16],[79,17,79,19],[79,20,79,22],[79,23,79,25],[79,26,79,28],[79,29,79,31],[79,32,79,34],[79,35,79,37],[81,38,81,40],[82,3,82,10],[82,14,82,16],[82,17,82,19],[82,20,82,22],[82,23,82,25],[82,26,82,28],[82,29,82,31],[82,32,82,34],[82,35,82,37],[82,38,82,40],[81,3,81,10],[81,14,81,16],[81,17,81,19],[81,20,81,22],[81,23,81,25],[81,26,81,28],[81,29,81,31],[81,32,81,34],[81,35,81,37],[83,38,83,40],[84,3,84,10],[84,14,84,16],[84,17,84,19],[84,20,84,22],[84,23,84,25],[84,26,84,28],[84,29,84,31],[84,32,84,34],[83,3,83,10],[83,14,83,16],[83,17,83,19],[83,20,83,22],[83,23,83,25],[83,26,83,28],[83,29,83,31],[83,32,83,34],[83,35,83,37],[85,38,85,40],[84,35,84,37],[84,38,84,40],[89,2,89,4],[89,5,89,7],[89,8,89,12],[89,13,89,17],[85,20,85,22],[90,2,90,4],[90,5,90,7],[90,8,90,12],[90,13,90,17],[85,14,85,16],[85,17,85,19],[85,23,85,25],[85,26,85,28],[85,29,85,31],[85,32,85,34],[85,35,85,37],[85,3,85,10],[91,2,91,4],[91,5,91,7],[91,8,91,12],[91,13,91,17],[95,2,95,4],[95,5,95,7],[95,8,95,12],[95,13,95,17],[96,2,96,4],[96,5,96,7],[96,8,96,12],[96,13,96,17],[93,2,93,8],[97,2,97,4],[97,5,97,7],[97,8,97,12],[97,13,97,17],[98,2,98,4],[98,5,98,7],[98,8,98,12],[98,13,98,17],[99,2,99,4],[99,5,99,7],[99,8,99,12],[99,13,99,17],[103,2,103,3],[103,4,103,6],[103,7,103,15],[103,16,103,18],[104,2,104,3],[104,4,104,6],[104,7,104,15],[104,16,104,18],[105,2,105,3],[105,4,105,6],[105,7,105,15],[105,16,105,18],[106,2,106,3],[106,4,106,6],[106,7,106,15],[106,16,106,18],[107,2,107,3],[107,4,107,6],[107,7,107,15],[107,16,107,18],[108,2,108,3],[108,4,108,6],[108,7,108,15],[108,16,108,18],[109,2,109,3],[109,4,109,6],[109,7,109,15],[109,16,109,18],[110,2,110,3],[110,4,110,6],[110,7,110,15],[110,16,110,18],[111,2,111,3],[111,4,111,6],[111,7,111,15],[111,16,111,18],[112,2,112,3],[112,4,112,6],[112,7,112,15],[112,16,112,18],[113,2,113,3],[113,4,113,6],[113,7,113,15],[113,16,113,18],[114,2,114,3],[114,4,114,6],[114,7,114,15],[114,16,114,18],[115,2,115,3],[115,4,115,6],[115,7,115,15],[115,16,115,18],[117,7,117,15],[117,16,117,18],[116,2,116,3],[116,4,116,6],[116,7,116,15],[116,16,116,18],[117,2,117,3],[117,4,117,6],[119,16,119,18],[118,2,118,3],[118,4,118,6],[118,7,118,15],[118,16,118,18],[119,2,119,3],[119,4,119,6],[119,7,119,15],[121,16,121,18],[120,2,120,3],[120,4,120,6],[120,7,120,15],[120,16,120,18],[121,2,121,3],[121,4,121,6],[121,7,121,15]]}
[]
[null,"１号室の入力画面",null,null,null,null,null,null,null,"No.",null,{"$f":"メニュー画面!F18","v":"４　３　６"}]
[]
[null,null,null,null,null,null,null,null,null,"氏名",null,null,{"$f":"メニュー画面!F20","v":"中　條　文　義"},null,null,null,null,null,null,null,null,null,null,null,null,null,null,null,null,null,null,null,null,{"$f":"VLOOKUP(B2,隠しページ!P7:Q22,2,FALSE)","v":"１号入力"},null,null,"→印刷画面へ"]
[]
[]
[null,"１．坪数～収穫日までの入力",null,null,null,null,null,null,null,null,null,null,null,null,"※白い枠のみに入力して下さい。ここで入力された値が、履歴シートに書き込まれます。"]
[]
[null,null,"部屋番号",null,null,2,null,null,null,null,null,null,null,null,"品種名",null,null,{"$f":"IF(F16=\"\",\"\",IF(AND(10<=MONTH(F16+1),MONTH(F16+1)<=11),\"秋　　系\",IF(AND(3<=MONTH(F16+1),MONTH(F16+1)<=5),\"春　　系\",IF(AND(6<=MONTH(F16+1),MONTH(F16+1)<=9),\"夏　　系\",\"冬　　系\"))))","v":"夏　　系"}]
[null,null,"坪数",null,null,41]
[null,null,"品種名",null,null,"夏　　系",null,null,null,null,null,null,null,null,{"$f":"IF(OR($R$9=$F$11,$R$9=\"\"),\"\",\"←県で指定された品種名と違いますが無視できます。\")","v":""}]
[null,null,"播種日",null,null,"2007-06-14"]
[null,null,"定植日",null,null,"2007-07-02",null,null,null,null,null,null,null,null,{"$f":"IF(OR(F13=\"\",F12=\"\"),\"\",IF(F13<F12,\"入力ミスです！播種日のほうが後の日付になりました。\",\"\"))","v":""},null,null,null,null,null,null,null,null,null,null,null,null,null,null,null,null,null,{"$f":"CONCATENATE(\"苗日数＝\",F13-F12,\"日\")","v":"苗日数＝18日"}]
[null,null,"交配日",null,null,"2007-07-25",null,null,null,null,null,null,null,null,{"$f":"IF(OR(F14=\"\",F13=\"\"),\"\",IF(F14<F13,\"入力ミスです！定植日の方が後になりました。\",\"\"))","v":""},null,null,null,null,null,null,null,null,null,null,null,null,null,null,null,null,null,{"$f":"CONCATENATE(\"交配日数＝\",F14-F13,\"日\")","v":"交配日数＝23日"}]
[null,null,"採果日数",null,null,47]
[null,null,"収穫日",null,null,{"$f":"IF(OR(F14=\"\",F15=\"\"),\"\",F14+F15-1)","v":"2007-09-09"},null,null,null,null,null,null,null,null,null,null,null,null,null,null,null,null,null,null,null,null,null,null,null,null,null,null,{"$f":"CONCATENATE(\"播種日～収穫日＝\",IF(F16=\"\",0,F16-F12),\"日\")","v":"播種日～収穫日＝87日"}]
[]
[null,"２．施用資材名の入力"]
[null,null,null,null,null,null,null,null,"［〃］このマークはリストから入力できます。日付はそのまま打ち込んでください。"]
[]
[null,null,null,null,null,"日付",null,null,"施用資材名",null,null,null,null,null,null,null,null,null,null,null,null,null,null,null,null,null,"投入量",null,null,null,null,null,null,"履歴シート表示確認欄"]
[null,null,null,null,null,{"$f":"IF(OR(C22=\"\",AH22=\"\"),\"\",IF(C22=\"育苗\",#REF!,IF(C22=\"定植\",#REF!,IF(C22=\"追肥（１）\",#REF!,IF(C22=\"追肥（２）\",#REF!,IF(C22=\"追肥（３）\",#REF!,\"入力ミス\"))))))","v":""},null,null,"育苗",null,null,null,null,null,null,null,null,null,null,null,null,null,null,null,null,null,null,null,null,null,null,null,null,{"$f":"IF(I22=\"\",\"\",VLOOKUP(I22,Ｍ肥料台帳,4,FALSE))","v":"育苗"}]
[null,null,null,null,null,"2007-06-14",null,null,"JA静岡経済連        ヤッシー・ミックス３号",null,null,null,null,null,null,null,null,null,null,null,null,null,null,null,null,null,40,null,null,null,null,null,null,"ﾔｯｼｰ･ﾐｯｸｽ3号"]
[null,null,null,null,null,"〃",null,null,"JA静岡経済連        十全炭素",null,null,null,null,null,null,null,null,null,null,null,null,null,null,null,null,null,10,null,null,null,null,null,null,"十全炭素"]
[null,null,null,null,null,"〃",null,null,"川合肥料            乳酸卵殻",null,null,null,null,null,null,null,null,null,null,null,null,null,null,null,null,null,1,null,null,null,null,null,null,"乳酸卵殻"]
[null,null,null,null,null,"〃",null,null,"豊田肥料            ﾊﾞｰﾐｷｭﾗｲﾄ",null,null,null,null,null,null,null,null,null,null,null,null,null,null,null,null,null,2,null,null,null,null,null,null,"ﾊﾞｰﾐｷｭﾗｲﾄ"]
[null,null,null,null,null,"〃",null,null,"豊田肥料            都有機肥料特号",null,null,null,null,null,null,null,null,null,null,null,null,null,null,null,null,null,2,null,null,null,null,null,null,"都有機肥料特号"]
[null,null,null,null,null,null,null,null,"定植",null,null,null,null,null,null,null,null,null,null,null,null,null,null,null,null,null,null,null,null,null,null,null,null,"定植"]
[null,null,null,null,null,"2007-07-01",null,null,"ﾀｶｷﾞｺｰﾎﾟﾚｰｼｮﾝ       ネオブレンド５５５",null,null,null,null,null,null,null,null,null,null,null,null,null,null,null,null,null,16,null,null,null,null,null,null,"ﾈｵﾌﾞﾚﾝﾄﾞ555"]
[null,null,null,null,null,"2007-07-01",null,null,"ﾀｶｷﾞｺｰﾎﾟﾚｰｼｮﾝ       もみ茶がら",null,null,null,null,null,null,null,null,null,null,null,null,null,null,null,null,null,120,null,null,null,null,null,null,"もみ茶がら"]
[null,null,null,null,null,"〃",null,null,"JA静岡経済連        VS３４",null,null,null,null,null,null,null,null,null,null,null,null,null,null,null,null,null,10,null,null,null,null,null,null,"VS34"]
[null,null,null,null,null,"〃",null,null,"川合肥料            乳酸卵殻",null,null,null,null,null,null,null,null,null,null,null,null,null,null,null,null,null,13.8,null,null,null,null,null,null,"乳酸卵殻"]
[null,null,null,null,null,null,null,null,"交配",null,null,null,null,null,null,null,null,null,null,null,null,null,null,null,null,null,null,null,null,null,null,null,null,"交配"]
[null,null,null,null,null,"2007-07-25",null,null,"ﾀｶｷﾞｺｰﾎﾟﾚｰｼｮﾝ       ネオブレンドボカシタイプ",null,null,null,null,null,null,null,null,null,null,null,null,null,null,null,null,null,13,null,null,null,null,null,null,"ﾈｵﾌﾞﾚﾝﾄﾞﾎﾞｶｼﾀｲﾌﾟ"]
[null,null,null,null,null,null,null,null,null,null,null,null,null,null,null,null,null,null,null,null,null,null,null,null,null,null,null,null,null,null,null,null,null,""]
[null,null,null,null,null,null,null,null,null,null,null,null,null,null,null,null,null,null,null,null,null,null,null,null,null,null,null,null,null,null,null,null,null,""]
[null,null,null,null,null,null,null,null,null,null,null,null,null,null,null,null,null,null,null,null,null,null,null,null,null,null,null,null,null,null,null,null,null,""]
[null,null,null,null,null,null,null,null,null,null,null,null,null,null,null,null,null,null,null,null,null,null,null,null,null,null,null,null,null,null,null,null,null,""]
[null,null,null,null,null,null,null,null,null,null,null,null,null,null,null,null,null,null,null,null,null,null,null,null,null,null,null,null,null,null,null,null,null,""]
[null,null,null,null,null,null,null,null,null,null,null,null,null,null,null,null,null,null,null,null,null,null,null,null,null,null,null,null,null,null,null,null,null,""]
[null,null,null,null,null,null,null,null,null,null,null,null,null,null,null,null,null,null,null,null,null,null,null,null,null,null,null,null,null,null,null,null,null,""]
[null,null,null,null,null,null,null,null,null,null,null,null,null,null,null,null,null,null,null,null,null,null,null,null,null,null,null,null,null,null,null,null,null,""]
[null,null,null,null,null,null,null,null,null,null,null,null,null,null,null,null,null,null,null,null,null,null,null,null,null,null,null,null,null,null,null,null,null,""]
[null,null,null,null,null,null,null,null,null,null,null,null,null,null,null,null,null,null,null,null,null,null,null,null,null,null,null,null,null,null,null,null,null,""]
[null,null,null,null,null,null,null,null,null,null,null,null,null,null,null,null,null,null,null,null,null,null,null,null,null,null,null,null,null,null,null,null,null,""]
[null,null,null,null,null,null,null,null,null,null,null,null,null,null,null,null,null,null,null,null,null,null,null,null,null,null,null,null,null,null,null,null,null,""]
[null,null,null,null,null,null,null,null,null,null,null,null,null,null,null,null,null,null,null,null,null,null,null,null,null,null,null,null,null,null,null,null,null,""]
[]
[]
[null,"３．施用粒剤の入力"]
[null,null,null,null,null,null,null,null,null,null,null,null,null,null,null,null,null,null,null,null,null,null,null,null,null,null,null,null,null,null,null,null,null,null,null,null,null,null,null,null,null,null,null,null,null,null,null,null,null,null,null,null,"施用粒剤の日付入力"]
[null,null,null,null,null,"日付",null,null,"施用粒剤名",null,null,null,null,null,null,"施用量（g）",null,null,null,"施用鉢数（鉢）",null,null,null,null,null,"登録施用量",null,null,null,null,"回数",null,"時期"]
[null,null,"１回目",null,null,"2007-07-02",null,null,"ベストガード粒剤",null,null,null,null,null,null,1,null,null,null,360,null,null,null,null,null,{"$f":"IF(I53=\"\",\"\",VLOOKUP(I53,施用粒剤台帳,2,FALSE))","v":"１～２ｇ/株"},null,null,null,null,{"$f":"IF(I53=\"\",\"\",VLOOKUP(I53,施用粒剤台帳,3,FALSE))","v":1},null,{"$f":"IF(I53=\"\",\"\",VLOOKUP(I53,施用粒剤台帳,4,FALSE))","v":"定植時"}]
[null,null,"２回目",null,null,null,null,null,null,null,null,null,null,null,null,null,null,null,null,null,null,null,null,null,null,{"$f":"IF(I54=\"\",\"\",VLOOKUP(I54,施用粒剤台帳,2,FALSE))","v":""},null,null,null,null,{"$f":"IF(I54=\"\",\"\",VLOOKUP(I54,施用粒剤台帳,3,FALSE))","v":""},null,{"$f":"IF(I54=\"\",\"\",VLOOKUP(I54,施用粒剤台帳,4,FALSE))","v":""}]
[]
[null,"４．硫黄くん蒸剤の入力",null,null,null,null,null,null,null,null,"※使用が２年にまたがるときは、前年の日付の前に年号を付けないとミスになります。"]
[]
[null,null,"履歴シートへの表示確認欄",null,null,null,null,null,null,null,null,null,null,null,null,null,null,"播種日",null,null,{"$f":"IF(F12=\"\",\"\",F12)","v":"2007-06-14"}]
[null,null,"開始日",null,null,null,null,null,null,null,null,null,null,null,null,null,null,"定植日",null,null,{"$f":"IF(F13=\"\",\"\",F13)","v":"2007-07-02"}]
[null,null,"終了日",null,null,null,null,null,null,null,null,null,null,null,{"$f":"IF(H60=\"\",\"\",IF(H60<H59,\" ミス\",\"\"))","v":""},null,null,"交配日",null,null,{"$f":"IF(F14=\"\",\"\",F14)","v":"2007-07-25"}]
[null,null,"１日の使用量",null,null,null,null,2,null,null,null,null,null,null,null,null,null,"収穫日",null,null,{"$f":"IF(F16=\"\",\"\",F16)","v":"2007-09-09"}]
[null,null,"総使用量",null,null,null,null,{"$f":"IF(OR(H59=\"\",OR(H60=\"\",H61=\"\")),\"\",(H60-H59)*H61)","v":""},null,null,null,null,null,null,null,null,null,null,null,null,"↑１.で入力した日付です。"]
[]
[null,"５．農薬散布の入力"]
[null,null,null,null,null,null,null,null,null,null,null,null,null,null,null,null,null,null,null,null,null,null,null,null,null,null,null,null,null,null,null,null,null,null,null,null,null,null,null,null,null,null,null,null,null,null,null,null,null,null,null,null,"農薬散布の日付入力"]
[]
[null,null,null,null,null,null,null,null,null,null,null,null,null,null,null,null,null,"Ｂ１",null,null,"Ｂ２",null,null,"Ｂ３",null,null,"Ｂ４",null,null,"Ｂ５",null,null,"Ｂ６",null,null,"Ｂ７",null,null,"Ｂ８"]
[null,null,"使用年月日",null,null,null,null,null,null,null,null,null,null,null,null,null,null,"2007-06-28",null,null,"2007-07-15",null,null,"2007-07-24",null,null,"2007-08-03",null,null,"2007-08-11",null,null,"2007-08-24",null,null,"2007-09-03"]
[null,null,"生育ステージ",null,null,null,null,null,null,null,null,null,null,null,null,null,null,"育苗",null,null,"木作り",null,null,"木作り",null,null,"肥大期",null,null,"肥大期",null,null,"仕上げ",null,null,"仕上げ"]
[null,null,"使用農薬名","散布量",null,null,null,null,null,null,null,null,null,null,null,null,null,7,null,null,10,null,null,25,null,null,45,null,null,50,null,null,50,null,null,50]
[null,null,null,"トリフミン水和剤",null,null,null,null,null,null,null,{"$f":"IF(D71=\"\",\"\",VLOOKUP(D71,Ｍ農薬台帳,3,FALSE))","v":"前"},{"$f":"IF(D71=\"\",\"\",\"-\")","v":"-"},{"$f":"IF(D71=\"\",\"\",VLOOKUP(D71,Ｍ農薬台帳,2,FALSE))","v":"⑤"},{"$f":"IF(D71=\"\",\"\",VLOOKUP(D71,Ｍ農薬台帳,4,FALSE))","v":4000},null,null,null,null,null,null,null,null,null,null,null,4000,null,null,null,null,null,4000,null,null,4000]
[null,null,null,"アクタラ顆粒水溶剤",null,null,null,null,null,null,null,"前","-","③",2000]
[null,null,null,"アファーム乳剤",null,null,null,null,null,null,null,"前","-","②",3000,null,null,null,null,null,null,null,null,3000,null,null,null,null,null,3000]
[null,null,null,"モレスタン水和剤",null,null,null,null,null,null,null,3,"-","⑩",4000]
[null,null,null,"スピノエース顆粒水和剤",null,null,null,null,null,null,null,"前","-","②",5000,null,null,null,null,null,null,null,null,null,null,null,null,null,null,null,null,null,5000,null,null,5000]
[null,null,null,"アルバリン顆粒水溶剤",null,null,null,null,null,null,null,"前","-","②",3000,null,null,3000,null,null,null,null,null,null,null,null,3000]
[null,null,null,"イオウフロアブル",null,null,null,null,null,null,null,"前","-","③",1000,null,null,2000,null,null,2000,null,null,2000]
[null,null,null,"ダコニール１０００",null,null,null,null,null,null,null,3,"-","⑤",1000,null,null,null,null,null,null,null,null,null,null,null,null,null,null,1500]
[null,null,null,"アドマイヤー顆粒水和剤",null,null,null,null,null,null,null,3,"-","③",10000,null,null,null,null,null,10000]
[null,null,null,"ダントツ水溶剤",null,null,null,null,null,null,null,"前","-","③",3000,null,null,null,null,null,null,null,null,null,null,null,null,null,null,4000,null,null,4000,null,null,4000]
[null,null,null,"プレオフロアブル",null,null,null,null,null,null,null,"前","-","②",1000]
[null,null,null,"アクタラ顆粒水溶剤",null,null,null,null,null,null,null,"前","-","③",2000]
[null,null,null,"モベントフロアブル",null,null,null,null,null,null,null,"前","-","③",2000]
[null,null,null,"アグリメック",null,null,null,null,null,null,null,"前","-","③",1000]
[null,null,null,"ディアナSC",null,null,null,null,null,null,null,"前","-","②",2500]
[null,null,null,null,null,null,null,null,null,null,null,"","","",""]
[]
[null,"６．植物成長調整剤の入力",null,null,null,null,null,null,null,null,null,"アークランド液剤",null,null,null,null,null,null,"　を使用した。"]
[]
[null,null,null,null,null,"日付",null,null,"希釈倍数",null,null,null,null,"散布量"]
[null,null,"1回目",null,null,"2007-08-12",null,null,2000,null,null,null,null,18]
[null,null,"2回目",null,null,"2007-08-14",null,null,2000,null,null,null,null,18]
[]
[null,"７．トップジンＭ水和剤の入力","トップジンＭ水和剤",null,null,null,null,null,null,"　の入力"]
[]
[null,null,null,null,null,"日付",null,null,"希釈倍数",null,null,null,null,"散布量"]
[null,null,"1回目",null,null,"2007-08-12",null,null,1500,null,null,null,null,20]
[null,null,"2回目",null,null,"2007-08-14",null,null,1500,null,null,null,null,20]
[null,null,"3回目"]
[null,null,"4回目"]
[]
[null,"８．施用液肥の入力"]
[]
[null,null,null,null,"日付",null,null,"液肥・葉面散布剤名",null,null,null,null,null,null,null,null,"使用量"]
[null,null,1]
[null,null,2]
[null,null,3]
[null,null,4]
[null,null,5]
[null,null,6]
[null,null,7]
[null,null,8]
[null,null,9]
[null,null,10]
[null,null,11]
[null,null,12]
[null,null,13]
[null,null,14]
[null,null,15]
[null,null,16]
[null,null,17]
[null,null,18]
[]
[null,"９.小メロンの出荷がある場合は、この枠に記載してください。リストから選べます。→"]
[]
[null,"10．印刷プレビューボタンを押し　印刷状態の確認をして　良ければそのまま印刷してください。"]
[]
[null,"11．以上で終りです。お疲れ様でした。"]

{"sheet":"１号Ｐ","index":3,"n_rows":36,"n_cols":88,"rows_kept":36,"cut":false,"hidden":false,"merged":[[35,5,35,12],[4,1,5,2],[35,84,35,91],[34,76,34,83],[34,84,34,91],[35,13,35,17],[35,18,35,25],[35,26,35,33],[35,50,35,54],[35,55,35,62],[35,63,35,70],[35,71,35,75],[35,76,35,83],[33,87,33,91],[34,13,34,17],[34,18,34,25],[34,26,34,33],[34,34,35,49],[34,50,34,54],[34,55,34,62],[34,63,34,70],[34,71,34,75],[33,55,33,61],[33,62,33,68],[33,69,33,73],[33,74,33,86],[33,27,33,33],[33,34,33,40],[33,41,33,47],[33,48,33,54],[33,5,33,7],[33,10,33,12],[33,13,33,19],[33,20,33,26],[32,27,32,33],[31,74,31,86],[31,27,31,33],[31,34,31,40],[31,41,31,47],[31,48,31,54],[32,34,32,40],[32,41,32,47],[32,48,32,54],[32,55,32,61],[31,55,31,61],[30,55,30,61],[31,69,31,73],[31,62,31,68],[30,74,30,86],[30,87,30,91],[29,87,29,91],[32,62,32,68],[32,69,32,73],[32,74,32,86],[32,87,32,91],[31,87,31,91],[29,55,29,61],[29,62,29,68],[28,87,28,91],[27,87,27,91],[30,5,30,7],[30,10,30,12],[30,13,30,19],[30,20,30,26],[30,27,30,33],[30,34,30,40],[30,41,30,47],[29,69,29,73],[29,74,29,86],[29,27,29,33],[29,34,29,40],[29,41,29,47],[29,48,29,54],[29,5,29,7],[29,10,29,12],[29,13,29,19],[29,20,29,26],[30,62,30,68],[30,69,30,73],[28,27,28,33],[28,34,28,40],[30,48,30,54],[28,41,28,47],[27,69,27,73],[27,74,27,86],[27,27,27,33],[27,34,27,40],[27,41,27,47],[27,48,27,54],[28,62,28,68],[28,69,28,73],[28,48,28,54],[28,55,28,61],[28,74,28,86],[26,62,26,68],[26,69,26,73],[26,48,26,54],[26,55,26,61],[27,55,27,61],[27,62,27,68],[26,87,26,91],[25,87,25,91],[26,5,26,7],[26,10,26,12],[26,13,26,19],[26,20,26,26],[26,27,26,33],[26,34,26,40],[26,41,26,47],[25,74,25,86],[25,27,25,33],[25,34,25,40],[25,41,25,47],[25,48,25,54],[26,74,26,86],[27,5,27,7],[27,10,27,12],[27,13,27,19],[25,55,25,61],[25,62,25,68],[25,69,25,73],[24,41,24,47],[25,5,25,7],[25,10,25,12],[25,13,25,19],[25,20,25,26],[24,62,24,68],[24,5,24,7],[24,10,24,12],[24,13,24,19],[24,20,24,26],[24,27,24,33],[24,34,24,40],[23,74,23,86],[22,74,22,86],[22,87,22,91],[24,74,24,86],[24,87,24,91],[23,87,23,91],[23,41,23,47],[23,5,23,7],[23,10,23,12],[23,13,23,19],[23,20,23,26],[23,27,23,33],[23,34,23,40],[23,48,23,54],[22,48,22,54],[22,55,22,61],[22,62,22,68],[22,69,22,73],[23,55,23,61],[23,62,23,68],[23,69,23,73],[24,69,24,73],[24,48,24,54],[24,55,24,61],[21,69,21,73],[21,74,21,86],[21,87,21,91],[22,5,22,7],[22,10,22,12],[22,13,22,19],[22,20,22,26],[22,27,22,33],[22,34,22,40],[22,41,22,47],[21,41,21,47],[21,48,21,54],[21,55,21,61],[21,62,21,68],[21,13,21,19],[21,20,21,26],[21,27,21,33],[21,34,21,40],[20,69,20,73],[20,74,20,86],[20,87,20,91],[19,87,19,91],[20,5,20,7],[20,10,20,12],[20,13,20,19],[20,20,20,26],[20,27,20,33],[20,34,20,40],[20,41,20,47],[20,48,20,54],[20,55,20,61],[19,55,19,61],[19,62,19,68],[20,62,20,68],[19,69,19,73],[19,74,19,86],[19,27,19,33],[19,34,19,40],[19,41,19,47],[19,48,19,54],[18,69,18,73],[18,74,18,86],[18,87,18,91],[17,87,17,91],[18,5,18,7],[18,10,18,12],[18,13,18,19],[18,20,18,26],[18,27,18,33],[18,34,18,40],[18,41,18,47],[18,48,18,54],[18,55,18,61],[17,55,17,61],[17,62,17,68],[18,62,18,68],[17,69,17,73],[17,74,17,86],[17,27,17,33],[17,34,17,40],[17,41,17,47],[17,48,17,54],[17,4,35,4],[17,5,17,12],[17,13,17,19],[17,20,17,26],[19,5,19,7],[19,10,19,12],[19,13,19,19],[19,20,19,26],[21,5,21,7],[21,10,21,12],[28,5,28,7],[28,10,28,12],[28,13,28,19],[28,20,28,26],[27,20,27,26],[32,5,32,7],[32,10,32,12],[32,13,32,19],[32,20,32,26],[31,5,31,7],[31,10,31,12],[31,13,31,19],[31,20,31,26],[34,5,34,12],[16,4,16,12],[16,13,16,19],[16,20,16,26],[16,27,16,33],[16,34,16,40],[16,41,16,47],[16,48,16,54],[16,55,16,61],[15,34,15,40],[15,41,15,47],[15,48,15,54],[15,55,15,61],[15,4,15,12],[15,13,15,19],[15,20,15,26],[15,27,15,33],[13,33,13,37],[10,53,10,57],[11,53,12,57],[16,62,16,68],[16,69,16,73],[16,74,16,86],[16,87,16,91],[15,62,15,68],[15,69,15,91],[11,4,12,5],[11,6,12,12],[11,13,12,17],[11,18,12,27],[11,28,12,32],[11,33,12,37],[11,38,12,47],[11,48,12,52],[10,83,11,91],[11,58,12,67],[11,68,12,72],[12,73,13,81],[12,82,13,91],[13,68,13,72],[10,58,10,67],[10,68,10,72],[10,73,11,82],[13,38,13,47],[13,48,13,52],[13,53,13,57],[13,58,13,67],[13,13,13,17],[13,18,13,27],[13,28,13,32],[9,58,9,67],[9,68,9,72],[9,73,9,91],[10,6,10,12],[10,13,10,17],[10,18,10,27],[10,28,10,32],[10,33,10,37],[10,38,10,47],[10,48,10,52],[9,33,9,37],[9,38,9,47],[9,48,9,52],[9,53,9,57],[9,6,9,12],[9,13,9,17],[9,18,9,27],[9,28,9,32],[8,68,8,72],[8,73,8,80],[7,78,7,91],[8,81,8,91],[7,33,7,37],[7,38,7,47],[7,48,7,52],[7,53,7,57],[8,6,8,12],[8,13,8,17],[8,18,8,27],[8,28,8,32],[8,33,8,37],[8,38,8,47],[8,48,8,52],[8,53,8,57],[8,58,8,67],[7,6,7,7],[7,13,7,17],[7,18,7,27],[7,28,7,32],[7,58,7,67],[7,68,7,72],[7,73,7,77],[6,58,6,67],[6,68,6,72],[6,73,6,80],[6,81,6,91],[6,33,6,37],[6,38,6,47],[6,48,6,52],[6,53,6,57],[6,7,6,8],[6,13,6,17],[6,18,6,27],[6,28,6,32],[5,58,5,67],[5,68,5,72],[5,13,5,17],[5,18,5,27],[5,28,5,32],[5,33,5,37],[5,73,5,77],[5,78,5,91],[5,38,5,47],[5,48,5,52],[5,53,5,57],[4,38,4,47],[4,48,4,52],[4,53,4,57],[4,73,4,91],[0,55,0,69],[2,4,2,5],[2,6,2,31],[4,13,4,27],[4,33,4,37],[4,58,4,67],[4,68,4,72]]}
[null,null,null,null,null,null,null,null,null,null,null,null,null,null,null,null,null,null,null,null,null,null,null,null,null,null,null,null,null,null,null,null,null,null,null,null,null,null,null,null,null,null,null,null,null,null,null,null,null,null,null,null,null,null,null,{"$f":"IF('１号入力'!AB124=\"\",\"\",'１号入力'!AB124)","v":""}]
[]
[null,null,null,null,"栽培履歴",null,{"$f":"メニュー画面!F16","v":"静岡県温室農業協同組合（クラウンメロン支所）"},null,null,null,null,null,null,null,null,null,null,null,null,null,null,null,null,null,null,null,null,null,null,null,null,null,"検査日",null,null,null,null,null,"令和　　年　　月　　日",null,null,null,null,null,null,null,null,null,null,null,null,null,null,null,"検査責任者氏名　　　　　　　　　　 　　　　　　　　　　　　　印"]
[]
[null,"１号室",null,null,"組合員番号：",null,{"$f":"メニュー画面!F18","v":"４　３　６"},null,null,null,null,null,null,"施用資材名",null,null,null,null,null,null,null,null,null,null,null,null,null,null,"投入量",null,null,null,null,{"$f":"IF('１号入力'!F30=\"\",\"\",'１号入力'!F30)","v":"2007-07-01"},null,null,null,null,{"$f":"IF('１号入力'!AH30=\"\",\"\",'１号入力'!AH30)","v":"もみ茶がら"},null,null,null,null,null,null,null,null,null,{"$f":"IF('１号入力'!AA30=\"\",\"\",'１号入力'!AA30)","v":120},null,null,null,null,{"$f":"IF('１号入力'!F39=\"\",\"\",'１号入力'!F39)","v":""},null,null,null,null,{"$f":"IF('１号入力'!AH39=\"\",\"\",'１号入力'!AH39)","v":""},null,null,null,null,null,null,null,null,null,{"$f":"IF('１号入力'!AA39=\"\",\"\",'１号入力'!AA39)","v":""},null,null,null,null,"施用粒剤"]
[null,null,null,null,"氏名：",null,{"$f":"メニュー画面!F20","v":"中　條　文　義"},null,null,null,null,null,null,{"$f":"IF('１号入力'!F22=\"\",\"\",'１号入力'!F22)","v":""},null,null,null,null,{"$f":"IF('１号入力'!AH22=\"\",\"\",'１号入力'!AH22)","v":"育苗"},null,null,null,null,null,null,null,null,null,{"$f":"IF('１号入力'!AA22=\"\",\"\",'１号入力'!AA22)","v":""},null,null,null,null,{"$f":"IF('１号入力'!F31=\"\",\"\",'１号入力'!F31)","v":"〃"},null,null,null,null,{"$f":"IF('１号入力'!AH31=\"\",\"\",'１号入力'!AH31)","v":"VS34"},null,null,null,null,null,null,null,null,null,{"$f":"IF('１号入力'!AA31=\"\",\"\",'１号入力'!AA31)","v":10},null,null,null,null,{"$f":"IF('１号入力'!F40=\"\",\"\",'１号入力'!F40)","v":""},null,null,null,null,{"$f":"IF('１号入力'!AH40=\"\",\"\",'１号入力'!AH40)","v":""},null,null,null,null,null,null,null,null,null,{"$f":"IF('１号入力'!AA40=\"\",\"\",'１号入力'!AA40)","v":""},null,null,null,null,{"$f":"IF('１号入力'!F53=\"\",\"/\",'１号入力'!F53)","v":"2007-07-02"},null,null,null,null,{"$f":"IF('１号入力'!I53=\"\",\"\",'１号入力'!I53)","v":"ベストガード粒剤"}]
[null,null,null,null,"部屋番号：",null,{"$f":"IF('１号入力'!F9=\"\",\"\",'１号入力'!F9)","v":2},{"$f":"IF('１号入力'!F10=\"\",\"\",'１号入力'!F10)","v":41},null,null,null,null,null,{"$f":"IF('１号入力'!F23=\"\",\"\",'１号入力'!F23)","v":"2007-06-14"},null,null,null,null,{"$f":"IF('１号入力'!AH23=\"\",\"\",'１号入力'!AH23)","v":"ﾔｯｼｰ･ﾐｯｸｽ3号"},null,null,null,null,null,null,null,null,null,{"$f":"IF('１号入力'!AA23=\"\",\"\",'１号入力'!AA23)","v":40},null,null,null,null,{"$f":"IF('１号入力'!F32=\"\",\"\",'１号入力'!F32)","v":"〃"},null,null,null,null,{"$f":"IF('１号入力'!AH32=\"\",\"\",'１号入力'!AH32)","v":"乳酸卵殻"},null,null,null,null,null,null,null,null,null,{"$f":"IF('１号入力'!AA32=\"\",\"\",'１号入力'!AA32)","v":13.8},null,null,null,null,{"$f":"IF('１号入力'!F41=\"\",\"\",'１号入力'!F41)","v":""},null,null,null,null,{"$f":"IF('１号入力'!AH41=\"\",\"\",'１号入力'!AH41)","v":""},null,null,null,null,null,null,null,null,null,{"$f":"IF('１号入力'!AA41=\"\",\"\",'１号入力'!AA41)","v":""},null,null,null,null,{"$f":"IF('１号入力'!P53=0,\"g\",'１号入力'!P53)","v":1},null,null,null,null,null,null,null,{"$f":"IF('１号入力'!T53=0,0,'１号入力'!T53)","v":360}]
[null,null,null,null,"品種名：",null,{"$f":"IF('１号入力'!F11=\"\",\"\",'１号入力'!F11)","v":"夏　　系"},null,null,null,null,null,null,{"$f":"IF('１号入力'!F24=\"\",\"\",'１号入力'!F24)","v":"〃"},null,null,null,null,{"$f":"IF('１号入力'!AH24=\"\",\"\",'１号入力'!AH24)","v":"十全炭素"},null,null,null,null,null,null,null,null,null,{"$f":"IF('１号入力'!AA24=\"\",\"\",'１号入力'!AA24)","v":10},null,null,null,null,{"$f":"IF('１号入力'!F33=\"\",\"\",'１号入力'!F33)","v":""},null,null,null,null,{"$f":"IF('１号入力'!AH33=\"\",\"\",'１号入力'!AH33)","v":"交配"},null,null,null,null,null,null,null,null,null,{"$f":"IF('１号入力'!AA33=\"\",\"\",'１号入力'!AA33)","v":""},null,null,null,null,{"$f":"IF('１号入力'!F42=\"\",\"\",'１号入力'!F42)","v":""},null,null,null,null,{"$f":"IF('１号入力'!AH42=\"\",\"\",'１号入力'!AH42)","v":""},null,null,null,null,null,null,null,null,null,{"$f":"IF('１号入力'!AA42=\"\",\"\",'１号入力'!AA42)","v":""},null,null,null,null,{"$f":"IF('１号入力'!F54=\"\",\"/\",'１号入力'!F54)","v":"/"},null,null,null,null,{"$f":"IF('１号入力'!I54=\"\",\"\",'１号入力'!I54)","v":""}]
[null,null,null,null,"播種日：",null,{"$f":"IF('１号入力'!F12=\"\",\"\",'１号入力'!F12)","v":"2007-06-14"},null,null,null,null,null,null,{"$f":"IF('１号入力'!F25=\"\",\"\",'１号入力'!F25)","v":"〃"},null,null,null,null,{"$f":"IF('１号入力'!AH25=\"\",\"\",'１号入力'!AH25)","v":"乳酸卵殻"},null,null,null,null,null,null,null,null,null,{"$f":"IF('１号入力'!AA25=\"\",\"\",'１号入力'!AA25)","v":1},null,null,null,null,{"$f":"IF('１号入力'!F34=\"\",\"\",'１号入力'!F34)","v":"2007-07-25"},null,null,null,null,{"$f":"IF('１号入力'!AH34=\"\",\"\",'１号入力'!AH34)","v":"ﾈｵﾌﾞﾚﾝﾄﾞﾎﾞｶｼﾀｲﾌﾟ"},null,null,null,null,null,null,null,null,null,{"$f":"IF('１号入力'!AA34=\"\",\"\",'１号入力'!AA34)","v":13},null,null,null,null,{"$f":"IF('１号入力'!F43=\"\",\"\",'１号入力'!F43)","v":""},null,null,null,null,{"$f":"IF('１号入力'!AH43=\"\",\"\",'１号入力'!AH43)","v":""},null,null,null,null,null,null,null,null,null,{"$f":"IF('１号入力'!AA43=\"\",\"\",'１号入力'!AA43)","v":""},null,null,null,null,{"$f":"IF('１号入力'!P54=0,\"g\",'１号入力'!P54)","v":"g"},null,null,null,null,null,null,null,{"$f":"IF('１号入力'!T54=0,0,'１号入力'!T54)","v":0}]
[null,null,null,null,"定植日：",null,{"$f":"IF('１号入力'!F13=\"\",\"\",'１号入力'!F13)","v":"2007-07-02"},null,null,null,null,null,null,{"$f":"IF('１号入力'!F26=\"\",\"\",'１号入力'!F26)","v":"〃"},null,null,null,null,{"$f":"IF('１号入力'!AH26=\"\",\"\",'１号入力'!AH26)","v":"ﾊﾞｰﾐｷｭﾗｲﾄ"},null,null,null,null,null,null,null,null,null,{"$f":"IF('１号入力'!AA26=\"\",\"\",'１号入力'!AA26)","v":2},null,null,null,null,{"$f":"IF('１号入力'!F35=\"\",\"\",'１号入力'!F35)","v":""},null,null,null,null,{"$f":"IF('１号入力'!AH35=\"\",\"\",'１号入力'!AH35)","v":""},null,null,null,null,null,null,null,null,null,{"$f":"IF('１号入力'!AA35=\"\",\"\",'１号入力'!AA35)","v":""},null,null,null,null,{"$f":"IF('１号入力'!F44=\"\",\"\",'１号入力'!F44)","v":""},null,null,null,null,{"$f":"IF('１号入力'!AH44=\"\",\"\",'１号入力'!AH44)","v":""},null,null,null,null,null,null,null,null,null,{"$f":"IF('１号入力'!AA44=\"\",\"\",'１号入力'!AA44)","v":""},null,null,null,null,"硫黄くん蒸剤"]
[null,null,null,null,"交配日：",null,{"$f":"IF('１号入力'!F14=\"\",\"\",'１号入力'!F14)","v":"2007-07-25"},null,null,null,null,null,null,{"$f":"IF('１号入力'!F27=\"\",\"\",'１号入力'!F27)","v":"〃"},null,null,null,null,{"$f":"IF('１号入力'!AH27=\"\",\"\",'１号入力'!AH27)","v":"都有機肥料特号"},null,null,null,null,null,null,null,null,null,{"$f":"IF('１号入力'!AA27=\"\",\"\",'１号入力'!AA27)","v":2},null,null,null,null,{"$f":"IF('１号入力'!F36=\"\",\"\",'１号入力'!F36)","v":""},null,null,null,null,{"$f":"IF('１号入力'!AH36=\"\",\"\",'１号入力'!AH36)","v":""},null,null,null,null,null,null,null,null,null,{"$f":"IF('１号入力'!AA36=\"\",\"\",'１号入力'!AA36)","v":""},null,null,null,null,{"$f":"IF('１号入力'!F45=\"\",\"\",'１号入力'!F45)","v":""},null,null,null,null,{"$f":"IF('１号入力'!AH45=\"\",\"\",'１号入力'!AH45)","v":""},null,null,null,null,null,null,null,null,null,{"$f":"IF('１号入力'!AA45=\"\",\"\",'１号入力'!AA45)","v":""},null,null,null,null,{"$f":"IF('１号入力'!H59=\"\",\"/      ～\",'１号入力'!H59)","v":"/      ～"},null,null,null,null,null,null,null,null,null,{"$f":"IF('１号入力'!H60=\"\",\"    /\",'１号入力'!H60)","v":"    /"}]
[null,null,null,null,"収穫日：",null,{"$f":"IF('１号入力'!F16=\"\",\"\",'１号入力'!F16)","v":"2007-09-09"},null,null,null,null,null,null,{"$f":"IF('１号入力'!F28=\"\",\"\",'１号入力'!F28)","v":""},null,null,null,null,{"$f":"IF('１号入力'!AH28=\"\",\"\",'１号入力'!AH28)","v":"定植"},null,null,null,null,null,null,null,null,null,{"$f":"IF('１号入力'!AA28=\"\",\"\",'１号入力'!AA28)","v":""},null,null,null,null,{"$f":"IF('１号入力'!F37=\"\",\"\",'１号入力'!F37)","v":""},null,null,null,null,{"$f":"IF('１号入力'!AH37=\"\",\"\",'１号入力'!AH37)","v":""},null,null,null,null,null,null,null,null,null,{"$f":"IF('１号入力'!AA37=\"\",\"\",'１号入力'!AA37)","v":""},null,null,null,null,{"$f":"IF('１号入力'!F46=\"\",\"\",'１号入力'!F46)","v":""},null,null,null,null,{"$f":"IF('１号入力'!AH46=\"\",\"\",'１号入力'!AH46)","v":""},null,null,null,null,null,null,null,null,null,{"$f":"IF('１号入力'!AA46=\"\",\"\",'１号入力'!AA46)","v":""}]
[null,null,null,null,null,null,null,null,null,null,null,null,null,null,null,null,null,null,null,null,null,null,null,null,null,null,null,null,null,null,null,null,null,null,null,null,null,null,null,null,null,null,null,null,null,null,null,null,null,null,null,null,null,null,null,null,null,null,null,null,null,null,null,null,null,null,null,null,null,null,null,null,null,{"$f":"IF('１号入力'!H61=\"\",\"g/日\",'１号入力'!H61)","v":2},null,null,null,null,null,null,null,null,{"$f":"IF('１号入力'!H62=\"\",\"g/部屋\",'１号入力'!H62)","v":"g/部屋"}]
[null,null,null,null,"採果日数：",null,{"$f":"'１号入力'!F15","v":47},null,null,null,null,null,null,{"$f":"IF('１号入力'!F29=\"\",\"\",'１号入力'!F29)","v":"2007-07-01"},null,null,null,null,{"$f":"IF('１号入力'!AH29=\"\",\"\",'１号入力'!AH29)","v":"ﾈｵﾌﾞﾚﾝﾄﾞ555"},null,null,null,null,null,null,null,null,null,{"$f":"IF('１号入力'!AA29=\"\",\"\",'１号入力'!AA29)","v":16},null,null,null,null,{"$f":"IF('１号入力'!F38=\"\",\"\",'１号入力'!F38)","v":""},null,null,null,null,{"$f":"IF('１号入力'!AH38=\"\",\"\",'１号入力'!AH38)","v":""},null,null,null,null,null,null,null,null,null,{"$f":"IF('１号入力'!AA38=\"\",\"\",'１号入力'!AA38)","v":""},null,null,null,null,{"$f":"IF('１号入力'!F47=\"\",\"\",'１号入力'!F47)","v":""},null,null,null,null,{"$f":"IF('１号入力'!AH47=\"\",\"\",'１号入力'!AH47)","v":""},null,null,null,null,null,null,null,null,null,{"$f":"IF('１号入力'!AA47=\"\",\"\",'１号入力'!AA47)","v":""}]
[]
[null,null,null,null,"使用年月日",null,null,null,null,null,null,null,null,{"$f":"IF('１号入力'!R68=\"\",\"/\",'１号入力'!R68)","v":"2007-06-28"},null,null,null,null,null,null,{"$f":"IF('１号入力'!U68=\"\",\"/\",'１号入力'!U68)","v":"2007-07-15"},null,null,null,null,null,null,{"$f":"IF('１号入力'!X68=\"\",\"/\",'１号入力'!X68)","v":"2007-07-24"},null,null,null,null,null,null,{"$f":"IF('１号入力'!AA68=\"\",\"/\",'１号入力'!AA68)","v":"2007-08-03"},null,null,null,null,null,null,{"$f":"IF('１号入力'!AD68=\"\",\"/\",'１号入力'!AD68)","v":"2007-08-11"},null,null,null,null,null,null,{"$f":"IF('１号入力'!AG68=\"\",\"/\",'１号入力'!AG68)","v":"2007-08-24"},null,null,null,null,null,null,{"$f":"IF('１号入力'!AJ68=\"\",\"/\",'１号入力'!AJ68)","v":"2007-09-03"},null,null,null,null,null,null,{"$f":"IF('１号入力'!AM68=\"\",\"/\",'１号入力'!AM68)","v":"/"},null,null,null,null,null,null,"使用液肥・葉面散布剤"]
[null,null,null,null,"生育ステージ",null,null,null,null,null,null,null,null,{"$f":"IF('１号入力'!R69=\"\",\"\",'１号入力'!R69)","v":"育苗"},null,null,null,null,null,null,{"$f":"IF('１号入力'!U69=\"\",\"\",'１号入力'!U69)","v":"木作り"},null,null,null,null,null,null,{"$f":"IF('１号入力'!X69=\"\",\"\",'１号入力'!X69)","v":"木作り"},null,null,null,null,null,null,{"$f":"IF('１号入力'!AA69=\"\",\"\",'１号入力'!AA69)","v":"肥大期"},null,null,null,null,null,null,{"$f":"IF('１号入力'!AD69=\"\",\"\",'１号入力'!AD69)","v":"肥大期"},null,null,null,null,null,null,{"$f":"IF('１号入力'!AG69=\"\",\"\",'１号入力'!AG69)","v":"仕上げ"},null,null,null,null,null,null,{"$f":"IF('１号入力'!AJ69=\"\",\"\",'１号入力'!AJ69)","v":"仕上げ"},null,null,null,null,null,null,{"$f":"IF('１号入力'!AM69=\"\",\"\",'１号入力'!AM69)","v":""},null,null,null,null,null,null,{"$f":"IF('１号入力'!E105=\"\",\"/\",'１号入力'!E105)","v":"/"},null,null,null,null,{"$f":"IF('１号入力'!H105=\"\",\"\",'１号入力'!H105)","v":""},null,null,null,null,null,null,null,null,null,null,null,null,{"$f":"IF('１号入力'!Q105=0,0,'１号入力'!Q105)","v":0}]
[null,null,null,null,"使用農薬名","散布量",null,null,null,null,null,null,null,{"$f":"IF('１号入力'!R70=0,0,'１号入力'!R70)","v":7},null,null,null,null,null,null,{"$f":"IF('１号入力'!U70=0,0,'１号入力'!U70)","v":10},null,null,null,null,null,null,{"$f":"IF('１号入力'!X70=0,0,'１号入力'!X70)","v":25},null,null,null,null,null,null,{"$f":"IF('１号入力'!AA70=0,0,'１号入力'!AA70)","v":45},null,null,null,null,null,null,{"$f":"IF('１号入力'!AD70=0,0,'１号入力'!AD70)","v":50},null,null,null,null,null,null,{"$f":"IF('１号入力'!AG70=0,0,'１号入力'!AG70)","v":50},null,null,null,null,null,null,{"$f":"IF('１号入力'!AJ70=0,0,'１号入力'!AJ70)","v":50},null,null,null,null,null,null,{"$f":"IF('１号入力'!AM70=0,0,'１号入力'!AM70)","v":0},null,null,null,null,null,null,{"$f":"IF('１号入力'!E106=\"\",\"\",'１号入力'!E106)","v":""},null,null,null,null,{"$f":"IF('１号入力'!H106=\"\",\"\",'１号入力'!H106)","v":""},null,null,null,null,null,null,null,null,null,null,null,null,{"$f":"IF('１号入力'!Q106=0,\"\",'１号入力'!Q106)","v":""}]
[null,null,null,null,null,{"$f":"IF('１号入力'!D71=\"\",\"\",'１号入力'!D71)","v":"トリフミン水和剤"},null,null,{"$f":"IF(F19=\"\",\"\",VLOOKUP(F19,Ｍ農薬台帳,3,FALSE))","v":"前"},{"$f":"IF(F19=\"\",\"\",\"-\")","v":"-"},{"$f":"IF(F19=\"\",\"\",VLOOKUP(F19,Ｍ農薬台帳,2,FALSE))","v":"⑤"},null,null,{"$f":"IF('１号入力'!R71=\"\",\"\",'１号入力'!R71)","v":""},null,null,null,null,null,null,{"$f":"IF('１号入力'!U71=\"\",\"\",'１号入力'!U71)","v":""},null,null,null,null,null,null,{"$f":"IF('１号入力'!X71=\"\",\"\",'１号入力'!X71)","v":""},null,null,null,null,null,null,{"$f":"IF('１号入力'!AA71=\"\",\"\",'１号入力'!AA71)","v":4000},null,null,null,null,null,null,{"$f":"IF('１号入力'!AD71=\"\",\"\",'１号入力'!AD71)","v":""},null,null,null,null,null,null,{"$f":"IF('１号入力'!AG71=\"\",\"\",'１号入力'!AG71)","v":4000},null,null,null,null,null,null,{"$f":"IF('１号入力'!AJ71=\"\",\"\",'１号入力'!AJ71)","v":4000},null,null,null,null,null,null,{"$f":"IF('１号入力'!AM71=\"\",\"\",'１号入力'!AM71)","v":""},null,null,null,null,null,null,{"$f":"IF('１号入力'!E107=\"\",\"\",'１号入力'!E107)","v":""},null,null,null,null,{"$f":"IF('１号入力'!H107=\"\",\"\",'１号入力'!H107)","v":""},null,null,null,null,null,null,null,null,null,null,null,null,{"$f":"IF('１号入力'!Q107=0,\"\",'１号入力'!Q107)","v":""}]
[null,null,null,null,null,{"$f":"IF('１号入力'!D72=\"\",\"\",'１号入力'!D72)","v":"アクタラ顆粒水溶剤"},null,null,"前","-","③",null,null,{"$f":"IF('１号入力'!R72=\"\",\"\",'１号入力'!R72)","v":""},null,null,null,null,null,null,{"$f":"IF('１号入力'!U72=\"\",\"\",'１号入力'!U72)","v":""},null,null,null,null,null,null,{"$f":"IF('１号入力'!X72=\"\",\"\",'１号入力'!X72)","v":""},null,null,null,null,null,null,{"$f":"IF('１号入力'!AA72=\"\",\"\",'１号入力'!AA72)","v":""},null,null,null,null,null,null,{"$f":"IF('１号入力'!AD72=\"\",\"\",'１号入力'!AD72)","v":""},null,null,null,null,null,null,{"$f":"IF('１号入力'!AG72=\"\",\"\",'１号入力'!AG72)","v":""},null,null,null,null,null,null,{"$f":"IF('１号入力'!AJ72=\"\",\"\",'１号入力'!AJ72)","v":""},null,null,null,null,null,null,{"$f":"IF('１号入力'!AM72=\"\",\"\",'１号入力'!AM72)","v":""},null,null,null,null,null,null,{"$f":"IF('１号入力'!E108=\"\",\"\",'１号入力'!E108)","v":""},null,null,null,null,{"$f":"IF('１号入力'!H108=\"\",\"\",'１号入力'!H108)","v":""},null,null,null,null,null,null,null,null,null,null,null,null,{"$f":"IF('１号入力'!Q108=0,\"\",'１号入力'!Q108)","v":""}]
[null,null,null,null,null,{"$f":"IF('１号入力'!D73=\"\",\"\",'１号入力'!D73)","v":"アファーム乳剤"},null,null,"前","-","②",null,null,{"$f":"IF('１号入力'!R73=\"\",\"\",'１号入力'!R73)","v":""},null,null,null,null,null,null,{"$f":"IF('１号入力'!U73=\"\",\"\",'１号入力'!U73)","v":""},null,null,null,null,null,null,{"$f":"IF('１号入力'!X73=\"\",\"\",'１号入力'!X73)","v":3000},null,null,null,null,null,null,{"$f":"IF('１号入力'!AA73=\"\",\"\",'１号入力'!AA73)","v":""},null,null,null,null,null,null,{"$f":"IF('１号入力'!AD73=\"\",\"\",'１号入力'!AD73)","v":3000},null,null,null,null,null,null,{"$f":"IF('１号入力'!AG73=\"\",\"\",'１号入力'!AG73)","v":""},null,null,null,null,null,null,{"$f":"IF('１号入力'!AJ73=\"\",\"\",'１号入力'!AJ73)","v":""},null,null,null,null,null,null,{"$f":"IF('１号入力'!AM73=\"\",\"\",'１号入力'!AM73)","v":""},null,null,null,null,null,null,{"$f":"IF('１号入力'!E109=\"\",\"\",'１号入力'!E109)","v":""},null,null,null,null,{"$f":"IF('１号入力'!H109=\"\",\"\",'１号入力'!H109)","v":""},null,null,null,null,null,null,null,null,null,null,null,null,{"$f":"IF('１号入力'!Q109=0,\"\",'１号入力'!Q109)","v":""}]
[null,null,null,null,null,{"$f":"IF('１号入力'!D74=\"\",\"\",'１号入力'!D74)","v":"モレスタン水和剤"},null,null,3,"-","⑩",null,null,{"$f":"IF('１号入力'!R74=\"\",\"\",'１号入力'!R74)","v":""},null,null,null,null,null,null,{"$f":"IF('１号入力'!U74=\"\",\"\",'１号入力'!U74)","v":""},null,null,null,null,null,null,{"$f":"IF('１号入力'!X74=\"\",\"\",'１号入力'!X74)","v":""},null,null,null,null,null,null,{"$f":"IF('１号入力'!AA74=\"\",\"\",'１号入力'!AA74)","v":""},null,null,null,null,null,null,{"$f":"IF('１号入力'!AD74=\"\",\"\",'１号入力'!AD74)","v":""},null,null,null,null,null,null,{"$f":"IF('１号入力'!AG74=\"\",\"\",'１号入力'!AG74)","v":""},null,null,null,null,null,null,{"$f":"IF('１号入力'!AJ74=\"\",\"\",'１号入力'!AJ74)","v":""},null,null,null,null,null,null,{"$f":"IF('１号入力'!AM74=\"\",\"\",'１号入力'!AM74)","v":""},null,null,null,null,null,null,{"$f":"IF('１号入力'!E110=\"\",\"\",'１号入力'!E110)","v":""},null,null,null,null,{"$f":"IF('１号入力'!H110=\"\",\"\",'１号入力'!H110)","v":""},null,null,null,null,null,null,null,null,null,null,null,null,{"$f":"IF('１号入力'!Q110=0,\"\",'１号入力'!Q110)","v":""}]
[null,null,null,null,null,{"$f":"IF('１号入力'!D75=\"\",\"\",'１号入力'!D75)","v":"スピノエース顆粒水和剤"},null,null,"前","-","②",null,null,{"$f":"IF('１号入力'!R75=\"\",\"\",'１号入力'!R75)","v":""},null,null,null,null,null,null,{"$f":"IF('１号入力'!U75=\"\",\"\",'１号入力'!U75)","v":""},null,null,null,null,null,null,{"$f":"IF('１号入力'!X75=\"\",\"\",'１号入力'!X75)","v":""},null,null,null,null,null,null,{"$f":"IF('１号入力'!AA75=\"\",\"\",'１号入力'!AA75)","v":""},null,null,null,null,null,null,{"$f":"IF('１号入力'!AD75=\"\",\"\",'１号入力'!AD75)","v":""},null,null,null,null,null,null,{"$f":"IF('１号入力'!AG75=\"\",\"\",'１号入力'!AG75)","v":5000},null,null,null,null,null,null,{"$f":"IF('１号入力'!AJ75=\"\",\"\",'１号入力'!AJ75)","v":5000},null,null,null,null,null,null,{"$f":"IF('１号入力'!AM75=\"\",\"\",'１号入力'!AM75)","v":""},null,null,null,null,null,null,{"$f":"IF('１号入力'!E111=\"\",\"\",'１号入力'!E111)","v":""},null,null,null,null,{"$f":"IF('１号入力'!H111=\"\",\"\",'１号入力'!H111)","v":""},null,null,null,null,null,null,null,null,null,null,null,null,{"$f":"IF('１号入力'!Q111=0,\"\",'１号入力'!Q111)","v":""}]
[null,null,null,null,null,{"$f":"IF('１号入力'!D76=\"\",\"\",'１号入力'!D76)","v":"アルバリン顆粒水溶剤"},null,null,"前","-","②",null,null,{"$f":"IF('１号入力'!R76=\"\",\"\",'１号入力'!R76)","v":3000},null,null,null,null,null,null,{"$f":"IF('１号入力'!U76=\"\",\"\",'１号入力'!U76)","v":""},null,null,null,null,null,null,{"$f":"IF('１号入力'!X76=\"\",\"\",'１号入力'!X76)","v":""},null,null,null,null,null,null,{"$f":"IF('１号入力'!AA76=\"\",\"\",'１号入力'!AA76)","v":3000},null,null,null,null,null,null,{"$f":"IF('１号入力'!AD76=\"\",\"\",'１号入力'!AD76)","v":""},null,null,null,null,null,null,{"$f":"IF('１号入力'!AG76=\"\",\"\",'１号入力'!AG76)","v":""},null,null,null,null,null,null,{"$f":"IF('１号入力'!AJ76=\"\",\"\",'１号入力'!AJ76)","v":""},null,null,null,null,null,null,{"$f":"IF('１号入力'!AM76=\"\",\"\",'１号入力'!AM76)","v":""},null,null,null,null,null,null,{"$f":"IF('１号入力'!E112=\"\",\"\",'１号入力'!E112)","v":""},null,null,null,null,{"$f":"IF('１号入力'!H112=\"\",\"\",'１号入力'!H112)","v":""},null,null,null,null,null,null,null,null,null,null,null,null,{"$f":"IF('１号入力'!Q112=0,\"\",'１号入力'!Q112)","v":""}]
[null,null,null,null,null,{"$f":"IF('１号入力'!D77=\"\",\"\",'１号入力'!D77)","v":"イオウフロアブル"},null,null,"前","-","③",null,null,{"$f":"IF('１号入力'!R77=\"\",\"\",'１号入力'!R77)","v":2000},null,null,null,null,null,null,{"$f":"IF('１号入力'!U77=\"\",\"\",'１号入力'!U77)","v":2000},null,null,null,null,null,null,{"$f":"IF('１号入力'!X77=\"\",\"\",'１号入力'!X77)","v":2000},null,null,null,null,null,null,{"$f":"IF('１号入力'!AA77=\"\",\"\",'１号入力'!AA77)","v":""},null,null,null,null,null,null,{"$f":"IF('１号入力'!AD77=\"\",\"\",'１号入力'!AD77)","v":""},null,null,null,null,null,null,{"$f":"IF('１号入力'!AG77=\"\",\"\",'１号入力'!AG77)","v":""},null,null,null,null,null,null,{"$f":"IF('１号入力'!AJ77=\"\",\"\",'１号入力'!AJ77)","v":""},null,null,null,null,null,null,{"$f":"IF('１号入力'!AM77=\"\",\"\",'１号入力'!AM77)","v":""},null,null,null,null,null,null,{"$f":"IF('１号入力'!E113=\"\",\"\",'１号入力'!E113)","v":""},null,null,null,null,{"$f":"IF('１号入力'!H113=\"\",\"\",'１号入力'!H113)","v":""},null,null,null,null,null,null,null,null,null,null,null,null,{"$f":"IF('１号入力'!Q113=0,\"\",'１号入力'!Q113)","v":""}]
[null,null,null,null,null,{"$f":"IF('１号入力'!D78=\"\",\"\",'１号入力'!D78)","v":"ダコニール１０００"},null,null,3,"-","⑤",null,null,{"$f":"IF('１号入力'!R78=\"\",\"\",'１号入力'!R78)","v":""},null,null,null,null,null,null,{"$f":"IF('１号入力'!U78=\"\",\"\",'１号入力'!U78)","v":""},null,null,null,null,null,null,{"$f":"IF('１号入力'!X78=\"\",\"\",'１号入力'!X78)","v":""},null,null,null,null,null,null,{"$f":"IF('１号入力'!AA78=\"\",\"\",'１号入力'!AA78)","v":""},null,null,null,null,null,null,{"$f":"IF('１号入力'!AD78=\"\",\"\",'１号入力'!AD78)","v":1500},null,null,null,null,null,null,{"$f":"IF('１号入力'!AG78=\"\",\"\",'１号入力'!AG78)","v":""},null,null,null,null,null,null,{"$f":"IF('１号入力'!AJ78=\"\",\"\",'１号入力'!AJ78)","v":""},null,null,null,null,null,null,{"$f":"IF('１号入力'!AM78=\"\",\"\",'１号入力'!AM78)","v":""},null,null,null,null,null,null,{"$f":"IF('１号入力'!E114=\"\",\"\",'１号入力'!E114)","v":""},null,null,null,null,{"$f":"IF('１号入力'!H114=\"\",\"\",'１号入力'!H114)","v":""},null,null,null,null,null,null,null,null,null,null,null,null,{"$f":"IF('１号入力'!Q114=0,\"\",'１号入力'!Q114)","v":""}]
[null,null,null,null,null,{"$f":"IF('１号入力'!D79=\"\",\"\",'１号入力'!D79)","v":"アドマイヤー顆粒水和剤"},null,null,3,"-","③",null,null,{"$f":"IF('１号入力'!R79=\"\",\"\",'１号入力'!R79)","v":""},null,null,null,null,null,null,{"$f":"IF('１号入力'!U79=\"\",\"\",'１号入力'!U79)","v":10000},null,null,null,null,null,null,{"$f":"IF('１号入力'!X79=\"\",\"\",'１号入力'!X79)","v":""},null,null,null,null,null,null,{"$f":"IF('１号入力'!AA79=\"\",\"\",'１号入力'!AA79)","v":""},null,null,null,null,null,null,{"$f":"IF('１号入力'!AD79=\"\",\"\",'１号入力'!AD79)","v":""},null,null,null,null,null,null,{"$f":"IF('１号入力'!AG79=\"\",\"\",'１号入力'!AG79)","v":""},null,null,null,null,null,null,{"$f":"IF('１号入力'!AJ79=\"\",\"\",'１号入力'!AJ79)","v":""},null,null,null,null,null,null,{"$f":"IF('１号入力'!AM79=\"\",\"\",'１号入力'!AM79)","v":""},null,null,null,null,null,null,{"$f":"IF('１号入力'!E115=\"\",\"\",'１号入力'!E115)","v":""},null,null,null,null,{"$f":"IF('１号入力'!H115=\"\",\"\",'１号入力'!H115)","v":""},null,null,null,null,null,null,null,null,null,null,null,null,{"$f":"IF('１号入力'!Q115=0,\"\",'１号入力'!Q115)","v":""}]
[null,null,null,null,null,{"$f":"IF('１号入力'!D80=\"\",\"\",'１号入力'!D80)","v":"ダントツ水溶剤"},null,null,"前","-","③",null,null,{"$f":"IF('１号入力'!R80=\"\",\"\",'１号入力'!R80)","v":""},null,null,null,null,null,null,{"$f":"IF('１号入力'!U80=\"\",\"\",'１号入力'!U80)","v":""},null,null,null,null,null,null,{"$f":"IF('１号入力'!X80=\"\",\"\",'１号入力'!X80)","v":""},null,null,null,null,null,null,{"$f":"IF('１号入力'!AA80=\"\",\"\",'１号入力'!AA80)","v":""},null,null,null,null,null,null,{"$f":"IF('１号入力'!AD80=\"\",\"\",'１号入力'!AD80)","v":4000},null,null,null,null,null,null,{"$f":"IF('１号入力'!AG80=\"\",\"\",'１号入力'!AG80)","v":4000},null,null,null,null,null,null,{"$f":"IF('１号入力'!AJ80=\"\",\"\",'１号入力'!AJ80)","v":4000},null,null,null,null,null,null,{"$f":"IF('１号入力'!AM80=\"\",\"\",'１号入力'!AM80)","v":""},null,null,null,null,null,null,{"$f":"IF('１号入力'!E116=\"\",\"\",'１号入力'!E116)","v":""},null,null,null,null,{"$f":"IF('１号入力'!H116=\"\",\"\",'１号入力'!H116)","v":""},null,null,null,null,null,null,null,null,null,null,null,null,{"$f":"IF('１号入力'!Q116=0,\"\",'１号入力'!Q116)","v":""}]
[null,null,null,null,null,{"$f":"IF('１号入力'!D81=\"\",\"\",'１号入力'!D81)","v":"プレオフロアブル"},null,null,"前","-","②",null,null,{"$f":"IF('１号入力'!R81=\"\",\"\",'１号入力'!R81)","v":""},null,null,null,null,null,null,{"$f":"IF('１号入力'!U81=\"\",\"\",'１号入力'!U81)","v":""},null,null,null,null,null,null,{"$f":"IF('１号入力'!X81=\"\",\"\",'１号入力'!X81)","v":""},null,null,null,null,null,null,{"$f":"IF('１号入力'!AA81=\"\",\"\",'１号入力'!AA81)","v":""},null,null,null,null,null,null,{"$f":"IF('１号入力'!AD81=\"\",\"\",'１号入力'!AD81)","v":""},null,null,null,null,null,null,{"$f":"IF('１号入力'!AG81=\"\",\"\",'１号入力'!AG81)","v":""},null,null,null,null,null,null,{"$f":"IF('１号入力'!AJ81=\"\",\"\",'１号入力'!AJ81)","v":""},null,null,null,null,null,null,{"$f":"IF('１号入力'!AM81=\"\",\"\",'１号入力'!AM81)","v":""},null,null,null,null,null,null,{"$f":"IF('１号入力'!E117=\"\",\"\",'１号入力'!E117)","v":""},null,null,null,null,{"$f":"IF('１号入力'!H117=\"\",\"\",'１号入力'!H117)","v":""},null,null,null,null,null,null,null,null,null,null,null,null,{"$f":"IF('１号入力'!Q117=0,\"\",'１号入力'!Q117)","v":""}]
[null,null,null,null,null,{"$f":"IF('１号入力'!D82=\"\",\"\",'１号入力'!D82)","v":"アクタラ顆粒水溶剤"},null,null,"前","-","③",null,null,{"$f":"IF('１号入力'!R82=\"\",\"\",'１号入力'!R82)","v":""},null,null,null,null,null,null,{"$f":"IF('１号入力'!U82=\"\",\"\",'１号入力'!U82)","v":""},null,null,null,null,null,null,{"$f":"IF('１号入力'!X82=\"\",\"\",'１号入力'!X82)","v":""},null,null,null,null,null,null,{"$f":"IF('１号入力'!AA82=\"\",\"\",'１号入力'!AA82)","v":""},null,null,null,null,null,null,{"$f":"IF('１号入力'!AD82=\"\",\"\",'１号入力'!AD82)","v":""},null,null,null,null,null,null,{"$f":"IF('１号入力'!AG82=\"\",\"\",'１号入力'!AG82)","v":""},null,null,null,null,null,null,{"$f":"IF('１号入力'!AJ82=\"\",\"\",'１号入力'!AJ82)","v":""},null,null,null,null,null,null,{"$f":"IF('１号入力'!AM82=\"\",\"\",'１号入力'!AM82)","v":""},null,null,null,null,null,null,{"$f":"IF('１号入力'!E118=\"\",\"\",'１号入力'!E118)","v":""},null,null,null,null,{"$f":"IF('１号入力'!H118=\"\",\"\",'１号入力'!H118)","v":""},null,null,null,null,null,null,null,null,null,null,null,null,{"$f":"IF('１号入力'!Q118=0,\"\",'１号入力'!Q118)","v":""}]
[null,null,null,null,null,{"$f":"IF('１号入力'!D83=\"\",\"\",'１号入力'!D83)","v":"モベントフロアブル"},null,null,"前","-","③",null,null,{"$f":"IF('１号入力'!R83=\"\",\"\",'１号入力'!R83)","v":""},null,null,null,null,null,null,{"$f":"IF('１号入力'!U83=\"\",\"\",'１号入力'!U83)","v":""},null,null,null,null,null,null,{"$f":"IF('１号入力'!X83=\"\",\"\",'１号入力'!X83)","v":""},null,null,null,null,null,null,{"$f":"IF('１号入力'!AA83=\"\",\"\",'１号入力'!AA83)","v":""},null,null,null,null,null,null,{"$f":"IF('１号入力'!AD83=\"\",\"\",'１号入力'!AD83)","v":""},null,null,null,null,null,null,{"$f":"IF('１号入力'!AG83=\"\",\"\",'１号入力'!AG83)","v":""},null,null,null,null,null,null,{"$f":"IF('１号入力'!AJ83=\"\",\"\",'１号入力'!AJ83)","v":""},null,null,null,null,null,null,{"$f":"IF('１号入力'!AM83=\"\",\"\",'１号入力'!AM83)","v":""},null,null,null,null,null,null,{"$f":"IF('１号入力'!E119=\"\",\"\",'１号入力'!E119)","v":""},null,null,null,null,{"$f":"IF('１号入力'!H119=\"\",\"\",'１号入力'!H119)","v":""},null,null,null,null,null,null,null,null,null,null,null,null,{"$f":"IF('１号入力'!Q119=0,\"\",'１号入力'!Q119)","v":""}]
[null,null,null,null,null,{"$f":"IF('１号入力'!D84=\"\",\"\",'１号入力'!D84)","v":"アグリメック"},null,null,"前","-","③",null,null,{"$f":"IF('１号入力'!R84=\"\",\"\",'１号入力'!R84)","v":""},null,null,null,null,null,null,{"$f":"IF('１号入力'!U84=\"\",\"\",'１号入力'!U84)","v":""},null,null,null,null,null,null,{"$f":"IF('１号入力'!X84=\"\",\"\",'１号入力'!X84)","v":""},null,null,null,null,null,null,{"$f":"IF('１号入力'!AA84=\"\",\"\",'１号入力'!AA84)","v":""},null,null,null,null,null,null,{"$f":"IF('１号入力'!AD84=\"\",\"\",'１号入力'!AD84)","v":""},null,null,null,null,null,null,{"$f":"IF('１号入力'!AG84=\"\",\"\",'１号入力'!AG84)","v":""},null,null,null,null,null,null,{"$f":"IF('１号入力'!AJ84=\"\",\"\",'１号入力'!AJ84)","v":""},null,null,null,null,null,null,{"$f":"IF('１号入力'!AM84=\"\",\"\",'１号入力'!AM84)","v":""},null,null,null,null,null,null,{"$f":"IF('１号入力'!E120=\"\",\"\",'１号入力'!E120)","v":""},null,null,null,null,{"$f":"IF('１号入力'!H120=\"\",\"\",'１号入力'!H120)","v":""},null,null,null,null,null,null,null,null,null,null,null,null,{"$f":"IF('１号入力'!Q120=0,\"\",'１号入力'!Q120)","v":""}]
[null,null,null,null,null,{"$f":"IF('１号入力'!D85=\"\",\"\",'１号入力'!D85)","v":"ディアナSC"},null,null,"前","-","②",null,null,{"$f":"IF('１号入力'!R85=\"\",\"\",'１号入力'!R85)","v":""},null,null,null,null,null,null,{"$f":"IF('１号入力'!U85=\"\",\"\",'１号入力'!U85)","v":""},null,null,null,null,null,null,{"$f":"IF('１号入力'!X85=\"\",\"\",'１号入力'!X85)","v":""},null,null,null,null,null,null,{"$f":"IF('１号入力'!AA85=\"\",\"\",'１号入力'!AA85)","v":""},null,null,null,null,null,null,{"$f":"IF('１号入力'!AD85=\"\",\"\",'１号入力'!AD85)","v":""},null,null,null,null,null,null,{"$f":"IF('１号入力'!AG85=\"\",\"\",'１号入力'!AG85)","v":""},null,null,null,null,null,null,{"$f":"IF('１号入力'!AJ85=\"\",\"\",'１号入力'!AJ85)","v":""},null,null,null,null,null,null,{"$f":"IF('１号入力'!AM85=\"\",\"\",'１号入力'!AM85)","v":""},null,null,null,null,null,null,{"$f":"IF('１号入力'!E121=\"\",\"\",'１号入力'!E121)","v":""},null,null,null,null,{"$f":"IF('１号入力'!H121=\"\",\"\",'１号入力'!H121)","v":""},null,null,null,null,null,null,null,null,null,null,null,null,{"$f":"IF('１号入力'!Q121=0,\"\",'１号入力'!Q121)","v":""}]
[null,null,null,null,null,{"$f":"IF('１号入力'!D86=\"\",\"\",'１号入力'!D86)","v":""},null,null,"","","",null,null,{"$f":"IF('１号入力'!R86=\"\",\"\",'１号入力'!R86)","v":""},null,null,null,null,null,null,{"$f":"IF('１号入力'!U86=\"\",\"\",'１号入力'!U86)","v":""},null,null,null,null,null,null,{"$f":"IF('１号入力'!X86=\"\",\"\",'１号入力'!X86)","v":""},null,null,null,null,null,null,{"$f":"IF('１号入力'!AA86=\"\",\"\",'１号入力'!AA86)","v":""},null,null,null,null,null,null,{"$f":"IF('１号入力'!AD86=\"\",\"\",'１号入力'!AD86)","v":""},null,null,null,null,null,null,{"$f":"IF('１号入力'!AG86=\"\",\"\",'１号入力'!AG86)","v":""},null,null,null,null,null,null,{"$f":"IF('１号入力'!AJ86=\"\",\"\",'１号入力'!AJ86)","v":""},null,null,null,null,null,null,{"$f":"IF('１号入力'!AM86=\"\",\"\",'１号入力'!AM86)","v":""},null,null,null,null,null,null,{"$f":"IF('１号入力'!E122=\"\",\"\",'１号入力'!E122)","v":""},null,null,null,null,{"$f":"IF('１号入力'!H122=\"\",\"\",'１号入力'!H122)","v":""},null,null,null,null,null,null,null,null,null,null,null,null,{"$f":"IF('１号入力'!Q122=0,\"\",'１号入力'!Q122)","v":""}]
[null,null,null,null,null,"植物成長調整剤",null,null,null,null,null,null,null,{"$f":"IF('１号入力'!F91=\"\",\"/\",'１号入力'!F91)","v":"2007-08-12"},null,null,null,null,{"$f":"IF('１号入力'!I91=0,0,'１号入力'!I91)","v":2000},null,null,null,null,null,null,null,{"$f":"IF('１号入力'!N91=0,0,'１号入力'!N91)","v":18},null,null,null,null,null,null,null,{"$f":"IF('１号入力'!C94=\"\",\"\",'１号入力'!C94)","v":"トップジンＭ水和剤"},null,null,null,null,null,null,null,null,null,null,null,null,null,null,null,{"$f":"IF('１号入力'!F97=\"\",\"/\",'１号入力'!F97)","v":"2007-08-12"},null,null,null,null,{"$f":"IF('１号入力'!I97=0,0,'１号入力'!I97)","v":1500},null,null,null,null,null,null,null,{"$f":"IF('１号入力'!N97=0,0,'１号入力'!N97)","v":20},null,null,null,null,null,null,null,{"$f":"IF('１号入力'!F99=\"\",\"/\",'１号入力'!F99)","v":"/"},null,null,null,null,{"$f":"IF('１号入力'!I99=0,0,'１号入力'!I99)","v":0},null,null,null,null,null,null,null,{"$f":"IF('１号入力'!N99=0,0,'１号入力'!N99)","v":0}]
[null,null,null,null,null,{"$f":"IF('１号入力'!L88=\"\",\"\",'１号入力'!L88)","v":"アークランド液剤"},null,null,null,null,null,null,null,{"$f":"IF('１号入力'!F92=\"\",\"/\",'１号入力'!F92)","v":"2007-08-14"},null,null,null,null,{"$f":"IF('１号入力'!I92=0,0,'１号入力'!I92)","v":2000},null,null,null,null,null,null,null,{"$f":"IF('１号入力'!N92=0,0,'１号入力'!N92)","v":18},null,null,null,null,null,null,null,null,null,null,null,null,null,null,null,null,null,null,null,null,null,null,null,{"$f":"IF('１号入力'!F98=\"\",\"/\",'１号入力'!F98)","v":"2007-08-14"},null,null,null,null,{"$f":"IF('１号入力'!I98=0,0,'１号入力'!I98)","v":1500},null,null,null,null,null,null,null,{"$f":"IF('１号入力'!N98=0,0,'１号入力'!N98)","v":20},null,null,null,null,null,null,null,{"$f":"IF('１号入力'!F100=\"\",\"/\",'１号入力'!F100)","v":"/"},null,null,null,null,{"$f":"IF('１号入力'!I100=0,0,'１号入力'!I100)","v":0},null,null,null,null,null,null,null,{"$f":"IF('１号入力'!N100=0,0,'１号入力'!N100)","v":0}]

{"sheet":"２号入力","index":4,"n_rows":128,"n_cols":53,"rows_kept":128,"cut":false,"hidden":false,"merged":[[121,16,121,18],[120,2,120,3],[120,4,120,6],[120,7,120,15],[120,16,120,18],[121,2,121,3],[121,4,121,6],[121,7,121,15],[119,16,119,18],[118,2,118,3],[118,4,118,6],[118,7,118,15],[118,16,118,18],[119,2,119,3],[119,4,119,6],[119,7,119,15],[117,7,117,15],[117,16,117,18],[116,2,116,3],[116,4,116,6],[116,7,116,15],[116,16,116,18],[117,2,117,3],[117,4,117,6],[115,2,115,3],[115,4,115,6],[115,7,115,15],[115,16,115,18],[114,2,114,3],[114,4,114,6],[114,7,114,15],[114,16,114,18],[113,2,113,3],[113,4,113,6],[113,7,113,15],[113,16,113,18],[112,2,112,3],[112,4,112,6],[112,7,112,15],[112,16,112,18],[111,2,111,3],[111,4,111,6],[111,7,111,15],[111,16,111,18],[110,2,110,3],[110,4,110,6],[110,7,110,15],[110,16,110,18],[109,2,109,3],[109,4,109,6],[109,7,109,15],[109,16,109,18],[108,2,108,3],[108,4,108,6],[108,7,108,15],[108,16,108,18],[107,2,107,3],[107,4,107,6],[107,7,107,15],[107,16,107,18],[106,2,106,3],[106,4,106,6],[106,7,106,15],[106,16,106,18],[105,2,105,3],[105,4,105,6],[105,7,105,15],[105,16,105,18],[104,2,104,3],[104,4,104,6],[104,7,104,15],[104,16,104,18],[103,2,103,3],[103,4,103,6],[103,7,103,15],[103,16,103,18],[99,2,99,4],[99,5,99,7],[99,8,99,12],[99,13,99,17],[98,2,98,4],[98,5,98,7],[98,8,98,12],[98,13,98,17],[97,2,97,4],[97,5,97,7],[97,8,97,12],[97,13,97,17],[96,2,96,4],[96,5,96,7],[96,8,96,12],[96,13,96,17],[95,2,95,4],[95,5,95,7],[95,8,95,12],[95,13,95,17],[91,2,91,4],[91,5,91,7],[91,8,91,12],[91,13,91,17],[93,2,93,8],[90,2,90,4],[90,5,90,7],[90,8,90,12],[90,13,90,17],[89,2,89,4],[89,5,89,7],[89,8,89,12],[89,13,89,17],[85,35,85,37],[69,2,85,2],[85,3,85,10],[85,14,85,16],[69,35,69,37],[85,38,85,40],[85,17,85,19],[85,20,85,22],[84,35,84,37],[84,38,84,40],[85,23,85,25],[85,26,85,28],[85,29,85,31],[85,32,85,34],[83,38,83,40],[84,3,84,10],[84,14,84,16],[84,17,84,19],[84,20,84,22],[84,23,84,25],[84,26,84,28],[84,29,84,31],[84,32,84,34],[83,3,83,10],[83,14,83,16],[83,17,83,19],[83,20,83,22],[83,23,83,25],[83,26,83,28],[83,29,83,31],[83,32,83,34],[83,35,83,37],[81,38,81,40],[82,3,82,10],[82,14,82,16],[82,17,82,19],[82,20,82,22],[82,23,82,25],[82,26,82,28],[82,29,82,31],[82,32,82,34],[82,35,82,37],[82,38,82,40],[81,3,81,10],[81,14,81,16],[81,17,81,19],[81,20,81,22],[81,23,81,25],[81,26,81,28],[81,29,81,31],[81,32,81,34],[81,35,81,37],[79,38,79,40],[80,3,80,10],[80,14,80,16],[80,17,80,19],[80,20,80,22],[80,23,80,25],[80,26,80,28],[80,29,80,31],[80,32,80,34],[80,35,80,37],[80,38,80,40],[79,3,79,10],[79,14,79,16],[79,17,79,19],[79,20,79,22],[79,23,79,25],[79,26,79,28],[79,29,79,31],[79,32,79,34],[79,35,79,37],[77,38,77,40],[78,3,78,10],[78,14,78,16],[78,17,78,19],[78,20,78,22],[78,23,78,25],[78,26,78,28],[78,29,78,31],[78,32,78,34],[78,35,78,37],[78,38,78,40],[77,3,77,10],[77,14,77,16],[77,17,77,19],[77,20,77,22],[77,23,77,25],[77,26,77,28],[77,29,77,31],[77,32,77,34],[77,35,77,37],[75,38,75,40],[76,3,76,10],[76,14,76,16],[76,17,76,19],[76,20,76,22],[76,23,76,25],[76,26,76,28],[76,29,76,31],[76,32,76,34],[76,35,76,37],[76,38,76,40],[75,3,75,10],[75,14,75,16],[75,17,75,19],[75,20,75,22],[75,23,75,25],[75,26,75,28],[75,29,75,31],[75,32,75,34],[75,35,75,37],[73,38,73,40],[74,3,74,10],[74,14,74,16],[74,17,74,19],[74,20,74,22],[74,23,74,25],[74,26,74,28],[74,29,74,31],[74,32,74,34],[74,35,74,37],[74,38,74,40],[73,3,73,10],[73,14,73,16],[73,17,73,19],[73,20,73,22],[73,23,73,25],[73,26,73,28],[73,29,73,31],[73,32,73,34],[73,35,73,37],[71,38,71,40],[72,3,72,10],[72,14,72,16],[72,17,72,19],[72,20,72,22],[72,23,72,25],[72,26,72,28],[72,29,72,31],[72,32,72,34],[72,35,72,37],[72,38,72,40],[71,3,71,10],[71,14,71,16],[71,17,71,19],[71,20,71,22],[71,23,71,25],[71,26,71,28],[71,29,71,31],[71,32,71,34],[71,35,71,37],[69,38,69,40],[70,3,70,10],[70,14,70,16],[70,17,70,19],[70,20,70,22],[70,23,70,25],[70,26,70,28],[70,29,70,31],[70,32,70,34],[69,23,69,25],[69,26,69,28],[69,29,69,31],[69,32,69,34],[69,3,69,16],[69,17,69,19],[69,20,69,22],[70,35,70,37],[70,38,70,40],[67,38,67,40],[68,2,68,16],[68,17,68,19],[68,20,68,22],[68,23,68,25],[68,26,68,28],[68,29,68,31],[68,32,68,34],[68,35,68,37],[68,38,68,40],[67,26,67,28],[67,29,67,31],[67,32,67,34],[67,35,67,37],[67,2,67,16],[67,17,67,19],[67,20,67,22],[67,23,67,25],[66,38,66,40],[66,17,66,19],[66,20,66,22],[66,23,66,25],[66,26,66,28],[57,2,57,13],[66,29,66,31],[66,32,66,34],[66,35,66,37],[58,2,58,6],[58,7,58,13],[61,2,61,6],[61,7,61,13],[59,2,59,6],[59,7,59,13],[60,2,60,6],[60,7,60,13],[52,32,52,37],[51,25,51,29],[54,2,54,4],[54,5,54,7],[54,8,54,14],[54,15,54,18],[54,19,54,23],[53,15,53,18],[53,25,53,29],[51,15,51,18],[51,30,51,31],[51,5,51,7],[51,8,51,14],[46,33,46,39],[44,33,44,39],[45,26,45,29],[45,33,45,39],[46,2,46,4],[46,5,46,7],[46,8,46,25],[46,26,46,29],[53,32,53,37],[53,30,53,31],[51,32,51,37],[52,19,52,23],[52,25,52,29],[51,2,51,4],[53,2,53,4],[53,5,53,7],[53,8,53,14],[51,19,51,23],[53,19,53,23],[52,2,52,4],[52,5,52,7],[52,8,52,14],[52,15,52,18],[52,30,52,31],[42,5,42,7],[42,8,42,25],[42,26,42,29],[45,2,45,4],[45,5,45,7],[45,8,45,25],[44,2,44,4],[40,5,40,7],[40,8,40,25],[40,26,40,29],[44,5,44,7],[44,8,44,25],[44,26,44,29],[38,33,38,39],[39,2,39,4],[39,5,39,7],[39,8,39,25],[39,26,39,29],[39,33,39,39],[38,2,38,4],[42,33,42,39],[43,2,43,4],[43,5,43,7],[43,8,43,25],[43,26,43,29],[43,33,43,39],[42,2,42,4],[38,5,38,7],[38,8,38,25],[38,26,38,29],[40,33,40,39],[41,2,41,4],[41,5,41,7],[41,8,41,25],[41,26,41,29],[41,33,41,39],[40,2,40,4],[36,33,36,39],[37,2,37,4],[37,5,37,7],[37,8,37,25],[37,26,37,29],[37,33,37,39],[36,2,36,4],[36,5,36,7],[36,8,36,25],[36,26,36,29],[34,33,34,39],[35,2,35,4],[35,5,35,7],[35,8,35,25],[35,26,35,29],[35,33,35,39],[34,2,34,4],[34,5,34,7],[34,8,34,25],[34,26,34,29],[32,33,32,39],[33,2,33,4],[33,5,33,7],[33,8,33,25],[33,26,33,29],[33,33,33,39],[32,2,32,4],[32,5,32,7],[32,8,32,25],[32,26,32,29],[30,33,30,39],[31,2,31,4],[31,5,31,7],[31,8,31,25],[31,26,31,29],[31,33,31,39],[30,2,30,4],[30,5,30,7],[30,8,30,25],[30,26,30,29],[28,33,28,39],[29,2,29,4],[29,5,29,7],[29,8,29,25],[29,26,29,29],[29,33,29,39],[28,2,28,4],[28,5,28,7],[28,8,28,25],[28,26,28,29],[26,33,26,39],[27,2,27,4],[27,5,27,7],[27,8,27,25],[27,26,27,29],[27,33,27,39],[26,2,26,4],[26,5,26,7],[26,8,26,25],[26,26,26,29],[24,33,24,39],[25,2,25,4],[25,5,25,7],[25,8,25,25],[25,26,25,29],[25,33,25,39],[24,2,24,4],[24,5,24,7],[24,8,24,25],[24,26,24,29],[22,33,22,39],[23,2,23,4],[23,5,23,7],[23,8,23,25],[23,26,23,29],[23,33,23,39],[22,2,22,4],[22,5,22,7],[22,8,22,25],[22,26,22,29],[19,5,19,7],[18,5,18,7],[20,33,20,39],[21,2,21,4],[21,5,21,7],[21,8,21,25],[21,26,21,29],[21,33,21,39],[20,2,20,4],[20,5,20,7],[20,8,20,25],[20,26,20,29],[9,5,9,11],[11,2,11,4],[11,5,11,11],[10,5,10,11],[10,2,10,4],[9,2,9,4],[12,2,12,4],[12,5,12,11],[15,5,15,11],[15,2,15,4],[1,9,1,10],[1,11,1,14],[3,9,3,11],[3,12,3,18],[8,2,8,4],[8,5,8,11],[8,14,8,16],[8,17,8,23],[123,27,123,32],[57,17,57,19],[60,17,60,19],[57,20,57,26],[58,20,58,26],[59,20,59,26],[60,20,60,26],[59,17,59,19],[58,17,58,19],[87,11,87,17],[12,14,12,31],[13,2,13,4],[13,5,13,11],[13,14,13,31],[14,2,14,4],[14,5,14,11]]}
[]
[null,"２号室の入力画面",null,null,null,null,null,null,null,"No.",null,{"$f":"メニュー画面!F18","v":"４　３　６"}]
[]
[null,null,null,null,null,null,null,null,null,"氏名",null,null,{"$f":"メニュー画面!F20","v":"中　條　文　義"},null,null,null,null,null,null,null,null,null,null,null,null,null,null,null,null,null,null,null,null,{"$f":"VLOOKUP(B2,隠しページ!P7:Q22,2,FALSE)","v":"２号入力"},null,null,"→印刷画面へ"]
[]
[]
[null,"１．坪数～収穫日までの入力",null,null,null,null,null,null,null,null,null,null,null,null,"※白い枠のみに入力して下さい。ここで入力された値が、履歴シートに書き込まれます。"]
[]
[null,null,"部屋番号",null,null,2,null,null,null,null,null,null,null,null,"品種名",null,null,{"$f":"IF(F16=\"\",\"\",IF(AND(10<=MONTH(F16+1),MONTH(F16+1)<=11),\"秋　　系\",IF(AND(3<=MONTH(F16+1),MONTH(F16+1)<=5),\"春　　系\",IF(AND(6<=MONTH(F16+1),MONTH(F16+1)<=9),\"夏　　系\",\"冬　　系\"))))","v":""}]
[null,null,"坪数"]
[null,null,"品種名",null,null,"春　　系",null,null,null,null,null,null,null,null,{"$f":"IF(OR($R$9=$F$11,$R$9=\"\"),\"\",\"←県で指定された品種名と違いますが無視できます。\")","v":""}]
[null,null,"播種日"]
[null,null,"定植日",null,null,null,null,null,null,null,null,null,null,null,{"$f":"IF(OR(F13=\"\",F12=\"\"),\"\",IF(F13<F12,\"入力ミスです！播種日のほうが後の日付になりました。\",\"\"))","v":""},null,null,null,null,null,null,null,null,null,null,null,null,null,null,null,null,null,{"$f":"CONCATENATE(\"苗日数＝\",F13-F12,\"日\")","v":"苗日数＝0日"}]
[null,null,"交配日",null,null,null,null,null,null,null,null,null,null,null,{"$f":"IF(OR(F14=\"\",F13=\"\"),\"\",IF(F14<F13,\"入力ミスです！定植日の方が後になりました。\",\"\"))","v":""},null,null,null,null,null,null,null,null,null,null,null,null,null,null,null,null,null,{"$f":"CONCATENATE(\"交配日数＝\",F14-F13,\"日\")","v":"交配日数＝0日"}]
[null,null,"採果日数"]
[null,null,"収穫日",null,null,{"$f":"IF(OR(F14=\"\",F15=\"\"),\"\",F14+F15-1)","v":""},null,null,null,null,null,null,null,null,null,null,null,null,null,null,null,null,null,null,null,null,null,null,null,null,null,null,{"$f":"CONCATENATE(\"播種日～収穫日＝\",IF(F16=\"\",0,F16-F12),\"日\")","v":"播種日～収穫日＝0日"}]
[]
[null,"２．施用資材名の入力"]
[null,null,null,null,null,null,null,null,"［〃］このマークはリストから入力できます。日付はそのまま打ち込んでください。"]
[]
[null,null,null,null,null,"日付",null,null,"施用資材名",null,null,null,null,null,null,null,null,null,null,null,null,null,null,null,null,null,"投入量",null,null,null,null,null,null,"履歴シート表示確認欄"]
[null,null,null,null,null,{"$f":"IF(OR(C22=\"\",AH22=\"\"),\"\",IF(C22=\"育苗\",#REF!,IF(C22=\"定植\",#REF!,IF(C22=\"追肥（１）\",#REF!,IF(C22=\"追肥（２）\",#REF!,IF(C22=\"追肥（３）\",#REF!,\"入力ミス\"))))))","v":""},null,null,"育苗",null,null,null,null,null,null,null,null,null,null,null,null,null,null,null,null,null,null,null,null,null,null,null,null,{"$f":"IF(I22=\"\",\"\",VLOOKUP(I22,Ｍ肥料台帳,4,FALSE))","v":"育苗"}]
[null,null,null,null,null,"2006-01-01",null,null,null,null,null,null,null,null,null,null,null,null,null,null,null,null,null,null,null,null,null,null,null,null,null,null,null,""]
[null,null,null,null,null,"〃",null,null,null,null,null,null,null,null,null,null,null,null,null,null,null,null,null,null,null,null,null,null,null,null,null,null,null,""]
[null,null,null,null,null,"〃",null,null,null,null,null,null,null,null,null,null,null,null,null,null,null,null,null,null,null,null,null,null,null,null,null,null,null,""]
[null,null,null,null,null,"〃",null,null,null,null,null,null,null,null,null,null,null,null,null,null,null,null,null,null,null,null,null,null,null,null,null,null,null,""]
[null,null,null,null,null,"〃",null,null,null,null,null,null,null,null,null,null,null,null,null,null,null,null,null,null,null,null,null,null,null,null,null,null,null,""]
[null,null,null,null,null,"〃",null,null,null,null,null,null,null,null,null,null,null,null,null,null,null,null,null,null,null,null,null,null,null,null,null,null,null,""]
[null,null,null,null,null,"〃",null,null,null,null,null,null,null,null,null,null,null,null,null,null,null,null,null,null,null,null,null,null,null,null,null,null,null,""]
[null,null,null,null,null,"〃",null,null,null,null,null,null,null,null,null,null,null,null,null,null,null,null,null,null,null,null,null,null,null,null,null,null,null,""]
[null,null,null,null,null,"〃",null,null,null,null,null,null,null,null,null,null,null,null,null,null,null,null,null,null,null,null,null,null,null,null,null,null,null,""]
[null,null,null,null,null,"〃",null,null,null,null,null,null,null,null,null,null,null,null,null,null,null,null,null,null,null,null,null,null,null,null,null,null,null,""]
[null,null,null,null,null,"〃",null,null,null,null,null,null,null,null,null,null,null,null,null,null,null,null,null,null,null,null,null,null,null,null,null,null,null,""]
[null,null,null,null,null,"〃",null,null,null,null,null,null,null,null,null,null,null,null,null,null,null,null,null,null,null,null,null,null,null,null,null,null,null,""]
[null,null,null,null,null,"〃",null,null,null,null,null,null,null,null,null,null,null,null,null,null,null,null,null,null,null,null,null,null,null,null,null,null,null,""]
[null,null,null,null,null,null,null,null,null,null,null,null,null,null,null,null,null,null,null,null,null,null,null,null,null,null,null,null,null,null,null,null,null,""]
[null,null,null,null,null,null,null,null,null,null,null,null,null,null,null,null,null,null,null,null,null,null,null,null,null,null,null,null,null,null,null,null,null,""]
[null,null,null,null,null,null,null,null,null,null,null,null,null,null,null,null,null,null,null,null,null,null,null,null,null,null,null,null,null,null,null,null,null,""]
[null,null,null,null,null,null,null,null,null,null,null,null,null,null,null,null,null,null,null,null,null,null,null,null,null,null,null,null,null,null,null,null,null,""]
[null,null,null,null,null,null,null,null,null,null,null,null,null,null,null,null,null,null,null,null,null,null,null,null,null,null,null,null,null,null,null,null,null,""]
[null,null,null,null,null,null,null,null,null,null,null,null,null,null,null,null,null,null,null,null,null,null,null,null,null,null,null,null,null,null,null,null,null,""]
[null,null,null,null,null,null,null,null,null,null,null,null,null,null,null,null,null,null,null,null,null,null,null,null,null,null,null,null,null,null,null,null,null,""]
[null,null,null,null,null,null,null,null,null,null,null,null,null,null,null,null,null,null,null,null,null,null,null,null,null,null,null,null,null,null,null,null,null,""]
[null,null,null,null,null,null,null,null,null,null,null,null,null,null,null,null,null,null,null,null,null,null,null,null,null,null,null,null,null,null,null,null,null,""]
[null,null,null,null,null,null,null,null,null,null,null,null,null,null,null,null,null,null,null,null,null,null,null,null,null,null,null,null,null,null,null,null,null,""]
[null,null,null,null,null,null,null,null,null,null,null,null,null,null,null,null,null,null,null,null,null,null,null,null,null,null,null,null,null,null,null,null,null,""]
[null,null,null,null,null,null,null,null,null,null,null,null,null,null,null,null,null,null,null,null,null,null,null,null,null,null,null,null,null,null,null,null,null,""]
[]
[]
[null,"３．施用粒剤の入力"]
[null,null,null,null,null,null,null,null,null,null,null,null,null,null,null,null,null,null,null,null,null,null,null,null,null,null,null,null,null,null,null,null,null,null,null,null,null,null,null,null,null,null,null,null,null,null,null,null,null,null,null,null,"施用粒剤の日付入力"]
[null,null,null,null,null,"日付",null,null,"施用粒剤名",null,null,null,null,null,null,"施用量（g）",null,null,null,"施用鉢数（鉢）",null,null,null,null,null,"登録施用量",null,null,null,null,"回数",null,"時期"]
[null,null,"１回目",null,null,null,null,null,null,null,null,null,null,null,null,null,null,null,null,null,null,null,null,null,null,{"$f":"IF(I53=\"\",\"\",VLOOKUP(I53,施用粒剤台帳,2,FALSE))","v":""},null,null,null,null,{"$f":"IF(I53=\"\",\"\",VLOOKUP(I53,施用粒剤台帳,3,FALSE))","v":""},null,{"$f":"IF(I53=\"\",\"\",VLOOKUP(I53,施用粒剤台帳,4,FALSE))","v":""}]
[null,null,"２回目",null,null,null,null,null,null,null,null,null,null,null,null,null,null,null,null,null,null,null,null,null,null,{"$f":"IF(I54=\"\",\"\",VLOOKUP(I54,施用粒剤台帳,2,FALSE))","v":""},null,null,null,null,{"$f":"IF(I54=\"\",\"\",VLOOKUP(I54,施用粒剤台帳,3,FALSE))","v":""},null,{"$f":"IF(I54=\"\",\"\",VLOOKUP(I54,施用粒剤台帳,4,FALSE))","v":""}]
[]
[null,"４．硫黄くん蒸剤の入力",null,null,null,null,null,null,null,null,"※使用が２年にまたがるときは、前年の日付の前に年号を付けないとミスになります。"]
[]
[null,null,"履歴シートへの表示確認欄",null,null,null,null,null,null,null,null,null,null,null,null,null,null,"播種日",null,null,{"$f":"IF(F12=\"\",\"\",F12)","v":""}]
[null,null,"開始日",null,null,null,null,null,null,null,null,null,null,null,null,null,null,"定植日",null,null,{"$f":"IF(F13=\"\",\"\",F13)","v":""}]
[null,null,"終了日",null,null,null,null,null,null,null,null,null,null,null,{"$f":"IF(H60=\"\",\"\",IF(H60<H59,\" ミス\",\"\"))","v":""},null,null,"交配日",null,null,{"$f":"IF(F14=\"\",\"\",F14)","v":""}]
[null,null,"１日の使用量",null,null,null,null,2,null,null,null,null,null,null,null,null,null,"収穫日",null,null,{"$f":"IF(F16=\"\",\"\",F16)","v":""}]
[null,null,"総使用量",null,null,null,null,{"$f":"IF(OR(H59=\"\",OR(H60=\"\",H61=\"\")),\"\",(H60-H59)*H61)","v":""},null,null,null,null,null,null,null,null,null,null,null,null,"↑１.で入力した日付です。"]
[]
[null,"５．農薬散布の入力"]
[null,null,null,null,null,null,null,null,null,null,null,null,null,null,null,null,null,null,null,null,null,null,null,null,null,null,null,null,null,null,null,null,null,null,null,null,null,null,null,null,null,null,null,null,null,null,null,null,null,null,null,null,"農薬散布の日付入力"]
[]
[null,null,null,null,null,null,null,null,null,null,null,null,null,null,null,null,null,"Ｂ１",null,null,"Ｂ２",null,null,"Ｂ３",null,null,"Ｂ４",null,null,"Ｂ５",null,null,"Ｂ６",null,null,"Ｂ７",null,null,"Ｂ８"]
[null,null,"使用年月日"]
[null,null,"生育ステージ",null,null,null,null,null,null,null,null,null,null,null,null,null,null,"育苗",null,null,"木作り",null,null,"木作り",null,null,"肥大期",null,null,"肥大期",null,null,"仕上げ",null,null,"仕上げ",null,null,"仕上げ"]
[null,null,"使用農薬名","散布量"]
[null,null,null,null,null,null,null,null,null,null,null,{"$f":"IF(D71=\"\",\"\",VLOOKUP(D71,Ｍ農薬台帳,3,FALSE))","v":""},{"$f":"IF(D71=\"\",\"\",\"-\")","v":""},{"$f":"IF(D71=\"\",\"\",VLOOKUP(D71,Ｍ農薬台帳,2,FALSE))","v":""},{"$f":"IF(D71=\"\",\"\",VLOOKUP(D71,Ｍ農薬台帳,4,FALSE))","v":""}]
[null,null,null,null,null,null,null,null,null,null,null,"","","",""]
[null,null,null,null,null,null,null,null,null,null,null,"","","",""]
[null,null,null,null,null,null,null,null,null,null,null,"","","",""]
[null,null,null,null,null,null,null,null,null,null,null,"","","",""]
[null,null,null,null,null,null,null,null,null,null,null,"","","",""]
[null,null,null,null,null,null,null,null,null,null,null,"","","",""]
[null,null,null,null,null,null,null,null,null,null,null,"","","",""]
[null,null,null,null,null,null,null,null,null,null,null,"","","",""]
[null,null,null,null,null,null,null,null,null,null,null,"","","",""]
[null,null,null,null,null,null,null,null,null,null,null,"","","",""]
[null,null,null,null,null,null,null,null,null,null,null,"","","",""]
[null,null,null,null,null,null,null,null,null,null,null,"","","",""]
[null,null,null,null,null,null,null,null,null,null,null,"","","",""]
[null,null,null,null,null,null,null,null,null,null,null,"","","",""]
[null,null,null,null,null,null,null,null,null,null,null,"","","",""]
[]
[null,"６．植物成長調整剤の入力",null,null,null,null,null,null,null,null,null,"アークランド液剤",null,null,null,null,null,null,"　を使用した。"]
[]
[null,null,null,null,null,"日付",null,null,"希釈倍数",null,null,null,null,"散布量"]
[null,null,"1回目"]
[null,null,"2回目"]
[]
[null,"７．トップジンＭ水和剤の入力","トップジンＭ水和剤",null,null,null,null,null,null,"　の入力"]
[]
[null,null,null,null,null,"日付",null,null,"希釈倍数",null,null,null,null,"散布量"]
[null,null,"1回目"]
[null,null,"2回目"]
[null,null,"3回目"]
[null,null,"4回目"]
[]
[null,"８．施用液肥の入力"]
[]
[null,null,null,null,"日付",null,null,"液肥・葉面散布剤名",null,null,null,null,null,null,null,null,"使用量"]
[null,null,1]
[null,null,2]
[null,null,3]
[null,null,4]
[null,null,5]
[null,null,6]
[null,null,7]
[null,null,8]
[null,null,9]
[null,null,10]
[null,null,11]
[null,null,12]
[null,null,13]
[null,null,14]
[null,null,15]
[null,null,16]
[null,null,17]
[null,null,18]
[]
[null,"９.小メロンの出荷がある場合は、この枠に記載してください。リストから選べます。→"]
[]
[null,"10．印刷プレビューボタンを押し　印刷状態の確認をして　良ければそのまま印刷してください。"]
[]
[null,"11．以上で終りです。お疲れ様でした。"]

{"sheet":"２号Ｐ","index":5,"n_rows":36,"n_cols":88,"rows_kept":36,"cut":false,"hidden":false,"merged":[[4,68,4,72],[4,73,4,91],[4,38,4,47],[5,58,5,67],[4,48,4,52],[4,53,4,57],[4,58,4,67],[2,4,2,5],[2,6,2,31],[4,13,4,27],[4,33,4,37],[5,68,5,72],[5,73,5,77],[5,78,5,91],[6,7,6,8],[6,13,6,17],[6,18,6,27],[6,28,6,32],[6,33,6,37],[6,38,6,47],[6,48,6,52],[6,53,6,57],[6,58,6,67],[6,68,6,72],[6,73,6,80],[6,81,6,91],[5,13,5,17],[5,18,5,27],[5,28,5,32],[5,33,5,37],[5,38,5,47],[5,48,5,52],[5,53,5,57],[7,6,7,7],[7,13,7,17],[7,18,7,27],[7,28,7,32],[7,33,7,37],[7,38,7,47],[7,48,7,52],[7,53,7,57],[8,58,8,67],[7,58,7,67],[8,6,8,12],[8,13,8,17],[8,18,8,27],[8,28,8,32],[9,58,9,67],[7,68,7,72],[7,73,7,77],[8,68,8,72],[8,73,8,80],[7,78,7,91],[8,81,8,91],[8,33,8,37],[8,38,8,47],[8,48,8,52],[8,53,8,57],[9,68,9,72],[9,73,9,91],[13,13,13,17],[13,18,13,27],[13,28,13,32],[9,18,9,27],[9,28,9,32],[9,33,9,37],[9,38,9,47],[9,48,9,52],[9,53,9,57],[10,48,10,52],[10,53,10,57],[11,53,12,57],[13,53,13,57],[11,48,12,52],[13,33,13,37],[13,38,13,47],[13,48,13,52],[10,83,11,91],[11,58,12,67],[11,68,12,72],[12,73,13,81],[12,82,13,91],[13,68,13,72],[10,58,10,67],[10,68,10,72],[10,73,11,82],[13,58,13,67],[9,6,9,12],[9,13,9,17],[11,4,12,5],[11,6,12,12],[11,13,12,17],[11,18,12,27],[11,28,12,32],[11,33,12,37],[11,38,12,47],[10,6,10,12],[10,13,10,17],[10,18,10,27],[10,28,10,32],[10,33,10,37],[10,38,10,47],[15,69,15,91],[16,4,16,12],[16,13,16,19],[16,20,16,26],[16,27,16,33],[16,34,16,40],[16,41,16,47],[16,48,16,54],[16,55,16,61],[16,62,16,68],[16,69,16,73],[16,74,16,86],[16,87,16,91],[15,4,15,12],[15,13,15,19],[15,20,15,26],[15,27,15,33],[15,34,15,40],[15,41,15,47],[15,48,15,54],[15,55,15,61],[15,62,15,68],[17,4,35,4],[17,5,17,12],[17,13,17,19],[17,20,17,26],[19,5,19,7],[19,10,19,12],[19,13,19,19],[19,20,19,26],[21,5,21,7],[21,10,21,12],[23,5,23,7],[23,10,23,12],[23,13,23,19],[23,20,23,26],[24,5,24,7],[24,10,24,12],[24,13,24,19],[24,20,24,26],[25,5,25,7],[25,10,25,12],[25,13,25,19],[25,20,25,26],[26,5,26,7],[26,10,26,12],[17,62,17,68],[17,69,17,73],[17,74,17,86],[17,87,17,91],[18,5,18,7],[18,10,18,12],[18,13,18,19],[18,20,18,26],[18,27,18,33],[18,34,18,40],[18,41,18,47],[18,48,18,54],[18,55,18,61],[18,62,18,68],[18,69,18,73],[18,74,18,86],[18,87,18,91],[17,27,17,33],[17,34,17,40],[17,41,17,47],[17,48,17,54],[17,55,17,61],[19,62,19,68],[19,69,19,73],[19,74,19,86],[19,87,19,91],[20,5,20,7],[20,10,20,12],[20,13,20,19],[20,20,20,26],[20,27,20,33],[20,34,20,40],[20,41,20,47],[20,48,20,54],[20,55,20,61],[20,62,20,68],[20,69,20,73],[20,74,20,86],[20,87,20,91],[19,27,19,33],[19,34,19,40],[19,41,19,47],[19,48,19,54],[19,55,19,61],[21,62,21,68],[21,69,21,73],[21,74,21,86],[21,87,21,91],[22,5,22,7],[22,10,22,12],[22,13,22,19],[22,20,22,26],[22,27,22,33],[22,34,22,40],[22,41,22,47],[22,48,22,54],[22,55,22,61],[22,62,22,68],[22,69,22,73],[22,74,22,86],[22,87,22,91],[21,13,21,19],[21,20,21,26],[21,27,21,33],[21,34,21,40],[21,41,21,47],[21,48,21,54],[21,55,21,61],[23,27,23,33],[23,34,23,40],[23,41,23,47],[23,48,23,54],[23,55,23,61],[23,62,23,68],[23,69,23,73],[23,74,23,86],[23,87,23,91],[25,74,25,86],[25,87,25,91],[24,27,24,33],[24,34,24,40],[24,41,24,47],[24,48,24,54],[24,55,24,61],[24,62,24,68],[24,69,24,73],[24,74,24,86],[24,87,24,91],[26,41,26,47],[26,48,26,54],[26,55,26,61],[26,62,26,68],[26,69,26,73],[25,27,25,33],[25,34,25,40],[25,41,25,47],[25,48,25,54],[25,55,25,61],[25,62,25,68],[25,69,25,73],[28,27,28,33],[28,34,28,40],[28,41,28,47],[28,48,28,54],[28,55,28,61],[26,74,26,86],[26,87,26,91],[27,5,27,7],[27,10,27,12],[27,13,27,19],[27,20,27,26],[27,27,27,33],[27,34,27,40],[27,41,27,47],[27,48,27,54],[27,55,27,61],[27,62,27,68],[27,69,27,73],[27,74,27,86],[27,87,27,91],[26,13,26,19],[26,20,26,26],[26,27,26,33],[26,34,26,40],[30,41,30,47],[30,48,30,54],[30,55,30,61],[28,62,28,68],[28,69,28,73],[28,74,28,86],[28,87,28,91],[29,5,29,7],[29,10,29,12],[29,13,29,19],[29,20,29,26],[29,27,29,33],[29,34,29,40],[29,41,29,47],[29,48,29,54],[29,55,29,61],[29,62,29,68],[29,69,29,73],[29,74,29,86],[29,87,29,91],[28,5,28,7],[28,10,28,12],[28,13,28,19],[28,20,28,26],[32,55,32,61],[30,62,30,68],[30,69,30,73],[30,74,30,86],[30,87,30,91],[31,5,31,7],[31,10,31,12],[31,13,31,19],[31,20,31,26],[31,27,31,33],[31,34,31,40],[31,41,31,47],[31,48,31,54],[31,55,31,61],[31,62,31,68],[31,69,31,73],[31,74,31,86],[31,87,31,91],[30,5,30,7],[30,10,30,12],[30,13,30,19],[30,20,30,26],[30,27,30,33],[30,34,30,40],[0,64,0,89],[34,5,34,12],[35,5,35,12],[35,76,35,83],[33,87,33,91],[34,13,34,17],[34,18,34,25],[34,26,34,33],[34,34,35,49],[34,50,34,54],[34,55,34,62],[34,63,34,70],[34,71,34,75],[33,41,33,47],[33,48,33,54],[33,55,33,61],[33,62,33,68],[33,69,33,73],[33,74,33,86],[32,62,32,68],[32,69,32,73],[32,74,32,86],[32,87,32,91],[33,5,33,7],[4,1,5,2],[35,84,35,91],[34,76,34,83],[34,84,34,91],[35,13,35,17],[35,18,35,25],[35,26,35,33],[35,50,35,54],[35,55,35,62],[35,63,35,70],[35,71,35,75],[33,10,33,12],[33,13,33,19],[33,20,33,26],[33,27,33,33],[33,34,33,40],[32,5,32,7],[32,10,32,12],[32,13,32,19],[32,20,32,26],[32,27,32,33],[32,34,32,40],[32,41,32,47],[32,48,32,54]]}
[null,null,null,null,null,null,null,null,null,null,null,null,null,null,null,null,null,null,null,null,null,null,null,null,null,null,null,null,null,null,null,null,null,null,null,null,null,null,null,null,null,null,null,null,null,null,null,null,null,null,null,null,null,null,null,null,null,null,null,null,null,null,null,null,{"$f":"IF('２号入力'!AB124=\"\",\"\",'２号入力'!AB124)","v":""}]
[]
[null,null,null,null,"栽培履歴",null,{"$f":"メニュー画面!F16","v":"静岡県温室農業協同組合（クラウンメロン支所）"},null,null,null,null,null,null,null,null,null,null,null,null,null,null,null,null,null,null,null,null,null,null,null,null,null,"検査日",null,null,null,null,null,"令和　　年　　月　　日",null,null,null,null,null,null,null,null,null,null,null,null,null,null,null,"検査責任者氏名　　　　　　　　　　 　　　　　　　　　　　　　印"]
[]
[null,"２号室",null,null,"組合員番号：",null,{"$f":"メニュー画面!F18","v":"４　３　６"},null,null,null,null,null,null,"施用資材名",null,null,null,null,null,null,null,null,null,null,null,null,null,null,"投入量",null,null,null,null,{"$f":"IF('２号入力'!F30=\"\",\"\",'２号入力'!F30)","v":"〃"},null,null,null,null,{"$f":"IF('２号入力'!AH30=\"\",\"\",'２号入力'!AH30)","v":""},null,null,null,null,null,null,null,null,null,{"$f":"IF('２号入力'!AA30=\"\",\"\",'２号入力'!AA30)","v":""},null,null,null,null,{"$f":"IF('２号入力'!F39=\"\",\"\",'２号入力'!F39)","v":""},null,null,null,null,{"$f":"IF('２号入力'!AH39=\"\",\"\",'２号入力'!AH39)","v":""},null,null,null,null,null,null,null,null,null,{"$f":"IF('２号入力'!AA39=\"\",\"\",'２号入力'!AA39)","v":""},null,null,null,null,"施用粒剤"]
[null,null,null,null,"氏名：",null,{"$f":"メニュー画面!F20","v":"中　條　文　義"},null,null,null,null,null,null,{"$f":"IF('２号入力'!F22=\"\",\"\",'２号入力'!F22)","v":""},null,null,null,null,{"$f":"IF('２号入力'!AH22=\"\",\"\",'２号入力'!AH22)","v":"育苗"},null,null,null,null,null,null,null,null,null,{"$f":"IF('２号入力'!AA22=\"\",\"\",'２号入力'!AA22)","v":""},null,null,null,null,{"$f":"IF('２号入力'!F31=\"\",\"\",'２号入力'!F31)","v":"〃"},null,null,null,null,{"$f":"IF('２号入力'!AH31=\"\",\"\",'２号入力'!AH31)","v":""},null,null,null,null,null,null,null,null,null,{"$f":"IF('２号入力'!AA31=\"\",\"\",'２号入力'!AA31)","v":""},null,null,null,null,{"$f":"IF('２号入力'!F40=\"\",\"\",'２号入力'!F40)","v":""},null,null,null,null,{"$f":"IF('２号入力'!AH40=\"\",\"\",'２号入力'!AH40)","v":""},null,null,null,null,null,null,null,null,null,{"$f":"IF('２号入力'!AA40=\"\",\"\",'２号入力'!AA40)","v":""},null,null,null,null,{"$f":"IF('２号入力'!F53=\"\",\"/\",'２号入力'!F53)","v":"/"},null,null,null,null,{"$f":"IF('２号入力'!I53=\"\",\"\",'２号入力'!I53)","v":""}]
[null,null,null,null,"部屋番号：",null,{"$f":"IF('２号入力'!F9=\"\",\"\",'２号入力'!F9)","v":2},{"$f":"IF('２号入力'!F10=\"\",\"\",'２号入力'!F10)","v":""},null,null,null,null,null,{"$f":"IF('２号入力'!F23=\"\",\"\",'２号入力'!F23)","v":"2006-01-01"},null,null,null,null,{"$f":"IF('２号入力'!AH23=\"\",\"\",'２号入力'!AH23)","v":""},null,null,null,null,null,null,null,null,null,{"$f":"IF('２号入力'!AA23=\"\",\"\",'２号入力'!AA23)","v":""},null,null,null,null,{"$f":"IF('２号入力'!F32=\"\",\"\",'２号入力'!F32)","v":"〃"},null,null,null,null,{"$f":"IF('２号入力'!AH32=\"\",\"\",'２号入力'!AH32)","v":""},null,null,null,null,null,null,null,null,null,{"$f":"IF('２号入力'!AA32=\"\",\"\",'２号入力'!AA32)","v":""},null,null,null,null,{"$f":"IF('２号入力'!F41=\"\",\"\",'２号入力'!F41)","v":""},null,null,null,null,{"$f":"IF('２号入力'!AH41=\"\",\"\",'２号入力'!AH41)","v":""},null,null,null,null,null,null,null,null,null,{"$f":"IF('２号入力'!AA41=\"\",\"\",'２号入力'!AA41)","v":""},null,null,null,null,{"$f":"IF('２号入力'!P53=0,\"g\",'２号入力'!P53)","v":"g"},null,null,null,null,null,null,null,{"$f":"IF('２号入力'!T53=0,0,'２号入力'!T53)","v":0}]
[null,null,null,null,"品種名：",null,{"$f":"IF('２号入力'!F11=\"\",\"\",'２号入力'!F11)","v":"春　　系"},null,null,null,null,null,null,{"$f":"IF('２号入力'!F24=\"\",\"\",'２号入力'!F24)","v":"〃"},null,null,null,null,{"$f":"IF('２号入力'!AH24=\"\",\"\",'２号入力'!AH24)","v":""},null,null,null,null,null,null,null,null,null,{"$f":"IF('２号入力'!AA24=\"\",\"\",'２号入力'!AA24)","v":""},null,null,null,null,{"$f":"IF('２号入力'!F33=\"\",\"\",'２号入力'!F33)","v":"〃"},null,null,null,null,{"$f":"IF('２号入力'!AH33=\"\",\"\",'２号入力'!AH33)","v":""},null,null,null,null,null,null,null,null,null,{"$f":"IF('２号入力'!AA33=\"\",\"\",'２号入力'!AA33)","v":""},null,null,null,null,{"$f":"IF('２号入力'!F42=\"\",\"\",'２号入力'!F42)","v":""},null,null,null,null,{"$f":"IF('２号入力'!AH42=\"\",\"\",'２号入力'!AH42)","v":""},null,null,null,null,null,null,null,null,null,{"$f":"IF('２号入力'!AA42=\"\",\"\",'２号入力'!AA42)","v":""},null,null,null,null,{"$f":"IF('２号入力'!F54=\"\",\"/\",'２号入力'!F54)","v":"/"},null,null,null,null,{"$f":"IF('２号入力'!I54=\"\",\"\",'２号入力'!I54)","v":""}]
[null,null,null,null,"播種日：",null,{"$f":"IF('２号入力'!F12=\"\",\"\",'２号入力'!F12)","v":""},null,null,null,null,null,null,{"$f":"IF('２号入力'!F25=\"\",\"\",'２号入力'!F25)","v":"〃"},null,null,null,null,{"$f":"IF('２号入力'!AH25=\"\",\"\",'２号入力'!AH25)","v":""},null,null,null,null,null,null,null,null,null,{"$f":"IF('２号入力'!AA25=\"\",\"\",'２号入力'!AA25)","v":""},null,null,null,null,{"$f":"IF('２号入力'!F34=\"\",\"\",'２号入力'!F34)","v":"〃"},null,null,null,null,{"$f":"IF('２号入力'!AH34=\"\",\"\",'２号入力'!AH34)","v":""},null,null,null,null,null,null,null,null,null,{"$f":"IF('２号入力'!AA34=\"\",\"\",'２号入力'!AA34)","v":""},null,null,null,null,{"$f":"IF('２号入力'!F43=\"\",\"\",'２号入力'!F43)","v":""},null,null,null,null,{"$f":"IF('２号入力'!AH43=\"\",\"\",'２号入力'!AH43)","v":""},null,null,null,null,null,null,null,null,null,{"$f":"IF('２号入力'!AA43=\"\",\"\",'２号入力'!AA43)","v":""},null,null,null,null,{"$f":"IF('２号入力'!P54=0,\"g\",'２号入力'!P54)","v":"g"},null,null,null,null,null,null,null,{"$f":"IF('２号入力'!T54=0,0,'２号入力'!T54)","v":0}]
[null,null,null,null,"定植日：",null,{"$f":"IF('２号入力'!F13=\"\",\"\",'２号入力'!F13)","v":""},null,null,null,null,null,null,{"$f":"IF('２号入力'!F26=\"\",\"\",'２号入力'!F26)","v":"〃"},null,null,null,null,{"$f":"IF('２号入力'!AH26=\"\",\"\",'２号入力'!AH26)","v":""},null,null,null,null,null,null,null,null,null,{"$f":"IF('２号入力'!AA26=\"\",\"\",'２号入力'!AA26)","v":""},null,null,null,null,{"$f":"IF('２号入力'!F35=\"\",\"\",'２号入力'!F35)","v":"〃"},null,null,null,null,{"$f":"IF('２号入力'!AH35=\"\",\"\",'２号入力'!AH35)","v":""},null,null,null,null,null,null,null,null,null,{"$f":"IF('２号入力'!AA35=\"\",\"\",'２号入力'!AA35)","v":""},null,null,null,null,{"$f":"IF('２号入力'!F44=\"\",\"\",'２号入力'!F44)","v":""},null,null,null,null,{"$f":"IF('２号入力'!AH44=\"\",\"\",'２号入力'!AH44)","v":""},null,null,null,null,null,null,null,null,null,{"$f":"IF('２号入力'!AA44=\"\",\"\",'２号入力'!AA44)","v":""},null,null,null,null,"硫黄くん蒸剤"]
[null,null,null,null,"交配日：",null,{"$f":"IF('２号入力'!F14=\"\",\"\",'２号入力'!F14)","v":""},null,null,null,null,null,null,{"$f":"IF('２号入力'!F27=\"\",\"\",'２号入力'!F27)","v":"〃"},null,null,null,null,{"$f":"IF('２号入力'!AH27=\"\",\"\",'２号入力'!AH27)","v":""},null,null,null,null,null,null,null,null,null,{"$f":"IF('２号入力'!AA27=\"\",\"\",'２号入力'!AA27)","v":""},null,null,null,null,{"$f":"IF('２号入力'!F36=\"\",\"\",'２号入力'!F36)","v":""},null,null,null,null,{"$f":"IF('２号入力'!AH36=\"\",\"\",'２号入力'!AH36)","v":""},null,null,null,null,null,null,null,null,null,{"$f":"IF('２号入力'!AA36=\"\",\"\",'２号入力'!AA36)","v":""},null,null,null,null,{"$f":"IF('２号入力'!F45=\"\",\"\",'２号入力'!F45)","v":""},null,null,null,null,{"$f":"IF('２号入力'!AH45=\"\",\"\",'２号入力'!AH45)","v":""},null,null,null,null,null,null,null,null,null,{"$f":"IF('２号入力'!AA45=\"\",\"\",'２号入力'!AA45)","v":""},null,null,null,null,{"$f":"IF('２号入力'!H59=\"\",\"/      ～\",'２号入力'!H59)","v":"/      ～"},null,null,null,null,null,null,null,null,null,{"$f":"IF('２号入力'!H60=\"\",\"    /\",'２号入力'!H60)","v":"    /"}]
[null,null,null,null,"収穫日：",null,{"$f":"IF('２号入力'!F16=\"\",\"\",'２号入力'!F16)","v":""},null,null,null,null,null,null,{"$f":"IF('２号入力'!F28=\"\",\"\",'２号入力'!F28)","v":"〃"},null,null,null,null,{"$f":"IF('２号入力'!AH28=\"\",\"\",'２号入力'!AH28)","v":""},null,null,null,null,null,null,null,null,null,{"$f":"IF('２号入力'!AA28=\"\",\"\",'２号入力'!AA28)","v":""},null,null,null,null,{"$f":"IF('２号入力'!F37=\"\",\"\",'２号入力'!F37)","v":""},null,null,null,null,{"$f":"IF('２号入力'!AH37=\"\",\"\",'２号入力'!AH37)","v":""},null,null,null,null,null,null,null,null,null,{"$f":"IF('２号入力'!AA37=\"\",\"\",'２号入力'!AA37)","v":""},null,null,null,null,{"$f":"IF('２号入力'!F46=\"\",\"\",'２号入力'!F46)","v":""},null,null,null,null,{"$f":"IF('２号入力'!AH46=\"\",\"\",'２号入力'!AH46)","v":""},null,null,null,null,null,null,null,null,null,{"$f":"IF('２号入力'!AA46=\"\",\"\",'２号入力'!AA46)","v":""}]
[null,null,null,null,null,null,null,null,null,null,null,null,null,null,null,null,null,null,null,null,null,null,null,null,null,null,null,null,null,null,null,null,null,null,null,null,null,null,null,null,null,null,null,null,null,null,null,null,null,null,null,null,null,null,null,null,null,null,null,null,null,null,null,null,null,null,null,null,null,null,null,null,null,{"$f":"IF('２号入力'!H61=\"\",\"g/日\",'２号入力'!H61)","v":2},null,null,null,null,null,null,null,null,{"$f":"IF('２号入力'!H62=\"\",\"g/部屋\",'２号入力'!H62)","v":"g/部屋"}]
[null,null,null,null,"採果日数：",null,{"$f":"'２号入力'!F15","v":0},null,null,null,null,null,null,{"$f":"IF('２号入力'!F29=\"\",\"\",'２号入力'!F29)","v":"〃"},null,null,null,null,{"$f":"IF('２号入力'!AH29=\"\",\"\",'２号入力'!AH29)","v":""},null,null,null,null,null,null,null,null,null,{"$f":"IF('２号入力'!AA29=\"\",\"\",'２号入力'!AA29)","v":""},null,null,null,null,{"$f":"IF('２号入力'!F38=\"\",\"\",'２号入力'!F38)","v":""},null,null,null,null,{"$f":"IF('２号入力'!AH38=\"\",\"\",'２号入力'!AH38)","v":""},null,null,null,null,null,null,null,null,null,{"$f":"IF('２号入力'!AA38=\"\",\"\",'２号入力'!AA38)","v":""},null,null,null,null,{"$f":"IF('２号入力'!F47=\"\",\"\",'２号入力'!F47)","v":""},null,null,null,null,{"$f":"IF('２号入力'!AH47=\"\",\"\",'２号入力'!AH47)","v":""},null,null,null,null,null,null,null,null,null,{"$f":"IF('２号入力'!AA47=\"\",\"\",'２号入力'!AA47)","v":""}]
[]
[null,null,null,null,"使用年月日",null,null,null,null,null,null,null,null,{"$f":"IF('２号入力'!R68=\"\",\"/\",'２号入力'!R68)","v":"/"},null,null,null,null,null,null,{"$f":"IF('２号入力'!U68=\"\",\"/\",'２号入力'!U68)","v":"/"},null,null,null,null,null,null,{"$f":"IF('２号入力'!X68=\"\",\"/\",'２号入力'!X68)","v":"/"},null,null,null,null,null,null,{"$f":"IF('２号入力'!AA68=\"\",\"/\",'２号入力'!AA68)","v":"/"},null,null,null,null,null,null,{"$f":"IF('２号入力'!AD68=\"\",\"/\",'２号入力'!AD68)","v":"/"},null,null,null,null,null,null,{"$f":"IF('２号入力'!AG68=\"\",\"/\",'２号入力'!AG68)","v":"/"},null,null,null,null,null,null,{"$f":"IF('２号入力'!AJ68=\"\",\"/\",'２号入力'!AJ68)","v":"/"},null,null,null,null,null,null,{"$f":"IF('２号入力'!AM68=\"\",\"/\",'２号入力'!AM68)","v":"/"},null,null,null,null,null,null,"使用液肥・葉面散布剤"]
[null,null,null,null,"生育ステージ",null,null,null,null,null,null,null,null,{"$f":"IF('２号入力'!R69=\"\",\"\",'２号入力'!R69)","v":"育苗"},null,null,null,null,null,null,{"$f":"IF('２号入力'!U69=\"\",\"\",'２号入力'!U69)","v":"木作り"},null,null,null,null,null,null,{"$f":"IF('２号入力'!X69=\"\",\"\",'２号入力'!X69)","v":"木作り"},null,null,null,null,null,null,{"$f":"IF('２号入力'!AA69=\"\",\"\",'２号入力'!AA69)","v":"肥大期"},null,null,null,null,null,null,{"$f":"IF('２号入力'!AD69=\"\",\"\",'２号入力'!AD69)","v":"肥大期"},null,null,null,null,null,null,{"$f":"IF('２号入力'!AG69=\"\",\"\",'２号入力'!AG69)","v":"仕上げ"},null,null,null,null,null,null,{"$f":"IF('２号入力'!AJ69=\"\",\"\",'２号入力'!AJ69)","v":"仕上げ"},null,null,null,null,null,null,{"$f":"IF('２号入力'!AM69=\"\",\"\",'２号入力'!AM69)","v":"仕上げ"},null,null,null,null,null,null,{"$f":"IF('２号入力'!E105=\"\",\"/\",'２号入力'!E105)","v":"/"},null,null,null,null,{"$f":"IF('２号入力'!H105=\"\",\"\",'２号入力'!H105)","v":""},null,null,null,null,null,null,null,null,null,null,null,null,{"$f":"IF('２号入力'!Q105=0,0,'２号入力'!Q105)","v":0}]
[null,null,null,null,"使用農薬名","散布量",null,null,null,null,null,null,null,{"$f":"IF('２号入力'!R70=0,0,'２号入力'!R70)","v":0},null,null,null,null,null,null,{"$f":"IF('２号入力'!U70=0,0,'２号入力'!U70)","v":0},null,null,null,null,null,null,{"$f":"IF('２号入力'!X70=0,0,'２号入力'!X70)","v":0},null,null,null,null,null,null,{"$f":"IF('２号入力'!AA70=0,0,'２号入力'!AA70)","v":0},null,null,null,null,null,null,{"$f":"IF('２号入力'!AD70=0,0,'２号入力'!AD70)","v":0},null,null,null,null,null,null,{"$f":"IF('２号入力'!AG70=0,0,'２号入力'!AG70)","v":0},null,null,null,null,null,null,{"$f":"IF('２号入力'!AJ70=0,0,'２号入力'!AJ70)","v":0},null,null,null,null,null,null,{"$f":"IF('２号入力'!AM70=0,0,'２号入力'!AM70)","v":0},null,null,null,null,null,null,{"$f":"IF('２号入力'!E106=\"\",\"\",'２号入力'!E106)","v":""},null,null,null,null,{"$f":"IF('２号入力'!H106=\"\",\"\",'２号入力'!H106)","v":""},null,null,null,null,null,null,null,null,null,null,null,null,{"$f":"IF('２号入力'!Q106=0,\"\",'２号入力'!Q106)","v":""}]
[null,null,null,null,null,{"$f":"IF('２号入力'!D71=\"\",\"\",'２号入力'!D71)","v":""},null,null,{"$f":"IF(F19=\"\",\"\",VLOOKUP(F19,Ｍ農薬台帳,3,FALSE))","v":""},{"$f":"IF(F19=\"\",\"\",\"-\")","v":""},{"$f":"IF(F19=\"\",\"\",VLOOKUP(F19,Ｍ農薬台帳,2,FALSE))","v":""},null,null,{"$f":"IF('２号入力'!R71=\"\",\"\",'２号入力'!R71)","v":""},null,null,null,null,null,null,{"$f":"IF('２号入力'!U71=\"\",\"\",'２号入力'!U71)","v":""},null,null,null,null,null,null,{"$f":"IF('２号入力'!X71=\"\",\"\",'２号入力'!X71)","v":""},null,null,null,null,null,null,{"$f":"IF('２号入力'!AA71=\"\",\"\",'２号入力'!AA71)","v":""},null,null,null,null,null,null,{"$f":"IF('２号入力'!AD71=\"\",\"\",'２号入力'!AD71)","v":""},null,null,null,null,null,null,{"$f":"IF('２号入力'!AG71=\"\",\"\",'２号入力'!AG71)","v":""},null,null,null,null,null,null,{"$f":"IF('２号入力'!AJ71=\"\",\"\",'２号入力'!AJ71)","v":""},null,null,null,null,null,null,{"$f":"IF('２号入力'!AM71=\"\",\"\",'２号入力'!AM71)","v":""},null,null,null,null,null,null,{"$f":"IF('２号入力'!E107=\"\",\"\",'２号入力'!E107)","v":""},null,null,null,null,{"$f":"IF('２号入力'!H107=\"\",\"\",'２号入力'!H107)","v":""},null,null,null,null,null,null,null,null,null,null,null,null,{"$f":"IF('２号入力'!Q107=0,\"\",'２号入力'!Q107)","v":""}]
[null,null,null,null,null,{"$f":"IF('２号入力'!D72=\"\",\"\",'２号入力'!D72)","v":""},null,null,"","","",null,null,{"$f":"IF('２号入力'!R72=\"\",\"\",'２号入力'!R72)","v":""},null,null,null,null,null,null,{"$f":"IF('２号入力'!U72=\"\",\"\",'２号入力'!U72)","v":""},null,null,null,null,null,null,{"$f":"IF('２号入力'!X72=\"\",\"\",'２号入力'!X72)","v":""},null,null,null,null,null,null,{"$f":"IF('２号入力'!AA72=\"\",\"\",'２号入力'!AA72)","v":""},null,null,null,null,null,null,{"$f":"IF('２号入力'!AD72=\"\",\"\",'２号入力'!AD72)","v":""},null,null,null,null,null,null,{"$f":"IF('２号入力'!AG72=\"\",\"\",'２号入力'!AG72)","v":""},null,null,null,null,null,null,{"$f":"IF('２号入力'!AJ72=\"\",\"\",'２号入力'!AJ72)","v":""},null,null,null,null,null,null,{"$f":"IF('２号入力'!AM72=\"\",\"\",'２号入力'!AM72)","v":""},null,null,null,null,null,null,{"$f":"IF('２号入力'!E108=\"\",\"\",'２号入力'!E108)","v":""},null,null,null,null,{"$f":"IF('２号入力'!H108=\"\",\"\",'２号入力'!H108)","v":""},null,null,null,null,null,null,null,null,null,null,null,null,{"$f":"IF('２号入力'!Q108=0,\"\",'２号入力'!Q108)","v":""}]
[null,null,null,null,null,{"$f":"IF('２号入力'!D73=\"\",\"\",'２号入力'!D73)","v":""},null,null,"","","",null,null,{"$f":"IF('２号入力'!R73=\"\",\"\",'２号入力'!R73)","v":""},null,null,null,null,null,null,{"$f":"IF('２号入力'!U73=\"\",\"\",'２号入力'!U73)","v":""},null,null,null,null,null,null,{"$f":"IF('２号入力'!X73=\"\",\"\",'２号入力'!X73)","v":""},null,null,null,null,null,null,{"$f":"IF('２号入力'!AA73=\"\",\"\",'２号入力'!AA73)","v":""},null,null,null,null,null,null,{"$f":"IF('２号入力'!AD73=\"\",\"\",'２号入力'!AD73)","v":""},null,null,null,null,null,null,{"$f":"IF('２号入力'!AG73=\"\",\"\",'２号入力'!AG73)","v":""},null,null,null,null,null,null,{"$f":"IF('２号入力'!AJ73=\"\",\"\",'２号入力'!AJ73)","v":""},null,null,null,null,null,null,{"$f":"IF('２号入力'!AM73=\"\",\"\",'２号入力'!AM73)","v":""},null,null,null,null,null,null,{"$f":"IF('２号入力'!E109=\"\",\"\",'２号入力'!E109)","v":""},null,null,null,null,{"$f":"IF('２号入力'!H109=\"\",\"\",'２号入力'!H109)","v":""},null,null,null,null,null,null,null,null,null,null,null,null,{"$f":"IF('２号入力'!Q109=0,\"\",'２号入力'!Q109)","v":""}]
[null,null,null,null,null,{"$f":"IF('２号入力'!D74=\"\",\"\",'２号入力'!D74)","v":""},null,null,"","","",null,null,{"$f":"IF('２号入力'!R74=\"\",\"\",'２号入力'!R74)","v":""},null,null,null,null,null,null,{"$f":"IF('２号入力'!U74=\"\",\"\",'２号入力'!U74)","v":""},null,null,null,null,null,null,{"$f":"IF('２号入力'!X74=\"\",\"\",'２号入力'!X74)","v":""},null,null,null,null,null,null,{"$f":"IF('２号入力'!AA74=\"\",\"\",'２号入力'!AA74)","v":""},null,null,null,null,null,null,{"$f":"IF('２号入力'!AD74=\"\",\"\",'２号入力'!AD74)","v":""},null,null,null,null,null,null,{"$f":"IF('２号入力'!AG74=\"\",\"\",'２号入力'!AG74)","v":""},null,null,null,null,null,null,{"$f":"IF('２号入力'!AJ74=\"\",\"\",'２号入力'!AJ74)","v":""},null,null,null,null,null,null,{"$f":"IF('２号入力'!AM74=\"\",\"\",'２号入力'!AM74)","v":""},null,null,null,null,null,null,{"$f":"IF('２号入力'!E110=\"\",\"\",'２号入力'!E110)","v":""},null,null,null,null,{"$f":"IF('２号入力'!H110=\"\",\"\",'２号入力'!H110)","v":""},null,null,null,null,null,null,null,null,null,null,null,null,{"$f":"IF('２号入力'!Q110=0,\"\",'２号入力'!Q110)","v":""}]
[null,null,null,null,null,{"$f":"IF('２号入力'!D75=\"\",\"\",'２号入力'!D75)","v":""},null,null,"","","",null,null,{"$f":"IF('２号入力'!R75=\"\",\"\",'２号入力'!R75)","v":""},null,null,null,null,null,null,{"$f":"IF('２号入力'!U75=\"\",\"\",'２号入力'!U75)","v":""},null,null,null,null,null,null,{"$f":"IF('２号入力'!X75=\"\",\"\",'２号入力'!X75)","v":""},null,null,null,null,null,null,{"$f":"IF('２号入力'!AA75=\"\",\"\",'２号入力'!AA75)","v":""},null,null,null,null,null,null,{"$f":"IF('２号入力'!AD75=\"\",\"\",'２号入力'!AD75)","v":""},null,null,null,null,null,null,{"$f":"IF('２号入力'!AG75=\"\",\"\",'２号入力'!AG75)","v":""},null,null,null,null,null,null,{"$f":"IF('２号入力'!AJ75=\"\",\"\",'２号入力'!AJ75)","v":""},null,null,null,null,null,null,{"$f":"IF('２号入力'!AM75=\"\",\"\",'２号入力'!AM75)","v":""},null,null,null,null,null,null,{"$f":"IF('２号入力'!E111=\"\",\"\",'２号入力'!E111)","v":""},null,null,null,null,{"$f":"IF('２号入力'!H111=\"\",\"\",'２号入力'!H111)","v":""},null,null,null,null,null,null,null,null,null,null,null,null,{"$f":"IF('２号入力'!Q111=0,\"\",'２号入力'!Q111)","v":""}]
[null,null,null,null,null,{"$f":"IF('２号入力'!D76=\"\",\"\",'２号入力'!D76)","v":""},null,null,"","","",null,null,{"$f":"IF('２号入力'!R76=\"\",\"\",'２号入力'!R76)","v":""},null,null,null,null,null,null,{"$f":"IF('２号入力'!U76=\"\",\"\",'２号入力'!U76)","v":""},null,null,null,null,null,null,{"$f":"IF('２号入力'!X76=\"\",\"\",'２号入力'!X76)","v":""},null,null,null,null,null,null,{"$f":"IF('２号入力'!AA76=\"\",\"\",'２号入力'!AA76)","v":""},null,null,null,null,null,null,{"$f":"IF('２号入力'!AD76=\"\",\"\",'２号入力'!AD76)","v":""},null,null,null,null,null,null,{"$f":"IF('２号入力'!AG76=\"\",\"\",'２号入力'!AG76)","v":""},null,null,null,null,null,null,{"$f":"IF('２号入力'!AJ76=\"\",\"\",'２号入力'!AJ76)","v":""},null,null,null,null,null,null,{"$f":"IF('２号入力'!AM76=\"\",\"\",'２号入力'!AM76)","v":""},null,null,null,null,null,null,{"$f":"IF('２号入力'!E112=\"\",\"\",'２号入力'!E112)","v":""},null,null,null,null,{"$f":"IF('２号入力'!H112=\"\",\"\",'２号入力'!H112)","v":""},null,null,null,null,null,null,null,null,null,null,null,null,{"$f":"IF('２号入力'!Q112=0,\"\",'２号入力'!Q112)","v":""}]
[null,null,null,null,null,{"$f":"IF('２号入力'!D77=\"\",\"\",'２号入力'!D77)","v":""},null,null,"","","",null,null,{"$f":"IF('２号入力'!R77=\"\",\"\",'２号入力'!R77)","v":""},null,null,null,null,null,null,{"$f":"IF('２号入力'!U77=\"\",\"\",'２号入力'!U77)","v":""},null,null,null,null,null,null,{"$f":"IF('２号入力'!X77=\"\",\"\",'２号入力'!X77)","v":""},null,null,null,null,null,null,{"$f":"IF('２号入力'!AA77=\"\",\"\",'２号入力'!AA77)","v":""},null,null,null,null,null,null,{"$f":"IF('２号入力'!AD77=\"\",\"\",'２号入力'!AD77)","v":""},null,null,null,null,null,null,{"$f":"IF('２号入力'!AG77=\"\",\"\",'２号入力'!AG77)","v":""},null,null,null,null,null,null,{"$f":"IF('２号入力'!AJ77=\"\",\"\",'２号入力'!AJ77)","v":""},null,null,null,null,null,null,{"$f":"IF('２号入力'!AM77=\"\",\"\",'２号入力'!AM77)","v":""},null,null,null,null,null,null,{"$f":"IF('２号入力'!E113=\"\",\"\",'２号入力'!E113)","v":""},null,null,null,null,{"$f":"IF('２号入力'!H113=\"\",\"\",'２号入力'!H113)","v":""},null,null,null,null,null,null,null,null,null,null,null,null,{"$f":"IF('２号入力'!Q113=0,\"\",'２号入力'!Q113)","v":""}]
[null,null,null,null,null,{"$f":"IF('２号入力'!D78=\"\",\"\",'２号入力'!D78)","v":""},null,null,"","","",null,null,{"$f":"IF('２号入力'!R78=\"\",\"\",'２号入力'!R78)","v":""},null,null,null,null,null,null,{"$f":"IF('２号入力'!U78=\"\",\"\",'２号入力'!U78)","v":""},null,null,null,null,null,null,{"$f":"IF('２号入力'!X78=\"\",\"\",'２号入力'!X78)","v":""},null,null,null,null,null,null,{"$f":"IF('２号入力'!AA78=\"\",\"\",'２号入力'!AA78)","v":""},null,null,null,null,null,null,{"$f":"IF('２号入力'!AD78=\"\",\"\",'２号入力'!AD78)","v":""},null,null,null,null,null,null,{"$f":"IF('２号入力'!AG78=\"\",\"\",'２号入力'!AG78)","v":""},null,null,null,null,null,null,{"$f":"IF('２号入力'!AJ78=\"\",\"\",'２号入力'!AJ78)","v":""},null,null,null,null,null,null,{"$f":"IF('２号入力'!AM78=\"\",\"\",'２号入力'!AM78)","v":""},null,null,null,null,null,null,{"$f":"IF('２号入力'!E114=\"\",\"\",'２号入力'!E114)","v":""},null,null,null,null,{"$f":"IF('２号入力'!H114=\"\",\"\",'２号入力'!H114)","v":""},null,null,null,null,null,null,null,null,null,null,null,null,{"$f":"IF('２号入力'!Q114=0,\"\",'２号入力'!Q114)","v":""}]
[null,null,null,null,null,{"$f":"IF('２号入力'!D79=\"\",\"\",'２号入力'!D79)","v":""},null,null,"","","",null,null,{"$f":"IF('２号入力'!R79=\"\",\"\",'２号入力'!R79)","v":""},null,null,null,null,null,null,{"$f":"IF('２号入力'!U79=\"\",\"\",'２号入力'!U79)","v":""},null,null,null,null,null,null,{"$f":"IF('２号入力'!X79=\"\",\"\",'２号入力'!X79)","v":""},null,null,null,null,null,null,{"$f":"IF('２号入力'!AA79=\"\",\"\",'２号入力'!AA79)","v":""},null,null,null,null,null,null,{"$f":"IF('２号入力'!AD79=\"\",\"\",'２号入力'!AD79)","v":""},null,null,null,null,null,null,{"$f":"IF('２号入力'!AG79=\"\",\"\",'２号入力'!AG79)","v":""},null,null,null,null,null,null,{"$f":"IF('２号入力'!AJ79=\"\",\"\",'２号入力'!AJ79)","v":""},null,null,null,null,null,null,{"$f":"IF('２号入力'!AM79=\"\",\"\",'２号入力'!AM79)","v":""},null,null,null,null,null,null,{"$f":"IF('２号入力'!E115=\"\",\"\",'２号入力'!E115)","v":""},null,null,null,null,{"$f":"IF('２号入力'!H115=\"\",\"\",'２号入力'!H115)","v":""},null,null,null,null,null,null,null,null,null,null,null,null,{"$f":"IF('２号入力'!Q115=0,\"\",'２号入力'!Q115)","v":""}]
[null,null,null,null,null,{"$f":"IF('２号入力'!D80=\"\",\"\",'２号入力'!D80)","v":""},null,null,"","","",null,null,{"$f":"IF('２号入力'!R80=\"\",\"\",'２号入力'!R80)","v":""},null,null,null,null,null,null,{"$f":"IF('２号入力'!U80=\"\",\"\",'２号入力'!U80)","v":""},null,null,null,null,null,null,{"$f":"IF('２号入力'!X80=\"\",\"\",'２号入力'!X80)","v":""},null,null,null,null,null,null,{"$f":"IF('２号入力'!AA80=\"\",\"\",'２号入力'!AA80)","v":""},null,null,null,null,null,null,{"$f":"IF('２号入力'!AD80=\"\",\"\",'２号入力'!AD80)","v":""},null,null,null,null,null,null,{"$f":"IF('２号入力'!AG80=\"\",\"\",'２号入力'!AG80)","v":""},null,null,null,null,null,null,{"$f":"IF('２号入力'!AJ80=\"\",\"\",'２号入力'!AJ80)","v":""},null,null,null,null,null,null,{"$f":"IF('２号入力'!AM80=\"\",\"\",'２号入力'!AM80)","v":""},null,null,null,null,null,null,{"$f":"IF('２号入力'!E116=\"\",\"\",'２号入力'!E116)","v":""},null,null,null,null,{"$f":"IF('２号入力'!H116=\"\",\"\",'２号入力'!H116)","v":""},null,null,null,null,null,null,null,null,null,null,null,null,{"$f":"IF('２号入力'!Q116=0,\"\",'２号入力'!Q116)","v":""}]
[null,null,null,null,null,{"$f":"IF('２号入力'!D81=\"\",\"\",'２号入力'!D81)","v":""},null,null,"","","",null,null,{"$f":"IF('２号入力'!R81=\"\",\"\",'２号入力'!R81)","v":""},null,null,null,null,null,null,{"$f":"IF('２号入力'!U81=\"\",\"\",'２号入力'!U81)","v":""},null,null,null,null,null,null,{"$f":"IF('２号入力'!X81=\"\",\"\",'２号入力'!X81)","v":""},null,null,null,null,null,null,{"$f":"IF('２号入力'!AA81=\"\",\"\",'２号入力'!AA81)","v":""},null,null,null,null,null,null,{"$f":"IF('２号入力'!AD81=\"\",\"\",'２号入力'!AD81)","v":""},null,null,null,null,null,null,{"$f":"IF('２号入力'!AG81=\"\",\"\",'２号入力'!AG81)","v":""},null,null,null,null,null,null,{"$f":"IF('２号入力'!AJ81=\"\",\"\",'２号入力'!AJ81)","v":""},null,null,null,null,null,null,{"$f":"IF('２号入力'!AM81=\"\",\"\",'２号入力'!AM81)","v":""},null,null,null,null,null,null,{"$f":"IF('２号入力'!E117=\"\",\"\",'２号入力'!E117)","v":""},null,null,null,null,{"$f":"IF('２号入力'!H117=\"\",\"\",'２号入力'!H117)","v":""},null,null,null,null,null,null,null,null,null,null,null,null,{"$f":"IF('２号入力'!Q117=0,\"\",'２号入力'!Q117)","v":""}]
[null,null,null,null,null,{"$f":"IF('２号入力'!D82=\"\",\"\",'２号入力'!D82)","v":""},null,null,"","","",null,null,{"$f":"IF('２号入力'!R82=\"\",\"\",'２号入力'!R82)","v":""},null,null,null,null,null,null,{"$f":"IF('２号入力'!U82=\"\",\"\",'２号入力'!U82)","v":""},null,null,null,null,null,null,{"$f":"IF('２号入力'!X82=\"\",\"\",'２号入力'!X82)","v":""},null,null,null,null,null,null,{"$f":"IF('２号入力'!AA82=\"\",\"\",'２号入力'!AA82)","v":""},null,null,null,null,null,null,{"$f":"IF('２号入力'!AD82=\"\",\"\",'２号入力'!AD82)","v":""},null,null,null,null,null,null,{"$f":"IF('２号入力'!AG82=\"\",\"\",'２号入力'!AG82)","v":""},null,null,null,null,null,null,{"$f":"IF('２号入力'!AJ82=\"\",\"\",'２号入力'!AJ82)","v":""},null,null,null,null,null,null,{"$f":"IF('２号入力'!AM82=\"\",\"\",'２号入力'!AM82)","v":""},null,null,null,null,null,null,{"$f":"IF('２号入力'!E118=\"\",\"\",'２号入力'!E118)","v":""},null,null,null,null,{"$f":"IF('２号入力'!H118=\"\",\"\",'２号入力'!H118)","v":""},null,null,null,null,null,null,null,null,null,null,null,null,{"$f":"IF('２号入力'!Q118=0,\"\",'２号入力'!Q118)","v":""}]
[null,null,null,null,null,{"$f":"IF('２号入力'!D83=\"\",\"\",'２号入力'!D83)","v":""},null,null,"","","",null,null,{"$f":"IF('２号入力'!R83=\"\",\"\",'２号入力'!R83)","v":""},null,null,null,null,null,null,{"$f":"IF('２号入力'!U83=\"\",\"\",'２号入力'!U83)","v":""},null,null,null,null,null,null,{"$f":"IF('２号入力'!X83=\"\",\"\",'２号入力'!X83)","v":""},null,null,null,null,null,null,{"$f":"IF('２号入力'!AA83=\"\",\"\",'２号入力'!AA83)","v":""},null,null,null,null,null,null,{"$f":"IF('２号入力'!AD83=\"\",\"\",'２号入力'!AD83)","v":""},null,null,null,null,null,null,{"$f":"IF('２号入力'!AG83=\"\",\"\",'２号入力'!AG83)","v":""},null,null,null,null,null,null,{"$f":"IF('２号入力'!AJ83=\"\",\"\",'２号入力'!AJ83)","v":""},null,null,null,null,null,null,{"$f":"IF('２号入力'!AM83=\"\",\"\",'２号入力'!AM83)","v":""},null,null,null,null,null,null,{"$f":"IF('２号入力'!E119=\"\",\"\",'２号入力'!E119)","v":""},null,null,null,null,{"$f":"IF('２号入力'!H119=\"\",\"\",'２号入力'!H119)","v":""},null,null,null,null,null,null,null,null,null,null,null,null,{"$f":"IF('２号入力'!Q119=0,\"\",'２号入力'!Q119)","v":""}]
[null,null,null,null,null,{"$f":"IF('２号入力'!D84=\"\",\"\",'２号入力'!D84)","v":""},null,null,"","","",null,null,{"$f":"IF('２号入力'!R84=\"\",\"\",'２号入力'!R84)","v":""},null,null,null,null,null,null,{"$f":"IF('２号入力'!U84=\"\",\"\",'２号入力'!U84)","v":""},null,null,null,null,null,null,{"$f":"IF('２号入力'!X84=\"\",\"\",'２号入力'!X84)","v":""},null,null,null,null,null,null,{"$f":"IF('２号入力'!AA84=\"\",\"\",'２号入力'!AA84)","v":""},null,null,null,null,null,null,{"$f":"IF('２号入力'!AD84=\"\",\"\",'２号入力'!AD84)","v":""},null,null,null,null,null,null,{"$f":"IF('２号入力'!AG84=\"\",\"\",'２号入力'!AG84)","v":""},null,null,null,null,null,null,{"$f":"IF('２号入力'!AJ84=\"\",\"\",'２号入力'!AJ84)","v":""},null,null,null,null,null,null,{"$f":"IF('２号入力'!AM84=\"\",\"\",'２号入力'!AM84)","v":""},null,null,null,null,null,null,{"$f":"IF('２号入力'!E120=\"\",\"\",'２号入力'!E120)","v":""},null,null,null,null,{"$f":"IF('２号入力'!H120=\"\",\"\",'２号入力'!H120)","v":""},null,null,null,null,null,null,null,null,null,null,null,null,{"$f":"IF('２号入力'!Q120=0,\"\",'２号入力'!Q120)","v":""}]
[null,null,null,null,null,{"$f":"IF('２号入力'!D85=\"\",\"\",'２号入力'!D85)","v":""},null,null,"","","",null,null,{"$f":"IF('２号入力'!R85=\"\",\"\",'２号入力'!R85)","v":""},null,null,null,null,null,null,{"$f":"IF('２号入力'!U85=\"\",\"\",'２号入力'!U85)","v":""},null,null,null,null,null,null,{"$f":"IF('２号入力'!X85=\"\",\"\",'２号入力'!X85)","v":""},null,null,null,null,null,null,{"$f":"IF('２号入力'!AA85=\"\",\"\",'２号入力'!AA85)","v":""},null,null,null,null,null,null,{"$f":"IF('２号入力'!AD85=\"\",\"\",'２号入力'!AD85)","v":""},null,null,null,null,null,null,{"$f":"IF('２号入力'!AG85=\"\",\"\",'２号入力'!AG85)","v":""},null,null,null,null,null,null,{"$f":"IF('２号入力'!AJ85=\"\",\"\",'２号入力'!AJ85)","v":""},null,null,null,null,null,null,{"$f":"IF('２号入力'!AM85=\"\",\"\",'２号入力'!AM85)","v":""},null,null,null,null,null,null,{"$f":"IF('２号入力'!E121=\"\",\"\",'２号入力'!E121)","v":""},null,null,null,null,{"$f":"IF('２号入力'!H121=\"\",\"\",'２号入力'!H121)","v":""},null,null,null,null,null,null,null,null,null,null,null,null,{"$f":"IF('２号入力'!Q121=0,\"\",'２号入力'!Q121)","v":""}]
[null,null,null,null,null,{"$f":"IF('２号入力'!D86=\"\",\"\",'２号入力'!D86)","v":""},null,null,"","","",null,null,{"$f":"IF('２号入力'!R86=\"\",\"\",'２号入力'!R86)","v":""},null,null,null,null,null,null,{"$f":"IF('２号入力'!U86=\"\",\"\",'２号入力'!U86)","v":""},null,null,null,null,null,null,{"$f":"IF('２号入力'!X86=\"\",\"\",'２号入力'!X86)","v":""},null,null,null,null,null,null,{"$f":"IF('２号入力'!AA86=\"\",\"\",'２号入力'!AA86)","v":""},null,null,null,null,null,null,{"$f":"IF('２号入力'!AD86=\"\",\"\",'２号入力'!AD86)","v":""},null,null,null,null,null,null,{"$f":"IF('２号入力'!AG86=\"\",\"\",'２号入力'!AG86)","v":""},null,null,null,null,null,null,{"$f":"IF('２号入力'!AJ86=\"\",\"\",'２号入力'!AJ86)","v":""},null,null,null,null,null,null,{"$f":"IF('２号入力'!AM86=\"\",\"\",'２号入力'!AM86)","v":""},null,null,null,null,null,null,{"$f":"IF('２号入力'!E122=\"\",\"\",'２号入力'!E122)","v":""},null,null,null,null,{"$f":"IF('２号入力'!H122=\"\",\"\",'２号入力'!H122)","v":""},null,null,null,null,null,null,null,null,null,null,null,null,{"$f":"IF('２号入力'!Q122=0,\"\",'２号入力'!Q122)","v":""}]
[null,null,null,null,null,"植物成長調整剤",null,null,null,null,null,null,null,{"$f":"IF('２号入力'!F91=\"\",\"/\",'２号入力'!F91)","v":"/"},null,null,null,null,{"$f":"IF('２号入力'!I91=0,0,'２号入力'!I91)","v":0},null,null,null,null,null,null,null,{"$f":"IF('２号入力'!N91=0,0,'２号入力'!N91)","v":0},null,null,null,null,null,null,null,{"$f":"IF('２号入力'!C94=\"\",\"\",'２号入力'!C94)","v":"トップジンＭ水和剤"},null,null,null,null,null,null,null,null,null,null,null,null,null,null,null,{"$f":"IF('２号入力'!F97=\"\",\"/\",'２号入力'!F97)","v":"/"},null,null,null,null,{"$f":"IF('２号入力'!I97=0,0,'２号入力'!I97)","v":0},null,null,null,null,null,null,null,{"$f":"IF('２号入力'!N97=0,0,'２号入力'!N97)","v":0},null,null,null,null,null,null,null,{"$f":"IF('２号入力'!F99=\"\",\"/\",'２号入力'!F99)","v":"/"},null,null,null,null,{"$f":"IF('２号入力'!I99=0,0,'２号入力'!I99)","v":0},null,null,null,null,null,null,null,{"$f":"IF('２号入力'!N99=0,0,'２号入力'!N99)","v":0}]
[null,null,null,null,null,{"$f":"IF('２号入力'!L88=\"\",\"\",'２号入力'!L88)","v":"アークランド液剤"},null,null,null,null,null,null,null,{"$f":"IF('２号入力'!F92=\"\",\"/\",'２号入力'!F92)","v":"/"},null,null,null,null,{"$f":"IF('２号入力'!I92=0,0,'２号入力'!I92)","v":0},null,null,null,null,null,null,null,{"$f":"IF('２号入力'!N92=0,0,'２号入力'!N92)","v":0},null,null,null,null,null,null,null,null,null,null,null,null,null,null,null,null,null,null,null,null,null,null,null,{"$f":"IF('２号入力'!F98=\"\",\"/\",'２号入力'!F98)","v":"/"},null,null,null,null,{"$f":"IF('２号入力'!I98=0,0,'２号入力'!I98)","v":0},null,null,null,null,null,null,null,{"$f":"IF('２号入力'!N98=0,0,'２号入力'!N98)","v":0},null,null,null,null,null,null,null,{"$f":"IF('２号入力'!F100=\"\",\"/\",'２号入力'!F100)","v":"/"},null,null,null,null,{"$f":"IF('２号入力'!I100=0,0,'２号入力'!I100)","v":0},null,null,null,null,null,null,null,{"$f":"IF('２号入力'!N100=0,0,'２号入力'!N100)","v":0}]

{"sheet":"３号入力","index":6,"n_rows":128,"n_cols":53,"rows_kept":128,"cut":false,"hidden":false,"merged":[[1,9,1,10],[1,11,1,14],[3,9,3,11],[3,12,3,18],[8,2,8,4],[8,5,8,11],[8,14,8,16],[8,17,8,23],[57,17,57,19],[9,2,9,4],[9,5,9,11],[11,2,11,4],[11,5,11,11],[10,5,10,11],[10,2,10,4],[12,2,12,4],[12,5,12,11],[12,14,12,31],[13,2,13,4],[13,5,13,11],[13,14,13,31],[14,2,14,4],[14,5,14,11],[15,2,15,4],[15,5,15,11],[19,5,19,7],[18,5,18,7],[20,33,20,39],[21,2,21,4],[21,5,21,7],[21,8,21,25],[21,26,21,29],[21,33,21,39],[20,2,20,4],[20,5,20,7],[20,8,20,25],[20,26,20,29],[22,33,22,39],[23,2,23,4],[23,5,23,7],[23,8,23,25],[23,26,23,29],[23,33,23,39],[22,2,22,4],[22,5,22,7],[22,8,22,25],[22,26,22,29],[24,33,24,39],[25,2,25,4],[25,5,25,7],[25,8,25,25],[25,26,25,29],[25,33,25,39],[24,2,24,4],[24,5,24,7],[24,8,24,25],[24,26,24,29],[26,33,26,39],[27,2,27,4],[27,5,27,7],[27,8,27,25],[27,26,27,29],[27,33,27,39],[26,2,26,4],[26,5,26,7],[26,8,26,25],[26,26,26,29],[28,33,28,39],[29,2,29,4],[29,5,29,7],[29,8,29,25],[29,26,29,29],[29,33,29,39],[28,2,28,4],[28,5,28,7],[28,8,28,25],[28,26,28,29],[30,33,30,39],[31,2,31,4],[31,5,31,7],[31,8,31,25],[31,26,31,29],[31,33,31,39],[30,2,30,4],[30,5,30,7],[30,8,30,25],[30,26,30,29],[32,33,32,39],[33,2,33,4],[33,5,33,7],[33,8,33,25],[33,26,33,29],[33,33,33,39],[32,2,32,4],[32,5,32,7],[32,8,32,25],[32,26,32,29],[34,33,34,39],[35,2,35,4],[35,5,35,7],[35,8,35,25],[35,26,35,29],[35,33,35,39],[34,2,34,4],[34,5,34,7],[34,8,34,25],[34,26,34,29],[36,33,36,39],[37,2,37,4],[37,5,37,7],[37,8,37,25],[37,26,37,29],[37,33,37,39],[36,2,36,4],[36,5,36,7],[36,8,36,25],[36,26,36,29],[38,33,38,39],[39,2,39,4],[39,5,39,7],[39,8,39,25],[39,26,39,29],[39,33,39,39],[38,2,38,4],[38,5,38,7],[38,8,38,25],[38,26,38,29],[40,33,40,39],[41,2,41,4],[41,5,41,7],[41,8,41,25],[41,26,41,29],[41,33,41,39],[40,2,40,4],[40,5,40,7],[40,8,40,25],[40,26,40,29],[42,33,42,39],[43,2,43,4],[43,5,43,7],[43,8,43,25],[43,26,43,29],[43,33,43,39],[42,2,42,4],[42,5,42,7],[42,8,42,25],[42,26,42,29],[52,19,52,23],[52,25,52,29],[44,33,44,39],[45,2,45,4],[45,5,45,7],[45,8,45,25],[45,26,45,29],[45,33,45,39],[44,2,44,4],[44,5,44,7],[44,8,44,25],[44,26,44,29],[60,20,60,26],[59,17,59,19],[58,17,58,19],[58,2,58,6],[58,7,58,13],[52,30,52,31],[52,32,52,37],[51,25,51,29],[46,33,46,39],[46,2,46,4],[46,5,46,7],[46,8,46,25],[46,26,46,29],[51,32,51,37],[51,30,51,31],[51,5,51,7],[51,8,51,14],[51,15,51,18],[51,2,51,4],[51,19,51,23],[52,2,52,4],[52,5,52,7],[52,8,52,14],[52,15,52,18],[61,2,61,6],[61,7,61,13],[59,2,59,6],[59,7,59,13],[53,32,53,37],[54,2,54,4],[54,5,54,7],[54,8,54,14],[54,15,54,18],[54,19,54,23],[53,15,53,18],[53,19,53,23],[57,2,57,13],[53,25,53,29],[53,30,53,31],[53,2,53,4],[53,5,53,7],[53,8,53,14],[60,2,60,6],[60,7,60,13],[60,17,60,19],[57,20,57,26],[58,20,58,26],[59,20,59,26],[66,38,66,40],[66,17,66,19],[66,20,66,22],[66,23,66,25],[66,26,66,28],[67,2,67,16],[67,17,67,19],[67,20,67,22],[67,23,67,25],[67,26,67,28],[67,29,67,31],[67,32,67,34],[67,35,67,37],[67,38,67,40],[66,29,66,31],[66,32,66,34],[66,35,66,37],[68,2,68,16],[68,17,68,19],[68,20,68,22],[68,23,68,25],[68,26,68,28],[68,29,68,31],[68,32,68,34],[68,35,68,37],[68,38,68,40],[69,23,69,25],[69,26,69,28],[70,3,70,10],[70,14,70,16],[70,17,70,19],[70,20,70,22],[71,3,71,10],[71,14,71,16],[71,17,71,19],[71,20,71,22],[69,29,69,31],[69,32,69,34],[69,35,69,37],[85,23,85,25],[85,26,85,28],[85,29,85,31],[85,32,85,34],[85,35,85,37],[69,38,69,40],[70,23,70,25],[70,26,70,28],[70,29,70,31],[70,32,70,34],[70,35,70,37],[70,38,70,40],[71,23,71,25],[71,26,71,28],[71,29,71,31],[71,32,71,34],[71,35,71,37],[71,38,71,40],[72,23,72,25],[72,26,72,28],[72,29,72,31],[72,32,72,34],[72,35,72,37],[72,38,72,40],[73,3,73,10],[73,14,73,16],[73,17,73,19],[73,20,73,22],[73,23,73,25],[73,26,73,28],[73,29,73,31],[73,32,73,34],[73,35,73,37],[73,38,73,40],[72,3,72,10],[72,14,72,16],[72,17,72,19],[72,20,72,22],[74,23,74,25],[74,26,74,28],[74,29,74,31],[74,32,74,34],[74,35,74,37],[74,38,74,40],[75,3,75,10],[75,14,75,16],[75,17,75,19],[75,20,75,22],[75,23,75,25],[75,26,75,28],[75,29,75,31],[75,32,75,34],[75,35,75,37],[75,38,75,40],[74,3,74,10],[74,14,74,16],[74,17,74,19],[76,38,76,40],[77,3,77,10],[77,14,77,16],[77,17,77,19],[77,20,77,22],[77,23,77,25],[77,26,77,28],[77,29,77,31],[77,32,77,34],[77,35,77,37],[77,38,77,40],[76,3,76,10],[76,14,76,16],[76,17,76,19],[76,20,76,22],[76,23,76,25],[76,26,76,28],[76,29,76,31],[76,32,76,34],[76,35,76,37],[78,38,78,40],[79,3,79,10],[79,14,79,16],[79,17,79,19],[79,20,79,22],[79,23,79,25],[79,26,79,28],[79,29,79,31],[79,32,79,34],[79,35,79,37],[79,38,79,40],[78,3,78,10],[78,14,78,16],[78,17,78,19],[78,20,78,22],[78,23,78,25],[78,26,78,28],[78,29,78,31],[78,32,78,34],[78,35,78,37],[80,38,80,40],[81,3,81,10],[81,14,81,16],[81,17,81,19],[81,20,81,22],[81,23,81,25],[81,26,81,28],[81,29,81,31],[81,32,81,34],[81,35,81,37],[81,38,81,40],[80,3,80,10],[80,14,80,16],[80,17,80,19],[80,20,80,22],[80,23,80,25],[80,26,80,28],[80,29,80,31],[80,32,80,34],[80,35,80,37],[82,38,82,40],[83,3,83,10],[83,14,83,16],[83,17,83,19],[83,20,83,22],[83,23,83,25],[83,26,83,28],[83,29,83,31],[83,32,83,34],[83,35,83,37],[83,38,83,40],[82,3,82,10],[82,14,82,16],[82,17,82,19],[82,20,82,22],[82,23,82,25],[82,26,82,28],[82,29,82,31],[82,32,82,34],[82,35,82,37],[84,23,84,25],[84,26,84,28],[84,29,84,31],[84,32,84,34],[85,38,85,40],[84,35,84,37],[84,38,84,40],[85,3,85,10],[85,14,85,16],[85,17,85,19],[89,2,89,4],[89,5,89,7],[89,8,89,12],[89,13,89,17],[85,20,85,22],[87,11,87,17],[90,2,90,4],[90,5,90,7],[90,8,90,12],[90,13,90,17],[69,2,85,2],[69,3,69,16],[69,17,69,19],[69,20,69,22],[84,3,84,10],[84,14,84,16],[84,17,84,19],[84,20,84,22],[74,20,74,22],[91,2,91,4],[91,5,91,7],[91,8,91,12],[91,13,91,17],[95,2,95,4],[95,5,95,7],[95,8,95,12],[95,13,95,17],[96,2,96,4],[96,5,96,7],[96,8,96,12],[96,13,96,17],[93,2,93,8],[97,2,97,4],[97,5,97,7],[97,8,97,12],[97,13,97,17],[98,2,98,4],[98,5,98,7],[98,8,98,12],[98,13,98,17],[99,2,99,4],[99,5,99,7],[99,8,99,12],[99,13,99,17],[103,2,103,3],[103,4,103,6],[103,7,103,15],[103,16,103,18],[104,2,104,3],[104,4,104,6],[104,7,104,15],[104,16,104,18],[105,2,105,3],[105,4,105,6],[105,7,105,15],[105,16,105,18],[106,2,106,3],[106,4,106,6],[106,7,106,15],[106,16,106,18],[107,2,107,3],[107,4,107,6],[107,7,107,15],[107,16,107,18],[108,2,108,3],[108,4,108,6],[108,7,108,15],[108,16,108,18],[109,2,109,3],[109,4,109,6],[109,7,109,15],[109,16,109,18],[110,2,110,3],[110,4,110,6],[110,7,110,15],[110,16,110,18],[111,2,111,3],[111,4,111,6],[111,7,111,15],[111,16,111,18],[112,2,112,3],[112,4,112,6],[112,7,112,15],[112,16,112,18],[113,2,113,3],[113,4,113,6],[113,7,113,15],[113,16,113,18],[114,2,114,3],[114,4,114,6],[114,7,114,15],[114,16,114,18],[115,2,115,3],[115,4,115,6],[115,7,115,15],[115,16,115,18],[117,7,117,15],[117,16,117,18],[116,2,116,3],[116,4,116,6],[116,7,116,15],[116,16,116,18],[117,2,117,3],[117,4,117,6],[119,16,119,18],[118,2,118,3],[118,4,118,6],[118,7,118,15],[118,16,118,18],[119,2,119,3],[119,4,119,6],[119,7,119,15],[123,27,123,32],[121,16,121,18],[120,2,120,3],[120,4,120,6],[120,7,120,15],[120,16,120,18],[121,2,121,3],[121,4,121,6],[121,7,121,15]]}
[]
[null,"３号室の入力画面",null,null,null,null,null,null,null,"No.",null,{"$f":"メニュー画面!F18","v":"４　３　６"}]
[]
[null,null,null,null,null,null,null,null,null,"氏名",null,null,{"$f":"メニュー画面!F20","v":"中　條　文　義"},null,null,null,null,null,null,null,null,null,null,null,null,null,null,null,null,null,null,null,null,{"$f":"VLOOKUP(B2,隠しページ!P7:Q22,2,FALSE)","v":"３号入力"},null,null,"→印刷画面へ"]
[]
[]
[null,"１．坪数～収穫日までの入力",null,null,null,null,null,null,null,null,null,null,null,null,"※白い枠のみに入力して下さい。ここで入力された値が、履歴シートに書き込まれます。"]
[]
[null,null,"部屋番号",null,null,3,null,null,null,null,null,null,null,null,"品種名",null,null,{"$f":"IF(F16=\"\",\"\",IF(AND(10<=MONTH(F16+1),MONTH(F16+1)<=11),\"秋　　系\",IF(AND(3<=MONTH(F16+1),MONTH(F16+1)<=5),\"春　　系\",IF(AND(6<=MONTH(F16+1),MONTH(F16+1)<=9),\"夏　　系\",\"冬　　系\"))))","v":""}]
[null,null,"坪数"]
[null,null,"品種名",null,null,"春　　系",null,null,null,null,null,null,null,null,{"$f":"IF(OR($R$9=$F$11,$R$9=\"\"),\"\",\"←県で指定された品種名と違いますが無視できます。\")","v":""}]
[null,null,"播種日"]
[null,null,"定植日",null,null,null,null,null,null,null,null,null,null,null,{"$f":"IF(OR(F13=\"\",F12=\"\"),\"\",IF(F13<F12,\"入力ミスです！播種日のほうが後の日付になりました。\",\"\"))","v":""},null,null,null,null,null,null,null,null,null,null,null,null,null,null,null,null,null,{"$f":"CONCATENATE(\"苗日数＝\",F13-F12,\"日\")","v":"苗日数＝0日"}]
[null,null,"交配日",null,null,null,null,null,null,null,null,null,null,null,{"$f":"IF(OR(F14=\"\",F13=\"\"),\"\",IF(F14<F13,\"入力ミスです！定植日の方が後になりました。\",\"\"))","v":""},null,null,null,null,null,null,null,null,null,null,null,null,null,null,null,null,null,{"$f":"CONCATENATE(\"交配日数＝\",F14-F13,\"日\")","v":"交配日数＝0日"}]
[null,null,"採果日数"]
[null,null,"収穫日",null,null,{"$f":"IF(OR(F14=\"\",F15=\"\"),\"\",F14+F15-1)","v":""},null,null,null,null,null,null,null,null,null,null,null,null,null,null,null,null,null,null,null,null,null,null,null,null,null,null,{"$f":"CONCATENATE(\"播種日～収穫日＝\",IF(F16=\"\",0,F16-F12),\"日\")","v":"播種日～収穫日＝0日"}]
[]
[null,"２．施用資材名の入力"]
[null,null,null,null,null,null,null,null,"［〃］このマークはリストから入力できます。日付はそのまま打ち込んでください。"]
[]
[null,null,null,null,null,"日付",null,null,"施用資材名",null,null,null,null,null,null,null,null,null,null,null,null,null,null,null,null,null,"投入量",null,null,null,null,null,null,"履歴シート表示確認欄"]
[null,null,null,null,null,{"$f":"IF(OR(C22=\"\",AH22=\"\"),\"\",IF(C22=\"育苗\",#REF!,IF(C22=\"定植\",#REF!,IF(C22=\"追肥（１）\",#REF!,IF(C22=\"追肥（２）\",#REF!,IF(C22=\"追肥（３）\",#REF!,\"入力ミス\"))))))","v":""},null,null,"育苗",null,null,null,null,null,null,null,null,null,null,null,null,null,null,null,null,null,null,null,null,null,null,null,null,{"$f":"IF(I22=\"\",\"\",VLOOKUP(I22,Ｍ肥料台帳,4,FALSE))","v":"育苗"}]
[null,null,null,null,null,"2006-01-01",null,null,null,null,null,null,null,null,null,null,null,null,null,null,null,null,null,null,null,null,null,null,null,null,null,null,null,""]
[null,null,null,null,null,"〃",null,null,null,null,null,null,null,null,null,null,null,null,null,null,null,null,null,null,null,null,null,null,null,null,null,null,null,""]
[null,null,null,null,null,"〃",null,null,null,null,null,null,null,null,null,null,null,null,null,null,null,null,null,null,null,null,null,null,null,null,null,null,null,""]
[null,null,null,null,null,"〃",null,null,null,null,null,null,null,null,null,null,null,null,null,null,null,null,null,null,null,null,null,null,null,null,null,null,null,""]
[null,null,null,null,null,"〃",null,null,null,null,null,null,null,null,null,null,null,null,null,null,null,null,null,null,null,null,null,null,null,null,null,null,null,""]
[null,null,null,null,null,"〃",null,null,null,null,null,null,null,null,null,null,null,null,null,null,null,null,null,null,null,null,null,null,null,null,null,null,null,""]
[null,null,null,null,null,"〃",null,null,null,null,null,null,null,null,null,null,null,null,null,null,null,null,null,null,null,null,null,null,null,null,null,null,null,""]
[null,null,null,null,null,"〃",null,null,null,null,null,null,null,null,null,null,null,null,null,null,null,null,null,null,null,null,null,null,null,null,null,null,null,""]
[null,null,null,null,null,"〃",null,null,null,null,null,null,null,null,null,null,null,null,null,null,null,null,null,null,null,null,null,null,null,null,null,null,null,""]
[null,null,null,null,null,"〃",null,null,null,null,null,null,null,null,null,null,null,null,null,null,null,null,null,null,null,null,null,null,null,null,null,null,null,""]
[null,null,null,null,null,"〃",null,null,null,null,null,null,null,null,null,null,null,null,null,null,null,null,null,null,null,null,null,null,null,null,null,null,null,""]
[null,null,null,null,null,"〃",null,null,null,null,null,null,null,null,null,null,null,null,null,null,null,null,null,null,null,null,null,null,null,null,null,null,null,""]
[null,null,null,null,null,"〃",null,null,null,null,null,null,null,null,null,null,null,null,null,null,null,null,null,null,null,null,null,null,null,null,null,null,null,""]
[null,null,null,null,null,null,null,null,null,null,null,null,null,null,null,null,null,null,null,null,null,null,null,null,null,null,null,null,null,null,null,null,null,""]
[null,null,null,null,null,null,null,null,null,null,null,null,null,null,null,null,null,null,null,null,null,null,null,null,null,null,null,null,null,null,null,null,null,""]
[null,null,null,null,null,null,null,null,null,null,null,null,null,null,null,null,null,null,null,null,null,null,null,null,null,null,null,null,null,null,null,null,null,""]
[null,null,null,null,null,null,null,null,null,null,null,null,null,null,null,null,null,null,null,null,null,null,null,null,null,null,null,null,null,null,null,null,null,""]
[null,null,null,null,null,null,null,null,null,null,null,null,null,null,null,null,null,null,null,null,null,null,null,null,null,null,null,null,null,null,null,null,null,""]
[null,null,null,null,null,null,null,null,null,null,null,null,null,null,null,null,null,null,null,null,null,null,null,null,null,null,null,null,null,null,null,null,null,""]
[null,null,null,null,null,null,null,null,null,null,null,null,null,null,null,null,null,null,null,null,null,null,null,null,null,null,null,null,null,null,null,null,null,""]
[null,null,null,null,null,null,null,null,null,null,null,null,null,null,null,null,null,null,null,null,null,null,null,null,null,null,null,null,null,null,null,null,null,""]
[null,null,null,null,null,null,null,null,null,null,null,null,null,null,null,null,null,null,null,null,null,null,null,null,null,null,null,null,null,null,null,null,null,""]
[null,null,null,null,null,null,null,null,null,null,null,null,null,null,null,null,null,null,null,null,null,null,null,null,null,null,null,null,null,null,null,null,null,""]
[null,null,null,null,null,null,null,null,null,null,null,null,null,null,null,null,null,null,null,null,null,null,null,null,null,null,null,null,null,null,null,null,null,""]
[null,null,null,null,null,null,null,null,null,null,null,null,null,null,null,null,null,null,null,null,null,null,null,null,null,null,null,null,null,null,null,null,null,""]
[]
[]
[null,"３．施用粒剤の入力"]
[null,null,null,null,null,null,null,null,null,null,null,null,null,null,null,null,null,null,null,null,null,null,null,null,null,null,null,null,null,null,null,null,null,null,null,null,null,null,null,null,null,null,null,null,null,null,null,null,null,null,null,null,"施用粒剤の日付入力"]
[null,null,null,null,null,"日付",null,null,"施用粒剤名",null,null,null,null,null,null,"施用量（g）",null,null,null,"施用鉢数（鉢）",null,null,null,null,null,"登録施用量",null,null,null,null,"回数",null,"時期"]
[null,null,"１回目",null,null,null,null,null,null,null,null,null,null,null,null,null,null,null,null,null,null,null,null,null,null,{"$f":"IF(I53=\"\",\"\",VLOOKUP(I53,施用粒剤台帳,2,FALSE))","v":""},null,null,null,null,{"$f":"IF(I53=\"\",\"\",VLOOKUP(I53,施用粒剤台帳,3,FALSE))","v":""},null,{"$f":"IF(I53=\"\",\"\",VLOOKUP(I53,施用粒剤台帳,4,FALSE))","v":""}]
[null,null,"２回目",null,null,null,null,null,null,null,null,null,null,null,null,null,null,null,null,null,null,null,null,null,null,{"$f":"IF(I54=\"\",\"\",VLOOKUP(I54,施用粒剤台帳,2,FALSE))","v":""},null,null,null,null,{"$f":"IF(I54=\"\",\"\",VLOOKUP(I54,施用粒剤台帳,3,FALSE))","v":""},null,{"$f":"IF(I54=\"\",\"\",VLOOKUP(I54,施用粒剤台帳,4,FALSE))","v":""}]
[]
[null,"４．硫黄くん蒸剤の入力",null,null,null,null,null,null,null,null,"※使用が２年にまたがるときは、前年の日付の前に年号を付けないとミスになります。"]
[]
[null,null,"履歴シートへの表示確認欄",null,null,null,null,null,null,null,null,null,null,null,null,null,null,"播種日",null,null,{"$f":"IF(F12=\"\",\"\",F12)","v":""}]
[null,null,"開始日",null,null,null,null,null,null,null,null,null,null,null,null,null,null,"定植日",null,null,{"$f":"IF(F13=\"\",\"\",F13)","v":""}]
[null,null,"終了日",null,null,null,null,null,null,null,null,null,null,null,{"$f":"IF(H60=\"\",\"\",IF(H60<H59,\" ミス\",\"\"))","v":""},null,null,"交配日",null,null,{"$f":"IF(F14=\"\",\"\",F14)","v":""}]
[null,null,"１日の使用量",null,null,null,null,2,null,null,null,null,null,null,null,null,null,"収穫日",null,null,{"$f":"IF(F16=\"\",\"\",F16)","v":""}]
[null,null,"総使用量",null,null,null,null,{"$f":"IF(OR(H59=\"\",OR(H60=\"\",H61=\"\")),\"\",(H60-H59)*H61)","v":""},null,null,null,null,null,null,null,null,null,null,null,null,"↑１.で入力した日付です。"]
[]
[null,"５．農薬散布の入力"]
[null,null,null,null,null,null,null,null,null,null,null,null,null,null,null,null,null,null,null,null,null,null,null,null,null,null,null,null,null,null,null,null,null,null,null,null,null,null,null,null,null,null,null,null,null,null,null,null,null,null,null,null,"農薬散布の日付入力"]
[]
[null,null,null,null,null,null,null,null,null,null,null,null,null,null,null,null,null,"Ｂ１",null,null,"Ｂ２",null,null,"Ｂ３",null,null,"Ｂ４",null,null,"Ｂ５",null,null,"Ｂ６",null,null,"Ｂ７",null,null,"Ｂ８"]
[null,null,"使用年月日"]
[null,null,"生育ステージ",null,null,null,null,null,null,null,null,null,null,null,null,null,null,"育苗",null,null,"木作り",null,null,"木作り",null,null,"肥大期",null,null,"肥大期",null,null,"仕上げ",null,null,"仕上げ",null,null,"仕上げ"]
[null,null,"使用農薬名","散布量"]
[null,null,null,null,null,null,null,null,null,null,null,{"$f":"IF(D71=\"\",\"\",VLOOKUP(D71,Ｍ農薬台帳,3,FALSE))","v":""},{"$f":"IF(D71=\"\",\"\",\"-\")","v":""},{"$f":"IF(D71=\"\",\"\",VLOOKUP(D71,Ｍ農薬台帳,2,FALSE))","v":""},{"$f":"IF(D71=\"\",\"\",VLOOKUP(D71,Ｍ農薬台帳,4,FALSE))","v":""}]
[null,null,null,null,null,null,null,null,null,null,null,"","","",""]
[null,null,null,null,null,null,null,null,null,null,null,"","","",""]
[null,null,null,null,null,null,null,null,null,null,null,"","","",""]
[null,null,null,null,null,null,null,null,null,null,null,"","","",""]
[null,null,null,null,null,null,null,null,null,null,null,"","","",""]
[null,null,null,null,null,null,null,null,null,null,null,"","","",""]
[null,null,null,null,null,null,null,null,null,null,null,"","","",""]
[null,null,null,null,null,null,null,null,null,null,null,"","","",""]
[null,null,null,null,null,null,null,null,null,null,null,"","","",""]
[null,null,null,null,null,null,null,null,null,null,null,"","","",""]
[null,null,null,null,null,null,null,null,null,null,null,"","","",""]
[null,null,null,null,null,null,null,null,null,null,null,"","","",""]
[null,null,null,null,null,null,null,null,null,null,null,"","","",""]
[null,null,null,null,null,null,null,null,null,null,null,"","","",""]
[null,null,null,null,null,null,null,null,null,null,null,"","","",""]
[]
[null,"６．植物成長調整剤の入力",null,null,null,null,null,null,null,null,null,"アークランド液剤",null,null,null,null,null,null,"　を使用した。"]
[]
[null,null,null,null,null,"日付",null,null,"希釈倍数",null,null,null,null,"散布量"]
[null,null,"1回目"]
[null,null,"2回目"]
[]
[null,"７．トップジンＭ水和剤の入力","トップジンＭ水和剤",null,null,null,null,null,null,"　の入力"]
[]
[null,null,null,null,null,"日付",null,null,"希釈倍数",null,null,null,null,"散布量"]
[null,null,"1回目"]
[null,null,"2回目"]
[null,null,"3回目"]
[null,null,"4回目"]
[]
[null,"８．施用液肥の入力"]
[]
[null,null,null,null,"日付",null,null,"液肥・葉面散布剤名",null,null,null,null,null,null,null,null,"使用量"]
[null,null,1]
[null,null,2]
[null,null,3]
[null,null,4]
[null,null,5]
[null,null,6]
[null,null,7]
[null,null,8]
[null,null,9]
[null,null,10]
[null,null,11]
[null,null,12]
[null,null,13]
[null,null,14]
[null,null,15]
[null,null,16]
[null,null,17]
[null,null,18]
[]
[null,"９.小メロンの出荷がある場合は、この枠に記載してください。リストから選べます。→"]
[]
[null,"10．印刷プレビューボタンを押し　印刷状態の確認をして　良ければそのまま印刷してください。"]
[]
[null,"11．以上で終りです。お疲れ様でした。"]

{"sheet":"３号Ｐ","index":7,"n_rows":36,"n_cols":88,"rows_kept":36,"cut":false,"hidden":false,"merged":[[35,5,35,12],[4,1,5,2],[35,84,35,91],[34,76,34,83],[34,84,34,91],[35,13,35,17],[35,18,35,25],[35,26,35,33],[35,50,35,54],[35,55,35,62],[35,63,35,70],[35,71,35,75],[35,76,35,83],[33,87,33,91],[34,13,34,17],[34,18,34,25],[34,26,34,33],[34,34,35,49],[34,50,34,54],[34,55,34,62],[34,63,34,70],[34,71,34,75],[33,55,33,61],[33,62,33,68],[33,69,33,73],[33,74,33,86],[33,27,33,33],[33,34,33,40],[33,41,33,47],[33,48,33,54],[33,5,33,7],[33,10,33,12],[33,13,33,19],[33,20,33,26],[32,27,32,33],[31,74,31,86],[31,27,31,33],[31,34,31,40],[31,41,31,47],[31,48,31,54],[32,34,32,40],[32,41,32,47],[32,48,32,54],[32,55,32,61],[31,55,31,61],[30,55,30,61],[31,69,31,73],[31,62,31,68],[30,74,30,86],[30,87,30,91],[29,87,29,91],[32,62,32,68],[32,69,32,73],[32,74,32,86],[32,87,32,91],[31,87,31,91],[29,55,29,61],[29,62,29,68],[28,87,28,91],[27,87,27,91],[30,5,30,7],[30,10,30,12],[30,13,30,19],[30,20,30,26],[30,27,30,33],[30,34,30,40],[30,41,30,47],[29,69,29,73],[29,74,29,86],[29,27,29,33],[29,34,29,40],[29,41,29,47],[29,48,29,54],[29,5,29,7],[29,10,29,12],[29,13,29,19],[29,20,29,26],[30,62,30,68],[30,69,30,73],[28,27,28,33],[28,34,28,40],[30,48,30,54],[28,41,28,47],[27,69,27,73],[27,74,27,86],[27,27,27,33],[27,34,27,40],[27,41,27,47],[27,48,27,54],[28,62,28,68],[28,69,28,73],[28,48,28,54],[28,55,28,61],[28,74,28,86],[26,62,26,68],[26,69,26,73],[26,48,26,54],[26,55,26,61],[27,55,27,61],[27,62,27,68],[26,87,26,91],[25,87,25,91],[26,5,26,7],[26,10,26,12],[26,13,26,19],[26,20,26,26],[26,27,26,33],[26,34,26,40],[26,41,26,47],[25,74,25,86],[25,27,25,33],[25,34,25,40],[25,41,25,47],[25,48,25,54],[26,74,26,86],[27,5,27,7],[27,10,27,12],[27,13,27,19],[25,55,25,61],[25,62,25,68],[25,69,25,73],[24,41,24,47],[25,5,25,7],[25,10,25,12],[25,13,25,19],[25,20,25,26],[24,62,24,68],[24,5,24,7],[24,10,24,12],[24,13,24,19],[24,20,24,26],[24,27,24,33],[24,34,24,40],[23,74,23,86],[22,74,22,86],[22,87,22,91],[24,74,24,86],[24,87,24,91],[23,87,23,91],[23,41,23,47],[23,5,23,7],[23,10,23,12],[23,13,23,19],[23,20,23,26],[23,27,23,33],[23,34,23,40],[23,48,23,54],[22,48,22,54],[22,55,22,61],[22,62,22,68],[22,69,22,73],[23,55,23,61],[23,62,23,68],[23,69,23,73],[24,69,24,73],[24,48,24,54],[24,55,24,61],[21,69,21,73],[21,74,21,86],[21,87,21,91],[22,5,22,7],[22,10,22,12],[22,13,22,19],[22,20,22,26],[22,27,22,33],[22,34,22,40],[22,41,22,47],[21,41,21,47],[21,48,21,54],[21,55,21,61],[21,62,21,68],[21,13,21,19],[21,20,21,26],[21,27,21,33],[21,34,21,40],[20,69,20,73],[20,74,20,86],[20,87,20,91],[19,87,19,91],[20,5,20,7],[20,10,20,12],[20,13,20,19],[20,20,20,26],[20,27,20,33],[20,34,20,40],[20,41,20,47],[20,48,20,54],[20,55,20,61],[19,55,19,61],[19,62,19,68],[20,62,20,68],[19,69,19,73],[19,74,19,86],[19,27,19,33],[19,34,19,40],[19,41,19,47],[19,48,19,54],[18,69,18,73],[18,74,18,86],[18,87,18,91],[17,87,17,91],[18,5,18,7],[18,10,18,12],[18,13,18,19],[18,20,18,26],[18,27,18,33],[18,34,18,40],[18,41,18,47],[18,48,18,54],[18,55,18,61],[17,55,17,61],[17,62,17,68],[18,62,18,68],[17,69,17,73],[17,74,17,86],[17,27,17,33],[17,34,17,40],[17,41,17,47],[17,48,17,54],[17,4,35,4],[17,5,17,12],[17,13,17,19],[17,20,17,26],[19,5,19,7],[19,10,19,12],[19,13,19,19],[19,20,19,26],[21,5,21,7],[21,10,21,12],[28,5,28,7],[28,10,28,12],[28,13,28,19],[28,20,28,26],[27,20,27,26],[32,5,32,7],[32,10,32,12],[32,13,32,19],[32,20,32,26],[31,5,31,7],[31,10,31,12],[31,13,31,19],[31,20,31,26],[34,5,34,12],[16,4,16,12],[16,13,16,19],[16,20,16,26],[16,27,16,33],[16,34,16,40],[16,41,16,47],[16,48,16,54],[16,55,16,61],[15,34,15,40],[15,41,15,47],[15,48,15,54],[15,55,15,61],[15,4,15,12],[15,13,15,19],[15,20,15,26],[15,27,15,33],[13,33,13,37],[10,53,10,57],[11,53,12,57],[16,62,16,68],[16,69,16,73],[16,74,16,86],[16,87,16,91],[15,62,15,68],[15,69,15,91],[11,4,12,5],[11,6,12,12],[11,13,12,17],[11,18,12,27],[11,28,12,32],[11,33,12,37],[11,38,12,47],[11,48,12,52],[10,83,11,91],[11,58,12,67],[11,68,12,72],[12,73,13,81],[12,82,13,91],[13,68,13,72],[10,58,10,67],[10,68,10,72],[10,73,11,82],[13,38,13,47],[13,48,13,52],[13,53,13,57],[13,58,13,67],[13,13,13,17],[13,18,13,27],[13,28,13,32],[9,58,9,67],[9,68,9,72],[9,73,9,91],[10,6,10,12],[10,13,10,17],[10,18,10,27],[10,28,10,32],[10,33,10,37],[10,38,10,47],[10,48,10,52],[9,33,9,37],[9,38,9,47],[9,48,9,52],[9,53,9,57],[9,6,9,12],[9,13,9,17],[9,18,9,27],[9,28,9,32],[8,68,8,72],[8,73,8,80],[7,78,7,91],[8,81,8,91],[7,33,7,37],[7,38,7,47],[7,48,7,52],[7,53,7,57],[8,6,8,12],[8,13,8,17],[8,18,8,27],[8,28,8,32],[8,33,8,37],[8,38,8,47],[8,48,8,52],[8,53,8,57],[8,58,8,67],[7,6,7,7],[7,13,7,17],[7,18,7,27],[7,28,7,32],[7,58,7,67],[7,68,7,72],[7,73,7,77],[6,58,6,67],[6,68,6,72],[6,73,6,80],[6,81,6,91],[6,33,6,37],[6,38,6,47],[6,48,6,52],[6,53,6,57],[6,7,6,8],[6,13,6,17],[6,18,6,27],[6,28,6,32],[5,58,5,67],[5,68,5,72],[5,13,5,17],[5,18,5,27],[5,28,5,32],[5,33,5,37],[5,73,5,77],[5,78,5,91],[5,38,5,47],[5,48,5,52],[5,53,5,57],[4,38,4,47],[2,4,2,5],[2,6,2,31],[4,13,4,27],[4,33,4,37],[0,64,0,89],[4,48,4,52],[4,53,4,57],[4,58,4,67],[4,68,4,72],[4,73,4,91]]}
[null,null,null,null,null,null,null,null,null,null,null,null,null,null,null,null,null,null,null,null,null,null,null,null,null,null,null,null,null,null,null,null,null,null,null,null,null,null,null,null,null,null,null,null,null,null,null,null,null,null,null,null,null,null,null,null,null,null,null,null,null,null,null,null,{"$f":"IF('３号入力'!AB124=\"\",\"\",'３号入力'!AB124)","v":""}]
[]
[null,null,null,null,"栽培履歴",null,{"$f":"メニュー画面!F16","v":"静岡県温室農業協同組合（クラウンメロン支所）"},null,null,null,null,null,null,null,null,null,null,null,null,null,null,null,null,null,null,null,null,null,null,null,null,null,"検査日",null,null,null,null,null,"令和　　年　　月　　日",null,null,null,null,null,null,null,null,null,null,null,null,null,null,null,"検査責任者氏名　　　　　　　　　　 　　　　　　　　　　　　　印"]
[]
[null,"３号室",null,null,"組合員番号：",null,{"$f":"メニュー画面!F18","v":"４　３　６"},null,null,null,null,null,null,"施用資材名",null,null,null,null,null,null,null,null,null,null,null,null,null,null,"投入量",null,null,null,null,{"$f":"IF('３号入力'!F30=\"\",\"\",'３号入力'!F30)","v":"〃"},null,null,null,null,{"$f":"IF('３号入力'!AH30=\"\",\"\",'３号入力'!AH30)","v":""},null,null,null,null,null,null,null,null,null,{"$f":"IF('３号入力'!AA30=\"\",\"\",'３号入力'!AA30)","v":""},null,null,null,null,{"$f":"IF('３号入力'!F39=\"\",\"\",'３号入力'!F39)","v":""},null,null,null,null,{"$f":"IF('３号入力'!AH39=\"\",\"\",'３号入力'!AH39)","v":""},null,null,null,null,null,null,null,null,null,{"$f":"IF('３号入力'!AA39=\"\",\"\",'３号入力'!AA39)","v":""},null,null,null,null,"施用粒剤"]
[null,null,null,null,"氏名：",null,{"$f":"メニュー画面!F20","v":"中　條　文　義"},null,null,null,null,null,null,{"$f":"IF('３号入力'!F22=\"\",\"\",'３号入力'!F22)","v":""},null,null,null,null,{"$f":"IF('３号入力'!AH22=\"\",\"\",'３号入力'!AH22)","v":"育苗"},null,null,null,null,null,null,null,null,null,{"$f":"IF('３号入力'!AA22=\"\",\"\",'３号入力'!AA22)","v":""},null,null,null,null,{"$f":"IF('３号入力'!F31=\"\",\"\",'３号入力'!F31)","v":"〃"},null,null,null,null,{"$f":"IF('３号入力'!AH31=\"\",\"\",'３号入力'!AH31)","v":""},null,null,null,null,null,null,null,null,null,{"$f":"IF('３号入力'!AA31=\"\",\"\",'３号入力'!AA31)","v":""},null,null,null,null,{"$f":"IF('３号入力'!F40=\"\",\"\",'３号入力'!F40)","v":""},null,null,null,null,{"$f":"IF('３号入力'!AH40=\"\",\"\",'３号入力'!AH40)","v":""},null,null,null,null,null,null,null,null,null,{"$f":"IF('３号入力'!AA40=\"\",\"\",'３号入力'!AA40)","v":""},null,null,null,null,{"$f":"IF('３号入力'!F53=\"\",\"/\",'３号入力'!F53)","v":"/"},null,null,null,null,{"$f":"IF('３号入力'!I53=\"\",\"\",'３号入力'!I53)","v":""}]
[null,null,null,null,"部屋番号：",null,{"$f":"IF('３号入力'!F9=\"\",\"\",'３号入力'!F9)","v":3},{"$f":"IF('３号入力'!F10=\"\",\"\",'３号入力'!F10)","v":""},null,null,null,null,null,{"$f":"IF('３号入力'!F23=\"\",\"\",'３号入力'!F23)","v":"2006-01-01"},null,null,null,null,{"$f":"IF('３号入力'!AH23=\"\",\"\",'３号入力'!AH23)","v":""},null,null,null,null,null,null,null,null,null,{"$f":"IF('３号入力'!AA23=\"\",\"\",'３号入力'!AA23)","v":""},null,null,null,null,{"$f":"IF('３号入力'!F32=\"\",\"\",'３号入力'!F32)","v":"〃"},null,null,null,null,{"$f":"IF('３号入力'!AH32=\"\",\"\",'３号入力'!AH32)","v":""},null,null,null,null,null,null,null,null,null,{"$f":"IF('３号入力'!AA32=\"\",\"\",'３号入力'!AA32)","v":""},null,null,null,null,{"$f":"IF('３号入力'!F41=\"\",\"\",'３号入力'!F41)","v":""},null,null,null,null,{"$f":"IF('３号入力'!AH41=\"\",\"\",'３号入力'!AH41)","v":""},null,null,null,null,null,null,null,null,null,{"$f":"IF('３号入力'!AA41=\"\",\"\",'３号入力'!AA41)","v":""},null,null,null,null,{"$f":"IF('３号入力'!P53=0,\"g\",'３号入力'!P53)","v":"g"},null,null,null,null,null,null,null,{"$f":"IF('３号入力'!T53=0,0,'３号入力'!T53)","v":0}]
[null,null,null,null,"品種名：",null,{"$f":"IF('３号入力'!F11=\"\",\"\",'３号入力'!F11)","v":"春　　系"},null,null,null,null,null,null,{"$f":"IF('３号入力'!F24=\"\",\"\",'３号入力'!F24)","v":"〃"},null,null,null,null,{"$f":"IF('３号入力'!AH24=\"\",\"\",'３号入力'!AH24)","v":""},null,null,null,null,null,null,null,null,null,{"$f":"IF('３号入力'!AA24=\"\",\"\",'３号入力'!AA24)","v":""},null,null,null,null,{"$f":"IF('３号入力'!F33=\"\",\"\",'３号入力'!F33)","v":"〃"},null,null,null,null,{"$f":"IF('３号入力'!AH33=\"\",\"\",'３号入力'!AH33)","v":""},null,null,null,null,null,null,null,null,null,{"$f":"IF('３号入力'!AA33=\"\",\"\",'３号入力'!AA33)","v":""},null,null,null,null,{"$f":"IF('３号入力'!F42=\"\",\"\",'３号入力'!F42)","v":""},null,null,null,null,{"$f":"IF('３号入力'!AH42=\"\",\"\",'３号入力'!AH42)","v":""},null,null,null,null,null,null,null,null,null,{"$f":"IF('３号入力'!AA42=\"\",\"\",'３号入力'!AA42)","v":""},null,null,null,null,{"$f":"IF('３号入力'!F54=\"\",\"/\",'３号入力'!F54)","v":"/"},null,null,null,null,{"$f":"IF('３号入力'!I54=\"\",\"\",'３号入力'!I54)","v":""}]
[null,null,null,null,"播種日：",null,{"$f":"IF('３号入力'!F12=\"\",\"\",'３号入力'!F12)","v":""},null,null,null,null,null,null,{"$f":"IF('３号入力'!F25=\"\",\"\",'３号入力'!F25)","v":"〃"},null,null,null,null,{"$f":"IF('３号入力'!AH25=\"\",\"\",'３号入力'!AH25)","v":""},null,null,null,null,null,null,null,null,null,{"$f":"IF('３号入力'!AA25=\"\",\"\",'３号入力'!AA25)","v":""},null,null,null,null,{"$f":"IF('３号入力'!F34=\"\",\"\",'３号入力'!F34)","v":"〃"},null,null,null,null,{"$f":"IF('３号入力'!AH34=\"\",\"\",'３号入力'!AH34)","v":""},null,null,null,null,null,null,null,null,null,{"$f":"IF('３号入力'!AA34=\"\",\"\",'３号入力'!AA34)","v":""},null,null,null,null,{"$f":"IF('３号入力'!F43=\"\",\"\",'３号入力'!F43)","v":""},null,null,null,null,{"$f":"IF('３号入力'!AH43=\"\",\"\",'３号入力'!AH43)","v":""},null,null,null,null,null,null,null,null,null,{"$f":"IF('３号入力'!AA43=\"\",\"\",'３号入力'!AA43)","v":""},null,null,null,null,{"$f":"IF('３号入力'!P54=0,\"g\",'３号入力'!P54)","v":"g"},null,null,null,null,null,null,null,{"$f":"IF('３号入力'!T54=0,0,'３号入力'!T54)","v":0}]
[null,null,null,null,"定植日：",null,{"$f":"IF('３号入力'!F13=\"\",\"\",'３号入力'!F13)","v":""},null,null,null,null,null,null,{"$f":"IF('３号入力'!F26=\"\",\"\",'３号入力'!F26)","v":"〃"},null,null,null,null,{"$f":"IF('３号入力'!AH26=\"\",\"\",'３号入力'!AH26)","v":""},null,null,null,null,null,null,null,null,null,{"$f":"IF('３号入力'!AA26=\"\",\"\",'３号入力'!AA26)","v":""},null,null,null,null,{"$f":"IF('３号入力'!F35=\"\",\"\",'３号入力'!F35)","v":"〃"},null,null,null,null,{"$f":"IF('３号入力'!AH35=\"\",\"\",'３号入力'!AH35)","v":""},null,null,null,null,null,null,null,null,null,{"$f":"IF('３号入力'!AA35=\"\",\"\",'３号入力'!AA35)","v":""},null,null,null,null,{"$f":"IF('３号入力'!F44=\"\",\"\",'３号入力'!F44)","v":""},null,null,null,null,{"$f":"IF('３号入力'!AH44=\"\",\"\",'３号入力'!AH44)","v":""},null,null,null,null,null,null,null,null,null,{"$f":"IF('３号入力'!AA44=\"\",\"\",'３号入力'!AA44)","v":""},null,null,null,null,"硫黄くん蒸剤"]
[null,null,null,null,"交配日：",null,{"$f":"IF('３号入力'!F14=\"\",\"\",'３号入力'!F14)","v":""},null,null,null,null,null,null,{"$f":"IF('３号入力'!F27=\"\",\"\",'３号入力'!F27)","v":"〃"},null,null,null,null,{"$f":"IF('３号入力'!AH27=\"\",\"\",'３号入力'!AH27)","v":""},null,null,null,null,null,null,null,null,null,{"$f":"IF('３号入力'!AA27=\"\",\"\",'３号入力'!AA27)","v":""},null,null,null,null,{"$f":"IF('３号入力'!F36=\"\",\"\",'３号入力'!F36)","v":""},null,null,null,null,{"$f":"IF('３号入力'!AH36=\"\",\"\",'３号入力'!AH36)","v":""},null,null,null,null,null,null,null,null,null,{"$f":"IF('３号入力'!AA36=\"\",\"\",'３号入力'!AA36)","v":""},null,null,null,null,{"$f":"IF('３号入力'!F45=\"\",\"\",'３号入力'!F45)","v":""},null,null,null,null,{"$f":"IF('３号入力'!AH45=\"\",\"\",'３号入力'!AH45)","v":""},null,null,null,null,null,null,null,null,null,{"$f":"IF('３号入力'!AA45=\"\",\"\",'３号入力'!AA45)","v":""},null,null,null,null,{"$f":"IF('３号入力'!H59=\"\",\"/      ～\",'３号入力'!H59)","v":"/      ～"},null,null,null,null,null,null,null,null,null,{"$f":"IF('３号入力'!H60=\"\",\"    /\",'３号入力'!H60)","v":"    /"}]
[null,null,null,null,"収穫日：",null,{"$f":"IF('３号入力'!F16=\"\",\"\",'３号入力'!F16)","v":""},null,null,null,null,null,null,{"$f":"IF('３号入力'!F28=\"\",\"\",'３号入力'!F28)","v":"〃"},null,null,null,null,{"$f":"IF('３号入力'!AH28=\"\",\"\",'３号入力'!AH28)","v":""},null,null,null,null,null,null,null,null,null,{"$f":"IF('３号入力'!AA28=\"\",\"\",'３号入力'!AA28)","v":""},null,null,null,null,{"$f":"IF('３号入力'!F37=\"\",\"\",'３号入力'!F37)","v":""},null,null,null,null,{"$f":"IF('３号入力'!AH37=\"\",\"\",'３号入力'!AH37)","v":""},null,null,null,null,null,null,null,null,null,{"$f":"IF('３号入力'!AA37=\"\",\"\",'３号入力'!AA37)","v":""},null,null,null,null,{"$f":"IF('３号入力'!F46=\"\",\"\",'３号入力'!F46)","v":""},null,null,null,null,{"$f":"IF('３号入力'!AH46=\"\",\"\",'３号入力'!AH46)","v":""},null,null,null,null,null,null,null,null,null,{"$f":"IF('３号入力'!AA46=\"\",\"\",'３号入力'!AA46)","v":""}]
[null,null,null,null,null,null,null,null,null,null,null,null,null,null,null,null,null,null,null,null,null,null,null,null,null,null,null,null,null,null,null,null,null,null,null,null,null,null,null,null,null,null,null,null,null,null,null,null,null,null,null,null,null,null,null,null,null,null,null,null,null,null,null,null,null,null,null,null,null,null,null,null,null,{"$f":"IF('３号入力'!H61=\"\",\"g/日\",'３号入力'!H61)","v":2},null,null,null,null,null,null,null,null,{"$f":"IF('３号入力'!H62=\"\",\"g/部屋\",'３号入力'!H62)","v":"g/部屋"}]
[null,null,null,null,"採果日数：",null,{"$f":"'３号入力'!F15","v":0},null,null,null,null,null,null,{"$f":"IF('３号入力'!F29=\"\",\"\",'３号入力'!F29)","v":"〃"},null,null,null,null,{"$f":"IF('３号入力'!AH29=\"\",\"\",'３号入力'!AH29)","v":""},null,null,null,null,null,null,null,null,null,{"$f":"IF('３号入力'!AA29=\"\",\"\",'３号入力'!AA29)","v":""},null,null,null,null,{"$f":"IF('３号入力'!F38=\"\",\"\",'３号入力'!F38)","v":""},null,null,null,null,{"$f":"IF('３号入力'!AH38=\"\",\"\",'３号入力'!AH38)","v":""},null,null,null,null,null,null,null,null,null,{"$f":"IF('３号入力'!AA38=\"\",\"\",'３号入力'!AA38)","v":""},null,null,null,null,{"$f":"IF('３号入力'!F47=\"\",\"\",'３号入力'!F47)","v":""},null,null,null,null,{"$f":"IF('３号入力'!AH47=\"\",\"\",'３号入力'!AH47)","v":""},null,null,null,null,null,null,null,null,null,{"$f":"IF('３号入力'!AA47=\"\",\"\",'３号入力'!AA47)","v":""}]
[]
[null,null,null,null,"使用年月日",null,null,null,null,null,null,null,null,{"$f":"IF('３号入力'!R68=\"\",\"/\",'３号入力'!R68)","v":"/"},null,null,null,null,null,null,{"$f":"IF('３号入力'!U68=\"\",\"/\",'３号入力'!U68)","v":"/"},null,null,null,null,null,null,{"$f":"IF('３号入力'!X68=\"\",\"/\",'３号入力'!X68)","v":"/"},null,null,null,null,null,null,{"$f":"IF('３号入力'!AA68=\"\",\"/\",'３号入力'!AA68)","v":"/"},null,null,null,null,null,null,{"$f":"IF('３号入力'!AD68=\"\",\"/\",'３号入力'!AD68)","v":"/"},null,null,null,null,null,null,{"$f":"IF('３号入力'!AG68=\"\",\"/\",'３号入力'!AG68)","v":"/"},null,null,null,null,null,null,{"$f":"IF('３号入力'!AJ68=\"\",\"/\",'３号入力'!AJ68)","v":"/"},null,null,null,null,null,null,{"$f":"IF('３号入力'!AM68=\"\",\"/\",'３号入力'!AM68)","v":"/"},null,null,null,null,null,null,"使用液肥・葉面散布剤"]
[null,null,null,null,"生育ステージ",null,null,null,null,null,null,null,null,{"$f":"IF('３号入力'!R69=\"\",\"\",'３号入力'!R69)","v":"育苗"},null,null,null,null,null,null,{"$f":"IF('３号入力'!U69=\"\",\"\",'３号入力'!U69)","v":"木作り"},null,null,null,null,null,null,{"$f":"IF('３号入力'!X69=\"\",\"\",'３号入力'!X69)","v":"木作り"},null,null,null,null,null,null,{"$f":"IF('３号入力'!AA69=\"\",\"\",'３号入力'!AA69)","v":"肥大期"},null,null,null,null,null,null,{"$f":"IF('３号入力'!AD69=\"\",\"\",'３号入力'!AD69)","v":"肥大期"},null,null,null,null,null,null,{"$f":"IF('３号入力'!AG69=\"\",\"\",'３号入力'!AG69)","v":"仕上げ"},null,null,null,null,null,null,{"$f":"IF('３号入力'!AJ69=\"\",\"\",'３号入力'!AJ69)","v":"仕上げ"},null,null,null,null,null,null,{"$f":"IF('３号入力'!AM69=\"\",\"\",'３号入力'!AM69)","v":"仕上げ"},null,null,null,null,null,null,{"$f":"IF('３号入力'!E105=\"\",\"/\",'３号入力'!E105)","v":"/"},null,null,null,null,{"$f":"IF('３号入力'!H105=\"\",\"\",'３号入力'!H105)","v":""},null,null,null,null,null,null,null,null,null,null,null,null,{"$f":"IF('３号入力'!Q105=0,0,'３号入力'!Q105)","v":0}]
[null,null,null,null,"使用農薬名","散布量",null,null,null,null,null,null,null,{"$f":"IF('３号入力'!R70=0,0,'３号入力'!R70)","v":0},null,null,null,null,null,null,{"$f":"IF('３号入力'!U70=0,0,'３号入力'!U70)","v":0},null,null,null,null,null,null,{"$f":"IF('３号入力'!X70=0,0,'３号入力'!X70)","v":0},null,null,null,null,null,null,{"$f":"IF('３号入力'!AA70=0,0,'３号入力'!AA70)","v":0},null,null,null,null,null,null,{"$f":"IF('３号入力'!AD70=0,0,'３号入力'!AD70)","v":0},null,null,null,null,null,null,{"$f":"IF('３号入力'!AG70=0,0,'３号入力'!AG70)","v":0},null,null,null,null,null,null,{"$f":"IF('３号入力'!AJ70=0,0,'３号入力'!AJ70)","v":0},null,null,null,null,null,null,{"$f":"IF('３号入力'!AM70=0,0,'３号入力'!AM70)","v":0},null,null,null,null,null,null,{"$f":"IF('３号入力'!E106=\"\",\"\",'３号入力'!E106)","v":""},null,null,null,null,{"$f":"IF('３号入力'!H106=\"\",\"\",'３号入力'!H106)","v":""},null,null,null,null,null,null,null,null,null,null,null,null,{"$f":"IF('３号入力'!Q106=0,\"\",'３号入力'!Q106)","v":""}]
[null,null,null,null,null,{"$f":"IF('３号入力'!D71=\"\",\"\",'３号入力'!D71)","v":""},null,null,{"$f":"IF(F19=\"\",\"\",VLOOKUP(F19,Ｍ農薬台帳,3,FALSE))","v":""},{"$f":"IF(F19=\"\",\"\",\"-\")","v":""},{"$f":"IF(F19=\"\",\"\",VLOOKUP(F19,Ｍ農薬台帳,2,FALSE))","v":""},null,null,{"$f":"IF('３号入力'!R71=\"\",\"\",'３号入力'!R71)","v":""},null,null,null,null,null,null,{"$f":"IF('３号入力'!U71=\"\",\"\",'３号入力'!U71)","v":""},null,null,null,null,null,null,{"$f":"IF('３号入力'!X71=\"\",\"\",'３号入力'!X71)","v":""},null,null,null,null,null,null,{"$f":"IF('３号入力'!AA71=\"\",\"\",'３号入力'!AA71)","v":""},null,null,null,null,null,null,{"$f":"IF('３号入力'!AD71=\"\",\"\",'３号入力'!AD71)","v":""},null,null,null,null,null,null,{"$f":"IF('３号入力'!AG71=\"\",\"\",'３号入力'!AG71)","v":""},null,null,null,null,null,null,{"$f":"IF('３号入力'!AJ71=\"\",\"\",'３号入力'!AJ71)","v":""},null,null,null,null,null,null,{"$f":"IF('３号入力'!AM71=\"\",\"\",'３号入力'!AM71)","v":""},null,null,null,null,null,null,{"$f":"IF('３号入力'!E107=\"\",\"\",'３号入力'!E107)","v":""},null,null,null,null,{"$f":"IF('３号入力'!H107=\"\",\"\",'３号入力'!H107)","v":""},null,null,null,null,null,null,null,null,null,null,null,null,{"$f":"IF('３号入力'!Q107=0,\"\",'３号入力'!Q107)","v":""}]
[null,null,null,null,null,{"$f":"IF('３号入力'!D72=\"\",\"\",'３号入力'!D72)","v":""},null,null,"","","",null,null,{"$f":"IF('３号入力'!R72=\"\",\"\",'３号入力'!R72)","v":""},null,null,null,null,null,null,{"$f":"IF('３号入力'!U72=\"\",\"\",'３号入力'!U72)","v":""},null,null,null,null,null,null,{"$f":"IF('３号入力'!X72=\"\",\"\",'３号入力'!X72)","v":""},null,null,null,null,null,null,{"$f":"IF('３号入力'!AA72=\"\",\"\",'３号入力'!AA72)","v":""},null,null,null,null,null,null,{"$f":"IF('３号入力'!AD72=\"\",\"\",'３号入力'!AD72)","v":""},null,null,null,null,null,null,{"$f":"IF('３号入力'!AG72=\"\",\"\",'３号入力'!AG72)","v":""},null,null,null,null,null,null,{"$f":"IF('３号入力'!AJ72=\"\",\"\",'３号入力'!AJ72)","v":""},null,null,null,null,null,null,{"$f":"IF('３号入力'!AM72=\"\",\"\",'３号入力'!AM72)","v":""},null,null,null,null,null,null,{"$f":"IF('３号入力'!E108=\"\",\"\",'３号入力'!E108)","v":""},null,null,null,null,{"$f":"IF('３号入力'!H108=\"\",\"\",'３号入力'!H108)","v":""},null,null,null,null,null,null,null,null,null,null,null,null,{"$f":"IF('３号入力'!Q108=0,\"\",'３号入力'!Q108)","v":""}]
[null,null,null,null,null,{"$f":"IF('３号入力'!D73=\"\",\"\",'３号入力'!D73)","v":""},null,null,"","","",null,null,{"$f":"IF('３号入力'!R73=\"\",\"\",'３号入力'!R73)","v":""},null,null,null,null,null,null,{"$f":"IF('３号入力'!U73=\"\",\"\",'３号入力'!U73)","v":""},null,null,null,null,null,null,{"$f":"IF('３号入力'!X73=\"\",\"\",'３号入力'!X73)","v":""},null,null,null,null,null,null,{"$f":"IF('３号入力'!AA73=\"\",\"\",'３号入力'!AA73)","v":""},null,null,null,null,null,null,{"$f":"IF('３号入力'!AD73=\"\",\"\",'３号入力'!AD73)","v":""},null,null,null,null,null,null,{"$f":"IF('３号入力'!AG73=\"\",\"\",'３号入力'!AG73)","v":""},null,null,null,null,null,null,{"$f":"IF('３号入力'!AJ73=\"\",\"\",'３号入力'!AJ73)","v":""},null,null,null,null,null,null,{"$f":"IF('３号入力'!AM73=\"\",\"\",'３号入力'!AM73)","v":""},null,null,null,null,null,null,{"$f":"IF('３号入力'!E109=\"\",\"\",'３号入力'!E109)","v":""},null,null,null,null,{"$f":"IF('３号入力'!H109=\"\",\"\",'３号入力'!H109)","v":""},null,null,null,null,null,null,null,null,null,null,null,null,{"$f":"IF('３号入力'!Q109=0,\"\",'３号入力'!Q109)","v":""}]
[null,null,null,null,null,{"$f":"IF('３号入力'!D74=\"\",\"\",'３号入力'!D74)","v":""},null,null,"","","",null,null,{"$f":"IF('３号入力'!R74=\"\",\"\",'３号入力'!R74)","v":""},null,null,null,null,null,null,{"$f":"IF('３号入力'!U74=\"\",\"\",'３号入力'!U74)","v":""},null,null,null,null,null,null,{"$f":"IF('３号入力'!X74=\"\",\"\",'３号入力'!X74)","v":""},null,null,null,null,null,null,{"$f":"IF('３号入力'!AA74=\"\",\"\",'３号入力'!AA74)","v":""},null,null,null,null,null,null,{"$f":"IF('３号入力'!AD74=\"\",\"\",'３号入力'!AD74)","v":""},null,null,null,null,null,null,{"$f":"IF('３号入力'!AG74=\"\",\"\",'３号入力'!AG74)","v":""},null,null,null,null,null,null,{"$f":"IF('３号入力'!AJ74=\"\",\"\",'３号入力'!AJ74)","v":""},null,null,null,null,null,null,{"$f":"IF('３号入力'!AM74=\"\",\"\",'３号入力'!AM74)","v":""},null,null,null,null,null,null,{"$f":"IF('３号入力'!E110=\"\",\"\",'３号入力'!E110)","v":""},null,null,null,null,{"$f":"IF('３号入力'!H110=\"\",\"\",'３号入力'!H110)","v":""},null,null,null,null,null,null,null,null,null,null,null,null,{"$f":"IF('３号入力'!Q110=0,\"\",'３号入力'!Q110)","v":""}]
[null,null,null,null,null,{"$f":"IF('３号入力'!D75=\"\",\"\",'３号入力'!D75)","v":""},null,null,"","","",null,null,{"$f":"IF('３号入力'!R75=\"\",\"\",'３号入力'!R75)","v":""},null,null,null,null,null,null,{"$f":"IF('３号入力'!U75=\"\",\"\",'３号入力'!U75)","v":""},null,null,null,null,null,null,{"$f":"IF('３号入力'!X75=\"\",\"\",'３号入力'!X75)","v":""},null,null,null,null,null,null,{"$f":"IF('３号入力'!AA75=\"\",\"\",'３号入力'!AA75)","v":""},null,null,null,null,null,null,{"$f":"IF('３号入力'!AD75=\"\",\"\",'３号入力'!AD75)","v":""},null,null,null,null,null,null,{"$f":"IF('３号入力'!AG75=\"\",\"\",'３号入力'!AG75)","v":""},null,null,null,null,null,null,{"$f":"IF('３号入力'!AJ75=\"\",\"\",'３号入力'!AJ75)","v":""},null,null,null,null,null,null,{"$f":"IF('３号入力'!AM75=\"\",\"\",'３号入力'!AM75)","v":""},null,null,null,null,null,null,{"$f":"IF('３号入力'!E111=\"\",\"\",'３号入力'!E111)","v":""},null,null,null,null,{"$f":"IF('３号入力'!H111=\"\",\"\",'３号入力'!H111)","v":""},null,null,null,null,null,null,null,null,null,null,null,null,{"$f":"IF('３号入力'!Q111=0,\"\",'３号入力'!Q111)","v":""}]
[null,null,null,null,null,{"$f":"IF('３号入力'!D76=\"\",\"\",'３号入力'!D76)","v":""},null,null,"","","",null,null,{"$f":"IF('３号入力'!R76=\"\",\"\",'３号入力'!R76)","v":""},null,null,null,null,null,null,{"$f":"IF('３号入力'!U76=\"\",\"\",'３号入力'!U76)","v":""},null,null,null,null,null,null,{"$f":"IF('３号入力'!X76=\"\",\"\",'３号入力'!X76)","v":""},null,null,null,null,null,null,{"$f":"IF('３号入力'!AA76=\"\",\"\",'３号入力'!AA76)","v":""},null,null,null,null,null,null,{"$f":"IF('３号入力'!AD76=\"\",\"\",'３号入力'!AD76)","v":""},null,null,null,null,null,null,{"$f":"IF('３号入力'!AG76=\"\",\"\",'３号入力'!AG76)","v":""},null,null,null,null,null,null,{"$f":"IF('３号入力'!AJ76=\"\",\"\",'３号入力'!AJ76)","v":""},null,null,null,null,null,null,{"$f":"IF('３号入力'!AM76=\"\",\"\",'３号入力'!AM76)","v":""},null,null,null,null,null,null,{"$f":"IF('３号入力'!E112=\"\",\"\",'３号入力'!E112)","v":""},null,null,null,null,{"$f":"IF('３号入力'!H112=\"\",\"\",'３号入力'!H112)","v":""},null,null,null,null,null,null,null,null,null,null,null,null,{"$f":"IF('３号入力'!Q112=0,\"\",'３号入力'!Q112)","v":""}]
[null,null,null,null,null,{"$f":"IF('３号入力'!D77=\"\",\"\",'３号入力'!D77)","v":""},null,null,"","","",null,null,{"$f":"IF('３号入力'!R77=\"\",\"\",'３号入力'!R77)","v":""},null,null,null,null,null,null,{"$f":"IF('３号入力'!U77=\"\",\"\",'３号入力'!U77)","v":""},null,null,null,null,null,null,{"$f":"IF('３号入力'!X77=\"\",\"\",'３号入力'!X77)","v":""},null,null,null,null,null,null,{"$f":"IF('３号入力'!AA77=\"\",\"\",'３号入力'!AA77)","v":""},null,null,null,null,null,null,{"$f":"IF('３号入力'!AD77=\"\",\"\",'３号入力'!AD77)","v":""},null,null,null,null,null,null,{"$f":"IF('３号入力'!AG77=\"\",\"\",'３号入力'!AG77)","v":""},null,null,null,null,null,null,{"$f":"IF('３号入力'!AJ77=\"\",\"\",'３号入力'!AJ77)","v":""},null,null,null,null,null,null,{"$f":"IF('３号入力'!AM77=\"\",\"\",'３号入力'!AM77)","v":""},null,null,null,null,null,null,{"$f":"IF('３号入力'!E113=\"\",\"\",'３号入力'!E113)","v":""},null,null,null,null,{"$f":"IF('３号入力'!H113=\"\",\"\",'３号入力'!H113)","v":""},null,null,null,null,null,null,null,null,null,null,null,null,{"$f":"IF('３号入力'!Q113=0,\"\",'３号入力'!Q113)","v":""}]
[null,null,null,null,null,{"$f":"IF('３号入力'!D78=\"\",\"\",'３号入力'!D78)","v":""},null,null,"","","",null,null,{"$f":"IF('３号入力'!R78=\"\",\"\",'３号入力'!R78)","v":""},null,null,null,null,null,null,{"$f":"IF('３号入力'!U78=\"\",\"\",'３号入力'!U78)","v":""},null,null,null,null,null,null,{"$f":"IF('３号入力'!X78=\"\",\"\",'３号入力'!X78)","v":""},null,null,null,null,null,null,{"$f":"IF('３号入力'!AA78=\"\",\"\",'３号入力'!AA78)","v":""},null,null,null,null,null,null,{"$f":"IF('３号入力'!AD78=\"\",\"\",'３号入力'!AD78)","v":""},null,null,null,null,null,null,{"$f":"IF('３号入力'!AG78=\"\",\"\",'３号入力'!AG78)","v":""},null,null,null,null,null,null,{"$f":"IF('３号入力'!AJ78=\"\",\"\",'３号入力'!AJ78)","v":""},null,null,null,null,null,null,{"$f":"IF('３号入力'!AM78=\"\",\"\",'３号入力'!AM78)","v":""},null,null,null,null,null,null,{"$f":"IF('３号入力'!E114=\"\",\"\",'３号入力'!E114)","v":""},null,null,null,null,{"$f":"IF('３号入力'!H114=\"\",\"\",'３号入力'!H114)","v":""},null,null,null,null,null,null,null,null,null,null,null,null,{"$f":"IF('３号入力'!Q114=0,\"\",'３号入力'!Q114)","v":""}]
[null,null,null,null,null,{"$f":"IF('３号入力'!D79=\"\",\"\",'３号入力'!D79)","v":""},null,null,"","","",null,null,{"$f":"IF('３号入力'!R79=\"\",\"\",'３号入力'!R79)","v":""},null,null,null,null,null,null,{"$f":"IF('３号入力'!U79=\"\",\"\",'３号入力'!U79)","v":""},null,null,null,null,null,null,{"$f":"IF('３号入力'!X79=\"\",\"\",'３号入力'!X79)","v":""},null,null,null,null,null,null,{"$f":"IF('３号入力'!AA79=\"\",\"\",'３号入力'!AA79)","v":""},null,null,null,null,null,null,{"$f":"IF('３号入力'!AD79=\"\",\"\",'３号入力'!AD79)","v":""},null,null,null,null,null,null,{"$f":"IF('３号入力'!AG79=\"\",\"\",'３号入力'!AG79)","v":""},null,null,null,null,null,null,{"$f":"IF('３号入力'!AJ79=\"\",\"\",'３号入力'!AJ79)","v":""},null,null,null,null,null,null,{"$f":"IF('３号入力'!AM79=\"\",\"\",'３号入力'!AM79)","v":""},null,null,null,null,null,null,{"$f":"IF('３号入力'!E115=\"\",\"\",'３号入力'!E115)","v":""},null,null,null,null,{"$f":"IF('３号入力'!H115=\"\",\"\",'３号入力'!H115)","v":""},null,null,null,null,null,null,null,null,null,null,null,null,{"$f":"IF('３号入力'!Q115=0,\"\",'３号入力'!Q115)","v":""}]
[null,null,null,null,null,{"$f":"IF('３号入力'!D80=\"\",\"\",'３号入力'!D80)","v":""},null,null,"","","",null,null,{"$f":"IF('３号入力'!R80=\"\",\"\",'３号入力'!R80)","v":""},null,null,null,null,null,null,{"$f":"IF('３号入力'!U80=\"\",\"\",'３号入力'!U80)","v":""},null,null,null,null,null,null,{"$f":"IF('３号入力'!X80=\"\",\"\",'３号入力'!X80)","v":""},null,null,null,null,null,null,{"$f":"IF('３号入力'!AA80=\"\",\"\",'３号入力'!AA80)","v":""},null,null,null,null,null,null,{"$f":"IF('３号入力'!AD80=\"\",\"\",'３号入力'!AD80)","v":""},null,null,null,null,null,null,{"$f":"IF('３号入力'!AG80=\"\",\"\",'３号入力'!AG80)","v":""},null,null,null,null,null,null,{"$f":"IF('３号入力'!AJ80=\"\",\"\",'３号入力'!AJ80)","v":""},null,null,null,null,null,null,{"$f":"IF('３号入力'!AM80=\"\",\"\",'３号入力'!AM80)","v":""},null,null,null,null,null,null,{"$f":"IF('３号入力'!E116=\"\",\"\",'３号入力'!E116)","v":""},null,null,null,null,{"$f":"IF('３号入力'!H116=\"\",\"\",'３号入力'!H116)","v":""},null,null,null,null,null,null,null,null,null,null,null,null,{"$f":"IF('３号入力'!Q116=0,\"\",'３号入力'!Q116)","v":""}]
[null,null,null,null,null,{"$f":"IF('３号入力'!D81=\"\",\"\",'３号入力'!D81)","v":""},null,null,"","","",null,null,{"$f":"IF('３号入力'!R81=\"\",\"\",'３号入力'!R81)","v":""},null,null,null,null,null,null,{"$f":"IF('３号入力'!U81=\"\",\"\",'３号入力'!U81)","v":""},null,null,null,null,null,null,{"$f":"IF('３号入力'!X81=\"\",\"\",'３号入力'!X81)","v":""},null,null,null,null,null,null,{"$f":"IF('３号入力'!AA81=\"\",\"\",'３号入力'!AA81)","v":""},null,null,null,null,null,null,{"$f":"IF('３号入力'!AD81=\"\",\"\",'３号入力'!AD81)","v":""},null,null,null,null,null,null,{"$f":"IF('３号入力'!AG81=\"\",\"\",'３号入力'!AG81)","v":""},null,null,null,null,null,null,{"$f":"IF('３号入力'!AJ81=\"\",\"\",'３号入力'!AJ81)","v":""},null,null,null,null,null,null,{"$f":"IF('３号入力'!AM81=\"\",\"\",'３号入力'!AM81)","v":""},null,null,null,null,null,null,{"$f":"IF('３号入力'!E117=\"\",\"\",'３号入力'!E117)","v":""},null,null,null,null,{"$f":"IF('３号入力'!H117=\"\",\"\",'３号入力'!H117)","v":""},null,null,null,null,null,null,null,null,null,null,null,null,{"$f":"IF('３号入力'!Q117=0,\"\",'３号入力'!Q117)","v":""}]
[null,null,null,null,null,{"$f":"IF('３号入力'!D82=\"\",\"\",'３号入力'!D82)","v":""},null,null,"","","",null,null,{"$f":"IF('３号入力'!R82=\"\",\"\",'３号入力'!R82)","v":""},null,null,null,null,null,null,{"$f":"IF('３号入力'!U82=\"\",\"\",'３号入力'!U82)","v":""},null,null,null,null,null,null,{"$f":"IF('３号入力'!X82=\"\",\"\",'３号入力'!X82)","v":""},null,null,null,null,null,null,{"$f":"IF('３号入力'!AA82=\"\",\"\",'３号入力'!AA82)","v":""},null,null,null,null,null,null,{"$f":"IF('３号入力'!AD82=\"\",\"\",'３号入力'!AD82)","v":""},null,null,null,null,null,null,{"$f":"IF('３号入力'!AG82=\"\",\"\",'３号入力'!AG82)","v":""},null,null,null,null,null,null,{"$f":"IF('３号入力'!AJ82=\"\",\"\",'３号入力'!AJ82)","v":""},null,null,null,null,null,null,{"$f":"IF('３号入力'!AM82=\"\",\"\",'３号入力'!AM82)","v":""},null,null,null,null,null,null,{"$f":"IF('３号入力'!E118=\"\",\"\",'３号入力'!E118)","v":""},null,null,null,null,{"$f":"IF('３号入力'!H118=\"\",\"\",'３号入力'!H118)","v":""},null,null,null,null,null,null,null,null,null,null,null,null,{"$f":"IF('３号入力'!Q118=0,\"\",'３号入力'!Q118)","v":""}]
[null,null,null,null,null,{"$f":"IF('３号入力'!D83=\"\",\"\",'３号入力'!D83)","v":""},null,null,"","","",null,null,{"$f":"IF('３号入力'!R83=\"\",\"\",'３号入力'!R83)","v":""},null,null,null,null,null,null,{"$f":"IF('３号入力'!U83=\"\",\"\",'３号入力'!U83)","v":""},null,null,null,null,null,null,{"$f":"IF('３号入力'!X83=\"\",\"\",'３号入力'!X83)","v":""},null,null,null,null,null,null,{"$f":"IF('３号入力'!AA83=\"\",\"\",'３号入力'!AA83)","v":""},null,null,null,null,null,null,{"$f":"IF('３号入力'!AD83=\"\",\"\",'３号入力'!AD83)","v":""},null,null,null,null,null,null,{"$f":"IF('３号入力'!AG83=\"\",\"\",'３号入力'!AG83)","v":""},null,null,null,null,null,null,{"$f":"IF('３号入力'!AJ83=\"\",\"\",'３号入力'!AJ83)","v":""},null,null,null,null,null,null,{"$f":"IF('３号入力'!AM83=\"\",\"\",'３号入力'!AM83)","v":""},null,null,null,null,null,null,{"$f":"IF('３号入力'!E119=\"\",\"\",'３号入力'!E119)","v":""},null,null,null,null,{"$f":"IF('３号入力'!H119=\"\",\"\",'３号入力'!H119)","v":""},null,null,null,null,null,null,null,null,null,null,null,null,{"$f":"IF('３号入力'!Q119=0,\"\",'３号入力'!Q119)","v":""}]
[null,null,null,null,null,{"$f":"IF('３号入力'!D84=\"\",\"\",'３号入力'!D84)","v":""},null,null,"","","",null,null,{"$f":"IF('３号入力'!R84=\"\",\"\",'３号入力'!R84)","v":""},null,null,null,null,null,null,{"$f":"IF('３号入力'!U84=\"\",\"\",'３号入力'!U84)","v":""},null,null,null,null,null,null,{"$f":"IF('３号入力'!X84=\"\",\"\",'３号入力'!X84)","v":""},null,null,null,null,null,null,{"$f":"IF('３号入力'!AA84=\"\",\"\",'３号入力'!AA84)","v":""},null,null,null,null,null,null,{"$f":"IF('３号入力'!AD84=\"\",\"\",'３号入力'!AD84)","v":""},null,null,null,null,null,null,{"$f":"IF('３号入力'!AG84=\"\",\"\",'３号入力'!AG84)","v":""},null,null,null,null,null,null,{"$f":"IF('３号入力'!AJ84=\"\",\"\",'３号入力'!AJ84)","v":""},null,null,null,null,null,null,{"$f":"IF('３号入力'!AM84=\"\",\"\",'３号入力'!AM84)","v":""},null,null,null,null,null,null,{"$f":"IF('３号入力'!E120=\"\",\"\",'３号入力'!E120)","v":""},null,null,null,null,{"$f":"IF('３号入力'!H120=\"\",\"\",'３号入力'!H120)","v":""},null,null,null,null,null,null,null,null,null,null,null,null,{"$f":"IF('３号入力'!Q120=0,\"\",'３号入力'!Q120)","v":""}]
[null,null,null,null,null,{"$f":"IF('３号入力'!D85=\"\",\"\",'３号入力'!D85)","v":""},null,null,"","","",null,null,{"$f":"IF('３号入力'!R85=\"\",\"\",'３号入力'!R85)","v":""},null,null,null,null,null,null,{"$f":"IF('３号入力'!U85=\"\",\"\",'３号入力'!U85)","v":""},null,null,null,null,null,null,{"$f":"IF('３号入力'!X85=\"\",\"\",'３号入力'!X85)","v":""},null,null,null,null,null,null,{"$f":"IF('３号入力'!AA85=\"\",\"\",'３号入力'!AA85)","v":""},null,null,null,null,null,null,{"$f":"IF('３号入力'!AD85=\"\",\"\",'３号入力'!AD85)","v":""},null,null,null,null,null,null,{"$f":"IF('３号入力'!AG85=\"\",\"\",'３号入力'!AG85)","v":""},null,null,null,null,null,null,{"$f":"IF('３号入力'!AJ85=\"\",\"\",'３号入力'!AJ85)","v":""},null,null,null,null,null,null,{"$f":"IF('３号入力'!AM85=\"\",\"\",'３号入力'!AM85)","v":""},null,null,null,null,null,null,{"$f":"IF('３号入力'!E121=\"\",\"\",'３号入力'!E121)","v":""},null,null,null,null,{"$f":"IF('３号入力'!H121=\"\",\"\",'３号入力'!H121)","v":""},null,null,null,null,null,null,null,null,null,null,null,null,{"$f":"IF('３号入力'!Q121=0,\"\",'３号入力'!Q121)","v":""}]
[null,null,null,null,null,{"$f":"IF('３号入力'!D86=\"\",\"\",'３号入力'!D86)","v":""},null,null,"","","",null,null,{"$f":"IF('３号入力'!R86=\"\",\"\",'３号入力'!R86)","v":""},null,null,null,null,null,null,{"$f":"IF('３号入力'!U86=\"\",\"\",'３号入力'!U86)","v":""},null,null,null,null,null,null,{"$f":"IF('３号入力'!X86=\"\",\"\",'３号入力'!X86)","v":""},null,null,null,null,null,null,{"$f":"IF('３号入力'!AA86=\"\",\"\",'３号入力'!AA86)","v":""},null,null,null,null,null,null,{"$f":"IF('３号入力'!AD86=\"\",\"\",'３号入力'!AD86)","v":""},null,null,null,null,null,null,{"$f":"IF('３号入力'!AG86=\"\",\"\",'３号入力'!AG86)","v":""},null,null,null,null,null,null,{"$f":"IF('３号入力'!AJ86=\"\",\"\",'３号入力'!AJ86)","v":""},null,null,null,null,null,null,{"$f":"IF('３号入力'!AM86=\"\",\"\",'３号入力'!AM86)","v":""},null,null,null,null,null,null,{"$f":"IF('３号入力'!E122=\"\",\"\",'３号入力'!E122)","v":""},null,null,null,null,{"$f":"IF('３号入力'!H122=\"\",\"\",'３号入力'!H122)","v":""},null,null,null,null,null,null,null,null,null,null,null,null,{"$f":"IF('３号入力'!Q122=0,\"\",'３号入力'!Q122)","v":""}]
[null,null,null,null,null,"植物成長調整剤",null,null,null,null,null,null,null,{"$f":"IF('３号入力'!F91=\"\",\"/\",'３号入力'!F91)","v":"/"},null,null,null,null,{"$f":"IF('３号入力'!I91=0,0,'３号入力'!I91)","v":0},null,null,null,null,null,null,null,{"$f":"IF('３号入力'!N91=0,0,'３号入力'!N91)","v":0},null,null,null,null,null,null,null,{"$f":"IF('３号入力'!C94=\"\",\"\",'３号入力'!C94)","v":"トップジンＭ水和剤"},null,null,null,null,null,null,null,null,null,null,null,null,null,null,null,{"$f":"IF('３号入力'!F97=\"\",\"/\",'３号入力'!F97)","v":"/"},null,null,null,null,{"$f":"IF('３号入力'!I97=0,0,'３号入力'!I97)","v":0},null,null,null,null,null,null,null,{"$f":"IF('３号入力'!N97=0,0,'３号入力'!N97)","v":0},null,null,null,null,null,null,null,{"$f":"IF('３号入力'!F99=\"\",\"/\",'３号入力'!F99)","v":"/"},null,null,null,null,{"$f":"IF('３号入力'!I99=0,0,'３号入力'!I99)","v":0},null,null,null,null,null,null,null,{"$f":"IF('３号入力'!N99=0,0,'３号入力'!N99)","v":0}]
[null,null,null,null,null,{"$f":"IF('３号入力'!L88=\"\",\"\",'３号入力'!L88)","v":"アークランド液剤"},null,null,null,null,null,null,null,{"$f":"IF('３号入力'!F92=\"\",\"/\",'３号入力'!F92)","v":"/"},null,null,null,null,{"$f":"IF('３号入力'!I92=0,0,'３号入力'!I92)","v":0},null,null,null,null,null,null,null,{"$f":"IF('３号入力'!N92=0,0,'３号入力'!N92)","v":0},null,null,null,null,null,null,null,null,null,null,null,null,null,null,null,null,null,null,null,null,null,null,null,{"$f":"IF('３号入力'!F98=\"\",\"/\",'３号入力'!F98)","v":"/"},null,null,null,null,{"$f":"IF('３号入力'!I98=0,0,'３号入力'!I98)","v":0},null,null,null,null,null,null,null,{"$f":"IF('３号入力'!N98=0,0,'３号入力'!N98)","v":0},null,null,null,null,null,null,null,{"$f":"IF('３号入力'!F100=\"\",\"/\",'３号入力'!F100)","v":"/"},null,null,null,null,{"$f":"IF('３号入力'!I100=0,0,'３号入力'!I100)","v":0},null,null,null,null,null,null,null,{"$f":"IF('３号入力'!N100=0,0,'３号入力'!N100)","v":0}]

{"sheet":"４号入力","index":8,"n_rows":128,"n_cols":53,"rows_kept":128,"cut":false,"hidden":false,"merged":[[121,16,121,18],[120,2,120,3],[120,4,120,6],[120,7,120,15],[120,16,120,18],[121,2,121,3],[121,4,121,6],[121,7,121,15],[119,16,119,18],[118,2,118,3],[118,4,118,6],[118,7,118,15],[118,16,118,18],[119,2,119,3],[119,4,119,6],[119,7,119,15],[117,7,117,15],[117,16,117,18],[116,2,116,3],[116,4,116,6],[116,7,116,15],[116,16,116,18],[117,2,117,3],[117,4,117,6],[115,2,115,3],[115,4,115,6],[115,7,115,15],[115,16,115,18],[114,2,114,3],[114,4,114,6],[114,7,114,15],[114,16,114,18],[113,2,113,3],[113,4,113,6],[113,7,113,15],[113,16,113,18],[112,2,112,3],[112,4,112,6],[112,7,112,15],[112,16,112,18],[111,2,111,3],[111,4,111,6],[111,7,111,15],[111,16,111,18],[110,2,110,3],[110,4,110,6],[110,7,110,15],[110,16,110,18],[109,2,109,3],[109,4,109,6],[109,7,109,15],[109,16,109,18],[108,2,108,3],[108,4,108,6],[108,7,108,15],[108,16,108,18],[107,2,107,3],[107,4,107,6],[107,7,107,15],[107,16,107,18],[106,2,106,3],[106,4,106,6],[106,7,106,15],[106,16,106,18],[105,2,105,3],[105,4,105,6],[105,7,105,15],[105,16,105,18],[104,2,104,3],[104,4,104,6],[104,7,104,15],[104,16,104,18],[103,2,103,3],[103,4,103,6],[103,7,103,15],[103,16,103,18],[99,2,99,4],[99,5,99,7],[99,8,99,12],[99,13,99,17],[98,2,98,4],[98,5,98,7],[98,8,98,12],[98,13,98,17],[97,2,97,4],[97,5,97,7],[97,8,97,12],[97,13,97,17],[96,2,96,4],[96,5,96,7],[96,8,96,12],[96,13,96,17],[95,2,95,4],[95,5,95,7],[95,8,95,12],[95,13,95,17],[91,2,91,4],[91,5,91,7],[91,8,91,12],[91,13,91,17],[93,2,93,8],[90,2,90,4],[90,5,90,7],[90,8,90,12],[90,13,90,17],[89,2,89,4],[89,5,89,7],[89,8,89,12],[89,13,89,17],[85,35,85,37],[69,2,85,2],[85,3,85,10],[85,14,85,16],[69,35,69,37],[85,38,85,40],[85,17,85,19],[85,20,85,22],[84,35,84,37],[84,38,84,40],[85,23,85,25],[85,26,85,28],[85,29,85,31],[85,32,85,34],[83,38,83,40],[84,3,84,10],[84,14,84,16],[84,17,84,19],[84,20,84,22],[84,23,84,25],[84,26,84,28],[84,29,84,31],[84,32,84,34],[83,3,83,10],[83,14,83,16],[83,17,83,19],[83,20,83,22],[83,23,83,25],[83,26,83,28],[83,29,83,31],[83,32,83,34],[83,35,83,37],[81,38,81,40],[82,3,82,10],[82,14,82,16],[82,17,82,19],[82,20,82,22],[82,23,82,25],[82,26,82,28],[82,29,82,31],[82,32,82,34],[82,35,82,37],[82,38,82,40],[81,3,81,10],[81,14,81,16],[81,17,81,19],[81,20,81,22],[81,23,81,25],[81,26,81,28],[81,29,81,31],[81,32,81,34],[81,35,81,37],[79,38,79,40],[80,3,80,10],[80,14,80,16],[80,17,80,19],[80,20,80,22],[80,23,80,25],[80,26,80,28],[80,29,80,31],[80,32,80,34],[80,35,80,37],[80,38,80,40],[79,3,79,10],[79,14,79,16],[79,17,79,19],[79,20,79,22],[79,23,79,25],[79,26,79,28],[79,29,79,31],[79,32,79,34],[79,35,79,37],[77,38,77,40],[78,3,78,10],[78,14,78,16],[78,17,78,19],[78,20,78,22],[78,23,78,25],[78,26,78,28],[78,29,78,31],[78,32,78,34],[78,35,78,37],[78,38,78,40],[77,3,77,10],[77,14,77,16],[77,17,77,19],[77,20,77,22],[77,23,77,25],[77,26,77,28],[77,29,77,31],[77,32,77,34],[77,35,77,37],[75,38,75,40],[76,3,76,10],[76,14,76,16],[76,17,76,19],[76,20,76,22],[76,23,76,25],[76,26,76,28],[76,29,76,31],[76,32,76,34],[76,35,76,37],[76,38,76,40],[75,3,75,10],[75,14,75,16],[75,17,75,19],[75,20,75,22],[75,23,75,25],[75,26,75,28],[75,29,75,31],[75,32,75,34],[75,35,75,37],[73,38,73,40],[74,3,74,10],[74,14,74,16],[74,17,74,19],[74,20,74,22],[74,23,74,25],[74,26,74,28],[74,29,74,31],[74,32,74,34],[74,35,74,37],[74,38,74,40],[73,3,73,10],[73,14,73,16],[73,17,73,19],[73,20,73,22],[73,23,73,25],[73,26,73,28],[73,29,73,31],[73,32,73,34],[73,35,73,37],[71,38,71,40],[72,3,72,10],[72,14,72,16],[72,17,72,19],[72,20,72,22],[72,23,72,25],[72,26,72,28],[72,29,72,31],[72,32,72,34],[72,35,72,37],[72,38,72,40],[71,3,71,10],[71,14,71,16],[71,17,71,19],[71,20,71,22],[71,23,71,25],[71,26,71,28],[71,29,71,31],[71,32,71,34],[71,35,71,37],[69,38,69,40],[70,3,70,10],[70,14,70,16],[70,17,70,19],[70,20,70,22],[70,23,70,25],[70,26,70,28],[70,29,70,31],[70,32,70,34],[69,23,69,25],[69,26,69,28],[69,29,69,31],[69,32,69,34],[69,3,69,16],[69,17,69,19],[69,20,69,22],[70,35,70,37],[70,38,70,40],[67,38,67,40],[68,2,68,16],[68,17,68,19],[68,20,68,22],[68,23,68,25],[68,26,68,28],[68,29,68,31],[68,32,68,34],[68,35,68,37],[68,38,68,40],[67,26,67,28],[67,29,67,31],[67,32,67,34],[67,35,67,37],[67,2,67,16],[67,17,67,19],[67,20,67,22],[67,23,67,25],[66,38,66,40],[66,17,66,19],[66,20,66,22],[66,23,66,25],[66,26,66,28],[57,2,57,13],[66,29,66,31],[66,32,66,34],[66,35,66,37],[58,2,58,6],[58,7,58,13],[61,2,61,6],[61,7,61,13],[59,2,59,6],[59,7,59,13],[60,2,60,6],[60,7,60,13],[52,32,52,37],[51,25,51,29],[54,2,54,4],[54,5,54,7],[54,8,54,14],[54,15,54,18],[54,19,54,23],[53,15,53,18],[53,25,53,29],[51,15,51,18],[51,30,51,31],[51,5,51,7],[51,8,51,14],[46,33,46,39],[44,33,44,39],[45,26,45,29],[45,33,45,39],[46,2,46,4],[46,5,46,7],[46,8,46,25],[46,26,46,29],[53,32,53,37],[53,30,53,31],[51,32,51,37],[52,19,52,23],[52,25,52,29],[51,2,51,4],[53,2,53,4],[53,5,53,7],[53,8,53,14],[51,19,51,23],[53,19,53,23],[52,2,52,4],[52,5,52,7],[52,8,52,14],[52,15,52,18],[52,30,52,31],[42,5,42,7],[42,8,42,25],[42,26,42,29],[45,2,45,4],[45,5,45,7],[45,8,45,25],[44,2,44,4],[40,5,40,7],[40,8,40,25],[40,26,40,29],[44,5,44,7],[44,8,44,25],[44,26,44,29],[38,33,38,39],[39,2,39,4],[39,5,39,7],[39,8,39,25],[39,26,39,29],[39,33,39,39],[38,2,38,4],[42,33,42,39],[43,2,43,4],[43,5,43,7],[43,8,43,25],[43,26,43,29],[43,33,43,39],[42,2,42,4],[38,5,38,7],[38,8,38,25],[38,26,38,29],[40,33,40,39],[41,2,41,4],[41,5,41,7],[41,8,41,25],[41,26,41,29],[41,33,41,39],[40,2,40,4],[36,33,36,39],[37,2,37,4],[37,5,37,7],[37,8,37,25],[37,26,37,29],[37,33,37,39],[36,2,36,4],[36,5,36,7],[36,8,36,25],[36,26,36,29],[34,33,34,39],[35,2,35,4],[35,5,35,7],[35,8,35,25],[35,26,35,29],[35,33,35,39],[34,2,34,4],[34,5,34,7],[34,8,34,25],[34,26,34,29],[32,33,32,39],[33,2,33,4],[33,5,33,7],[33,8,33,25],[33,26,33,29],[33,33,33,39],[32,2,32,4],[32,5,32,7],[32,8,32,25],[32,26,32,29],[30,33,30,39],[31,2,31,4],[31,5,31,7],[31,8,31,25],[31,26,31,29],[31,33,31,39],[30,2,30,4],[30,5,30,7],[30,8,30,25],[30,26,30,29],[28,33,28,39],[29,2,29,4],[29,5,29,7],[29,8,29,25],[29,26,29,29],[29,33,29,39],[28,2,28,4],[28,5,28,7],[28,8,28,25],[28,26,28,29],[26,33,26,39],[27,2,27,4],[27,5,27,7],[27,8,27,25],[27,26,27,29],[27,33,27,39],[26,2,26,4],[26,5,26,7],[26,8,26,25],[26,26,26,29],[24,33,24,39],[25,2,25,4],[25,5,25,7],[25,8,25,25],[25,26,25,29],[25,33,25,39],[24,2,24,4],[24,5,24,7],[24,8,24,25],[24,26,24,29],[22,33,22,39],[23,2,23,4],[23,5,23,7],[23,8,23,25],[23,26,23,29],[23,33,23,39],[22,2,22,4],[22,5,22,7],[22,8,22,25],[22,26,22,29],[19,5,19,7],[18,5,18,7],[20,33,20,39],[21,2,21,4],[21,5,21,7],[21,8,21,25],[21,26,21,29],[21,33,21,39],[20,2,20,4],[20,5,20,7],[20,8,20,25],[20,26,20,29],[9,5,9,11],[11,2,11,4],[11,5,11,11],[10,5,10,11],[10,2,10,4],[9,2,9,4],[12,2,12,4],[12,5,12,11],[15,5,15,11],[15,2,15,4],[1,9,1,10],[1,11,1,14],[3,9,3,11],[3,12,3,18],[8,2,8,4],[8,5,8,11],[8,14,8,16],[8,17,8,23],[123,27,123,32],[57,17,57,19],[60,17,60,19],[57,20,57,26],[58,20,58,26],[59,20,59,26],[60,20,60,26],[59,17,59,19],[58,17,58,19],[87,11,87,17],[12,14,12,31],[13,2,13,4],[13,5,13,11],[13,14,13,31],[14,2,14,4],[14,5,14,11]]}
[]
[null,"４号室の入力画面",null,null,null,null,null,null,null,"No.",null,{"$f":"メニュー画面!F18","v":"４　３　６"}]
[]
[null,null,null,null,null,null,null,null,null,"氏名",null,null,{"$f":"メニュー画面!F20","v":"中　條　文　義"},null,null,null,null,null,null,null,null,null,null,null,null,null,null,null,null,null,null,null,null,{"$f":"VLOOKUP(B2,隠しページ!P7:Q22,2,FALSE)","v":"４号入力"},null,null,"→印刷画面へ"]
[]
[]
[null,"１．坪数～収穫日までの入力",null,null,null,null,null,null,null,null,null,null,null,null,"※白い枠のみに入力して下さい。ここで入力された値が、履歴シートに書き込まれます。"]
[]
[null,null,"部屋番号",null,null,4,null,null,null,null,null,null,null,null,"品種名",null,null,{"$f":"IF(F16=\"\",\"\",IF(AND(10<=MONTH(F16+1),MONTH(F16+1)<=11),\"秋　　系\",IF(AND(3<=MONTH(F16+1),MONTH(F16+1)<=5),\"春　　系\",IF(AND(6<=MONTH(F16+1),MONTH(F16+1)<=9),\"夏　　系\",\"冬　　系\"))))","v":""}]
[null,null,"坪数"]
[null,null,"品種名",null,null,"春　　系",null,null,null,null,null,null,null,null,{"$f":"IF(OR($R$9=$F$11,$R$9=\"\"),\"\",\"←県で指定された品種名と違いますが無視できます。\")","v":""}]
[null,null,"播種日"]
[null,null,"定植日",null,null,null,null,null,null,null,null,null,null,null,{"$f":"IF(OR(F13=\"\",F12=\"\"),\"\",IF(F13<F12,\"入力ミスです！播種日のほうが後の日付になりました。\",\"\"))","v":""},null,null,null,null,null,null,null,null,null,null,null,null,null,null,null,null,null,{"$f":"CONCATENATE(\"苗日数＝\",F13-F12,\"日\")","v":"苗日数＝0日"}]
[null,null,"交配日",null,null,null,null,null,null,null,null,null,null,null,{"$f":"IF(OR(F14=\"\",F13=\"\"),\"\",IF(F14<F13,\"入力ミスです！定植日の方が後になりました。\",\"\"))","v":""},null,null,null,null,null,null,null,null,null,null,null,null,null,null,null,null,null,{"$f":"CONCATENATE(\"交配日数＝\",F14-F13,\"日\")","v":"交配日数＝0日"}]
[null,null,"採果日数"]
[null,null,"収穫日",null,null,{"$f":"IF(OR(F14=\"\",F15=\"\"),\"\",F14+F15-1)","v":""},null,null,null,null,null,null,null,null,null,null,null,null,null,null,null,null,null,null,null,null,null,null,null,null,null,null,{"$f":"CONCATENATE(\"播種日～収穫日＝\",IF(F16=\"\",0,F16-F12),\"日\")","v":"播種日～収穫日＝0日"}]
[]
[null,"２．施用資材名の入力"]
[null,null,null,null,null,null,null,null,"［〃］このマークはリストから入力できます。日付はそのまま打ち込んでください。"]
[]
[null,null,null,null,null,"日付",null,null,"施用資材名",null,null,null,null,null,null,null,null,null,null,null,null,null,null,null,null,null,"投入量",null,null,null,null,null,null,"履歴シート表示確認欄"]
[null,null,null,null,null,{"$f":"IF(OR(C22=\"\",AH22=\"\"),\"\",IF(C22=\"育苗\",#REF!,IF(C22=\"定植\",#REF!,IF(C22=\"追肥（１）\",#REF!,IF(C22=\"追肥（２）\",#REF!,IF(C22=\"追肥（３）\",#REF!,\"入力ミス\"))))))","v":""},null,null,"育苗",null,null,null,null,null,null,null,null,null,null,null,null,null,null,null,null,null,null,null,null,null,null,null,null,{"$f":"IF(I22=\"\",\"\",VLOOKUP(I22,Ｍ肥料台帳,4,FALSE))","v":"育苗"}]
[null,null,null,null,null,"2006-01-01",null,null,null,null,null,null,null,null,null,null,null,null,null,null,null,null,null,null,null,null,null,null,null,null,null,null,null,""]
[null,null,null,null,null,"〃",null,null,null,null,null,null,null,null,null,null,null,null,null,null,null,null,null,null,null,null,null,null,null,null,null,null,null,""]
[null,null,null,null,null,"〃",null,null,null,null,null,null,null,null,null,null,null,null,null,null,null,null,null,null,null,null,null,null,null,null,null,null,null,""]
[null,null,null,null,null,"〃",null,null,null,null,null,null,null,null,null,null,null,null,null,null,null,null,null,null,null,null,null,null,null,null,null,null,null,""]
[null,null,null,null,null,"〃",null,null,null,null,null,null,null,null,null,null,null,null,null,null,null,null,null,null,null,null,null,null,null,null,null,null,null,""]
[null,null,null,null,null,"〃",null,null,null,null,null,null,null,null,null,null,null,null,null,null,null,null,null,null,null,null,null,null,null,null,null,null,null,""]
[null,null,null,null,null,"〃",null,null,null,null,null,null,null,null,null,null,null,null,null,null,null,null,null,null,null,null,null,null,null,null,null,null,null,""]
[null,null,null,null,null,"〃",null,null,null,null,null,null,null,null,null,null,null,null,null,null,null,null,null,null,null,null,null,null,null,null,null,null,null,""]
[null,null,null,null,null,"〃",null,null,null,null,null,null,null,null,null,null,null,null,null,null,null,null,null,null,null,null,null,null,null,null,null,null,null,""]
[null,null,null,null,null,"〃",null,null,null,null,null,null,null,null,null,null,null,null,null,null,null,null,null,null,null,null,null,null,null,null,null,null,null,""]
[null,null,null,null,null,"〃",null,null,null,null,null,null,null,null,null,null,null,null,null,null,null,null,null,null,null,null,null,null,null,null,null,null,null,""]
[null,null,null,null,null,"〃",null,null,null,null,null,null,null,null,null,null,null,null,null,null,null,null,null,null,null,null,null,null,null,null,null,null,null,""]
[null,null,null,null,null,"〃",null,null,null,null,null,null,null,null,null,null,null,null,null,null,null,null,null,null,null,null,null,null,null,null,null,null,null,""]
[null,null,null,null,null,null,null,null,null,null,null,null,null,null,null,null,null,null,null,null,null,null,null,null,null,null,null,null,null,null,null,null,null,""]
[null,null,null,null,null,null,null,null,null,null,null,null,null,null,null,null,null,null,null,null,null,null,null,null,null,null,null,null,null,null,null,null,null,""]
[null,null,null,null,null,null,null,null,null,null,null,null,null,null,null,null,null,null,null,null,null,null,null,null,null,null,null,null,null,null,null,null,null,""]
[null,null,null,null,null,null,null,null,null,null,null,null,null,null,null,null,null,null,null,null,null,null,null,null,null,null,null,null,null,null,null,null,null,""]
[null,null,null,null,null,null,null,null,null,null,null,null,null,null,null,null,null,null,null,null,null,null,null,null,null,null,null,null,null,null,null,null,null,""]
[null,null,null,null,null,null,null,null,null,null,null,null,null,null,null,null,null,null,null,null,null,null,null,null,null,null,null,null,null,null,null,null,null,""]
[null,null,null,null,null,null,null,null,null,null,null,null,null,null,null,null,null,null,null,null,null,null,null,null,null,null,null,null,null,null,null,null,null,""]
[null,null,null,null,null,null,null,null,null,null,null,null,null,null,null,null,null,null,null,null,null,null,null,null,null,null,null,null,null,null,null,null,null,""]
[null,null,null,null,null,null,null,null,null,null,null,null,null,null,null,null,null,null,null,null,null,null,null,null,null,null,null,null,null,null,null,null,null,""]
[null,null,null,null,null,null,null,null,null,null,null,null,null,null,null,null,null,null,null,null,null,null,null,null,null,null,null,null,null,null,null,null,null,""]
[null,null,null,null,null,null,null,null,null,null,null,null,null,null,null,null,null,null,null,null,null,null,null,null,null,null,null,null,null,null,null,null,null,""]
[null,null,null,null,null,null,null,null,null,null,null,null,null,null,null,null,null,null,null,null,null,null,null,null,null,null,null,null,null,null,null,null,null,""]
[]
[]
[null,"３．施用粒剤の入力"]
[null,null,null,null,null,null,null,null,null,null,null,null,null,null,null,null,null,null,null,null,null,null,null,null,null,null,null,null,null,null,null,null,null,null,null,null,null,null,null,null,null,null,null,null,null,null,null,null,null,null,null,null,"施用粒剤の日付入力"]
[null,null,null,null,null,"日付",null,null,"施用粒剤名",null,null,null,null,null,null,"施用量（g）",null,null,null,"施用鉢数（鉢）",null,null,null,null,null,"登録施用量",null,null,null,null,"回数",null,"時期"]
[null,null,"１回目",null,null,null,null,null,null,null,null,null,null,null,null,null,null,null,null,null,null,null,null,null,null,{"$f":"IF(I53=\"\",\"\",VLOOKUP(I53,施用粒剤台帳,2,FALSE))","v":""},null,null,null,null,{"$f":"IF(I53=\"\",\"\",VLOOKUP(I53,施用粒剤台帳,3,FALSE))","v":""},null,{"$f":"IF(I53=\"\",\"\",VLOOKUP(I53,施用粒剤台帳,4,FALSE))","v":""}]
[null,null,"２回目",null,null,null,null,null,null,null,null,null,null,null,null,null,null,null,null,null,null,null,null,null,null,{"$f":"IF(I54=\"\",\"\",VLOOKUP(I54,施用粒剤台帳,2,FALSE))","v":""},null,null,null,null,{"$f":"IF(I54=\"\",\"\",VLOOKUP(I54,施用粒剤台帳,3,FALSE))","v":""},null,{"$f":"IF(I54=\"\",\"\",VLOOKUP(I54,施用粒剤台帳,4,FALSE))","v":""}]
[]
[null,"４．硫黄くん蒸剤の入力",null,null,null,null,null,null,null,null,"※使用が２年にまたがるときは、前年の日付の前に年号を付けないとミスになります。"]
[]
[null,null,"履歴シートへの表示確認欄",null,null,null,null,null,null,null,null,null,null,null,null,null,null,"播種日",null,null,{"$f":"IF(F12=\"\",\"\",F12)","v":""}]
[null,null,"開始日",null,null,null,null,null,null,null,null,null,null,null,null,null,null,"定植日",null,null,{"$f":"IF(F13=\"\",\"\",F13)","v":""}]
[null,null,"終了日",null,null,null,null,null,null,null,null,null,null,null,{"$f":"IF(H60=\"\",\"\",IF(H60<H59,\" ミス\",\"\"))","v":""},null,null,"交配日",null,null,{"$f":"IF(F14=\"\",\"\",F14)","v":""}]
[null,null,"１日の使用量",null,null,null,null,2,null,null,null,null,null,null,null,null,null,"収穫日",null,null,{"$f":"IF(F16=\"\",\"\",F16)","v":""}]
[null,null,"総使用量",null,null,null,null,{"$f":"IF(OR(H59=\"\",OR(H60=\"\",H61=\"\")),\"\",(H60-H59)*H61)","v":""},null,null,null,null,null,null,null,null,null,null,null,null,"↑１.で入力した日付です。"]
[]
[null,"５．農薬散布の入力"]
[null,null,null,null,null,null,null,null,null,null,null,null,null,null,null,null,null,null,null,null,null,null,null,null,null,null,null,null,null,null,null,null,null,null,null,null,null,null,null,null,null,null,null,null,null,null,null,null,null,null,null,null,"農薬散布の日付入力"]
[]
[null,null,null,null,null,null,null,null,null,null,null,null,null,null,null,null,null,"Ｂ１",null,null,"Ｂ２",null,null,"Ｂ３",null,null,"Ｂ４",null,null,"Ｂ５",null,null,"Ｂ６",null,null,"Ｂ７",null,null,"Ｂ８"]
[null,null,"使用年月日"]
[null,null,"生育ステージ",null,null,null,null,null,null,null,null,null,null,null,null,null,null,"育苗",null,null,"木作り",null,null,"木作り",null,null,"肥大期",null,null,"肥大期",null,null,"仕上げ",null,null,"仕上げ",null,null,"仕上げ"]
[null,null,"使用農薬名","散布量"]
[null,null,null,null,null,null,null,null,null,null,null,{"$f":"IF(D71=\"\",\"\",VLOOKUP(D71,Ｍ農薬台帳,3,FALSE))","v":""},{"$f":"IF(D71=\"\",\"\",\"-\")","v":""},{"$f":"IF(D71=\"\",\"\",VLOOKUP(D71,Ｍ農薬台帳,2,FALSE))","v":""},{"$f":"IF(D71=\"\",\"\",VLOOKUP(D71,Ｍ農薬台帳,4,FALSE))","v":""}]
[null,null,null,null,null,null,null,null,null,null,null,"","","",""]
[null,null,null,null,null,null,null,null,null,null,null,"","","",""]
[null,null,null,null,null,null,null,null,null,null,null,"","","",""]
[null,null,null,null,null,null,null,null,null,null,null,"","","",""]
[null,null,null,null,null,null,null,null,null,null,null,"","","",""]
[null,null,null,null,null,null,null,null,null,null,null,"","","",""]
[null,null,null,null,null,null,null,null,null,null,null,"","","",""]
[null,null,null,null,null,null,null,null,null,null,null,"","","",""]
[null,null,null,null,null,null,null,null,null,null,null,"","","",""]
[null,null,null,null,null,null,null,null,null,null,null,"","","",""]
[null,null,null,null,null,null,null,null,null,null,null,"","","",""]
[null,null,null,null,null,null,null,null,null,null,null,"","","",""]
[null,null,null,null,null,null,null,null,null,null,null,"","","",""]
[null,null,null,null,null,null,null,null,null,null,null,"","","",""]
[null,null,null,null,null,null,null,null,null,null,null,"","","",""]
[]
[null,"６．植物成長調整剤の入力",null,null,null,null,null,null,null,null,null,"アークランド液剤",null,null,null,null,null,null,"　を使用した。"]
[]
[null,null,null,null,null,"日付",null,null,"希釈倍数",null,null,null,null,"散布量"]
[null,null,"1回目"]
[null,null,"2回目"]
[]
[null,"７．トップジンＭ水和剤の入力","トップジンＭ水和剤",null,null,null,null,null,null,"　の入力"]
[]
[null,null,null,null,null,"日付",null,null,"希釈倍数",null,null,null,null,"散布量"]
[null,null,"1回目"]
[null,null,"2回目"]
[null,null,"3回目"]
[null,null,"4回目"]
[]
[null,"８．施用液肥の入力"]
[]
[null,null,null,null,"日付",null,null,"液肥・葉面散布剤名",null,null,null,null,null,null,null,null,"使用量"]
[null,null,1]
[null,null,2]
[null,null,3]
[null,null,4]
[null,null,5]
[null,null,6]
[null,null,7]
[null,null,8]
[null,null,9]
[null,null,10]
[null,null,11]
[null,null,12]
[null,null,13]
[null,null,14]
[null,null,15]
[null,null,16]
[null,null,17]
[null,null,18]
[]
[null,"９.小メロンの出荷がある場合は、この枠に記載してください。リストから選べます。→"]
[]
[null,"10．印刷プレビューボタンを押し　印刷状態の確認をして　良ければそのまま印刷してください。"]
[]
[null,"11．以上で終りです。お疲れ様でした。"]

{"sheet":"４号Ｐ","index":9,"n_rows":36,"n_cols":88,"rows_kept":36,"cut":false,"hidden":false,"merged":[[4,68,4,72],[4,73,4,91],[4,38,4,47],[5,58,5,67],[4,48,4,52],[4,53,4,57],[4,58,4,67],[2,4,2,5],[2,6,2,31],[4,13,4,27],[4,33,4,37],[5,68,5,72],[5,73,5,77],[5,78,5,91],[6,7,6,8],[6,13,6,17],[6,18,6,27],[6,28,6,32],[6,33,6,37],[6,38,6,47],[6,48,6,52],[6,53,6,57],[6,58,6,67],[6,68,6,72],[6,73,6,80],[6,81,6,91],[5,13,5,17],[5,18,5,27],[5,28,5,32],[5,33,5,37],[5,38,5,47],[5,48,5,52],[5,53,5,57],[7,6,7,7],[7,13,7,17],[7,18,7,27],[7,28,7,32],[7,33,7,37],[7,38,7,47],[7,48,7,52],[7,53,7,57],[8,58,8,67],[7,58,7,67],[8,6,8,12],[8,13,8,17],[8,18,8,27],[8,28,8,32],[9,58,9,67],[7,68,7,72],[7,73,7,77],[8,68,8,72],[8,73,8,80],[7,78,7,91],[8,81,8,91],[8,33,8,37],[8,38,8,47],[8,48,8,52],[8,53,8,57],[9,68,9,72],[9,73,9,91],[13,13,13,17],[13,18,13,27],[13,28,13,32],[9,18,9,27],[9,28,9,32],[9,33,9,37],[9,38,9,47],[9,48,9,52],[9,53,9,57],[10,48,10,52],[10,53,10,57],[11,53,12,57],[13,53,13,57],[11,48,12,52],[13,33,13,37],[13,38,13,47],[13,48,13,52],[10,83,11,91],[11,58,12,67],[11,68,12,72],[12,73,13,81],[12,82,13,91],[13,68,13,72],[10,58,10,67],[10,68,10,72],[10,73,11,82],[13,58,13,67],[9,6,9,12],[9,13,9,17],[11,4,12,5],[11,6,12,12],[11,13,12,17],[11,18,12,27],[11,28,12,32],[11,33,12,37],[11,38,12,47],[10,6,10,12],[10,13,10,17],[10,18,10,27],[10,28,10,32],[10,33,10,37],[10,38,10,47],[15,69,15,91],[16,4,16,12],[16,13,16,19],[16,20,16,26],[16,27,16,33],[16,34,16,40],[16,41,16,47],[16,48,16,54],[16,55,16,61],[16,62,16,68],[16,69,16,73],[16,74,16,86],[16,87,16,91],[15,4,15,12],[15,13,15,19],[15,20,15,26],[15,27,15,33],[15,34,15,40],[15,41,15,47],[15,48,15,54],[15,55,15,61],[15,62,15,68],[17,4,35,4],[17,5,17,12],[17,13,17,19],[17,20,17,26],[19,5,19,7],[19,10,19,12],[19,13,19,19],[19,20,19,26],[21,5,21,7],[21,10,21,12],[23,5,23,7],[23,10,23,12],[23,13,23,19],[23,20,23,26],[24,5,24,7],[24,10,24,12],[24,13,24,19],[24,20,24,26],[25,5,25,7],[25,10,25,12],[25,13,25,19],[25,20,25,26],[26,5,26,7],[26,10,26,12],[17,62,17,68],[17,69,17,73],[17,74,17,86],[17,87,17,91],[18,5,18,7],[18,10,18,12],[18,13,18,19],[18,20,18,26],[18,27,18,33],[18,34,18,40],[18,41,18,47],[18,48,18,54],[18,55,18,61],[18,62,18,68],[18,69,18,73],[18,74,18,86],[18,87,18,91],[17,27,17,33],[17,34,17,40],[17,41,17,47],[17,48,17,54],[17,55,17,61],[19,62,19,68],[19,69,19,73],[19,74,19,86],[19,87,19,91],[20,5,20,7],[20,10,20,12],[20,13,20,19],[20,20,20,26],[20,27,20,33],[20,34,20,40],[20,41,20,47],[20,48,20,54],[20,55,20,61],[20,62,20,68],[20,69,20,73],[20,74,20,86],[20,87,20,91],[19,27,19,33],[19,34,19,40],[19,41,19,47],[19,48,19,54],[19,55,19,61],[21,62,21,68],[21,69,21,73],[21,74,21,86],[21,87,21,91],[22,5,22,7],[22,10,22,12],[22,13,22,19],[22,20,22,26],[22,27,22,33],[22,34,22,40],[22,41,22,47],[22,48,22,54],[22,55,22,61],[22,62,22,68],[22,69,22,73],[22,74,22,86],[22,87,22,91],[21,13,21,19],[21,20,21,26],[21,27,21,33],[21,34,21,40],[21,41,21,47],[21,48,21,54],[21,55,21,61],[23,27,23,33],[23,34,23,40],[23,41,23,47],[23,48,23,54],[23,55,23,61],[23,62,23,68],[23,69,23,73],[23,74,23,86],[23,87,23,91],[25,74,25,86],[25,87,25,91],[24,27,24,33],[24,34,24,40],[24,41,24,47],[24,48,24,54],[24,55,24,61],[24,62,24,68],[24,69,24,73],[24,74,24,86],[24,87,24,91],[26,41,26,47],[26,48,26,54],[26,55,26,61],[26,62,26,68],[26,69,26,73],[25,27,25,33],[25,34,25,40],[25,41,25,47],[25,48,25,54],[25,55,25,61],[25,62,25,68],[25,69,25,73],[28,27,28,33],[28,34,28,40],[28,41,28,47],[28,48,28,54],[28,55,28,61],[26,74,26,86],[26,87,26,91],[27,5,27,7],[27,10,27,12],[27,13,27,19],[27,20,27,26],[27,27,27,33],[27,34,27,40],[27,41,27,47],[27,48,27,54],[27,55,27,61],[27,62,27,68],[27,69,27,73],[27,74,27,86],[27,87,27,91],[26,13,26,19],[26,20,26,26],[26,27,26,33],[26,34,26,40],[30,41,30,47],[30,48,30,54],[30,55,30,61],[28,62,28,68],[28,69,28,73],[28,74,28,86],[28,87,28,91],[29,5,29,7],[29,10,29,12],[29,13,29,19],[29,20,29,26],[29,27,29,33],[29,34,29,40],[29,41,29,47],[29,48,29,54],[29,55,29,61],[29,62,29,68],[29,69,29,73],[29,74,29,86],[29,87,29,91],[28,5,28,7],[28,10,28,12],[28,13,28,19],[28,20,28,26],[32,55,32,61],[30,62,30,68],[30,69,30,73],[30,74,30,86],[30,87,30,91],[31,5,31,7],[31,10,31,12],[31,13,31,19],[31,20,31,26],[31,27,31,33],[31,34,31,40],[31,41,31,47],[31,48,31,54],[31,55,31,61],[31,62,31,68],[31,69,31,73],[31,74,31,86],[31,87,31,91],[30,5,30,7],[30,10,30,12],[30,13,30,19],[30,20,30,26],[30,27,30,33],[30,34,30,40],[0,64,0,89],[34,5,34,12],[35,5,35,12],[35,76,35,83],[33,87,33,91],[34,13,34,17],[34,18,34,25],[34,26,34,33],[34,34,35,49],[34,50,34,54],[34,55,34,62],[34,63,34,70],[34,71,34,75],[33,41,33,47],[33,48,33,54],[33,55,33,61],[33,62,33,68],[33,69,33,73],[33,74,33,86],[32,62,32,68],[32,69,32,73],[32,74,32,86],[32,87,32,91],[33,5,33,7],[4,1,5,2],[35,84,35,91],[34,76,34,83],[34,84,34,91],[35,13,35,17],[35,18,35,25],[35,26,35,33],[35,50,35,54],[35,55,35,62],[35,63,35,70],[35,71,35,75],[33,10,33,12],[33,13,33,19],[33,20,33,26],[33,27,33,33],[33,34,33,40],[32,5,32,7],[32,10,32,12],[32,13,32,19],[32,20,32,26],[32,27,32,33],[32,34,32,40],[32,41,32,47],[32,48,32,54]]}
[null,null,null,null,null,null,null,null,null,null,null,null,null,null,null,null,null,null,null,null,null,null,null,null,null,null,null,null,null,null,null,null,null,null,null,null,null,null,null,null,null,null,null,null,null,null,null,null,null,null,null,null,null,null,null,null,null,null,null,null,null,null,null,null,{"$f":"IF('４号入力'!AB124=\"\",\"\",'４号入力'!AB124)","v":""}]
[]
[null,null,null,null,"栽培履歴",null,{"$f":"メニュー画面!F16","v":"静岡県温室農業協同組合（クラウンメロン支所）"},null,null,null,null,null,null,null,null,null,null,null,null,null,null,null,null,null,null,null,null,null,null,null,null,null,"検査日",null,null,null,null,null,"令和　　年　　月　　日",null,null,null,null,null,null,null,null,null,null,null,null,null,null,null,"検査責任者氏名　　　　　　　　　　 　　　　　　　　　　　　　印"]
[]
[null,"４号室",null,null,"組合員番号：",null,{"$f":"メニュー画面!F18","v":"４　３　６"},null,null,null,null,null,null,"施用資材名",null,null,null,null,null,null,null,null,null,null,null,null,null,null,"投入量",null,null,null,null,{"$f":"IF('４号入力'!F30=\"\",\"\",'４号入力'!F30)","v":"〃"},null,null,null,null,{"$f":"IF('４号入力'!AH30=\"\",\"\",'４号入力'!AH30)","v":""},null,null,null,null,null,null,null,null,null,{"$f":"IF('４号入力'!AA30=\"\",\"\",'４号入力'!AA30)","v":""},null,null,null,null,{"$f":"IF('４号入力'!F39=\"\",\"\",'４号入力'!F39)","v":""},null,null,null,null,{"$f":"IF('４号入力'!AH39=\"\",\"\",'４号入力'!AH39)","v":""},null,null,null,null,null,null,null,null,null,{"$f":"IF('４号入力'!AA39=\"\",\"\",'４号入力'!AA39)","v":""},null,null,null,null,"施用粒剤"]
[null,null,null,null,"氏名：",null,{"$f":"メニュー画面!F20","v":"中　條　文　義"},null,null,null,null,null,null,{"$f":"IF('４号入力'!F22=\"\",\"\",'４号入力'!F22)","v":""},null,null,null,null,{"$f":"IF('４号入力'!AH22=\"\",\"\",'４号入力'!AH22)","v":"育苗"},null,null,null,null,null,null,null,null,null,{"$f":"IF('４号入力'!AA22=\"\",\"\",'４号入力'!AA22)","v":""},null,null,null,null,{"$f":"IF('４号入力'!F31=\"\",\"\",'４号入力'!F31)","v":"〃"},null,null,null,null,{"$f":"IF('４号入力'!AH31=\"\",\"\",'４号入力'!AH31)","v":""},null,null,null,null,null,null,null,null,null,{"$f":"IF('４号入力'!AA31=\"\",\"\",'４号入力'!AA31)","v":""},null,null,null,null,{"$f":"IF('４号入力'!F40=\"\",\"\",'４号入力'!F40)","v":""},null,null,null,null,{"$f":"IF('４号入力'!AH40=\"\",\"\",'４号入力'!AH40)","v":""},null,null,null,null,null,null,null,null,null,{"$f":"IF('４号入力'!AA40=\"\",\"\",'４号入力'!AA40)","v":""},null,null,null,null,{"$f":"IF('４号入力'!F53=\"\",\"/\",'４号入力'!F53)","v":"/"},null,null,null,null,{"$f":"IF('４号入力'!I53=\"\",\"\",'４号入力'!I53)","v":""}]
[null,null,null,null,"部屋番号：",null,{"$f":"IF('４号入力'!F9=\"\",\"\",'４号入力'!F9)","v":4},{"$f":"IF('４号入力'!F10=\"\",\"\",'４号入力'!F10)","v":""},null,null,null,null,null,{"$f":"IF('４号入力'!F23=\"\",\"\",'４号入力'!F23)","v":"2006-01-01"},null,null,null,null,{"$f":"IF('４号入力'!AH23=\"\",\"\",'４号入力'!AH23)","v":""},null,null,null,null,null,null,null,null,null,{"$f":"IF('４号入力'!AA23=\"\",\"\",'４号入力'!AA23)","v":""},null,null,null,null,{"$f":"IF('４号入力'!F32=\"\",\"\",'４号入力'!F32)","v":"〃"},null,null,null,null,{"$f":"IF('４号入力'!AH32=\"\",\"\",'４号入力'!AH32)","v":""},null,null,null,null,null,null,null,null,null,{"$f":"IF('４号入力'!AA32=\"\",\"\",'４号入力'!AA32)","v":""},null,null,null,null,{"$f":"IF('４号入力'!F41=\"\",\"\",'４号入力'!F41)","v":""},null,null,null,null,{"$f":"IF('４号入力'!AH41=\"\",\"\",'４号入力'!AH41)","v":""},null,null,null,null,null,null,null,null,null,{"$f":"IF('４号入力'!AA41=\"\",\"\",'４号入力'!AA41)","v":""},null,null,null,null,{"$f":"IF('４号入力'!P53=0,\"g\",'４号入力'!P53)","v":"g"},null,null,null,null,null,null,null,{"$f":"IF('４号入力'!T53=0,0,'４号入力'!T53)","v":0}]
[null,null,null,null,"品種名：",null,{"$f":"IF('４号入力'!F11=\"\",\"\",'４号入力'!F11)","v":"春　　系"},null,null,null,null,null,null,{"$f":"IF('４号入力'!F24=\"\",\"\",'４号入力'!F24)","v":"〃"},null,null,null,null,{"$f":"IF('４号入力'!AH24=\"\",\"\",'４号入力'!AH24)","v":""},null,null,null,null,null,null,null,null,null,{"$f":"IF('４号入力'!AA24=\"\",\"\",'４号入力'!AA24)","v":""},null,null,null,null,{"$f":"IF('４号入力'!F33=\"\",\"\",'４号入力'!F33)","v":"〃"},null,null,null,null,{"$f":"IF('４号入力'!AH33=\"\",\"\",'４号入力'!AH33)","v":""},null,null,null,null,null,null,null,null,null,{"$f":"IF('４号入力'!AA33=\"\",\"\",'４号入力'!AA33)","v":""},null,null,null,null,{"$f":"IF('４号入力'!F42=\"\",\"\",'４号入力'!F42)","v":""},null,null,null,null,{"$f":"IF('４号入力'!AH42=\"\",\"\",'４号入力'!AH42)","v":""},null,null,null,null,null,null,null,null,null,{"$f":"IF('４号入力'!AA42=\"\",\"\",'４号入力'!AA42)","v":""},null,null,null,null,{"$f":"IF('４号入力'!F54=\"\",\"/\",'４号入力'!F54)","v":"/"},null,null,null,null,{"$f":"IF('４号入力'!I54=\"\",\"\",'４号入力'!I54)","v":""}]
[null,null,null,null,"播種日：",null,{"$f":"IF('４号入力'!F12=\"\",\"\",'４号入力'!F12)","v":""},null,null,null,null,null,null,{"$f":"IF('４号入力'!F25=\"\",\"\",'４号入力'!F25)","v":"〃"},null,null,null,null,{"$f":"IF('４号入力'!AH25=\"\",\"\",'４号入力'!AH25)","v":""},null,null,null,null,null,null,null,null,null,{"$f":"IF('４号入力'!AA25=\"\",\"\",'４号入力'!AA25)","v":""},null,null,null,null,{"$f":"IF('４号入力'!F34=\"\",\"\",'４号入力'!F34)","v":"〃"},null,null,null,null,{"$f":"IF('４号入力'!AH34=\"\",\"\",'４号入力'!AH34)","v":""},null,null,null,null,null,null,null,null,null,{"$f":"IF('４号入力'!AA34=\"\",\"\",'４号入力'!AA34)","v":""},null,null,null,null,{"$f":"IF('４号入力'!F43=\"\",\"\",'４号入力'!F43)","v":""},null,null,null,null,{"$f":"IF('４号入力'!AH43=\"\",\"\",'４号入力'!AH43)","v":""},null,null,null,null,null,null,null,null,null,{"$f":"IF('４号入力'!AA43=\"\",\"\",'４号入力'!AA43)","v":""},null,null,null,null,{"$f":"IF('４号入力'!P54=0,\"g\",'４号入力'!P54)","v":"g"},null,null,null,null,null,null,null,{"$f":"IF('４号入力'!T54=0,0,'４号入力'!T54)","v":0}]
[null,null,null,null,"定植日：",null,{"$f":"IF('４号入力'!F13=\"\",\"\",'４号入力'!F13)","v":""},null,null,null,null,null,null,{"$f":"IF('４号入力'!F26=\"\",\"\",'４号入力'!F26)","v":"〃"},null,null,null,null,{"$f":"IF('４号入力'!AH26=\"\",\"\",'４号入力'!AH26)","v":""},null,null,null,null,null,null,null,null,null,{"$f":"IF('４号入力'!AA26=\"\",\"\",'４号入力'!AA26)","v":""},null,null,null,null,{"$f":"IF('４号入力'!F35=\"\",\"\",'４号入力'!F35)","v":"〃"},null,null,null,null,{"$f":"IF('４号入力'!AH35=\"\",\"\",'４号入力'!AH35)","v":""},null,null,null,null,null,null,null,null,null,{"$f":"IF('４号入力'!AA35=\"\",\"\",'４号入力'!AA35)","v":""},null,null,null,null,{"$f":"IF('４号入力'!F44=\"\",\"\",'４号入力'!F44)","v":""},null,null,null,null,{"$f":"IF('４号入力'!AH44=\"\",\"\",'４号入力'!AH44)","v":""},null,null,null,null,null,null,null,null,null,{"$f":"IF('４号入力'!AA44=\"\",\"\",'４号入力'!AA44)","v":""},null,null,null,null,"硫黄くん蒸剤"]
[null,null,null,null,"交配日：",null,{"$f":"IF('４号入力'!F14=\"\",\"\",'４号入力'!F14)","v":""},null,null,null,null,null,null,{"$f":"IF('４号入力'!F27=\"\",\"\",'４号入力'!F27)","v":"〃"},null,null,null,null,{"$f":"IF('４号入力'!AH27=\"\",\"\",'４号入力'!AH27)","v":""},null,null,null,null,null,null,null,null,null,{"$f":"IF('４号入力'!AA27=\"\",\"\",'４号入力'!AA27)","v":""},null,null,null,null,{"$f":"IF('４号入力'!F36=\"\",\"\",'４号入力'!F36)","v":""},null,null,null,null,{"$f":"IF('４号入力'!AH36=\"\",\"\",'４号入力'!AH36)","v":""},null,null,null,null,null,null,null,null,null,{"$f":"IF('４号入力'!AA36=\"\",\"\",'４号入力'!AA36)","v":""},null,null,null,null,{"$f":"IF('４号入力'!F45=\"\",\"\",'４号入力'!F45)","v":""},null,null,null,null,{"$f":"IF('４号入力'!AH45=\"\",\"\",'４号入力'!AH45)","v":""},null,null,null,null,null,null,null,null,null,{"$f":"IF('４号入力'!AA45=\"\",\"\",'４号入力'!AA45)","v":""},null,null,null,null,{"$f":"IF('４号入力'!H59=\"\",\"/      ～\",'４号入力'!H59)","v":"/      ～"},null,null,null,null,null,null,null,null,null,{"$f":"IF('４号入力'!H60=\"\",\"    /\",'４号入力'!H60)","v":"    /"}]
[null,null,null,null,"収穫日：",null,{"$f":"IF('４号入力'!F16=\"\",\"\",'４号入力'!F16)","v":""},null,null,null,null,null,null,{"$f":"IF('４号入力'!F28=\"\",\"\",'４号入力'!F28)","v":"〃"},null,null,null,null,{"$f":"IF('４号入力'!AH28=\"\",\"\",'４号入力'!AH28)","v":""},null,null,null,null,null,null,null,null,null,{"$f":"IF('４号入力'!AA28=\"\",\"\",'４号入力'!AA28)","v":""},null,null,null,null,{"$f":"IF('４号入力'!F37=\"\",\"\",'４号入力'!F37)","v":""},null,null,null,null,{"$f":"IF('４号入力'!AH37=\"\",\"\",'４号入力'!AH37)","v":""},null,null,null,null,null,null,null,null,null,{"$f":"IF('４号入力'!AA37=\"\",\"\",'４号入力'!AA37)","v":""},null,null,null,null,{"$f":"IF('４号入力'!F46=\"\",\"\",'４号入力'!F46)","v":""},null,null,null,null,{"$f":"IF('４号入力'!AH46=\"\",\"\",'４号入力'!AH46)","v":""},null,null,null,null,null,null,null,null,null,{"$f":"IF('４号入力'!AA46=\"\",\"\",'４号入力'!AA46)","v":""}]
[null,null,null,null,null,null,null,null,null,null,null,null,null,null,null,null,null,null,null,null,null,null,null,null,null,null,null,null,null,null,null,null,null,null,null,null,null,null,null,null,null,null,null,null,null,null,null,null,null,null,null,null,null,null,null,null,null,null,null,null,null,null,null,null,null,null,null,null,null,null,null,null,null,{"$f":"IF('４号入力'!H61=\"\",\"g/日\",'４号入力'!H61)","v":2},null,null,null,null,null,null,null,null,{"$f":"IF('４号入力'!H62=\"\",\"g/部屋\",'４号入力'!H62)","v":"g/部屋"}]
[null,null,null,null,"採果日数：",null,{"$f":"'４号入力'!F15","v":0},null,null,null,null,null,null,{"$f":"IF('４号入力'!F29=\"\",\"\",'４号入力'!F29)","v":"〃"},null,null,null,null,{"$f":"IF('４号入力'!AH29=\"\",\"\",'４号入力'!AH29)","v":""},null,null,null,null,null,null,null,null,null,{"$f":"IF('４号入力'!AA29=\"\",\"\",'４号入力'!AA29)","v":""},null,null,null,null,{"$f":"IF('４号入力'!F38=\"\",\"\",'４号入力'!F38)","v":""},null,null,null,null,{"$f":"IF('４号入力'!AH38=\"\",\"\",'４号入力'!AH38)","v":""},null,null,null,null,null,null,null,null,null,{"$f":"IF('４号入力'!AA38=\"\",\"\",'４号入力'!AA38)","v":""},null,null,null,null,{"$f":"IF('４号入力'!F47=\"\",\"\",'４号入力'!F47)","v":""},null,null,null,null,{"$f":"IF('４号入力'!AH47=\"\",\"\",'４号入力'!AH47)","v":""},null,null,null,null,null,null,null,null,null,{"$f":"IF('４号入力'!AA47=\"\",\"\",'４号入力'!AA47)","v":""}]
[]
[null,null,null,null,"使用年月日",null,null,null,null,null,null,null,null,{"$f":"IF('４号入力'!R68=\"\",\"/\",'４号入力'!R68)","v":"/"},null,null,null,null,null,null,{"$f":"IF('４号入力'!U68=\"\",\"/\",'４号入力'!U68)","v":"/"},null,null,null,null,null,null,{"$f":"IF('４号入力'!X68=\"\",\"/\",'４号入力'!X68)","v":"/"},null,null,null,null,null,null,{"$f":"IF('４号入力'!AA68=\"\",\"/\",'４号入力'!AA68)","v":"/"},null,null,null,null,null,null,{"$f":"IF('４号入力'!AD68=\"\",\"/\",'４号入力'!AD68)","v":"/"},null,null,null,null,null,null,{"$f":"IF('４号入力'!AG68=\"\",\"/\",'４号入力'!AG68)","v":"/"},null,null,null,null,null,null,{"$f":"IF('４号入力'!AJ68=\"\",\"/\",'４号入力'!AJ68)","v":"/"},null,null,null,null,null,null,{"$f":"IF('４号入力'!AM68=\"\",\"/\",'４号入力'!AM68)","v":"/"},null,null,null,null,null,null,"使用液肥・葉面散布剤"]
[null,null,null,null,"生育ステージ",null,null,null,null,null,null,null,null,{"$f":"IF('４号入力'!R69=\"\",\"\",'４号入力'!R69)","v":"育苗"},null,null,null,null,null,null,{"$f":"IF('４号入力'!U69=\"\",\"\",'４号入力'!U69)","v":"木作り"},null,null,null,null,null,null,{"$f":"IF('４号入力'!X69=\"\",\"\",'４号入力'!X69)","v":"木作り"},null,null,null,null,null,null,{"$f":"IF('４号入力'!AA69=\"\",\"\",'４号入力'!AA69)","v":"肥大期"},null,null,null,null,null,null,{"$f":"IF('４号入力'!AD69=\"\",\"\",'４号入力'!AD69)","v":"肥大期"},null,null,null,null,null,null,{"$f":"IF('４号入力'!AG69=\"\",\"\",'４号入力'!AG69)","v":"仕上げ"},null,null,null,null,null,null,{"$f":"IF('４号入力'!AJ69=\"\",\"\",'４号入力'!AJ69)","v":"仕上げ"},null,null,null,null,null,null,{"$f":"IF('４号入力'!AM69=\"\",\"\",'４号入力'!AM69)","v":"仕上げ"},null,null,null,null,null,null,{"$f":"IF('４号入力'!E105=\"\",\"/\",'４号入力'!E105)","v":"/"},null,null,null,null,{"$f":"IF('４号入力'!H105=\"\",\"\",'４号入力'!H105)","v":""},null,null,null,null,null,null,null,null,null,null,null,null,{"$f":"IF('４号入力'!Q105=0,0,'４号入力'!Q105)","v":0}]
[null,null,null,null,"使用農薬名","散布量",null,null,null,null,null,null,null,{"$f":"IF('４号入力'!R70=0,0,'４号入力'!R70)","v":0},null,null,null,null,null,null,{"$f":"IF('４号入力'!U70=0,0,'４号入力'!U70)","v":0},null,null,null,null,null,null,{"$f":"IF('４号入力'!X70=0,0,'４号入力'!X70)","v":0},null,null,null,null,null,null,{"$f":"IF('４号入力'!AA70=0,0,'４号入力'!AA70)","v":0},null,null,null,null,null,null,{"$f":"IF('４号入力'!AD70=0,0,'４号入力'!AD70)","v":0},null,null,null,null,null,null,{"$f":"IF('４号入力'!AG70=0,0,'４号入力'!AG70)","v":0},null,null,null,null,null,null,{"$f":"IF('４号入力'!AJ70=0,0,'４号入力'!AJ70)","v":0},null,null,null,null,null,null,{"$f":"IF('４号入力'!AM70=0,0,'４号入力'!AM70)","v":0},null,null,null,null,null,null,{"$f":"IF('４号入力'!E106=\"\",\"\",'４号入力'!E106)","v":""},null,null,null,null,{"$f":"IF('４号入力'!H106=\"\",\"\",'４号入力'!H106)","v":""},null,null,null,null,null,null,null,null,null,null,null,null,{"$f":"IF('４号入力'!Q106=0,\"\",'４号入力'!Q106)","v":""}]
[null,null,null,null,null,{"$f":"IF('４号入力'!D71=\"\",\"\",'４号入力'!D71)","v":""},null,null,{"$f":"IF(F19=\"\",\"\",VLOOKUP(F19,Ｍ農薬台帳,3,FALSE))","v":""},{"$f":"IF(F19=\"\",\"\",\"-\")","v":""},{"$f":"IF(F19=\"\",\"\",VLOOKUP(F19,Ｍ農薬台帳,2,FALSE))","v":""},null,null,{"$f":"IF('４号入力'!R71=\"\",\"\",'４号入力'!R71)","v":""},null,null,null,null,null,null,{"$f":"IF('４号入力'!U71=\"\",\"\",'４号入力'!U71)","v":""},null,null,null,null,null,null,{"$f":"IF('４号入力'!X71=\"\",\"\",'４号入力'!X71)","v":""},null,null,null,null,null,null,{"$f":"IF('４号入力'!AA71=\"\",\"\",'４号入力'!AA71)","v":""},null,null,null,null,null,null,{"$f":"IF('４号入力'!AD71=\"\",\"\",'４号入力'!AD71)","v":""},null,null,null,null,null,null,{"$f":"IF('４号入力'!AG71=\"\",\"\",'４号入力'!AG71)","v":""},null,null,null,null,null,null,{"$f":"IF('４号入力'!AJ71=\"\",\"\",'４号入力'!AJ71)","v":""},null,null,null,null,null,null,{"$f":"IF('４号入力'!AM71=\"\",\"\",'４号入力'!AM71)","v":""},null,null,null,null,null,null,{"$f":"IF('４号入力'!E107=\"\",\"\",'４号入力'!E107)","v":""},null,null,null,null,{"$f":"IF('４号入力'!H107=\"\",\"\",'４号入力'!H107)","v":""},null,null,null,null,null,null,null,null,null,null,null,null,{"$f":"IF('４号入力'!Q107=0,\"\",'４号入力'!Q107)","v":""}]
[null,null,null,null,null,{"$f":"IF('４号入力'!D72=\"\",\"\",'４号入力'!D72)","v":""},null,null,"","","",null,null,{"$f":"IF('４号入力'!R72=\"\",\"\",'４号入力'!R72)","v":""},null,null,null,null,null,null,{"$f":"IF('４号入力'!U72=\"\",\"\",'４号入力'!U72)","v":""},null,null,null,null,null,null,{"$f":"IF('４号入力'!X72=\"\",\"\",'４号入力'!X72)","v":""},null,null,null,null,null,null,{"$f":"IF('４号入力'!AA72=\"\",\"\",'４号入力'!AA72)","v":""},null,null,null,null,null,null,{"$f":"IF('４号入力'!AD72=\"\",\"\",'４号入力'!AD72)","v":""},null,null,null,null,null,null,{"$f":"IF('４号入力'!AG72=\"\",\"\",'４号入力'!AG72)","v":""},null,null,null,null,null,null,{"$f":"IF('４号入力'!AJ72=\"\",\"\",'４号入力'!AJ72)","v":""},null,null,null,null,null,null,{"$f":"IF('４号入力'!AM72=\"\",\"\",'４号入力'!AM72)","v":""},null,null,null,null,null,null,{"$f":"IF('４号入力'!E108=\"\",\"\",'４号入力'!E108)","v":""},null,null,null,null,{"$f":"IF('４号入力'!H108=\"\",\"\",'４号入力'!H108)","v":""},null,null,null,null,null,null,null,null,null,null,null,null,{"$f":"IF('４号入力'!Q108=0,\"\",'４号入力'!Q108)","v":""}]
[null,null,null,null,null,{"$f":"IF('４号入力'!D73=\"\",\"\",'４号入力'!D73)","v":""},null,null,"","","",null,null,{"$f":"IF('４号入力'!R73=\"\",\"\",'４号入力'!R73)","v":""},null,null,null,null,null,null,{"$f":"IF('４号入力'!U73=\"\",\"\",'４号入力'!U73)","v":""},null,null,null,null,null,null,{"$f":"IF('４号入力'!X73=\"\",\"\",'４号入力'!X73)","v":""},null,null,null,null,null,null,{"$f":"IF('４号入力'!AA73=\"\",\"\",'４号入力'!AA73)","v":""},null,null,null,null,null,null,{"$f":"IF('４号入力'!AD73=\"\",\"\",'４号入力'!AD73)","v":""},null,null,null,null,null,null,{"$f":"IF('４号入力'!AG73=\"\",\"\",'４号入力'!AG73)","v":""},null,null,null,null,null,null,{"$f":"IF('４号入力'!AJ73=\"\",\"\",'４号入力'!AJ73)","v":""},null,null,null,null,null,null,{"$f":"IF('４号入力'!AM73=\"\",\"\",'４号入力'!AM73)","v":""},null,null,null,null,null,null,{"$f":"IF('４号入力'!E109=\"\",\"\",'４号入力'!E109)","v":""},null,null,null,null,{"$f":"IF('４号入力'!H109=\"\",\"\",'４号入力'!H109)","v":""},null,null,null,null,null,null,null,null,null,null,null,null,{"$f":"IF('４号入力'!Q109=0,\"\",'４号入力'!Q109)","v":""}]
[null,null,null,null,null,{"$f":"IF('４号入力'!D74=\"\",\"\",'４号入力'!D74)","v":""},null,null,"","","",null,null,{"$f":"IF('４号入力'!R74=\"\",\"\",'４号入力'!R74)","v":""},null,null,null,null,null,null,{"$f":"IF('４号入力'!U74=\"\",\"\",'４号入力'!U74)","v":""},null,null,null,null,null,null,{"$f":"IF('４号入力'!X74=\"\",\"\",'４号入力'!X74)","v":""},null,null,null,null,null,null,{"$f":"IF('４号入力'!AA74=\"\",\"\",'４号入力'!AA74)","v":""},null,null,null,null,null,null,{"$f":"IF('４号入力'!AD74=\"\",\"\",'４号入力'!AD74)","v":""},null,null,null,null,null,null,{"$f":"IF('４号入力'!AG74=\"\",\"\",'４号入力'!AG74)","v":""},null,null,null,null,null,null,{"$f":"IF('４号入力'!AJ74=\"\",\"\",'４号入力'!AJ74)","v":""},null,null,null,null,null,null,{"$f":"IF('４号入力'!AM74=\"\",\"\",'４号入力'!AM74)","v":""},null,null,null,null,null,null,{"$f":"IF('４号入力'!E110=\"\",\"\",'４号入力'!E110)","v":""},null,null,null,null,{"$f":"IF('４号入力'!H110=\"\",\"\",'４号入力'!H110)","v":""},null,null,null,null,null,null,null,null,null,null,null,null,{"$f":"IF('４号入力'!Q110=0,\"\",'４号入力'!Q110)","v":""}]
[null,null,null,null,null,{"$f":"IF('４号入力'!D75=\"\",\"\",'４号入力'!D75)","v":""},null,null,"","","",null,null,{"$f":"IF('４号入力'!R75=\"\",\"\",'４号入力'!R75)","v":""},null,null,null,null,null,null,{"$f":"IF('４号入力'!U75=\"\",\"\",'４号入力'!U75)","v":""},null,null,null,null,null,null,{"$f":"IF('４号入力'!X75=\"\",\"\",'４号入力'!X75)","v":""},null,null,null,null,null,null,{"$f":"IF('４号入力'!AA75=\"\",\"\",'４号入力'!AA75)","v":""},null,null,null,null,null,null,{"$f":"IF('４号入力'!AD75=\"\",\"\",'４号入力'!AD75)","v":""},null,null,null,null,null,null,{"$f":"IF('４号入力'!AG75=\"\",\"\",'４号入力'!AG75)","v":""},null,null,null,null,null,null,{"$f":"IF('４号入力'!AJ75=\"\",\"\",'４号入力'!AJ75)","v":""},null,null,null,null,null,null,{"$f":"IF('４号入力'!AM75=\"\",\"\",'４号入力'!AM75)","v":""},null,null,null,null,null,null,{"$f":"IF('４号入力'!E111=\"\",\"\",'４号入力'!E111)","v":""},null,null,null,null,{"$f":"IF('４号入力'!H111=\"\",\"\",'４号入力'!H111)","v":""},null,null,null,null,null,null,null,null,null,null,null,null,{"$f":"IF('４号入力'!Q111=0,\"\",'４号入力'!Q111)","v":""}]
[null,null,null,null,null,{"$f":"IF('４号入力'!D76=\"\",\"\",'４号入力'!D76)","v":""},null,null,"","","",null,null,{"$f":"IF('４号入力'!R76=\"\",\"\",'４号入力'!R76)","v":""},null,null,null,null,null,null,{"$f":"IF('４号入力'!U76=\"\",\"\",'４号入力'!U76)","v":""},null,null,null,null,null,null,{"$f":"IF('４号入力'!X76=\"\",\"\",'４号入力'!X76)","v":""},null,null,null,null,null,null,{"$f":"IF('４号入力'!AA76=\"\",\"\",'４号入力'!AA76)","v":""},null,null,null,null,null,null,{"$f":"IF('４号入力'!AD76=\"\",\"\",'４号入力'!AD76)","v":""},null,null,null,null,null,null,{"$f":"IF('４号入力'!AG76=\"\",\"\",'４号入力'!AG76)","v":""},null,null,null,null,null,null,{"$f":"IF('４号入力'!AJ76=\"\",\"\",'４号入力'!AJ76)","v":""},null,null,null,null,null,null,{"$f":"IF('４号入力'!AM76=\"\",\"\",'４号入力'!AM76)","v":""},null,null,null,null,null,null,{"$f":"IF('４号入力'!E112=\"\",\"\",'４号入力'!E112)","v":""},null,null,null,null,{"$f":"IF('４号入力'!H112=\"\",\"\",'４号入力'!H112)","v":""},null,null,null,null,null,null,null,null,null,null,null,null,{"$f":"IF('４号入力'!Q112=0,\"\",'４号入力'!Q112)","v":""}]
[null,null,null,null,null,{"$f":"IF('４号入力'!D77=\"\",\"\",'４号入力'!D77)","v":""},null,null,"","","",null,null,{"$f":"IF('４号入力'!R77=\"\",\"\",'４号入力'!R77)","v":""},null,null,null,null,null,null,{"$f":"IF('４号入力'!U77=\"\",\"\",'４号入力'!U77)","v":""},null,null,null,null,null,null,{"$f":"IF('４号入力'!X77=\"\",\"\",'４号入力'!X77)","v":""},null,null,null,null,null,null,{"$f":"IF('４号入力'!AA77=\"\",\"\",'４号入力'!AA77)","v":""},null,null,null,null,null,null,{"$f":"IF('４号入力'!AD77=\"\",\"\",'４号入力'!AD77)","v":""},null,null,null,null,null,null,{"$f":"IF('４号入力'!AG77=\"\",\"\",'４号入力'!AG77)","v":""},null,null,null,null,null,null,{"$f":"IF('４号入力'!AJ77=\"\",\"\",'４号入力'!AJ77)","v":""},null,null,null,null,null,null,{"$f":"IF('４号入力'!AM77=\"\",\"\",'４号入力'!AM77)","v":""},null,null,null,null,null,null,{"$f":"IF('４号入力'!E113=\"\",\"\",'４号入力'!E113)","v":""},null,null,null,null,{"$f":"IF('４号入力'!H113=\"\",\"\",'４号入力'!H113)","v":""},null,null,null,null,null,null,null,null,null,null,null,null,{"$f":"IF('４号入力'!Q113=0,\"\",'４号入力'!Q113)","v":""}]
[null,null,null,null,null,{"$f":"IF('４号入力'!D78=\"\",\"\",'４号入力'!D78)","v":""},null,null,"","","",null,null,{"$f":"IF('４号入力'!R78=\"\",\"\",'４号入力'!R78)","v":""},null,null,null,null,null,null,{"$f":"IF('４号入力'!U78=\"\",\"\",'４号入力'!U78)","v":""},null,null,null,null,null,null,{"$f":"IF('４号入力'!X78=\"\",\"\",'４号入力'!X78)","v":""},null,null,null,null,null,null,{"$f":"IF('４号入力'!AA78=\"\",\"\",'４号入力'!AA78)","v":""},null,null,null,null,null,null,{"$f":"IF('４号入力'!AD78=\"\",\"\",'４号入力'!AD78)","v":""},null,null,null,null,null,null,{"$f":"IF('４号入力'!AG78=\"\",\"\",'４号入力'!AG78)","v":""},null,null,null,null,null,null,{"$f":"IF('４号入力'!AJ78=\"\",\"\",'４号入力'!AJ78)","v":""},null,null,null,null,null,null,{"$f":"IF('４号入力'!AM78=\"\",\"\",'４号入力'!AM78)","v":""},null,null,null,null,null,null,{"$f":"IF('４号入力'!E114=\"\",\"\",'４号入力'!E114)","v":""},null,null,null,null,{"$f":"IF('４号入力'!H114=\"\",\"\",'４号入力'!H114)","v":""},null,null,null,null,null,null,null,null,null,null,null,null,{"$f":"IF('４号入力'!Q114=0,\"\",'４号入力'!Q114)","v":""}]
[null,null,null,null,null,{"$f":"IF('４号入力'!D79=\"\",\"\",'４号入力'!D79)","v":""},null,null,"","","",null,null,{"$f":"IF('４号入力'!R79=\"\",\"\",'４号入力'!R79)","v":""},null,null,null,null,null,null,{"$f":"IF('４号入力'!U79=\"\",\"\",'４号入力'!U79)","v":""},null,null,null,null,null,null,{"$f":"IF('４号入力'!X79=\"\",\"\",'４号入力'!X79)","v":""},null,null,null,null,null,null,{"$f":"IF('４号入力'!AA79=\"\",\"\",'４号入力'!AA79)","v":""},null,null,null,null,null,null,{"$f":"IF('４号入力'!AD79=\"\",\"\",'４号入力'!AD79)","v":""},null,null,null,null,null,null,{"$f":"IF('４号入力'!AG79=\"\",\"\",'４号入力'!AG79)","v":""},null,null,null,null,null,null,{"$f":"IF('４号入力'!AJ79=\"\",\"\",'４号入力'!AJ79)","v":""},null,null,null,null,null,null,{"$f":"IF('４号入力'!AM79=\"\",\"\",'４号入力'!AM79)","v":""},null,null,null,null,null,null,{"$f":"IF('４号入力'!E115=\"\",\"\",'４号入力'!E115)","v":""},null,null,null,null,{"$f":"IF('４号入力'!H115=\"\",\"\",'４号入力'!H115)","v":""},null,null,null,null,null,null,null,null,null,null,null,null,{"$f":"IF('４号入力'!Q115=0,\"\",'４号入力'!Q115)","v":""}]
[null,null,null,null,null,{"$f":"IF('４号入力'!D80=\"\",\"\",'４号入力'!D80)","v":""},null,null,"","","",null,null,{"$f":"IF('４号入力'!R80=\"\",\"\",'４号入力'!R80)","v":""},null,null,null,null,null,null,{"$f":"IF('４号入力'!U80=\"\",\"\",'４号入力'!U80)","v":""},null,null,null,null,null,null,{"$f":"IF('４号入力'!X80=\"\",\"\",'４号入力'!X80)","v":""},null,null,null,null,null,null,{"$f":"IF('４号入力'!AA80=\"\",\"\",'４号入力'!AA80)","v":""},null,null,null,null,null,null,{"$f":"IF('４号入力'!AD80=\"\",\"\",'４号入力'!AD80)","v":""},null,null,null,null,null,null,{"$f":"IF('４号入力'!AG80=\"\",\"\",'４号入力'!AG80)","v":""},null,null,null,null,null,null,{"$f":"IF('４号入力'!AJ80=\"\",\"\",'４号入力'!AJ80)","v":""},null,null,null,null,null,null,{"$f":"IF('４号入力'!AM80=\"\",\"\",'４号入力'!AM80)","v":""},null,null,null,null,null,null,{"$f":"IF('４号入力'!E116=\"\",\"\",'４号入力'!E116)","v":""},null,null,null,null,{"$f":"IF('４号入力'!H116=\"\",\"\",'４号入力'!H116)","v":""},null,null,null,null,null,null,null,null,null,null,null,null,{"$f":"IF('４号入力'!Q116=0,\"\",'４号入力'!Q116)","v":""}]
[null,null,null,null,null,{"$f":"IF('４号入力'!D81=\"\",\"\",'４号入力'!D81)","v":""},null,null,"","","",null,null,{"$f":"IF('４号入力'!R81=\"\",\"\",'４号入力'!R81)","v":""},null,null,null,null,null,null,{"$f":"IF('４号入力'!U81=\"\",\"\",'４号入力'!U81)","v":""},null,null,null,null,null,null,{"$f":"IF('４号入力'!X81=\"\",\"\",'４号入力'!X81)","v":""},null,null,null,null,null,null,{"$f":"IF('４号入力'!AA81=\"\",\"\",'４号入力'!AA81)","v":""},null,null,null,null,null,null,{"$f":"IF('４号入力'!AD81=\"\",\"\",'４号入力'!AD81)","v":""},null,null,null,null,null,null,{"$f":"IF('４号入力'!AG81=\"\",\"\",'４号入力'!AG81)","v":""},null,null,null,null,null,null,{"$f":"IF('４号入力'!AJ81=\"\",\"\",'４号入力'!AJ81)","v":""},null,null,null,null,null,null,{"$f":"IF('４号入力'!AM81=\"\",\"\",'４号入力'!AM81)","v":""},null,null,null,null,null,null,{"$f":"IF('４号入力'!E117=\"\",\"\",'４号入力'!E117)","v":""},null,null,null,null,{"$f":"IF('４号入力'!H117=\"\",\"\",'４号入力'!H117)","v":""},null,null,null,null,null,null,null,null,null,null,null,null,{"$f":"IF('４号入力'!Q117=0,\"\",'４号入力'!Q117)","v":""}]
[null,null,null,null,null,{"$f":"IF('４号入力'!D82=\"\",\"\",'４号入力'!D82)","v":""},null,null,"","","",null,null,{"$f":"IF('４号入力'!R82=\"\",\"\",'４号入力'!R82)","v":""},null,null,null,null,null,null,{"$f":"IF('４号入力'!U82=\"\",\"\",'４号入力'!U82)","v":""},null,null,null,null,null,null,{"$f":"IF('４号入力'!X82=\"\",\"\",'４号入力'!X82)","v":""},null,null,null,null,null,null,{"$f":"IF('４号入力'!AA82=\"\",\"\",'４号入力'!AA82)","v":""},null,null,null,null,null,null,{"$f":"IF('４号入力'!AD82=\"\",\"\",'４号入力'!AD82)","v":""},null,null,null,null,null,null,{"$f":"IF('４号入力'!AG82=\"\",\"\",'４号入力'!AG82)","v":""},null,null,null,null,null,null,{"$f":"IF('４号入力'!AJ82=\"\",\"\",'４号入力'!AJ82)","v":""},null,null,null,null,null,null,{"$f":"IF('４号入力'!AM82=\"\",\"\",'４号入力'!AM82)","v":""},null,null,null,null,null,null,{"$f":"IF('４号入力'!E118=\"\",\"\",'４号入力'!E118)","v":""},null,null,null,null,{"$f":"IF('４号入力'!H118=\"\",\"\",'４号入力'!H118)","v":""},null,null,null,null,null,null,null,null,null,null,null,null,{"$f":"IF('４号入力'!Q118=0,\"\",'４号入力'!Q118)","v":""}]
[null,null,null,null,null,{"$f":"IF('４号入力'!D83=\"\",\"\",'４号入力'!D83)","v":""},null,null,"","","",null,null,{"$f":"IF('４号入力'!R83=\"\",\"\",'４号入力'!R83)","v":""},null,null,null,null,null,null,{"$f":"IF('４号入力'!U83=\"\",\"\",'４号入力'!U83)","v":""},null,null,null,null,null,null,{"$f":"IF('４号入力'!X83=\"\",\"\",'４号入力'!X83)","v":""},null,null,null,null,null,null,{"$f":"IF('４号入力'!AA83=\"\",\"\",'４号入力'!AA83)","v":""},null,null,null,null,null,null,{"$f":"IF('４号入力'!AD83=\"\",\"\",'４号入力'!AD83)","v":""},null,null,null,null,null,null,{"$f":"IF('４号入力'!AG83=\"\",\"\",'４号入力'!AG83)","v":""},null,null,null,null,null,null,{"$f":"IF('４号入力'!AJ83=\"\",\"\",'４号入力'!AJ83)","v":""},null,null,null,null,null,null,{"$f":"IF('４号入力'!AM83=\"\",\"\",'４号入力'!AM83)","v":""},null,null,null,null,null,null,{"$f":"IF('４号入力'!E119=\"\",\"\",'４号入力'!E119)","v":""},null,null,null,null,{"$f":"IF('４号入力'!H119=\"\",\"\",'４号入力'!H119)","v":""},null,null,null,null,null,null,null,null,null,null,null,null,{"$f":"IF('４号入力'!Q119=0,\"\",'４号入力'!Q119)","v":""}]
[null,null,null,null,null,{"$f":"IF('４号入力'!D84=\"\",\"\",'４号入力'!D84)","v":""},null,null,"","","",null,null,{"$f":"IF('４号入力'!R84=\"\",\"\",'４号入力'!R84)","v":""},null,null,null,null,null,null,{"$f":"IF('４号入力'!U84=\"\",\"\",'４号入力'!U84)","v":""},null,null,null,null,null,null,{"$f":"IF('４号入力'!X84=\"\",\"\",'４号入力'!X84)","v":""},null,null,null,null,null,null,{"$f":"IF('４号入力'!AA84=\"\",\"\",'４号入力'!AA84)","v":""},null,null,null,null,null,null,{"$f":"IF('４号入力'!AD84=\"\",\"\",'４号入力'!AD84)","v":""},null,null,null,null,null,null,{"$f":"IF('４号入力'!AG84=\"\",\"\",'４号入力'!AG84)","v":""},null,null,null,null,null,null,{"$f":"IF('４号入力'!AJ84=\"\",\"\",'４号入力'!AJ84)","v":""},null,null,null,null,null,null,{"$f":"IF('４号入力'!AM84=\"\",\"\",'４号入力'!AM84)","v":""},null,null,null,null,null,null,{"$f":"IF('４号入力'!E120=\"\",\"\",'４号入力'!E120)","v":""},null,null,null,null,{"$f":"IF('４号入力'!H120=\"\",\"\",'４号入力'!H120)","v":""},null,null,null,null,null,null,null,null,null,null,null,null,{"$f":"IF('４号入力'!Q120=0,\"\",'４号入力'!Q120)","v":""}]
[null,null,null,null,null,{"$f":"IF('４号入力'!D85=\"\",\"\",'４号入力'!D85)","v":""},null,null,"","","",null,null,{"$f":"IF('４号入力'!R85=\"\",\"\",'４号入力'!R85)","v":""},null,null,null,null,null,null,{"$f":"IF('４号入力'!U85=\"\",\"\",'４号入力'!U85)","v":""},null,null,null,null,null,null,{"$f":"IF('４号入力'!X85=\"\",\"\",'４号入力'!X85)","v":""},null,null,null,null,null,null,{"$f":"IF('４号入力'!AA85=\"\",\"\",'４号入力'!AA85)","v":""},null,null,null,null,null,null,{"$f":"IF('４号入力'!AD85=\"\",\"\",'４号入力'!AD85)","v":""},null,null,null,null,null,null,{"$f":"IF('４号入力'!AG85=\"\",\"\",'４号入力'!AG85)","v":""},null,null,null,null,null,null,{"$f":"IF('４号入力'!AJ85=\"\",\"\",'４号入力'!AJ85)","v":""},null,null,null,null,null,null,{"$f":"IF('４号入力'!AM85=\"\",\"\",'４号入力'!AM85)","v":""},null,null,null,null,null,null,{"$f":"IF('４号入力'!E121=\"\",\"\",'４号入力'!E121)","v":""},null,null,null,null,{"$f":"IF('４号入力'!H121=\"\",\"\",'４号入力'!H121)","v":""},null,null,null,null,null,null,null,null,null,null,null,null,{"$f":"IF('４号入力'!Q121=0,\"\",'４号入力'!Q121)","v":""}]
[null,null,null,null,null,{"$f":"IF('４号入力'!D86=\"\",\"\",'４号入力'!D86)","v":""},null,null,"","","",null,null,{"$f":"IF('４号入力'!R86=\"\",\"\",'４号入力'!R86)","v":""},null,null,null,null,null,null,{"$f":"IF('４号入力'!U86=\"\",\"\",'４号入力'!U86)","v":""},null,null,null,null,null,null,{"$f":"IF('４号入力'!X86=\"\",\"\",'４号入力'!X86)","v":""},null,null,null,null,null,null,{"$f":"IF('４号入力'!AA86=\"\",\"\",'４号入力'!AA86)","v":""},null,null,null,null,null,null,{"$f":"IF('４号入力'!AD86=\"\",\"\",'４号入力'!AD86)","v":""},null,null,null,null,null,null,{"$f":"IF('４号入力'!AG86=\"\",\"\",'４号入力'!AG86)","v":""},null,null,null,null,null,null,{"$f":"IF('４号入力'!AJ86=\"\",\"\",'４号入力'!AJ86)","v":""},null,null,null,null,null,null,{"$f":"IF('４号入力'!AM86=\"\",\"\",'４号入力'!AM86)","v":""},null,null,null,null,null,null,{"$f":"IF('４号入力'!E122=\"\",\"\",'４号入力'!E122)","v":""},null,null,null,null,{"$f":"IF('４号入力'!H122=\"\",\"\",'４号入力'!H122)","v":""},null,null,null,null,null,null,null,null,null,null,null,null,{"$f":"IF('４号入力'!Q122=0,\"\",'４号入力'!Q122)","v":""}]
[null,null,null,null,null,"植物成長調整剤",null,null,null,null,null,null,null,{"$f":"IF('４号入力'!F91=\"\",\"/\",'４号入力'!F91)","v":"/"},null,null,null,null,{"$f":"IF('４号入力'!I91=0,0,'４号入力'!I91)","v":0},null,null,null,null,null,null,null,{"$f":"IF('４号入力'!N91=0,0,'４号入力'!N91)","v":0},null,null,null,null,null,null,null,{"$f":"IF('４号入力'!C94=\"\",\"\",'４号入力'!C94)","v":"トップジンＭ水和剤"},null,null,null,null,null,null,null,null,null,null,null,null,null,null,null,{"$f":"IF('４号入力'!F97=\"\",\"/\",'４号入力'!F97)","v":"/"},null,null,null,null,{"$f":"IF('４号入力'!I97=0,0,'４号入力'!I97)","v":0},null,null,null,null,null,null,null,{"$f":"IF('４号入力'!N97=0,0,'４号入力'!N97)","v":0},null,null,null,null,null,null,null,{"$f":"IF('４号入力'!F99=\"\",\"/\",'４号入力'!F99)","v":"/"},null,null,null,null,{"$f":"IF('４号入力'!I99=0,0,'４号入力'!I99)","v":0},null,null,null,null,null,null,null,{"$f":"IF('４号入力'!N99=0,0,'４号入力'!N99)","v":0}]
[null,null,null,null,null,{"$f":"IF('４号入力'!L88=\"\",\"\",'４号入力'!L88)","v":"アークランド液剤"},null,null,null,null,null,null,null,{"$f":"IF('４号入力'!F92=\"\",\"/\",'４号入力'!F92)","v":"/"},null,null,null,null,{"$f":"IF('４号入力'!I92=0,0,'４号入力'!I92)","v":0},null,null,null,null,null,null,null,{"$f":"IF('４号入力'!N92=0,0,'４号入力'!N92)","v":0},null,null,null,null,null,null,null,null,null,null,null,null,null,null,null,null,null,null,null,null,null,null,null,{"$f":"IF('４号入力'!F98=\"\",\"/\",'４号入力'!F98)","v":"/"},null,null,null,null,{"$f":"IF('４号入力'!I98=0,0,'４号入力'!I98)","v":0},null,null,null,null,null,null,null,{"$f":"IF('４号入力'!N98=0,0,'４号入力'!N98)","v":0},null,null,null,null,null,null,null,{"$f":"IF('４号入力'!F100=\"\",\"/\",'４号入力'!F100)","v":"/"},null,null,null,null,{"$f":"IF('４号入力'!I100=0,0,'４号入力'!I100)","v":0},null,null,null,null,null,null,null,{"$f":"IF('４号入力'!N100=0,0,'４号入力'!N100)","v":0}]

{"sheet":"５号入力","index":10,"n_rows":128,"n_cols":53,"rows_kept":128,"cut":false,"hidden":false,"merged":[[1,9,1,10],[1,11,1,14],[3,9,3,11],[3,12,3,18],[8,2,8,4],[8,5,8,11],[8,14,8,16],[8,17,8,23],[57,17,57,19],[9,2,9,4],[9,5,9,11],[11,2,11,4],[11,5,11,11],[10,5,10,11],[10,2,10,4],[12,2,12,4],[12,5,12,11],[12,14,12,31],[13,2,13,4],[13,5,13,11],[13,14,13,31],[14,2,14,4],[14,5,14,11],[15,2,15,4],[15,5,15,11],[19,5,19,7],[18,5,18,7],[20,33,20,39],[21,2,21,4],[21,5,21,7],[21,8,21,25],[21,26,21,29],[21,33,21,39],[20,2,20,4],[20,5,20,7],[20,8,20,25],[20,26,20,29],[22,33,22,39],[23,2,23,4],[23,5,23,7],[23,8,23,25],[23,26,23,29],[23,33,23,39],[22,2,22,4],[22,5,22,7],[22,8,22,25],[22,26,22,29],[24,33,24,39],[25,2,25,4],[25,5,25,7],[25,8,25,25],[25,26,25,29],[25,33,25,39],[24,2,24,4],[24,5,24,7],[24,8,24,25],[24,26,24,29],[26,33,26,39],[27,2,27,4],[27,5,27,7],[27,8,27,25],[27,26,27,29],[27,33,27,39],[26,2,26,4],[26,5,26,7],[26,8,26,25],[26,26,26,29],[28,33,28,39],[29,2,29,4],[29,5,29,7],[29,8,29,25],[29,26,29,29],[29,33,29,39],[28,2,28,4],[28,5,28,7],[28,8,28,25],[28,26,28,29],[30,33,30,39],[31,2,31,4],[31,5,31,7],[31,8,31,25],[31,26,31,29],[31,33,31,39],[30,2,30,4],[30,5,30,7],[30,8,30,25],[30,26,30,29],[32,33,32,39],[33,2,33,4],[33,5,33,7],[33,8,33,25],[33,26,33,29],[33,33,33,39],[32,2,32,4],[32,5,32,7],[32,8,32,25],[32,26,32,29],[34,33,34,39],[35,2,35,4],[35,5,35,7],[35,8,35,25],[35,26,35,29],[35,33,35,39],[34,2,34,4],[34,5,34,7],[34,8,34,25],[34,26,34,29],[36,33,36,39],[37,2,37,4],[37,5,37,7],[37,8,37,25],[37,26,37,29],[37,33,37,39],[36,2,36,4],[36,5,36,7],[36,8,36,25],[36,26,36,29],[38,33,38,39],[39,2,39,4],[39,5,39,7],[39,8,39,25],[39,26,39,29],[39,33,39,39],[38,2,38,4],[38,5,38,7],[38,8,38,25],[38,26,38,29],[40,33,40,39],[41,2,41,4],[41,5,41,7],[41,8,41,25],[41,26,41,29],[41,33,41,39],[40,2,40,4],[40,5,40,7],[40,8,40,25],[40,26,40,29],[42,33,42,39],[43,2,43,4],[43,5,43,7],[43,8,43,25],[43,26,43,29],[43,33,43,39],[42,2,42,4],[42,5,42,7],[42,8,42,25],[42,26,42,29],[52,19,52,23],[52,25,52,29],[44,33,44,39],[45,2,45,4],[45,5,45,7],[45,8,45,25],[45,26,45,29],[45,33,45,39],[44,2,44,4],[44,5,44,7],[44,8,44,25],[44,26,44,29],[60,20,60,26],[59,17,59,19],[58,17,58,19],[58,2,58,6],[58,7,58,13],[52,30,52,31],[52,32,52,37],[51,25,51,29],[46,33,46,39],[46,2,46,4],[46,5,46,7],[46,8,46,25],[46,26,46,29],[51,32,51,37],[51,30,51,31],[51,5,51,7],[51,8,51,14],[51,15,51,18],[51,2,51,4],[51,19,51,23],[52,2,52,4],[52,5,52,7],[52,8,52,14],[52,15,52,18],[61,2,61,6],[61,7,61,13],[59,2,59,6],[59,7,59,13],[53,32,53,37],[54,2,54,4],[54,5,54,7],[54,8,54,14],[54,15,54,18],[54,19,54,23],[53,15,53,18],[53,19,53,23],[57,2,57,13],[53,25,53,29],[53,30,53,31],[53,2,53,4],[53,5,53,7],[53,8,53,14],[60,2,60,6],[60,7,60,13],[60,17,60,19],[57,20,57,26],[58,20,58,26],[59,20,59,26],[66,38,66,40],[66,17,66,19],[66,20,66,22],[66,23,66,25],[66,26,66,28],[67,2,67,16],[67,17,67,19],[67,20,67,22],[67,23,67,25],[67,26,67,28],[67,29,67,31],[67,32,67,34],[67,35,67,37],[67,38,67,40],[66,29,66,31],[66,32,66,34],[66,35,66,37],[68,2,68,16],[68,17,68,19],[68,20,68,22],[68,23,68,25],[68,26,68,28],[68,29,68,31],[68,32,68,34],[68,35,68,37],[68,38,68,40],[69,23,69,25],[69,26,69,28],[70,3,70,10],[70,14,70,16],[70,17,70,19],[70,20,70,22],[71,3,71,10],[71,14,71,16],[71,17,71,19],[71,20,71,22],[69,29,69,31],[69,32,69,34],[69,35,69,37],[85,23,85,25],[85,26,85,28],[85,29,85,31],[85,32,85,34],[85,35,85,37],[69,38,69,40],[70,23,70,25],[70,26,70,28],[70,29,70,31],[70,32,70,34],[70,35,70,37],[70,38,70,40],[71,23,71,25],[71,26,71,28],[71,29,71,31],[71,32,71,34],[71,35,71,37],[71,38,71,40],[72,23,72,25],[72,26,72,28],[72,29,72,31],[72,32,72,34],[72,35,72,37],[72,38,72,40],[73,3,73,10],[73,14,73,16],[73,17,73,19],[73,20,73,22],[73,23,73,25],[73,26,73,28],[73,29,73,31],[73,32,73,34],[73,35,73,37],[73,38,73,40],[72,3,72,10],[72,14,72,16],[72,17,72,19],[72,20,72,22],[74,23,74,25],[74,26,74,28],[74,29,74,31],[74,32,74,34],[74,35,74,37],[74,38,74,40],[75,3,75,10],[75,14,75,16],[75,17,75,19],[75,20,75,22],[75,23,75,25],[75,26,75,28],[75,29,75,31],[75,32,75,34],[75,35,75,37],[75,38,75,40],[74,3,74,10],[74,14,74,16],[74,17,74,19],[76,38,76,40],[77,3,77,10],[77,14,77,16],[77,17,77,19],[77,20,77,22],[77,23,77,25],[77,26,77,28],[77,29,77,31],[77,32,77,34],[77,35,77,37],[77,38,77,40],[76,3,76,10],[76,14,76,16],[76,17,76,19],[76,20,76,22],[76,23,76,25],[76,26,76,28],[76,29,76,31],[76,32,76,34],[76,35,76,37],[78,38,78,40],[79,3,79,10],[79,14,79,16],[79,17,79,19],[79,20,79,22],[79,23,79,25],[79,26,79,28],[79,29,79,31],[79,32,79,34],[79,35,79,37],[79,38,79,40],[78,3,78,10],[78,14,78,16],[78,17,78,19],[78,20,78,22],[78,23,78,25],[78,26,78,28],[78,29,78,31],[78,32,78,34],[78,35,78,37],[80,38,80,40],[81,3,81,10],[81,14,81,16],[81,17,81,19],[81,20,81,22],[81,23,81,25],[81,26,81,28],[81,29,81,31],[81,32,81,34],[81,35,81,37],[81,38,81,40],[80,3,80,10],[80,14,80,16],[80,17,80,19],[80,20,80,22],[80,23,80,25],[80,26,80,28],[80,29,80,31],[80,32,80,34],[80,35,80,37],[82,38,82,40],[83,3,83,10],[83,14,83,16],[83,17,83,19],[83,20,83,22],[83,23,83,25],[83,26,83,28],[83,29,83,31],[83,32,83,34],[83,35,83,37],[83,38,83,40],[82,3,82,10],[82,14,82,16],[82,17,82,19],[82,20,82,22],[82,23,82,25],[82,26,82,28],[82,29,82,31],[82,32,82,34],[82,35,82,37],[84,23,84,25],[84,26,84,28],[84,29,84,31],[84,32,84,34],[85,38,85,40],[84,35,84,37],[84,38,84,40],[85,3,85,10],[85,14,85,16],[85,17,85,19],[89,2,89,4],[89,5,89,7],[89,8,89,12],[89,13,89,17],[85,20,85,22],[87,11,87,17],[90,2,90,4],[90,5,90,7],[90,8,90,12],[90,13,90,17],[69,2,85,2],[69,3,69,16],[69,17,69,19],[69,20,69,22],[84,3,84,10],[84,14,84,16],[84,17,84,19],[84,20,84,22],[74,20,74,22],[91,2,91,4],[91,5,91,7],[91,8,91,12],[91,13,91,17],[95,2,95,4],[95,5,95,7],[95,8,95,12],[95,13,95,17],[96,2,96,4],[96,5,96,7],[96,8,96,12],[96,13,96,17],[93,2,93,8],[97,2,97,4],[97,5,97,7],[97,8,97,12],[97,13,97,17],[98,2,98,4],[98,5,98,7],[98,8,98,12],[98,13,98,17],[99,2,99,4],[99,5,99,7],[99,8,99,12],[99,13,99,17],[103,2,103,3],[103,4,103,6],[103,7,103,15],[103,16,103,18],[104,2,104,3],[104,4,104,6],[104,7,104,15],[104,16,104,18],[105,2,105,3],[105,4,105,6],[105,7,105,15],[105,16,105,18],[106,2,106,3],[106,4,106,6],[106,7,106,15],[106,16,106,18],[107,2,107,3],[107,4,107,6],[107,7,107,15],[107,16,107,18],[108,2,108,3],[108,4,108,6],[108,7,108,15],[108,16,108,18],[109,2,109,3],[109,4,109,6],[109,7,109,15],[109,16,109,18],[110,2,110,3],[110,4,110,6],[110,7,110,15],[110,16,110,18],[111,2,111,3],[111,4,111,6],[111,7,111,15],[111,16,111,18],[112,2,112,3],[112,4,112,6],[112,7,112,15],[112,16,112,18],[113,2,113,3],[113,4,113,6],[113,7,113,15],[113,16,113,18],[114,2,114,3],[114,4,114,6],[114,7,114,15],[114,16,114,18],[115,2,115,3],[115,4,115,6],[115,7,115,15],[115,16,115,18],[117,7,117,15],[117,16,117,18],[116,2,116,3],[116,4,116,6],[116,7,116,15],[116,16,116,18],[117,2,117,3],[117,4,117,6],[119,16,119,18],[118,2,118,3],[118,4,118,6],[118,7,118,15],[118,16,118,18],[119,2,119,3],[119,4,119,6],[119,7,119,15],[123,27,123,32],[121,16,121,18],[120,2,120,3],[120,4,120,6],[120,7,120,15],[120,16,120,18],[121,2,121,3],[121,4,121,6],[121,7,121,15]]}
[]
[null,"５号室の入力画面",null,null,null,null,null,null,null,"No.",null,{"$f":"メニュー画面!F18","v":"４　３　６"}]
[]
[null,null,null,null,null,null,null,null,null,"氏名",null,null,{"$f":"メニュー画面!F20","v":"中　條　文　義"},null,null,null,null,null,null,null,null,null,null,null,null,null,null,null,null,null,null,null,null,{"$f":"VLOOKUP(B2,隠しページ!P7:Q22,2,FALSE)","v":"５号入力"},null,null,"→印刷画面へ"]
[]
[]
[null,"１．坪数～収穫日までの入力",null,null,null,null,null,null,null,null,null,null,null,null,"※白い枠のみに入力して下さい。ここで入力された値が、履歴シートに書き込まれます。"]
[]
[null,null,"部屋番号",null,null,5,null,null,null,null,null,null,null,null,"品種名",null,null,{"$f":"IF(F16=\"\",\"\",IF(AND(10<=MONTH(F16+1),MONTH(F16+1)<=11),\"秋　　系\",IF(AND(3<=MONTH(F16+1),MONTH(F16+1)<=5),\"春　　系\",IF(AND(6<=MONTH(F16+1),MONTH(F16+1)<=9),\"夏　　系\",\"冬　　系\"))))","v":""}]
[null,null,"坪数"]
[null,null,"品種名",null,null,"春　　系",null,null,null,null,null,null,null,null,{"$f":"IF(OR($R$9=$F$11,$R$9=\"\"),\"\",\"←県で指定された品種名と違いますが無視できます。\")","v":""}]
[null,null,"播種日"]
[null,null,"定植日",null,null,null,null,null,null,null,null,null,null,null,{"$f":"IF(OR(F13=\"\",F12=\"\"),\"\",IF(F13<F12,\"入力ミスです！播種日のほうが後の日付になりました。\",\"\"))","v":""},null,null,null,null,null,null,null,null,null,null,null,null,null,null,null,null,null,{"$f":"CONCATENATE(\"苗日数＝\",F13-F12,\"日\")","v":"苗日数＝0日"}]
[null,null,"交配日",null,null,null,null,null,null,null,null,null,null,null,{"$f":"IF(OR(F14=\"\",F13=\"\"),\"\",IF(F14<F13,\"入力ミスです！定植日の方が後になりました。\",\"\"))","v":""},null,null,null,null,null,null,null,null,null,null,null,null,null,null,null,null,null,{"$f":"CONCATENATE(\"交配日数＝\",F14-F13,\"日\")","v":"交配日数＝0日"}]
[null,null,"採果日数"]
[null,null,"収穫日",null,null,{"$f":"IF(OR(F14=\"\",F15=\"\"),\"\",F14+F15-1)","v":""},null,null,null,null,null,null,null,null,null,null,null,null,null,null,null,null,null,null,null,null,null,null,null,null,null,null,{"$f":"CONCATENATE(\"播種日～収穫日＝\",IF(F16=\"\",0,F16-F12),\"日\")","v":"播種日～収穫日＝0日"}]
[]
[null,"２．施用資材名の入力"]
[null,null,null,null,null,null,null,null,"［〃］このマークはリストから入力できます。日付はそのまま打ち込んでください。"]
[]
[null,null,null,null,null,"日付",null,null,"施用資材名",null,null,null,null,null,null,null,null,null,null,null,null,null,null,null,null,null,"投入量",null,null,null,null,null,null,"履歴シート表示確認欄"]
[null,null,null,null,null,{"$f":"IF(OR(C22=\"\",AH22=\"\"),\"\",IF(C22=\"育苗\",#REF!,IF(C22=\"定植\",#REF!,IF(C22=\"追肥（１）\",#REF!,IF(C22=\"追肥（２）\",#REF!,IF(C22=\"追肥（３）\",#REF!,\"入力ミス\"))))))","v":""},null,null,"育苗",null,null,null,null,null,null,null,null,null,null,null,null,null,null,null,null,null,null,null,null,null,null,null,null,{"$f":"IF(I22=\"\",\"\",VLOOKUP(I22,Ｍ肥料台帳,4,FALSE))","v":"育苗"}]
[null,null,null,null,null,"2006-01-01",null,null,null,null,null,null,null,null,null,null,null,null,null,null,null,null,null,null,null,null,null,null,null,null,null,null,null,""]
[null,null,null,null,null,"〃",null,null,null,null,null,null,null,null,null,null,null,null,null,null,null,null,null,null,null,null,null,null,null,null,null,null,null,""]
[null,null,null,null,null,"〃",null,null,null,null,null,null,null,null,null,null,null,null,null,null,null,null,null,null,null,null,null,null,null,null,null,null,null,""]
[null,null,null,null,null,"〃",null,null,null,null,null,null,null,null,null,null,null,null,null,null,null,null,null,null,null,null,null,null,null,null,null,null,null,""]
[null,null,null,null,null,"〃",null,null,null,null,null,null,null,null,null,null,null,null,null,null,null,null,null,null,null,null,null,null,null,null,null,null,null,""]
[null,null,null,null,null,"〃",null,null,null,null,null,null,null,null,null,null,null,null,null,null,null,null,null,null,null,null,null,null,null,null,null,null,null,""]
[null,null,null,null,null,"〃",null,null,null,null,null,null,null,null,null,null,null,null,null,null,null,null,null,null,null,null,null,null,null,null,null,null,null,""]
[null,null,null,null,null,"〃",null,null,null,null,null,null,null,null,null,null,null,null,null,null,null,null,null,null,null,null,null,null,null,null,null,null,null,""]
[null,null,null,null,null,"〃",null,null,null,null,null,null,null,null,null,null,null,null,null,null,null,null,null,null,null,null,null,null,null,null,null,null,null,""]
[null,null,null,null,null,"〃",null,null,null,null,null,null,null,null,null,null,null,null,null,null,null,null,null,null,null,null,null,null,null,null,null,null,null,""]
[null,null,null,null,null,"〃",null,null,null,null,null,null,null,null,null,null,null,null,null,null,null,null,null,null,null,null,null,null,null,null,null,null,null,""]
[null,null,null,null,null,"〃",null,null,null,null,null,null,null,null,null,null,null,null,null,null,null,null,null,null,null,null,null,null,null,null,null,null,null,""]
[null,null,null,null,null,"〃",null,null,null,null,null,null,null,null,null,null,null,null,null,null,null,null,null,null,null,null,null,null,null,null,null,null,null,""]
[null,null,null,null,null,null,null,null,null,null,null,null,null,null,null,null,null,null,null,null,null,null,null,null,null,null,null,null,null,null,null,null,null,""]
[null,null,null,null,null,null,null,null,null,null,null,null,null,null,null,null,null,null,null,null,null,null,null,null,null,null,null,null,null,null,null,null,null,""]
[null,null,null,null,null,null,null,null,null,null,null,null,null,null,null,null,null,null,null,null,null,null,null,null,null,null,null,null,null,null,null,null,null,""]
[null,null,null,null,null,null,null,null,null,null,null,null,null,null,null,null,null,null,null,null,null,null,null,null,null,null,null,null,null,null,null,null,null,""]
[null,null,null,null,null,null,null,null,null,null,null,null,null,null,null,null,null,null,null,null,null,null,null,null,null,null,null,null,null,null,null,null,null,""]
[null,null,null,null,null,null,null,null,null,null,null,null,null,null,null,null,null,null,null,null,null,null,null,null,null,null,null,null,null,null,null,null,null,""]
[null,null,null,null,null,null,null,null,null,null,null,null,null,null,null,null,null,null,null,null,null,null,null,null,null,null,null,null,null,null,null,null,null,""]
[null,null,null,null,null,null,null,null,null,null,null,null,null,null,null,null,null,null,null,null,null,null,null,null,null,null,null,null,null,null,null,null,null,""]
[null,null,null,null,null,null,null,null,null,null,null,null,null,null,null,null,null,null,null,null,null,null,null,null,null,null,null,null,null,null,null,null,null,""]
[null,null,null,null,null,null,null,null,null,null,null,null,null,null,null,null,null,null,null,null,null,null,null,null,null,null,null,null,null,null,null,null,null,""]
[null,null,null,null,null,null,null,null,null,null,null,null,null,null,null,null,null,null,null,null,null,null,null,null,null,null,null,null,null,null,null,null,null,""]
[null,null,null,null,null,null,null,null,null,null,null,null,null,null,null,null,null,null,null,null,null,null,null,null,null,null,null,null,null,null,null,null,null,""]
[]
[]
[null,"３．施用粒剤の入力"]
[null,null,null,null,null,null,null,null,null,null,null,null,null,null,null,null,null,null,null,null,null,null,null,null,null,null,null,null,null,null,null,null,null,null,null,null,null,null,null,null,null,null,null,null,null,null,null,null,null,null,null,null,"施用粒剤の日付入力"]
[null,null,null,null,null,"日付",null,null,"施用粒剤名",null,null,null,null,null,null,"施用量（g）",null,null,null,"施用鉢数（鉢）",null,null,null,null,null,"登録施用量",null,null,null,null,"回数",null,"時期"]
[null,null,"１回目",null,null,null,null,null,null,null,null,null,null,null,null,null,null,null,null,null,null,null,null,null,null,{"$f":"IF(I53=\"\",\"\",VLOOKUP(I53,施用粒剤台帳,2,FALSE))","v":""},null,null,null,null,{"$f":"IF(I53=\"\",\"\",VLOOKUP(I53,施用粒剤台帳,3,FALSE))","v":""},null,{"$f":"IF(I53=\"\",\"\",VLOOKUP(I53,施用粒剤台帳,4,FALSE))","v":""}]
[null,null,"２回目",null,null,null,null,null,null,null,null,null,null,null,null,null,null,null,null,null,null,null,null,null,null,{"$f":"IF(I54=\"\",\"\",VLOOKUP(I54,施用粒剤台帳,2,FALSE))","v":""},null,null,null,null,{"$f":"IF(I54=\"\",\"\",VLOOKUP(I54,施用粒剤台帳,3,FALSE))","v":""},null,{"$f":"IF(I54=\"\",\"\",VLOOKUP(I54,施用粒剤台帳,4,FALSE))","v":""}]
[]
[null,"４．硫黄くん蒸剤の入力",null,null,null,null,null,null,null,null,"※使用が２年にまたがるときは、前年の日付の前に年号を付けないとミスになります。"]
[]
[null,null,"履歴シートへの表示確認欄",null,null,null,null,null,null,null,null,null,null,null,null,null,null,"播種日",null,null,{"$f":"IF(F12=\"\",\"\",F12)","v":""}]
[null,null,"開始日",null,null,null,null,null,null,null,null,null,null,null,null,null,null,"定植日",null,null,{"$f":"IF(F13=\"\",\"\",F13)","v":""}]
[null,null,"終了日",null,null,null,null,null,null,null,null,null,null,null,{"$f":"IF(H60=\"\",\"\",IF(H60<H59,\" ミス\",\"\"))","v":""},null,null,"交配日",null,null,{"$f":"IF(F14=\"\",\"\",F14)","v":""}]
[null,null,"１日の使用量",null,null,null,null,2,null,null,null,null,null,null,null,null,null,"収穫日",null,null,{"$f":"IF(F16=\"\",\"\",F16)","v":""}]
[null,null,"総使用量",null,null,null,null,{"$f":"IF(OR(H59=\"\",OR(H60=\"\",H61=\"\")),\"\",(H60-H59)*H61)","v":""},null,null,null,null,null,null,null,null,null,null,null,null,"↑１.で入力した日付です。"]
[]
[null,"５．農薬散布の入力"]
[null,null,null,null,null,null,null,null,null,null,null,null,null,null,null,null,null,null,null,null,null,null,null,null,null,null,null,null,null,null,null,null,null,null,null,null,null,null,null,null,null,null,null,null,null,null,null,null,null,null,null,null,"農薬散布の日付入力"]
[]
[null,null,null,null,null,null,null,null,null,null,null,null,null,null,null,null,null,"Ｂ１",null,null,"Ｂ２",null,null,"Ｂ３",null,null,"Ｂ４",null,null,"Ｂ５",null,null,"Ｂ６",null,null,"Ｂ７",null,null,"Ｂ８"]
[null,null,"使用年月日"]
[null,null,"生育ステージ",null,null,null,null,null,null,null,null,null,null,null,null,null,null,"育苗",null,null,"木作り",null,null,"木作り",null,null,"肥大期",null,null,"肥大期",null,null,"仕上げ",null,null,"仕上げ",null,null,"仕上げ"]
[null,null,"使用農薬名","散布量"]
[null,null,null,null,null,null,null,null,null,null,null,{"$f":"IF(D71=\"\",\"\",VLOOKUP(D71,Ｍ農薬台帳,3,FALSE))","v":""},{"$f":"IF(D71=\"\",\"\",\"-\")","v":""},{"$f":"IF(D71=\"\",\"\",VLOOKUP(D71,Ｍ農薬台帳,2,FALSE))","v":""},{"$f":"IF(D71=\"\",\"\",VLOOKUP(D71,Ｍ農薬台帳,4,FALSE))","v":""}]
[null,null,null,null,null,null,null,null,null,null,null,"","","",""]
[null,null,null,null,null,null,null,null,null,null,null,"","","",""]
[null,null,null,null,null,null,null,null,null,null,null,"","","",""]
[null,null,null,null,null,null,null,null,null,null,null,"","","",""]
[null,null,null,null,null,null,null,null,null,null,null,"","","",""]
[null,null,null,null,null,null,null,null,null,null,null,"","","",""]
[null,null,null,null,null,null,null,null,null,null,null,"","","",""]
[null,null,null,null,null,null,null,null,null,null,null,"","","",""]
[null,null,null,null,null,null,null,null,null,null,null,"","","",""]
[null,null,null,null,null,null,null,null,null,null,null,"","","",""]
[null,null,null,null,null,null,null,null,null,null,null,"","","",""]
[null,null,null,null,null,null,null,null,null,null,null,"","","",""]
[null,null,null,null,null,null,null,null,null,null,null,"","","",""]
[null,null,null,null,null,null,null,null,null,null,null,"","","",""]
[null,null,null,null,null,null,null,null,null,null,null,"","","",""]
[]
[null,"６．植物成長調整剤の入力",null,null,null,null,null,null,null,null,null,"アークランド液剤",null,null,null,null,null,null,"　を使用した。"]
[]
[null,null,null,null,null,"日付",null,null,"希釈倍数",null,null,null,null,"散布量"]
[null,null,"1回目"]
[null,null,"2回目"]
[]
[null,"７．トップジンＭ水和剤の入力","トップジンＭ水和剤",null,null,null,null,null,null,"　の入力"]
[]
[null,null,null,null,null,"日付",null,null,"希釈倍数",null,null,null,null,"散布量"]
[null,null,"1回目"]
[null,null,"2回目"]
[null,null,"3回目"]
[null,null,"4回目"]
[]
[null,"８．施用液肥の入力"]
[]
[null,null,null,null,"日付",null,null,"液肥・葉面散布剤名",null,null,null,null,null,null,null,null,"使用量"]
[null,null,1]
[null,null,2]
[null,null,3]
[null,null,4]
[null,null,5]
[null,null,6]
[null,null,7]
[null,null,8]
[null,null,9]
[null,null,10]
[null,null,11]
[null,null,12]
[null,null,13]
[null,null,14]
[null,null,15]
[null,null,16]
[null,null,17]
[null,null,18]
[]
[null,"９.小メロンの出荷がある場合は、この枠に記載してください。リストから選べます。→"]
[]
[null,"10．印刷プレビューボタンを押し　印刷状態の確認をして　良ければそのまま印刷してください。"]
[]
[null,"11．以上で終りです。お疲れ様でした。"]

{"sheet":"５号Ｐ","index":11,"n_rows":36,"n_cols":88,"rows_kept":36,"cut":false,"hidden":false,"merged":[[35,5,35,12],[4,1,5,2],[35,84,35,91],[34,76,34,83],[34,84,34,91],[35,13,35,17],[35,18,35,25],[35,26,35,33],[35,50,35,54],[35,55,35,62],[35,63,35,70],[35,71,35,75],[35,76,35,83],[33,87,33,91],[34,13,34,17],[34,18,34,25],[34,26,34,33],[34,34,35,49],[34,50,34,54],[34,55,34,62],[34,63,34,70],[34,71,34,75],[33,55,33,61],[33,62,33,68],[33,69,33,73],[33,74,33,86],[33,27,33,33],[33,34,33,40],[33,41,33,47],[33,48,33,54],[33,5,33,7],[33,10,33,12],[33,13,33,19],[33,20,33,26],[32,27,32,33],[31,74,31,86],[31,27,31,33],[31,34,31,40],[31,41,31,47],[31,48,31,54],[32,34,32,40],[32,41,32,47],[32,48,32,54],[32,55,32,61],[31,55,31,61],[30,55,30,61],[31,69,31,73],[31,62,31,68],[30,74,30,86],[30,87,30,91],[29,87,29,91],[32,62,32,68],[32,69,32,73],[32,74,32,86],[32,87,32,91],[31,87,31,91],[29,55,29,61],[29,62,29,68],[28,87,28,91],[27,87,27,91],[30,5,30,7],[30,10,30,12],[30,13,30,19],[30,20,30,26],[30,27,30,33],[30,34,30,40],[30,41,30,47],[29,69,29,73],[29,74,29,86],[29,27,29,33],[29,34,29,40],[29,41,29,47],[29,48,29,54],[29,5,29,7],[29,10,29,12],[29,13,29,19],[29,20,29,26],[30,62,30,68],[30,69,30,73],[28,27,28,33],[28,34,28,40],[30,48,30,54],[28,41,28,47],[27,69,27,73],[27,74,27,86],[27,27,27,33],[27,34,27,40],[27,41,27,47],[27,48,27,54],[28,62,28,68],[28,69,28,73],[28,48,28,54],[28,55,28,61],[28,74,28,86],[26,62,26,68],[26,69,26,73],[26,48,26,54],[26,55,26,61],[27,55,27,61],[27,62,27,68],[26,87,26,91],[25,87,25,91],[26,5,26,7],[26,10,26,12],[26,13,26,19],[26,20,26,26],[26,27,26,33],[26,34,26,40],[26,41,26,47],[25,74,25,86],[25,27,25,33],[25,34,25,40],[25,41,25,47],[25,48,25,54],[26,74,26,86],[27,5,27,7],[27,10,27,12],[27,13,27,19],[25,55,25,61],[25,62,25,68],[25,69,25,73],[24,41,24,47],[25,5,25,7],[25,10,25,12],[25,13,25,19],[25,20,25,26],[24,62,24,68],[24,5,24,7],[24,10,24,12],[24,13,24,19],[24,20,24,26],[24,27,24,33],[24,34,24,40],[23,74,23,86],[22,74,22,86],[22,87,22,91],[24,74,24,86],[24,87,24,91],[23,87,23,91],[23,41,23,47],[23,5,23,7],[23,10,23,12],[23,13,23,19],[23,20,23,26],[23,27,23,33],[23,34,23,40],[23,48,23,54],[22,48,22,54],[22,55,22,61],[22,62,22,68],[22,69,22,73],[23,55,23,61],[23,62,23,68],[23,69,23,73],[24,69,24,73],[24,48,24,54],[24,55,24,61],[21,69,21,73],[21,74,21,86],[21,87,21,91],[22,5,22,7],[22,10,22,12],[22,13,22,19],[22,20,22,26],[22,27,22,33],[22,34,22,40],[22,41,22,47],[21,41,21,47],[21,48,21,54],[21,55,21,61],[21,62,21,68],[21,13,21,19],[21,20,21,26],[21,27,21,33],[21,34,21,40],[20,69,20,73],[20,74,20,86],[20,87,20,91],[19,87,19,91],[20,5,20,7],[20,10,20,12],[20,13,20,19],[20,20,20,26],[20,27,20,33],[20,34,20,40],[20,41,20,47],[20,48,20,54],[20,55,20,61],[19,55,19,61],[19,62,19,68],[20,62,20,68],[19,69,19,73],[19,74,19,86],[19,27,19,33],[19,34,19,40],[19,41,19,47],[19,48,19,54],[18,69,18,73],[18,74,18,86],[18,87,18,91],[17,87,17,91],[18,5,18,7],[18,10,18,12],[18,13,18,19],[18,20,18,26],[18,27,18,33],[18,34,18,40],[18,41,18,47],[18,48,18,54],[18,55,18,61],[17,55,17,61],[17,62,17,68],[18,62,18,68],[17,69,17,73],[17,74,17,86],[17,27,17,33],[17,34,17,40],[17,41,17,47],[17,48,17,54],[17,4,35,4],[17,5,17,12],[17,13,17,19],[17,20,17,26],[19,5,19,7],[19,10,19,12],[19,13,19,19],[19,20,19,26],[21,5,21,7],[21,10,21,12],[28,5,28,7],[28,10,28,12],[28,13,28,19],[28,20,28,26],[27,20,27,26],[32,5,32,7],[32,10,32,12],[32,13,32,19],[32,20,32,26],[31,5,31,7],[31,10,31,12],[31,13,31,19],[31,20,31,26],[34,5,34,12],[16,4,16,12],[16,13,16,19],[16,20,16,26],[16,27,16,33],[16,34,16,40],[16,41,16,47],[16,48,16,54],[16,55,16,61],[15,34,15,40],[15,41,15,47],[15,48,15,54],[15,55,15,61],[15,4,15,12],[15,13,15,19],[15,20,15,26],[15,27,15,33],[13,33,13,37],[10,53,10,57],[11,53,12,57],[16,62,16,68],[16,69,16,73],[16,74,16,86],[16,87,16,91],[15,62,15,68],[15,69,15,91],[11,4,12,5],[11,6,12,12],[11,13,12,17],[11,18,12,27],[11,28,12,32],[11,33,12,37],[11,38,12,47],[11,48,12,52],[10,83,11,91],[11,58,12,67],[11,68,12,72],[12,73,13,81],[12,82,13,91],[13,68,13,72],[10,58,10,67],[10,68,10,72],[10,73,11,82],[13,38,13,47],[13,48,13,52],[13,53,13,57],[13,58,13,67],[13,13,13,17],[13,18,13,27],[13,28,13,32],[9,58,9,67],[9,68,9,72],[9,73,9,91],[10,6,10,12],[10,13,10,17],[10,18,10,27],[10,28,10,32],[10,33,10,37],[10,38,10,47],[10,48,10,52],[9,33,9,37],[9,38,9,47],[9,48,9,52],[9,53,9,57],[9,6,9,12],[9,13,9,17],[9,18,9,27],[9,28,9,32],[8,68,8,72],[8,73,8,80],[7,78,7,91],[8,81,8,91],[7,33,7,37],[7,38,7,47],[7,48,7,52],[7,53,7,57],[8,6,8,12],[8,13,8,17],[8,18,8,27],[8,28,8,32],[8,33,8,37],[8,38,8,47],[8,48,8,52],[8,53,8,57],[8,58,8,67],[7,6,7,7],[7,13,7,17],[7,18,7,27],[7,28,7,32],[7,58,7,67],[7,68,7,72],[7,73,7,77],[6,58,6,67],[6,68,6,72],[6,73,6,80],[6,81,6,91],[6,33,6,37],[6,38,6,47],[6,48,6,52],[6,53,6,57],[6,7,6,8],[6,13,6,17],[6,18,6,27],[6,28,6,32],[5,58,5,67],[5,68,5,72],[5,13,5,17],[5,18,5,27],[5,28,5,32],[5,33,5,37],[5,73,5,77],[5,78,5,91],[5,38,5,47],[5,48,5,52],[5,53,5,57],[4,38,4,47],[2,4,2,5],[2,6,2,31],[4,13,4,27],[4,33,4,37],[0,64,0,89],[4,48,4,52],[4,53,4,57],[4,58,4,67],[4,68,4,72],[4,73,4,91]]}
[null,null,null,null,null,null,null,null,null,null,null,null,null,null,null,null,null,null,null,null,null,null,null,null,null,null,null,null,null,null,null,null,null,null,null,null,null,null,null,null,null,null,null,null,null,null,null,null,null,null,null,null,null,null,null,null,null,null,null,null,null,null,null,null,{"$f":"IF('５号入力'!AB124=\"\",\"\",'５号入力'!AB124)","v":""}]
[]
[null,null,null,null,"栽培履歴",null,{"$f":"メニュー画面!F16","v":"静岡県温室農業協同組合（クラウンメロン支所）"},null,null,null,null,null,null,null,null,null,null,null,null,null,null,null,null,null,null,null,null,null,null,null,null,null,"検査日",null,null,null,null,null,"令和　　年　　月　　日",null,null,null,null,null,null,null,null,null,null,null,null,null,null,null,"検査責任者氏名　　　　　　　　　　 　　　　　　　　　　　　　印"]
[]
[null,"５号室",null,null,"組合員番号：",null,{"$f":"メニュー画面!F18","v":"４　３　６"},null,null,null,null,null,null,"施用資材名",null,null,null,null,null,null,null,null,null,null,null,null,null,null,"投入量",null,null,null,null,{"$f":"IF('５号入力'!F30=\"\",\"\",'５号入力'!F30)","v":"〃"},null,null,null,null,{"$f":"IF('５号入力'!AH30=\"\",\"\",'５号入力'!AH30)","v":""},null,null,null,null,null,null,null,null,null,{"$f":"IF('５号入力'!AA30=\"\",\"\",'５号入力'!AA30)","v":""},null,null,null,null,{"$f":"IF('５号入力'!F39=\"\",\"\",'５号入力'!F39)","v":""},null,null,null,null,{"$f":"IF('５号入力'!AH39=\"\",\"\",'５号入力'!AH39)","v":""},null,null,null,null,null,null,null,null,null,{"$f":"IF('５号入力'!AA39=\"\",\"\",'５号入力'!AA39)","v":""},null,null,null,null,"施用粒剤"]
[null,null,null,null,"氏名：",null,{"$f":"メニュー画面!F20","v":"中　條　文　義"},null,null,null,null,null,null,{"$f":"IF('５号入力'!F22=\"\",\"\",'５号入力'!F22)","v":""},null,null,null,null,{"$f":"IF('５号入力'!AH22=\"\",\"\",'５号入力'!AH22)","v":"育苗"},null,null,null,null,null,null,null,null,null,{"$f":"IF('５号入力'!AA22=\"\",\"\",'５号入力'!AA22)","v":""},null,null,null,null,{"$f":"IF('５号入力'!F31=\"\",\"\",'５号入力'!F31)","v":"〃"},null,null,null,null,{"$f":"IF('５号入力'!AH31=\"\",\"\",'５号入力'!AH31)","v":""},null,null,null,null,null,null,null,null,null,{"$f":"IF('５号入力'!AA31=\"\",\"\",'５号入力'!AA31)","v":""},null,null,null,null,{"$f":"IF('５号入力'!F40=\"\",\"\",'５号入力'!F40)","v":""},null,null,null,null,{"$f":"IF('５号入力'!AH40=\"\",\"\",'５号入力'!AH40)","v":""},null,null,null,null,null,null,null,null,null,{"$f":"IF('５号入力'!AA40=\"\",\"\",'５号入力'!AA40)","v":""},null,null,null,null,{"$f":"IF('５号入力'!F53=\"\",\"/\",'５号入力'!F53)","v":"/"},null,null,null,null,{"$f":"IF('５号入力'!I53=\"\",\"\",'５号入力'!I53)","v":""}]
[null,null,null,null,"部屋番号：",null,{"$f":"IF('５号入力'!F9=\"\",\"\",'５号入力'!F9)","v":5},{"$f":"IF('５号入力'!F10=\"\",\"\",'５号入力'!F10)","v":""},null,null,null,null,null,{"$f":"IF('５号入力'!F23=\"\",\"\",'５号入力'!F23)","v":"2006-01-01"},null,null,null,null,{"$f":"IF('５号入力'!AH23=\"\",\"\",'５号入力'!AH23)","v":""},null,null,null,null,null,null,null,null,null,{"$f":"IF('５号入力'!AA23=\"\",\"\",'５号入力'!AA23)","v":""},null,null,null,null,{"$f":"IF('５号入力'!F32=\"\",\"\",'５号入力'!F32)","v":"〃"},null,null,null,null,{"$f":"IF('５号入力'!AH32=\"\",\"\",'５号入力'!AH32)","v":""},null,null,null,null,null,null,null,null,null,{"$f":"IF('５号入力'!AA32=\"\",\"\",'５号入力'!AA32)","v":""},null,null,null,null,{"$f":"IF('５号入力'!F41=\"\",\"\",'５号入力'!F41)","v":""},null,null,null,null,{"$f":"IF('５号入力'!AH41=\"\",\"\",'５号入力'!AH41)","v":""},null,null,null,null,null,null,null,null,null,{"$f":"IF('５号入力'!AA41=\"\",\"\",'５号入力'!AA41)","v":""},null,null,null,null,{"$f":"IF('５号入力'!P53=0,\"g\",'５号入力'!P53)","v":"g"},null,null,null,null,null,null,null,{"$f":"IF('５号入力'!T53=0,0,'５号入力'!T53)","v":0}]
[null,null,null,null,"品種名：",null,{"$f":"IF('５号入力'!F11=\"\",\"\",'５号入力'!F11)","v":"春　　系"},null,null,null,null,null,null,{"$f":"IF('５号入力'!F24=\"\",\"\",'５号入力'!F24)","v":"〃"},null,null,null,null,{"$f":"IF('５号入力'!AH24=\"\",\"\",'５号入力'!AH24)","v":""},null,null,null,null,null,null,null,null,null,{"$f":"IF('５号入力'!AA24=\"\",\"\",'５号入力'!AA24)","v":""},null,null,null,null,{"$f":"IF('５号入力'!F33=\"\",\"\",'５号入力'!F33)","v":"〃"},null,null,null,null,{"$f":"IF('５号入力'!AH33=\"\",\"\",'５号入力'!AH33)","v":""},null,null,null,null,null,null,null,null,null,{"$f":"IF('５号入力'!AA33=\"\",\"\",'５号入力'!AA33)","v":""},null,null,null,null,{"$f":"IF('５号入力'!F42=\"\",\"\",'５号入力'!F42)","v":""},null,null,null,null,{"$f":"IF('５号入力'!AH42=\"\",\"\",'５号入力'!AH42)","v":""},null,null,null,null,null,null,null,null,null,{"$f":"IF('５号入力'!AA42=\"\",\"\",'５号入力'!AA42)","v":""},null,null,null,null,{"$f":"IF('５号入力'!F54=\"\",\"/\",'５号入力'!F54)","v":"/"},null,null,null,null,{"$f":"IF('５号入力'!I54=\"\",\"\",'５号入力'!I54)","v":""}]
[null,null,null,null,"播種日：",null,{"$f":"IF('５号入力'!F12=\"\",\"\",'５号入力'!F12)","v":""},null,null,null,null,null,null,{"$f":"IF('５号入力'!F25=\"\",\"\",'５号入力'!F25)","v":"〃"},null,null,null,null,{"$f":"IF('５号入力'!AH25=\"\",\"\",'５号入力'!AH25)","v":""},null,null,null,null,null,null,null,null,null,{"$f":"IF('５号入力'!AA25=\"\",\"\",'５号入力'!AA25)","v":""},null,null,null,null,{"$f":"IF('５号入力'!F34=\"\",\"\",'５号入力'!F34)","v":"〃"},null,null,null,null,{"$f":"IF('５号入力'!AH34=\"\",\"\",'５号入力'!AH34)","v":""},null,null,null,null,null,null,null,null,null,{"$f":"IF('５号入力'!AA34=\"\",\"\",'５号入力'!AA34)","v":""},null,null,null,null,{"$f":"IF('５号入力'!F43=\"\",\"\",'５号入力'!F43)","v":""},null,null,null,null,{"$f":"IF('５号入力'!AH43=\"\",\"\",'５号入力'!AH43)","v":""},null,null,null,null,null,null,null,null,null,{"$f":"IF('５号入力'!AA43=\"\",\"\",'５号入力'!AA43)","v":""},null,null,null,null,{"$f":"IF('５号入力'!P54=0,\"g\",'５号入力'!P54)","v":"g"},null,null,null,null,null,null,null,{"$f":"IF('５号入力'!T54=0,0,'５号入力'!T54)","v":0}]
[null,null,null,null,"定植日：",null,{"$f":"IF('５号入力'!F13=\"\",\"\",'５号入力'!F13)","v":""},null,null,null,null,null,null,{"$f":"IF('５号入力'!F26=\"\",\"\",'５号入力'!F26)","v":"〃"},null,null,null,null,{"$f":"IF('５号入力'!AH26=\"\",\"\",'５号入力'!AH26)","v":""},null,null,null,null,null,null,null,null,null,{"$f":"IF('５号入力'!AA26=\"\",\"\",'５号入力'!AA26)","v":""},null,null,null,null,{"$f":"IF('５号入力'!F35=\"\",\"\",'５号入力'!F35)","v":"〃"},null,null,null,null,{"$f":"IF('５号入力'!AH35=\"\",\"\",'５号入力'!AH35)","v":""},null,null,null,null,null,null,null,null,null,{"$f":"IF('５号入力'!AA35=\"\",\"\",'５号入力'!AA35)","v":""},null,null,null,null,{"$f":"IF('５号入力'!F44=\"\",\"\",'５号入力'!F44)","v":""},null,null,null,null,{"$f":"IF('５号入力'!AH44=\"\",\"\",'５号入力'!AH44)","v":""},null,null,null,null,null,null,null,null,null,{"$f":"IF('５号入力'!AA44=\"\",\"\",'５号入力'!AA44)","v":""},null,null,null,null,"硫黄くん蒸剤"]
[null,null,null,null,"交配日：",null,{"$f":"IF('５号入力'!F14=\"\",\"\",'５号入力'!F14)","v":""},null,null,null,null,null,null,{"$f":"IF('５号入力'!F27=\"\",\"\",'５号入力'!F27)","v":"〃"},null,null,null,null,{"$f":"IF('５号入力'!AH27=\"\",\"\",'５号入力'!AH27)","v":""},null,null,null,null,null,null,null,null,null,{"$f":"IF('５号入力'!AA27=\"\",\"\",'５号入力'!AA27)","v":""},null,null,null,null,{"$f":"IF('５号入力'!F36=\"\",\"\",'５号入力'!F36)","v":""},null,null,null,null,{"$f":"IF('５号入力'!AH36=\"\",\"\",'５号入力'!AH36)","v":""},null,null,null,null,null,null,null,null,null,{"$f":"IF('５号入力'!AA36=\"\",\"\",'５号入力'!AA36)","v":""},null,null,null,null,{"$f":"IF('５号入力'!F45=\"\",\"\",'５号入力'!F45)","v":""},null,null,null,null,{"$f":"IF('５号入力'!AH45=\"\",\"\",'５号入力'!AH45)","v":""},null,null,null,null,null,null,null,null,null,{"$f":"IF('５号入力'!AA45=\"\",\"\",'５号入力'!AA45)","v":""},null,null,null,null,{"$f":"IF('５号入力'!H59=\"\",\"/      ～\",'５号入力'!H59)","v":"/      ～"},null,null,null,null,null,null,null,null,null,{"$f":"IF('５号入力'!H60=\"\",\"    /\",'５号入力'!H60)","v":"    /"}]
[null,null,null,null,"収穫日：",null,{"$f":"IF('５号入力'!F16=\"\",\"\",'５号入力'!F16)","v":""},null,null,null,null,null,null,{"$f":"IF('５号入力'!F28=\"\",\"\",'５号入力'!F28)","v":"〃"},null,null,null,null,{"$f":"IF('５号入力'!AH28=\"\",\"\",'５号入力'!AH28)","v":""},null,null,null,null,null,null,null,null,null,{"$f":"IF('５号入力'!AA28=\"\",\"\",'５号入力'!AA28)","v":""},null,null,null,null,{"$f":"IF('５号入力'!F37=\"\",\"\",'５号入力'!F37)","v":""},null,null,null,null,{"$f":"IF('５号入力'!AH37=\"\",\"\",'５号入力'!AH37)","v":""},null,null,null,null,null,null,null,null,null,{"$f":"IF('５号入力'!AA37=\"\",\"\",'５号入力'!AA37)","v":""},null,null,null,null,{"$f":"IF('５号入力'!F46=\"\",\"\",'５号入力'!F46)","v":""},null,null,null,null,{"$f":"IF('５号入力'!AH46=\"\",\"\",'５号入力'!AH46)","v":""},null,null,null,null,null,null,null,null,null,{"$f":"IF('５号入力'!AA46=\"\",\"\",'５号入力'!AA46)","v":""}]
[null,null,null,null,null,null,null,null,null,null,null,null,null,null,null,null,null,null,null,null,null,null,null,null,null,null,null,null,null,null,null,null,null,null,null,null,null,null,null,null,null,null,null,null,null,null,null,null,null,null,null,null,null,null,null,null,null,null,null,null,null,null,null,null,null,null,null,null,null,null,null,null,null,{"$f":"IF('５号入力'!H61=\"\",\"g/日\",'５号入力'!H61)","v":2},null,null,null,null,null,null,null,null,{"$f":"IF('５号入力'!H62=\"\",\"g/部屋\",'５号入力'!H62)","v":"g/部屋"}]
[null,null,null,null,"採果日数：",null,{"$f":"'５号入力'!F15","v":0},null,null,null,null,null,null,{"$f":"IF('５号入力'!F29=\"\",\"\",'５号入力'!F29)","v":"〃"},null,null,null,null,{"$f":"IF('５号入力'!AH29=\"\",\"\",'５号入力'!AH29)","v":""},null,null,null,null,null,null,null,null,null,{"$f":"IF('５号入力'!AA29=\"\",\"\",'５号入力'!AA29)","v":""},null,null,null,null,{"$f":"IF('５号入力'!F38=\"\",\"\",'５号入力'!F38)","v":""},null,null,null,null,{"$f":"IF('５号入力'!AH38=\"\",\"\",'５号入力'!AH38)","v":""},null,null,null,null,null,null,null,null,null,{"$f":"IF('５号入力'!AA38=\"\",\"\",'５号入力'!AA38)","v":""},null,null,null,null,{"$f":"IF('５号入力'!F47=\"\",\"\",'５号入力'!F47)","v":""},null,null,null,null,{"$f":"IF('５号入力'!AH47=\"\",\"\",'５号入力'!AH47)","v":""},null,null,null,null,null,null,null,null,null,{"$f":"IF('５号入力'!AA47=\"\",\"\",'５号入力'!AA47)","v":""}]
[]
[null,null,null,null,"使用年月日",null,null,null,null,null,null,null,null,{"$f":"IF('５号入力'!R68=\"\",\"/\",'５号入力'!R68)","v":"/"},null,null,null,null,null,null,{"$f":"IF('５号入力'!U68=\"\",\"/\",'５号入力'!U68)","v":"/"},null,null,null,null,null,null,{"$f":"IF('５号入力'!X68=\"\",\"/\",'５号入力'!X68)","v":"/"},null,null,null,null,null,null,{"$f":"IF('５号入力'!AA68=\"\",\"/\",'５号入力'!AA68)","v":"/"},null,null,null,null,null,null,{"$f":"IF('５号入力'!AD68=\"\",\"/\",'５号入力'!AD68)","v":"/"},null,null,null,null,null,null,{"$f":"IF('５号入力'!AG68=\"\",\"/\",'５号入力'!AG68)","v":"/"},null,null,null,null,null,null,{"$f":"IF('５号入力'!AJ68=\"\",\"/\",'５号入力'!AJ68)","v":"/"},null,null,null,null,null,null,{"$f":"IF('５号入力'!AM68=\"\",\"/\",'５号入力'!AM68)","v":"/"},null,null,null,null,null,null,"使用液肥・葉面散布剤"]
[null,null,null,null,"生育ステージ",null,null,null,null,null,null,null,null,{"$f":"IF('５号入力'!R69=\"\",\"\",'５号入力'!R69)","v":"育苗"},null,null,null,null,null,null,{"$f":"IF('５号入力'!U69=\"\",\"\",'５号入力'!U69)","v":"木作り"},null,null,null,null,null,null,{"$f":"IF('５号入力'!X69=\"\",\"\",'５号入力'!X69)","v":"木作り"},null,null,null,null,null,null,{"$f":"IF('５号入力'!AA69=\"\",\"\",'５号入力'!AA69)","v":"肥大期"},null,null,null,null,null,null,{"$f":"IF('５号入力'!AD69=\"\",\"\",'５号入力'!AD69)","v":"肥大期"},null,null,null,null,null,null,{"$f":"IF('５号入力'!AG69=\"\",\"\",'５号入力'!AG69)","v":"仕上げ"},null,null,null,null,null,null,{"$f":"IF('５号入力'!AJ69=\"\",\"\",'５号入力'!AJ69)","v":"仕上げ"},null,null,null,null,null,null,{"$f":"IF('５号入力'!AM69=\"\",\"\",'５号入力'!AM69)","v":"仕上げ"},null,null,null,null,null,null,{"$f":"IF('５号入力'!E105=\"\",\"/\",'５号入力'!E105)","v":"/"},null,null,null,null,{"$f":"IF('５号入力'!H105=\"\",\"\",'５号入力'!H105)","v":""},null,null,null,null,null,null,null,null,null,null,null,null,{"$f":"IF('５号入力'!Q105=0,0,'５号入力'!Q105)","v":0}]
[null,null,null,null,"使用農薬名","散布量",null,null,null,null,null,null,null,{"$f":"IF('５号入力'!R70=0,0,'５号入力'!R70)","v":0},null,null,null,null,null,null,{"$f":"IF('５号入力'!U70=0,0,'５号入力'!U70)","v":0},null,null,null,null,null,null,{"$f":"IF('５号入力'!X70=0,0,'５号入力'!X70)","v":0},null,null,null,null,null,null,{"$f":"IF('５号入力'!AA70=0,0,'５号入力'!AA70)","v":0},null,null,null,null,null,null,{"$f":"IF('５号入力'!AD70=0,0,'５号入力'!AD70)","v":0},null,null,null,null,null,null,{"$f":"IF('５号入力'!AG70=0,0,'５号入力'!AG70)","v":0},null,null,null,null,null,null,{"$f":"IF('５号入力'!AJ70=0,0,'５号入力'!AJ70)","v":0},null,null,null,null,null,null,{"$f":"IF('５号入力'!AM70=0,0,'５号入力'!AM70)","v":0},null,null,null,null,null,null,{"$f":"IF('５号入力'!E106=\"\",\"\",'５号入力'!E106)","v":""},null,null,null,null,{"$f":"IF('５号入力'!H106=\"\",\"\",'５号入力'!H106)","v":""},null,null,null,null,null,null,null,null,null,null,null,null,{"$f":"IF('５号入力'!Q106=0,\"\",'５号入力'!Q106)","v":""}]
[null,null,null,null,null,{"$f":"IF('５号入力'!D71=\"\",\"\",'５号入力'!D71)","v":""},null,null,{"$f":"IF(F19=\"\",\"\",VLOOKUP(F19,Ｍ農薬台帳,3,FALSE))","v":""},{"$f":"IF(F19=\"\",\"\",\"-\")","v":""},{"$f":"IF(F19=\"\",\"\",VLOOKUP(F19,Ｍ農薬台帳,2,FALSE))","v":""},null,null,{"$f":"IF('５号入力'!R71=\"\",\"\",'５号入力'!R71)","v":""},null,null,null,null,null,null,{"$f":"IF('５号入力'!U71=\"\",\"\",'５号入力'!U71)","v":""},null,null,null,null,null,null,{"$f":"IF('５号入力'!X71=\"\",\"\",'５号入力'!X71)","v":""},null,null,null,null,null,null,{"$f":"IF('５号入力'!AA71=\"\",\"\",'５号入力'!AA71)","v":""},null,null,null,null,null,null,{"$f":"IF('５号入力'!AD71=\"\",\"\",'５号入力'!AD71)","v":""},null,null,null,null,null,null,{"$f":"IF('５号入力'!AG71=\"\",\"\",'５号入力'!AG71)","v":""},null,null,null,null,null,null,{"$f":"IF('５号入力'!AJ71=\"\",\"\",'５号入力'!AJ71)","v":""},null,null,null,null,null,null,{"$f":"IF('５号入力'!AM71=\"\",\"\",'５号入力'!AM71)","v":""},null,null,null,null,null,null,{"$f":"IF('５号入力'!E107=\"\",\"\",'５号入力'!E107)","v":""},null,null,null,null,{"$f":"IF('５号入力'!H107=\"\",\"\",'５号入力'!H107)","v":""},null,null,null,null,null,null,null,null,null,null,null,null,{"$f":"IF('５号入力'!Q107=0,\"\",'５号入力'!Q107)","v":""}]
[null,null,null,null,null,{"$f":"IF('５号入力'!D72=\"\",\"\",'５号入力'!D72)","v":""},null,null,"","","",null,null,{"$f":"IF('５号入力'!R72=\"\",\"\",'５号入力'!R72)","v":""},null,null,null,null,null,null,{"$f":"IF('５号入力'!U72=\"\",\"\",'５号入力'!U72)","v":""},null,null,null,null,null,null,{"$f":"IF('５号入力'!X72=\"\",\"\",'５号入力'!X72)","v":""},null,null,null,null,null,null,{"$f":"IF('５号入力'!AA72=\"\",\"\",'５号入力'!AA72)","v":""},null,null,null,null,null,null,{"$f":"IF('５号入力'!AD72=\"\",\"\",'５号入力'!AD72)","v":""},null,null,null,null,null,null,{"$f":"IF('５号入力'!AG72=\"\",\"\",'５号入力'!AG72)","v":""},null,null,null,null,null,null,{"$f":"IF('５号入力'!AJ72=\"\",\"\",'５号入力'!AJ72)","v":""},null,null,null,null,null,null,{"$f":"IF('５号入力'!AM72=\"\",\"\",'５号入力'!AM72)","v":""},null,null,null,null,null,null,{"$f":"IF('５号入力'!E108=\"\",\"\",'５号入力'!E108)","v":""},null,null,null,null,{"$f":"IF('５号入力'!H108=\"\",\"\",'５号入力'!H108)","v":""},null,null,null,null,null,null,null,null,null,null,null,null,{"$f":"IF('５号入力'!Q108=0,\"\",'５号入力'!Q108)","v":""}]
[null,null,null,null,null,{"$f":"IF('５号入力'!D73=\"\",\"\",'５号入力'!D73)","v":""},null,null,"","","",null,null,{"$f":"IF('５号入力'!R73=\"\",\"\",'５号入力'!R73)","v":""},null,null,null,null,null,null,{"$f":"IF('５号入力'!U73=\"\",\"\",'５号入力'!U73)","v":""},null,null,null,null,null,null,{"$f":"IF('５号入力'!X73=\"\",\"\",'５号入力'!X73)","v":""},null,null,null,null,null,null,{"$f":"IF('５号入力'!AA73=\"\",\"\",'５号入力'!AA73)","v":""},null,null,null,null,null,null,{"$f":"IF('５号入力'!AD73=\"\",\"\",'５号入力'!AD73)","v":""},null,null,null,null,null,null,{"$f":"IF('５号入力'!AG73=\"\",\"\",'５号入力'!AG73)","v":""},null,null,null,null,null,null,{"$f":"IF('５号入力'!AJ73=\"\",\"\",'５号入力'!AJ73)","v":""},null,null,null,null,null,null,{"$f":"IF('５号入力'!AM73=\"\",\"\",'５号入力'!AM73)","v":""},null,null,null,null,null,null,{"$f":"IF('５号入力'!E109=\"\",\"\",'５号入力'!E109)","v":""},null,null,null,null,{"$f":"IF('５号入力'!H109=\"\",\"\",'５号入力'!H109)","v":""},null,null,null,null,null,null,null,null,null,null,null,null,{"$f":"IF('５号入力'!Q109=0,\"\",'５号入力'!Q109)","v":""}]
[null,null,null,null,null,{"$f":"IF('５号入力'!D74=\"\",\"\",'５号入力'!D74)","v":""},null,null,"","","",null,null,{"$f":"IF('５号入力'!R74=\"\",\"\",'５号入力'!R74)","v":""},null,null,null,null,null,null,{"$f":"IF('５号入力'!U74=\"\",\"\",'５号入力'!U74)","v":""},null,null,null,null,null,null,{"$f":"IF('５号入力'!X74=\"\",\"\",'５号入力'!X74)","v":""},null,null,null,null,null,null,{"$f":"IF('５号入力'!AA74=\"\",\"\",'５号入力'!AA74)","v":""},null,null,null,null,null,null,{"$f":"IF('５号入力'!AD74=\"\",\"\",'５号入力'!AD74)","v":""},null,null,null,null,null,null,{"$f":"IF('５号入力'!AG74=\"\",\"\",'５号入力'!AG74)","v":""},null,null,null,null,null,null,{"$f":"IF('５号入力'!AJ74=\"\",\"\",'５号入力'!AJ74)","v":""},null,null,null,null,null,null,{"$f":"IF('５号入力'!AM74=\"\",\"\",'５号入力'!AM74)","v":""},null,null,null,null,null,null,{"$f":"IF('５号入力'!E110=\"\",\"\",'５号入力'!E110)","v":""},null,null,null,null,{"$f":"IF('５号入力'!H110=\"\",\"\",'５号入力'!H110)","v":""},null,null,null,null,null,null,null,null,null,null,null,null,{"$f":"IF('５号入力'!Q110=0,\"\",'５号入力'!Q110)","v":""}]
[null,null,null,null,null,{"$f":"IF('５号入力'!D75=\"\",\"\",'５号入力'!D75)","v":""},null,null,"","","",null,null,{"$f":"IF('５号入力'!R75=\"\",\"\",'５号入力'!R75)","v":""},null,null,null,null,null,null,{"$f":"IF('５号入力'!U75=\"\",\"\",'５号入力'!U75)","v":""},null,null,null,null,null,null,{"$f":"IF('５号入力'!X75=\"\",\"\",'５号入力'!X75)","v":""},null,null,null,null,null,null,{"$f":"IF('５号入力'!AA75=\"\",\"\",'５号入力'!AA75)","v":""},null,null,null,null,null,null,{"$f":"IF('５号入力'!AD75=\"\",\"\",'５号入力'!AD75)","v":""},null,null,null,null,null,null,{"$f":"IF('５号入力'!AG75=\"\",\"\",'５号入力'!AG75)","v":""},null,null,null,null,null,null,{"$f":"IF('５号入力'!AJ75=\"\",\"\",'５号入力'!AJ75)","v":""},null,null,null,null,null,null,{"$f":"IF('５号入力'!AM75=\"\",\"\",'５号入力'!AM75)","v":""},null,null,null,null,null,null,{"$f":"IF('５号入力'!E111=\"\",\"\",'５号入力'!E111)","v":""},null,null,null,null,{"$f":"IF('５号入力'!H111=\"\",\"\",'５号入力'!H111)","v":""},null,null,null,null,null,null,null,null,null,null,null,null,{"$f":"IF('５号入力'!Q111=0,\"\",'５号入力'!Q111)","v":""}]
[null,null,null,null,null,{"$f":"IF('５号入力'!D76=\"\",\"\",'５号入力'!D76)","v":""},null,null,"","","",null,null,{"$f":"IF('５号入力'!R76=\"\",\"\",'５号入力'!R76)","v":""},null,null,null,null,null,null,{"$f":"IF('５号入力'!U76=\"\",\"\",'５号入力'!U76)","v":""},null,null,null,null,null,null,{"$f":"IF('５号入力'!X76=\"\",\"\",'５号入力'!X76)","v":""},null,null,null,null,null,null,{"$f":"IF('５号入力'!AA76=\"\",\"\",'５号入力'!AA76)","v":""},null,null,null,null,null,null,{"$f":"IF('５号入力'!AD76=\"\",\"\",'５号入力'!AD76)","v":""},null,null,null,null,null,null,{"$f":"IF('５号入力'!AG76=\"\",\"\",'５号入力'!AG76)","v":""},null,null,null,null,null,null,{"$f":"IF('５号入力'!AJ76=\"\",\"\",'５号入力'!AJ76)","v":""},null,null,null,null,null,null,{"$f":"IF('５号入力'!AM76=\"\",\"\",'５号入力'!AM76)","v":""},null,null,null,null,null,null,{"$f":"IF('５号入力'!E112=\"\",\"\",'５号入力'!E112)","v":""},null,null,null,null,{"$f":"IF('５号入力'!H112=\"\",\"\",'５号入力'!H112)","v":""},null,null,null,null,null,null,null,null,null,null,null,null,{"$f":"IF('５号入力'!Q112=0,\"\",'５号入力'!Q112)","v":""}]
[null,null,null,null,null,{"$f":"IF('５号入力'!D77=\"\",\"\",'５号入力'!D77)","v":""},null,null,"","","",null,null,{"$f":"IF('５号入力'!R77=\"\",\"\",'５号入力'!R77)","v":""},null,null,null,null,null,null,{"$f":"IF('５号入力'!U77=\"\",\"\",'５号入力'!U77)","v":""},null,null,null,null,null,null,{"$f":"IF('５号入力'!X77=\"\",\"\",'５号入力'!X77)","v":""},null,null,null,null,null,null,{"$f":"IF('５号入力'!AA77=\"\",\"\",'５号入力'!AA77)","v":""},null,null,null,null,null,null,{"$f":"IF('５号入力'!AD77=\"\",\"\",'５号入力'!AD77)","v":""},null,null,null,null,null,null,{"$f":"IF('５号入力'!AG77=\"\",\"\",'５号入力'!AG77)","v":""},null,null,null,null,null,null,{"$f":"IF('５号入力'!AJ77=\"\",\"\",'５号入力'!AJ77)","v":""},null,null,null,null,null,null,{"$f":"IF('５号入力'!AM77=\"\",\"\",'５号入力'!AM77)","v":""},null,null,null,null,null,null,{"$f":"IF('５号入力'!E113=\"\",\"\",'５号入力'!E113)","v":""},null,null,null,null,{"$f":"IF('５号入力'!H113=\"\",\"\",'５号入力'!H113)","v":""},null,null,null,null,null,null,null,null,null,null,null,null,{"$f":"IF('５号入力'!Q113=0,\"\",'５号入力'!Q113)","v":""}]
[null,null,null,null,null,{"$f":"IF('５号入力'!D78=\"\",\"\",'５号入力'!D78)","v":""},null,null,"","","",null,null,{"$f":"IF('５号入力'!R78=\"\",\"\",'５号入力'!R78)","v":""},null,null,null,null,null,null,{"$f":"IF('５号入力'!U78=\"\",\"\",'５号入力'!U78)","v":""},null,null,null,null,null,null,{"$f":"IF('５号入力'!X78=\"\",\"\",'５号入力'!X78)","v":""},null,null,null,null,null,null,{"$f":"IF('５号入力'!AA78=\"\",\"\",'５号入力'!AA78)","v":""},null,null,null,null,null,null,{"$f":"IF('５号入力'!AD78=\"\",\"\",'５号入力'!AD78)","v":""},null,null,null,null,null,null,{"$f":"IF('５号入力'!AG78=\"\",\"\",'５号入力'!AG78)","v":""},null,null,null,null,null,null,{"$f":"IF('５号入力'!AJ78=\"\",\"\",'５号入力'!AJ78)","v":""},null,null,null,null,null,null,{"$f":"IF('５号入力'!AM78=\"\",\"\",'５号入力'!AM78)","v":""},null,null,null,null,null,null,{"$f":"IF('５号入力'!E114=\"\",\"\",'５号入力'!E114)","v":""},null,null,null,null,{"$f":"IF('５号入力'!H114=\"\",\"\",'５号入力'!H114)","v":""},null,null,null,null,null,null,null,null,null,null,null,null,{"$f":"IF('５号入力'!Q114=0,\"\",'５号入力'!Q114)","v":""}]
[null,null,null,null,null,{"$f":"IF('５号入力'!D79=\"\",\"\",'５号入力'!D79)","v":""},null,null,"","","",null,null,{"$f":"IF('５号入力'!R79=\"\",\"\",'５号入力'!R79)","v":""},null,null,null,null,null,null,{"$f":"IF('５号入力'!U79=\"\",\"\",'５号入力'!U79)","v":""},null,null,null,null,null,null,{"$f":"IF('５号入力'!X79=\"\",\"\",'５号入力'!X79)","v":""},null,null,null,null,null,null,{"$f":"IF('５号入力'!AA79=\"\",\"\",'５号入力'!AA79)","v":""},null,null,null,null,null,null,{"$f":"IF('５号入力'!AD79=\"\",\"\",'５号入力'!AD79)","v":""},null,null,null,null,null,null,{"$f":"IF('５号入力'!AG79=\"\",\"\",'５号入力'!AG79)","v":""},null,null,null,null,null,null,{"$f":"IF('５号入力'!AJ79=\"\",\"\",'５号入力'!AJ79)","v":""},null,null,null,null,null,null,{"$f":"IF('５号入力'!AM79=\"\",\"\",'５号入力'!AM79)","v":""},null,null,null,null,null,null,{"$f":"IF('５号入力'!E115=\"\",\"\",'５号入力'!E115)","v":""},null,null,null,null,{"$f":"IF('５号入力'!H115=\"\",\"\",'５号入力'!H115)","v":""},null,null,null,null,null,null,null,null,null,null,null,null,{"$f":"IF('５号入力'!Q115=0,\"\",'５号入力'!Q115)","v":""}]
[null,null,null,null,null,{"$f":"IF('５号入力'!D80=\"\",\"\",'５号入力'!D80)","v":""},null,null,"","","",null,null,{"$f":"IF('５号入力'!R80=\"\",\"\",'５号入力'!R80)","v":""},null,null,null,null,null,null,{"$f":"IF('５号入力'!U80=\"\",\"\",'５号入力'!U80)","v":""},null,null,null,null,null,null,{"$f":"IF('５号入力'!X80=\"\",\"\",'５号入力'!X80)","v":""},null,null,null,null,null,null,{"$f":"IF('５号入力'!AA80=\"\",\"\",'５号入力'!AA80)","v":""},null,null,null,null,null,null,{"$f":"IF('５号入力'!AD80=\"\",\"\",'５号入力'!AD80)","v":""},null,null,null,null,null,null,{"$f":"IF('５号入力'!AG80=\"\",\"\",'５号入力'!AG80)","v":""},null,null,null,null,null,null,{"$f":"IF('５号入力'!AJ80=\"\",\"\",'５号入力'!AJ80)","v":""},null,null,null,null,null,null,{"$f":"IF('５号入力'!AM80=\"\",\"\",'５号入力'!AM80)","v":""},null,null,null,null,null,null,{"$f":"IF('５号入力'!E116=\"\",\"\",'５号入力'!E116)","v":""},null,null,null,null,{"$f":"IF('５号入力'!H116=\"\",\"\",'５号入力'!H116)","v":""},null,null,null,null,null,null,null,null,null,null,null,null,{"$f":"IF('５号入力'!Q116=0,\"\",'５号入力'!Q116)","v":""}]
[null,null,null,null,null,{"$f":"IF('５号入力'!D81=\"\",\"\",'５号入力'!D81)","v":""},null,null,"","","",null,null,{"$f":"IF('５号入力'!R81=\"\",\"\",'５号入力'!R81)","v":""},null,null,null,null,null,null,{"$f":"IF('５号入力'!U81=\"\",\"\",'５号入力'!U81)","v":""},null,null,null,null,null,null,{"$f":"IF('５号入力'!X81=\"\",\"\",'５号入力'!X81)","v":""},null,null,null,null,null,null,{"$f":"IF('５号入力'!AA81=\"\",\"\",'５号入力'!AA81)","v":""},null,null,null,null,null,null,{"$f":"IF('５号入力'!AD81=\"\",\"\",'５号入力'!AD81)","v":""},null,null,null,null,null,null,{"$f":"IF('５号入力'!AG81=\"\",\"\",'５号入力'!AG81)","v":""},null,null,null,null,null,null,{"$f":"IF('５号入力'!AJ81=\"\",\"\",'５号入力'!AJ81)","v":""},null,null,null,null,null,null,{"$f":"IF('５号入力'!AM81=\"\",\"\",'５号入力'!AM81)","v":""},null,null,null,null,null,null,{"$f":"IF('５号入力'!E117=\"\",\"\",'５号入力'!E117)","v":""},null,null,null,null,{"$f":"IF('５号入力'!H117=\"\",\"\",'５号入力'!H117)","v":""},null,null,null,null,null,null,null,null,null,null,null,null,{"$f":"IF('５号入力'!Q117=0,\"\",'５号入力'!Q117)","v":""}]
[null,null,null,null,null,{"$f":"IF('５号入力'!D82=\"\",\"\",'５号入力'!D82)","v":""},null,null,"","","",null,null,{"$f":"IF('５号入力'!R82=\"\",\"\",'５号入力'!R82)","v":""},null,null,null,null,null,null,{"$f":"IF('５号入力'!U82=\"\",\"\",'５号入力'!U82)","v":""},null,null,null,null,null,null,{"$f":"IF('５号入力'!X82=\"\",\"\",'５号入力'!X82)","v":""},null,null,null,null,null,null,{"$f":"IF('５号入力'!AA82=\"\",\"\",'５号入力'!AA82)","v":""},null,null,null,null,null,null,{"$f":"IF('５号入力'!AD82=\"\",\"\",'５号入力'!AD82)","v":""},null,null,null,null,null,null,{"$f":"IF('５号入力'!AG82=\"\",\"\",'５号入力'!AG82)","v":""},null,null,null,null,null,null,{"$f":"IF('５号入力'!AJ82=\"\",\"\",'５号入力'!AJ82)","v":""},null,null,null,null,null,null,{"$f":"IF('５号入力'!AM82=\"\",\"\",'５号入力'!AM82)","v":""},null,null,null,null,null,null,{"$f":"IF('５号入力'!E118=\"\",\"\",'５号入力'!E118)","v":""},null,null,null,null,{"$f":"IF('５号入力'!H118=\"\",\"\",'５号入力'!H118)","v":""},null,null,null,null,null,null,null,null,null,null,null,null,{"$f":"IF('５号入力'!Q118=0,\"\",'５号入力'!Q118)","v":""}]
[null,null,null,null,null,{"$f":"IF('５号入力'!D83=\"\",\"\",'５号入力'!D83)","v":""},null,null,"","","",null,null,{"$f":"IF('５号入力'!R83=\"\",\"\",'５号入力'!R83)","v":""},null,null,null,null,null,null,{"$f":"IF('５号入力'!U83=\"\",\"\",'５号入力'!U83)","v":""},null,null,null,null,null,null,{"$f":"IF('５号入力'!X83=\"\",\"\",'５号入力'!X83)","v":""},null,null,null,null,null,null,{"$f":"IF('５号入力'!AA83=\"\",\"\",'５号入力'!AA83)","v":""},null,null,null,null,null,null,{"$f":"IF('５号入力'!AD83=\"\",\"\",'５号入力'!AD83)","v":""},null,null,null,null,null,null,{"$f":"IF('５号入力'!AG83=\"\",\"\",'５号入力'!AG83)","v":""},null,null,null,null,null,null,{"$f":"IF('５号入力'!AJ83=\"\",\"\",'５号入力'!AJ83)","v":""},null,null,null,null,null,null,{"$f":"IF('５号入力'!AM83=\"\",\"\",'５号入力'!AM83)","v":""},null,null,null,null,null,null,{"$f":"IF('５号入力'!E119=\"\",\"\",'５号入力'!E119)","v":""},null,null,null,null,{"$f":"IF('５号入力'!H119=\"\",\"\",'５号入力'!H119)","v":""},null,null,null,null,null,null,null,null,null,null,null,null,{"$f":"IF('５号入力'!Q119=0,\"\",'５号入力'!Q119)","v":""}]
[null,null,null,null,null,{"$f":"IF('５号入力'!D84=\"\",\"\",'５号入力'!D84)","v":""},null,null,"","","",null,null,{"$f":"IF('５号入力'!R84=\"\",\"\",'５号入力'!R84)","v":""},null,null,null,null,null,null,{"$f":"IF('５号入力'!U84=\"\",\"\",'５号入力'!U84)","v":""},null,null,null,null,null,null,{"$f":"IF('５号入力'!X84=\"\",\"\",'５号入力'!X84)","v":""},null,null,null,null,null,null,{"$f":"IF('５号入力'!AA84=\"\",\"\",'５号入力'!AA84)","v":""},null,null,null,null,null,null,{"$f":"IF('５号入力'!AD84=\"\",\"\",'５号入力'!AD84)","v":""},null,null,null,null,null,null,{"$f":"IF('５号入力'!AG84=\"\",\"\",'５号入力'!AG84)","v":""},null,null,null,null,null,null,{"$f":"IF('５号入力'!AJ84=\"\",\"\",'５号入力'!AJ84)","v":""},null,null,null,null,null,null,{"$f":"IF('５号入力'!AM84=\"\",\"\",'５号入力'!AM84)","v":""},null,null,null,null,null,null,{"$f":"IF('５号入力'!E120=\"\",\"\",'５号入力'!E120)","v":""},null,null,null,null,{"$f":"IF('５号入力'!H120=\"\",\"\",'５号入力'!H120)","v":""},null,null,null,null,null,null,null,null,null,null,null,null,{"$f":"IF('５号入力'!Q120=0,\"\",'５号入力'!Q120)","v":""}]
[null,null,null,null,null,{"$f":"IF('５号入力'!D85=\"\",\"\",'５号入力'!D85)","v":""},null,null,"","","",null,null,{"$f":"IF('５号入力'!R85=\"\",\"\",'５号入力'!R85)","v":""},null,null,null,null,null,null,{"$f":"IF('５号入力'!U85=\"\",\"\",'５号入力'!U85)","v":""},null,null,null,null,null,null,{"$f":"IF('５号入力'!X85=\"\",\"\",'５号入力'!X85)","v":""},null,null,null,null,null,null,{"$f":"IF('５号入力'!AA85=\"\",\"\",'５号入力'!AA85)","v":""},null,null,null,null,null,null,{"$f":"IF('５号入力'!AD85=\"\",\"\",'５号入力'!AD85)","v":""},null,null,null,null,null,null,{"$f":"IF('５号入力'!AG85=\"\",\"\",'５号入力'!AG85)","v":""},null,null,null,null,null,null,{"$f":"IF('５号入力'!AJ85=\"\",\"\",'５号入力'!AJ85)","v":""},null,null,null,null,null,null,{"$f":"IF('５号入力'!AM85=\"\",\"\",'５号入力'!AM85)","v":""},null,null,null,null,null,null,{"$f":"IF('５号入力'!E121=\"\",\"\",'５号入力'!E121)","v":""},null,null,null,null,{"$f":"IF('５号入力'!H121=\"\",\"\",'５号入力'!H121)","v":""},null,null,null,null,null,null,null,null,null,null,null,null,{"$f":"IF('５号入力'!Q121=0,\"\",'５号入力'!Q121)","v":""}]
[null,null,null,null,null,{"$f":"IF('５号入力'!D86=\"\",\"\",'５号入力'!D86)","v":""},null,null,"","","",null,null,{"$f":"IF('５号入力'!R86=\"\",\"\",'５号入力'!R86)","v":""},null,null,null,null,null,null,{"$f":"IF('５号入力'!U86=\"\",\"\",'５号入力'!U86)","v":""},null,null,null,null,null,null,{"$f":"IF('５号入力'!X86=\"\",\"\",'５号入力'!X86)","v":""},null,null,null,null,null,null,{"$f":"IF('５号入力'!AA86=\"\",\"\",'５号入力'!AA86)","v":""},null,null,null,null,null,null,{"$f":"IF('５号入力'!AD86=\"\",\"\",'５号入力'!AD86)","v":""},null,null,null,null,null,null,{"$f":"IF('５号入力'!AG86=\"\",\"\",'５号入力'!AG86)","v":""},null,null,null,null,null,null,{"$f":"IF('５号入力'!AJ86=\"\",\"\",'５号入力'!AJ86)","v":""},null,null,null,null,null,null,{"$f":"IF('５号入力'!AM86=\"\",\"\",'５号入力'!AM86)","v":""},null,null,null,null,null,null,{"$f":"IF('５号入力'!E122=\"\",\"\",'５号入力'!E122)","v":""},null,null,null,null,{"$f":"IF('５号入力'!H122=\"\",\"\",'５号入力'!H122)","v":""},null,null,null,null,null,null,null,null,null,null,null,null,{"$f":"IF('５号入力'!Q122=0,\"\",'５号入力'!Q122)","v":""}]
[null,null,null,null,null,"植物成長調整剤",null,null,null,null,null,null,null,{"$f":"IF('５号入力'!F91=\"\",\"/\",'５号入力'!F91)","v":"/"},null,null,null,null,{"$f":"IF('５号入力'!I91=0,0,'５号入力'!I91)","v":0},null,null,null,null,null,null,null,{"$f":"IF('５号入力'!N91=0,0,'５号入力'!N91)","v":0},null,null,null,null,null,null,null,{"$f":"IF('５号入力'!C94=\"\",\"\",'５号入力'!C94)","v":"トップジンＭ水和剤"},null,null,null,null,null,null,null,null,null,null,null,null,null,null,null,{"$f":"IF('５号入力'!F97=\"\",\"/\",'５号入力'!F97)","v":"/"},null,null,null,null,{"$f":"IF('５号入力'!I97=0,0,'５号入力'!I97)","v":0},null,null,null,null,null,null,null,{"$f":"IF('５号入力'!N97=0,0,'５号入力'!N97)","v":0},null,null,null,null,null,null,null,{"$f":"IF('５号入力'!F99=\"\",\"/\",'５号入力'!F99)","v":"/"},null,null,null,null,{"$f":"IF('５号入力'!I99=0,0,'５号入力'!I99)","v":0},null,null,null,null,null,null,null,{"$f":"IF('５号入力'!N99=0,0,'５号入力'!N99)","v":0}]
[null,null,null,null,null,{"$f":"IF('５号入力'!L88=\"\",\"\",'５号入力'!L88)","v":"アークランド液剤"},null,null,null,null,null,null,null,{"$f":"IF('５号入力'!F92=\"\",\"/\",'５号入力'!F92)","v":"/"},null,null,null,null,{"$f":"IF('５号入力'!I92=0,0,'５号入力'!I92)","v":0},null,null,null,null,null,null,null,{"$f":"IF('５号入力'!N92=0,0,'５号入力'!N92)","v":0},null,null,null,null,null,null,null,null,null,null,null,null,null,null,null,null,null,null,null,null,null,null,null,{"$f":"IF('５号入力'!F98=\"\",\"/\",'５号入力'!F98)","v":"/"},null,null,null,null,{"$f":"IF('５号入力'!I98=0,0,'５号入力'!I98)","v":0},null,null,null,null,null,null,null,{"$f":"IF('５号入力'!N98=0,0,'５号入力'!N98)","v":0},null,null,null,null,null,null,null,{"$f":"IF('５号入力'!F100=\"\",\"/\",'５号入力'!F100)","v":"/"},null,null,null,null,{"$f":"IF('５号入力'!I100=0,0,'５号入力'!I100)","v":0},null,null,null,null,null,null,null,{"$f":"IF('５号入力'!N100=0,0,'５号入力'!N100)","v":0}]

{"sheet":"６号入力","index":12,"n_rows":128,"n_cols":53,"rows_kept":128,"cut":false,"hidden":false,"merged":[[121,16,121,18],[120,2,120,3],[120,4,120,6],[120,7,120,15],[120,16,120,18],[121,2,121,3],[121,4,121,6],[121,7,121,15],[119,16,119,18],[118,2,118,3],[118,4,118,6],[118,7,118,15],[118,16,118,18],[119,2,119,3],[119,4,119,6],[119,7,119,15],[117,7,117,15],[117,16,117,18],[116,2,116,3],[116,4,116,6],[116,7,116,15],[116,16,116,18],[117,2,117,3],[117,4,117,6],[115,2,115,3],[115,4,115,6],[115,7,115,15],[115,16,115,18],[114,2,114,3],[114,4,114,6],[114,7,114,15],[114,16,114,18],[113,2,113,3],[113,4,113,6],[113,7,113,15],[113,16,113,18],[112,2,112,3],[112,4,112,6],[112,7,112,15],[112,16,112,18],[111,2,111,3],[111,4,111,6],[111,7,111,15],[111,16,111,18],[110,2,110,3],[110,4,110,6],[110,7,110,15],[110,16,110,18],[109,2,109,3],[109,4,109,6],[109,7,109,15],[109,16,109,18],[108,2,108,3],[108,4,108,6],[108,7,108,15],[108,16,108,18],[107,2,107,3],[107,4,107,6],[107,7,107,15],[107,16,107,18],[106,2,106,3],[106,4,106,6],[106,7,106,15],[106,16,106,18],[105,2,105,3],[105,4,105,6],[105,7,105,15],[105,16,105,18],[104,2,104,3],[104,4,104,6],[104,7,104,15],[104,16,104,18],[103,2,103,3],[103,4,103,6],[103,7,103,15],[103,16,103,18],[99,2,99,4],[99,5,99,7],[99,8,99,12],[99,13,99,17],[98,2,98,4],[98,5,98,7],[98,8,98,12],[98,13,98,17],[97,2,97,4],[97,5,97,7],[97,8,97,12],[97,13,97,17],[96,2,96,4],[96,5,96,7],[96,8,96,12],[96,13,96,17],[95,2,95,4],[95,5,95,7],[95,8,95,12],[95,13,95,17],[91,2,91,4],[91,5,91,7],[91,8,91,12],[91,13,91,17],[93,2,93,8],[90,2,90,4],[90,5,90,7],[90,8,90,12],[90,13,90,17],[89,2,89,4],[89,5,89,7],[89,8,89,12],[89,13,89,17],[85,35,85,37],[69,2,85,2],[85,3,85,10],[85,14,85,16],[69,35,69,37],[85,38,85,40],[85,17,85,19],[85,20,85,22],[84,35,84,37],[84,38,84,40],[85,23,85,25],[85,26,85,28],[85,29,85,31],[85,32,85,34],[83,38,83,40],[84,3,84,10],[84,14,84,16],[84,17,84,19],[84,20,84,22],[84,23,84,25],[84,26,84,28],[84,29,84,31],[84,32,84,34],[83,3,83,10],[83,14,83,16],[83,17,83,19],[83,20,83,22],[83,23,83,25],[83,26,83,28],[83,29,83,31],[83,32,83,34],[83,35,83,37],[81,38,81,40],[82,3,82,10],[82,14,82,16],[82,17,82,19],[82,20,82,22],[82,23,82,25],[82,26,82,28],[82,29,82,31],[82,32,82,34],[82,35,82,37],[82,38,82,40],[81,3,81,10],[81,14,81,16],[81,17,81,19],[81,20,81,22],[81,23,81,25],[81,26,81,28],[81,29,81,31],[81,32,81,34],[81,35,81,37],[79,38,79,40],[80,3,80,10],[80,14,80,16],[80,17,80,19],[80,20,80,22],[80,23,80,25],[80,26,80,28],[80,29,80,31],[80,32,80,34],[80,35,80,37],[80,38,80,40],[79,3,79,10],[79,14,79,16],[79,17,79,19],[79,20,79,22],[79,23,79,25],[79,26,79,28],[79,29,79,31],[79,32,79,34],[79,35,79,37],[77,38,77,40],[78,3,78,10],[78,14,78,16],[78,17,78,19],[78,20,78,22],[78,23,78,25],[78,26,78,28],[78,29,78,31],[78,32,78,34],[78,35,78,37],[78,38,78,40],[77,3,77,10],[77,14,77,16],[77,17,77,19],[77,20,77,22],[77,23,77,25],[77,26,77,28],[77,29,77,31],[77,32,77,34],[77,35,77,37],[75,38,75,40],[76,3,76,10],[76,14,76,16],[76,17,76,19],[76,20,76,22],[76,23,76,25],[76,26,76,28],[76,29,76,31],[76,32,76,34],[76,35,76,37],[76,38,76,40],[75,3,75,10],[75,14,75,16],[75,17,75,19],[75,20,75,22],[75,23,75,25],[75,26,75,28],[75,29,75,31],[75,32,75,34],[75,35,75,37],[73,38,73,40],[74,3,74,10],[74,14,74,16],[74,17,74,19],[74,20,74,22],[74,23,74,25],[74,26,74,28],[74,29,74,31],[74,32,74,34],[74,35,74,37],[74,38,74,40],[73,3,73,10],[73,14,73,16],[73,17,73,19],[73,20,73,22],[73,23,73,25],[73,26,73,28],[73,29,73,31],[73,32,73,34],[73,35,73,37],[71,38,71,40],[72,3,72,10],[72,14,72,16],[72,17,72,19],[72,20,72,22],[72,23,72,25],[72,26,72,28],[72,29,72,31],[72,32,72,34],[72,35,72,37],[72,38,72,40],[71,3,71,10],[71,14,71,16],[71,17,71,19],[71,20,71,22],[71,23,71,25],[71,26,71,28],[71,29,71,31],[71,32,71,34],[71,35,71,37],[69,38,69,40],[70,3,70,10],[70,14,70,16],[70,17,70,19],[70,20,70,22],[70,23,70,25],[70,26,70,28],[70,29,70,31],[70,32,70,34],[69,23,69,25],[69,26,69,28],[69,29,69,31],[69,32,69,34],[69,3,69,16],[69,17,69,19],[69,20,69,22],[70,35,70,37],[70,38,70,40],[67,38,67,40],[68,2,68,16],[68,17,68,19],[68,20,68,22],[68,23,68,25],[68,26,68,28],[68,29,68,31],[68,32,68,34],[68,35,68,37],[68,38,68,40],[67,26,67,28],[67,29,67,31],[67,32,67,34],[67,35,67,37],[67,2,67,16],[67,17,67,19],[67,20,67,22],[67,23,67,25],[66,38,66,40],[66,17,66,19],[66,20,66,22],[66,23,66,25],[66,26,66,28],[57,2,57,13],[66,29,66,31],[66,32,66,34],[66,35,66,37],[58,2,58,6],[58,7,58,13],[61,2,61,6],[61,7,61,13],[59,2,59,6],[59,7,59,13],[60,2,60,6],[60,7,60,13],[52,32,52,37],[51,25,51,29],[54,2,54,4],[54,5,54,7],[54,8,54,14],[54,15,54,18],[54,19,54,23],[53,15,53,18],[53,25,53,29],[51,15,51,18],[51,30,51,31],[51,5,51,7],[51,8,51,14],[46,33,46,39],[44,33,44,39],[45,26,45,29],[45,33,45,39],[46,2,46,4],[46,5,46,7],[46,8,46,25],[46,26,46,29],[53,32,53,37],[53,30,53,31],[51,32,51,37],[52,19,52,23],[52,25,52,29],[51,2,51,4],[53,2,53,4],[53,5,53,7],[53,8,53,14],[51,19,51,23],[53,19,53,23],[52,2,52,4],[52,5,52,7],[52,8,52,14],[52,15,52,18],[52,30,52,31],[42,5,42,7],[42,8,42,25],[42,26,42,29],[45,2,45,4],[45,5,45,7],[45,8,45,25],[44,2,44,4],[40,5,40,7],[40,8,40,25],[40,26,40,29],[44,5,44,7],[44,8,44,25],[44,26,44,29],[38,33,38,39],[39,2,39,4],[39,5,39,7],[39,8,39,25],[39,26,39,29],[39,33,39,39],[38,2,38,4],[42,33,42,39],[43,2,43,4],[43,5,43,7],[43,8,43,25],[43,26,43,29],[43,33,43,39],[42,2,42,4],[38,5,38,7],[38,8,38,25],[38,26,38,29],[40,33,40,39],[41,2,41,4],[41,5,41,7],[41,8,41,25],[41,26,41,29],[41,33,41,39],[40,2,40,4],[36,33,36,39],[37,2,37,4],[37,5,37,7],[37,8,37,25],[37,26,37,29],[37,33,37,39],[36,2,36,4],[36,5,36,7],[36,8,36,25],[36,26,36,29],[34,33,34,39],[35,2,35,4],[35,5,35,7],[35,8,35,25],[35,26,35,29],[35,33,35,39],[34,2,34,4],[34,5,34,7],[34,8,34,25],[34,26,34,29],[32,33,32,39],[33,2,33,4],[33,5,33,7],[33,8,33,25],[33,26,33,29],[33,33,33,39],[32,2,32,4],[32,5,32,7],[32,8,32,25],[32,26,32,29],[30,33,30,39],[31,2,31,4],[31,5,31,7],[31,8,31,25],[31,26,31,29],[31,33,31,39],[30,2,30,4],[30,5,30,7],[30,8,30,25],[30,26,30,29],[28,33,28,39],[29,2,29,4],[29,5,29,7],[29,8,29,25],[29,26,29,29],[29,33,29,39],[28,2,28,4],[28,5,28,7],[28,8,28,25],[28,26,28,29],[26,33,26,39],[27,2,27,4],[27,5,27,7],[27,8,27,25],[27,26,27,29],[27,33,27,39],[26,2,26,4],[26,5,26,7],[26,8,26,25],[26,26,26,29],[24,33,24,39],[25,2,25,4],[25,5,25,7],[25,8,25,25],[25,26,25,29],[25,33,25,39],[24,2,24,4],[24,5,24,7],[24,8,24,25],[24,26,24,29],[22,33,22,39],[23,2,23,4],[23,5,23,7],[23,8,23,25],[23,26,23,29],[23,33,23,39],[22,2,22,4],[22,5,22,7],[22,8,22,25],[22,26,22,29],[19,5,19,7],[18,5,18,7],[20,33,20,39],[21,2,21,4],[21,5,21,7],[21,8,21,25],[21,26,21,29],[21,33,21,39],[20,2,20,4],[20,5,20,7],[20,8,20,25],[20,26,20,29],[9,5,9,11],[11,2,11,4],[11,5,11,11],[10,5,10,11],[10,2,10,4],[9,2,9,4],[12,2,12,4],[12,5,12,11],[15,5,15,11],[15,2,15,4],[1,9,1,10],[1,11,1,14],[3,9,3,11],[3,12,3,18],[8,2,8,4],[8,5,8,11],[8,14,8,16],[8,17,8,23],[123,27,123,32],[57,17,57,19],[60,17,60,19],[57,20,57,26],[58,20,58,26],[59,20,59,26],[60,20,60,26],[59,17,59,19],[58,17,58,19],[87,11,87,17],[12,14,12,31],[13,2,13,4],[13,5,13,11],[13,14,13,31],[14,2,14,4],[14,5,14,11]]}
[]
[null,"６号室の入力画面",null,null,null,null,null,null,null,"No.",null,{"$f":"メニュー画面!F18","v":"４　３　６"}]
[]
[null,null,null,null,null,null,null,null,null,"氏名",null,null,{"$f":"メニュー画面!F20","v":"中　條　文　義"},null,null,null,null,null,null,null,null,null,null,null,null,null,null,null,null,null,null,null,null,{"$f":"VLOOKUP(B2,隠しページ!P7:Q22,2,FALSE)","v":"６号入力"},null,null,"→印刷画面へ"]
[]
[]
[null,"１．坪数～収穫日までの入力",null,null,null,null,null,null,null,null,null,null,null,null,"※白い枠のみに入力して下さい。ここで入力された値が、履歴シートに書き込まれます。"]
[]
[null,null,"部屋番号",null,null,6,null,null,null,null,null,null,null,null,"品種名",null,null,{"$f":"IF(F16=\"\",\"\",IF(AND(10<=MONTH(F16+1),MONTH(F16+1)<=11),\"秋　　系\",IF(AND(3<=MONTH(F16+1),MONTH(F16+1)<=5),\"春　　系\",IF(AND(6<=MONTH(F16+1),MONTH(F16+1)<=9),\"夏　　系\",\"冬　　系\"))))","v":""}]
[null,null,"坪数"]
[null,null,"品種名",null,null,"春　　系",null,null,null,null,null,null,null,null,{"$f":"IF(OR($R$9=$F$11,$R$9=\"\"),\"\",\"←県で指定された品種名と違いますが無視できます。\")","v":""}]
[null,null,"播種日"]
[null,null,"定植日",null,null,null,null,null,null,null,null,null,null,null,{"$f":"IF(OR(F13=\"\",F12=\"\"),\"\",IF(F13<F12,\"入力ミスです！播種日のほうが後の日付になりました。\",\"\"))","v":""},null,null,null,null,null,null,null,null,null,null,null,null,null,null,null,null,null,{"$f":"CONCATENATE(\"苗日数＝\",F13-F12,\"日\")","v":"苗日数＝0日"}]
[null,null,"交配日",null,null,null,null,null,null,null,null,null,null,null,{"$f":"IF(OR(F14=\"\",F13=\"\"),\"\",IF(F14<F13,\"入力ミスです！定植日の方が後になりました。\",\"\"))","v":""},null,null,null,null,null,null,null,null,null,null,null,null,null,null,null,null,null,{"$f":"CONCATENATE(\"交配日数＝\",F14-F13,\"日\")","v":"交配日数＝0日"}]
[null,null,"採果日数"]
[null,null,"収穫日",null,null,{"$f":"IF(OR(F14=\"\",F15=\"\"),\"\",F14+F15-1)","v":""},null,null,null,null,null,null,null,null,null,null,null,null,null,null,null,null,null,null,null,null,null,null,null,null,null,null,{"$f":"CONCATENATE(\"播種日～収穫日＝\",IF(F16=\"\",0,F16-F12),\"日\")","v":"播種日～収穫日＝0日"}]
[]
[null,"２．施用資材名の入力"]
[null,null,null,null,null,null,null,null,"［〃］このマークはリストから入力できます。日付はそのまま打ち込んでください。"]
[]
[null,null,null,null,null,"日付",null,null,"施用資材名",null,null,null,null,null,null,null,null,null,null,null,null,null,null,null,null,null,"投入量",null,null,null,null,null,null,"履歴シート表示確認欄"]
[null,null,null,null,null,{"$f":"IF(OR(C22=\"\",AH22=\"\"),\"\",IF(C22=\"育苗\",#REF!,IF(C22=\"定植\",#REF!,IF(C22=\"追肥（１）\",#REF!,IF(C22=\"追肥（２）\",#REF!,IF(C22=\"追肥（３）\",#REF!,\"入力ミス\"))))))","v":""},null,null,"育苗",null,null,null,null,null,null,null,null,null,null,null,null,null,null,null,null,null,null,null,null,null,null,null,null,{"$f":"IF(I22=\"\",\"\",VLOOKUP(I22,Ｍ肥料台帳,4,FALSE))","v":"育苗"}]
[null,null,null,null,null,"2006-01-01",null,null,null,null,null,null,null,null,null,null,null,null,null,null,null,null,null,null,null,null,null,null,null,null,null,null,null,""]
[null,null,null,null,null,"〃",null,null,null,null,null,null,null,null,null,null,null,null,null,null,null,null,null,null,null,null,null,null,null,null,null,null,null,""]
[null,null,null,null,null,"〃",null,null,null,null,null,null,null,null,null,null,null,null,null,null,null,null,null,null,null,null,null,null,null,null,null,null,null,""]
[null,null,null,null,null,"〃",null,null,null,null,null,null,null,null,null,null,null,null,null,null,null,null,null,null,null,null,null,null,null,null,null,null,null,""]
[null,null,null,null,null,"〃",null,null,null,null,null,null,null,null,null,null,null,null,null,null,null,null,null,null,null,null,null,null,null,null,null,null,null,""]
[null,null,null,null,null,"〃",null,null,null,null,null,null,null,null,null,null,null,null,null,null,null,null,null,null,null,null,null,null,null,null,null,null,null,""]
[null,null,null,null,null,"〃",null,null,null,null,null,null,null,null,null,null,null,null,null,null,null,null,null,null,null,null,null,null,null,null,null,null,null,""]
[null,null,null,null,null,"〃",null,null,null,null,null,null,null,null,null,null,null,null,null,null,null,null,null,null,null,null,null,null,null,null,null,null,null,""]
[null,null,null,null,null,"〃",null,null,null,null,null,null,null,null,null,null,null,null,null,null,null,null,null,null,null,null,null,null,null,null,null,null,null,""]
[null,null,null,null,null,"〃",null,null,null,null,null,null,null,null,null,null,null,null,null,null,null,null,null,null,null,null,null,null,null,null,null,null,null,""]
[null,null,null,null,null,"〃",null,null,null,null,null,null,null,null,null,null,null,null,null,null,null,null,null,null,null,null,null,null,null,null,null,null,null,""]
[null,null,null,null,null,"〃",null,null,null,null,null,null,null,null,null,null,null,null,null,null,null,null,null,null,null,null,null,null,null,null,null,null,null,""]
[null,null,null,null,null,"〃",null,null,null,null,null,null,null,null,null,null,null,null,null,null,null,null,null,null,null,null,null,null,null,null,null,null,null,""]
[null,null,null,null,null,null,null,null,null,null,null,null,null,null,null,null,null,null,null,null,null,null,null,null,null,null,null,null,null,null,null,null,null,""]
[null,null,null,null,null,null,null,null,null,null,null,null,null,null,null,null,null,null,null,null,null,null,null,null,null,null,null,null,null,null,null,null,null,""]
[null,null,null,null,null,null,null,null,null,null,null,null,null,null,null,null,null,null,null,null,null,null,null,null,null,null,null,null,null,null,null,null,null,""]
[null,null,null,null,null,null,null,null,null,null,null,null,null,null,null,null,null,null,null,null,null,null,null,null,null,null,null,null,null,null,null,null,null,""]
[null,null,null,null,null,null,null,null,null,null,null,null,null,null,null,null,null,null,null,null,null,null,null,null,null,null,null,null,null,null,null,null,null,""]
[null,null,null,null,null,null,null,null,null,null,null,null,null,null,null,null,null,null,null,null,null,null,null,null,null,null,null,null,null,null,null,null,null,""]
[null,null,null,null,null,null,null,null,null,null,null,null,null,null,null,null,null,null,null,null,null,null,null,null,null,null,null,null,null,null,null,null,null,""]
[null,null,null,null,null,null,null,null,null,null,null,null,null,null,null,null,null,null,null,null,null,null,null,null,null,null,null,null,null,null,null,null,null,""]
[null,null,null,null,null,null,null,null,null,null,null,null,null,null,null,null,null,null,null,null,null,null,null,null,null,null,null,null,null,null,null,null,null,""]
[null,null,null,null,null,null,null,null,null,null,null,null,null,null,null,null,null,null,null,null,null,null,null,null,null,null,null,null,null,null,null,null,null,""]
[null,null,null,null,null,null,null,null,null,null,null,null,null,null,null,null,null,null,null,null,null,null,null,null,null,null,null,null,null,null,null,null,null,""]
[null,null,null,null,null,null,null,null,null,null,null,null,null,null,null,null,null,null,null,null,null,null,null,null,null,null,null,null,null,null,null,null,null,""]
[]
[]
[null,"３．施用粒剤の入力"]
[null,null,null,null,null,null,null,null,null,null,null,null,null,null,null,null,null,null,null,null,null,null,null,null,null,null,null,null,null,null,null,null,null,null,null,null,null,null,null,null,null,null,null,null,null,null,null,null,null,null,null,null,"施用粒剤の日付入力"]
[null,null,null,null,null,"日付",null,null,"施用粒剤名",null,null,null,null,null,null,"施用量（g）",null,null,null,"施用鉢数（鉢）",null,null,null,null,null,"登録施用量",null,null,null,null,"回数",null,"時期"]
[null,null,"１回目",null,null,null,null,null,null,null,null,null,null,null,null,null,null,null,null,null,null,null,null,null,null,{"$f":"IF(I53=\"\",\"\",VLOOKUP(I53,施用粒剤台帳,2,FALSE))","v":""},null,null,null,null,{"$f":"IF(I53=\"\",\"\",VLOOKUP(I53,施用粒剤台帳,3,FALSE))","v":""},null,{"$f":"IF(I53=\"\",\"\",VLOOKUP(I53,施用粒剤台帳,4,FALSE))","v":""}]
[null,null,"２回目",null,null,null,null,null,null,null,null,null,null,null,null,null,null,null,null,null,null,null,null,null,null,{"$f":"IF(I54=\"\",\"\",VLOOKUP(I54,施用粒剤台帳,2,FALSE))","v":""},null,null,null,null,{"$f":"IF(I54=\"\",\"\",VLOOKUP(I54,施用粒剤台帳,3,FALSE))","v":""},null,{"$f":"IF(I54=\"\",\"\",VLOOKUP(I54,施用粒剤台帳,4,FALSE))","v":""}]
[]
[null,"４．硫黄くん蒸剤の入力",null,null,null,null,null,null,null,null,"※使用が２年にまたがるときは、前年の日付の前に年号を付けないとミスになります。"]
[]
[null,null,"履歴シートへの表示確認欄",null,null,null,null,null,null,null,null,null,null,null,null,null,null,"播種日",null,null,{"$f":"IF(F12=\"\",\"\",F12)","v":""}]
[null,null,"開始日",null,null,null,null,null,null,null,null,null,null,null,null,null,null,"定植日",null,null,{"$f":"IF(F13=\"\",\"\",F13)","v":""}]
[null,null,"終了日",null,null,null,null,null,null,null,null,null,null,null,{"$f":"IF(H60=\"\",\"\",IF(H60<H59,\" ミス\",\"\"))","v":""},null,null,"交配日",null,null,{"$f":"IF(F14=\"\",\"\",F14)","v":""}]
[null,null,"１日の使用量",null,null,null,null,2,null,null,null,null,null,null,null,null,null,"収穫日",null,null,{"$f":"IF(F16=\"\",\"\",F16)","v":""}]
[null,null,"総使用量",null,null,null,null,{"$f":"IF(OR(H59=\"\",OR(H60=\"\",H61=\"\")),\"\",(H60-H59)*H61)","v":""},null,null,null,null,null,null,null,null,null,null,null,null,"↑１.で入力した日付です。"]
[]
[null,"５．農薬散布の入力"]
[null,null,null,null,null,null,null,null,null,null,null,null,null,null,null,null,null,null,null,null,null,null,null,null,null,null,null,null,null,null,null,null,null,null,null,null,null,null,null,null,null,null,null,null,null,null,null,null,null,null,null,null,"農薬散布の日付入力"]
[]
[null,null,null,null,null,null,null,null,null,null,null,null,null,null,null,null,null,"Ｂ１",null,null,"Ｂ２",null,null,"Ｂ３",null,null,"Ｂ４",null,null,"Ｂ５",null,null,"Ｂ６",null,null,"Ｂ７",null,null,"Ｂ８"]
[null,null,"使用年月日"]
[null,null,"生育ステージ",null,null,null,null,null,null,null,null,null,null,null,null,null,null,"育苗",null,null,"木作り",null,null,"木作り",null,null,"肥大期",null,null,"肥大期",null,null,"仕上げ",null,null,"仕上げ",null,null,"仕上げ"]
[null,null,"使用農薬名","散布量"]
[null,null,null,null,null,null,null,null,null,null,null,{"$f":"IF(D71=\"\",\"\",VLOOKUP(D71,Ｍ農薬台帳,3,FALSE))","v":""},{"$f":"IF(D71=\"\",\"\",\"-\")","v":""},{"$f":"IF(D71=\"\",\"\",VLOOKUP(D71,Ｍ農薬台帳,2,FALSE))","v":""},{"$f":"IF(D71=\"\",\"\",VLOOKUP(D71,Ｍ農薬台帳,4,FALSE))","v":""}]
[null,null,null,null,null,null,null,null,null,null,null,"","","",""]
[null,null,null,null,null,null,null,null,null,null,null,"","","",""]
[null,null,null,null,null,null,null,null,null,null,null,"","","",""]
[null,null,null,null,null,null,null,null,null,null,null,"","","",""]
[null,null,null,null,null,null,null,null,null,null,null,"","","",""]
[null,null,null,null,null,null,null,null,null,null,null,"","","",""]
[null,null,null,null,null,null,null,null,null,null,null,"","","",""]
[null,null,null,null,null,null,null,null,null,null,null,"","","",""]
[null,null,null,null,null,null,null,null,null,null,null,"","","",""]
[null,null,null,null,null,null,null,null,null,null,null,"","","",""]
[null,null,null,null,null,null,null,null,null,null,null,"","","",""]
[null,null,null,null,null,null,null,null,null,null,null,"","","",""]
[null,null,null,null,null,null,null,null,null,null,null,"","","",""]
[null,null,null,null,null,null,null,null,null,null,null,"","","",""]
[null,null,null,null,null,null,null,null,null,null,null,"","","",""]
[]
[null,"６．植物成長調整剤の入力",null,null,null,null,null,null,null,null,null,"アークランド液剤",null,null,null,null,null,null,"　を使用した。"]
[]
[null,null,null,null,null,"日付",null,null,"希釈倍数",null,null,null,null,"散布量"]
[null,null,"1回目"]
[null,null,"2回目"]
[]
[null,"７．トップジンＭ水和剤の入力","トップジンＭ水和剤",null,null,null,null,null,null,"　の入力"]
[]
[null,null,null,null,null,"日付",null,null,"希釈倍数",null,null,null,null,"散布量"]
[null,null,"1回目"]
[null,null,"2回目"]
[null,null,"3回目"]
[null,null,"4回目"]
[]
[null,"８．施用液肥の入力"]
[]
[null,null,null,null,"日付",null,null,"液肥・葉面散布剤名",null,null,null,null,null,null,null,null,"使用量"]
[null,null,1]
[null,null,2]
[null,null,3]
[null,null,4]
[null,null,5]
[null,null,6]
[null,null,7]
[null,null,8]
[null,null,9]
[null,null,10]
[null,null,11]
[null,null,12]
[null,null,13]
[null,null,14]
[null,null,15]
[null,null,16]
[null,null,17]
[null,null,18]
[]
[null,"９.小メロンの出荷がある場合は、この枠に記載してください。リストから選べます。→"]
[]
[null,"10．印刷プレビューボタンを押し　印刷状態の確認をして　良ければそのまま印刷してください。"]
[]
[null,"11．以上で終りです。お疲れ様でした。"]

{"sheet":"６号Ｐ","index":13,"n_rows":36,"n_cols":88,"rows_kept":36,"cut":false,"hidden":false,"merged":[[4,68,4,72],[4,73,4,91],[4,38,4,47],[5,58,5,67],[4,48,4,52],[4,53,4,57],[4,58,4,67],[2,4,2,5],[2,6,2,31],[4,13,4,27],[4,33,4,37],[5,68,5,72],[5,73,5,77],[5,78,5,91],[6,7,6,8],[6,13,6,17],[6,18,6,27],[6,28,6,32],[6,33,6,37],[6,38,6,47],[6,48,6,52],[6,53,6,57],[6,58,6,67],[6,68,6,72],[6,73,6,80],[6,81,6,91],[5,13,5,17],[5,18,5,27],[5,28,5,32],[5,33,5,37],[5,38,5,47],[5,48,5,52],[5,53,5,57],[7,6,7,7],[7,13,7,17],[7,18,7,27],[7,28,7,32],[7,33,7,37],[7,38,7,47],[7,48,7,52],[7,53,7,57],[8,58,8,67],[7,58,7,67],[8,6,8,12],[8,13,8,17],[8,18,8,27],[8,28,8,32],[9,58,9,67],[7,68,7,72],[7,73,7,77],[8,68,8,72],[8,73,8,80],[7,78,7,91],[8,81,8,91],[8,33,8,37],[8,38,8,47],[8,48,8,52],[8,53,8,57],[9,68,9,72],[9,73,9,91],[13,13,13,17],[13,18,13,27],[13,28,13,32],[9,18,9,27],[9,28,9,32],[9,33,9,37],[9,38,9,47],[9,48,9,52],[9,53,9,57],[10,48,10,52],[10,53,10,57],[11,53,12,57],[13,53,13,57],[11,48,12,52],[13,33,13,37],[13,38,13,47],[13,48,13,52],[10,83,11,91],[11,58,12,67],[11,68,12,72],[12,73,13,81],[12,82,13,91],[13,68,13,72],[10,58,10,67],[10,68,10,72],[10,73,11,82],[13,58,13,67],[9,6,9,12],[9,13,9,17],[11,4,12,5],[11,6,12,12],[11,13,12,17],[11,18,12,27],[11,28,12,32],[11,33,12,37],[11,38,12,47],[10,6,10,12],[10,13,10,17],[10,18,10,27],[10,28,10,32],[10,33,10,37],[10,38,10,47],[15,69,15,91],[16,4,16,12],[16,13,16,19],[16,20,16,26],[16,27,16,33],[16,34,16,40],[16,41,16,47],[16,48,16,54],[16,55,16,61],[16,62,16,68],[16,69,16,73],[16,74,16,86],[16,87,16,91],[15,4,15,12],[15,13,15,19],[15,20,15,26],[15,27,15,33],[15,34,15,40],[15,41,15,47],[15,48,15,54],[15,55,15,61],[15,62,15,68],[17,4,35,4],[17,5,17,12],[17,13,17,19],[17,20,17,26],[19,5,19,7],[19,10,19,12],[19,13,19,19],[19,20,19,26],[21,5,21,7],[21,10,21,12],[23,5,23,7],[23,10,23,12],[23,13,23,19],[23,20,23,26],[24,5,24,7],[24,10,24,12],[24,13,24,19],[24,20,24,26],[25,5,25,7],[25,10,25,12],[25,13,25,19],[25,20,25,26],[26,5,26,7],[26,10,26,12],[17,62,17,68],[17,69,17,73],[17,74,17,86],[17,87,17,91],[18,5,18,7],[18,10,18,12],[18,13,18,19],[18,20,18,26],[18,27,18,33],[18,34,18,40],[18,41,18,47],[18,48,18,54],[18,55,18,61],[18,62,18,68],[18,69,18,73],[18,74,18,86],[18,87,18,91],[17,27,17,33],[17,34,17,40],[17,41,17,47],[17,48,17,54],[17,55,17,61],[19,62,19,68],[19,69,19,73],[19,74,19,86],[19,87,19,91],[20,5,20,7],[20,10,20,12],[20,13,20,19],[20,20,20,26],[20,27,20,33],[20,34,20,40],[20,41,20,47],[20,48,20,54],[20,55,20,61],[20,62,20,68],[20,69,20,73],[20,74,20,86],[20,87,20,91],[19,27,19,33],[19,34,19,40],[19,41,19,47],[19,48,19,54],[19,55,19,61],[21,62,21,68],[21,69,21,73],[21,74,21,86],[21,87,21,91],[22,5,22,7],[22,10,22,12],[22,13,22,19],[22,20,22,26],[22,27,22,33],[22,34,22,40],[22,41,22,47],[22,48,22,54],[22,55,22,61],[22,62,22,68],[22,69,22,73],[22,74,22,86],[22,87,22,91],[21,13,21,19],[21,20,21,26],[21,27,21,33],[21,34,21,40],[21,41,21,47],[21,48,21,54],[21,55,21,61],[23,27,23,33],[23,34,23,40],[23,41,23,47],[23,48,23,54],[23,55,23,61],[23,62,23,68],[23,69,23,73],[23,74,23,86],[23,87,23,91],[25,74,25,86],[25,87,25,91],[24,27,24,33],[24,34,24,40],[24,41,24,47],[24,48,24,54],[24,55,24,61],[24,62,24,68],[24,69,24,73],[24,74,24,86],[24,87,24,91],[26,41,26,47],[26,48,26,54],[26,55,26,61],[26,62,26,68],[26,69,26,73],[25,27,25,33],[25,34,25,40],[25,41,25,47],[25,48,25,54],[25,55,25,61],[25,62,25,68],[25,69,25,73],[28,27,28,33],[28,34,28,40],[28,41,28,47],[28,48,28,54],[28,55,28,61],[26,74,26,86],[26,87,26,91],[27,5,27,7],[27,10,27,12],[27,13,27,19],[27,20,27,26],[27,27,27,33],[27,34,27,40],[27,41,27,47],[27,48,27,54],[27,55,27,61],[27,62,27,68],[27,69,27,73],[27,74,27,86],[27,87,27,91],[26,13,26,19],[26,20,26,26],[26,27,26,33],[26,34,26,40],[30,41,30,47],[30,48,30,54],[30,55,30,61],[28,62,28,68],[28,69,28,73],[28,74,28,86],[28,87,28,91],[29,5,29,7],[29,10,29,12],[29,13,29,19],[29,20,29,26],[29,27,29,33],[29,34,29,40],[29,41,29,47],[29,48,29,54],[29,55,29,61],[29,62,29,68],[29,69,29,73],[29,74,29,86],[29,87,29,91],[28,5,28,7],[28,10,28,12],[28,13,28,19],[28,20,28,26],[32,55,32,61],[30,62,30,68],[30,69,30,73],[30,74,30,86],[30,87,30,91],[31,5,31,7],[31,10,31,12],[31,13,31,19],[31,20,31,26],[31,27,31,33],[31,34,31,40],[31,41,31,47],[31,48,31,54],[31,55,31,61],[31,62,31,68],[31,69,31,73],[31,74,31,86],[31,87,31,91],[30,5,30,7],[30,10,30,12],[30,13,30,19],[30,20,30,26],[30,27,30,33],[30,34,30,40],[0,64,0,89],[34,5,34,12],[35,5,35,12],[35,76,35,83],[33,87,33,91],[34,13,34,17],[34,18,34,25],[34,26,34,33],[34,34,35,49],[34,50,34,54],[34,55,34,62],[34,63,34,70],[34,71,34,75],[33,41,33,47],[33,48,33,54],[33,55,33,61],[33,62,33,68],[33,69,33,73],[33,74,33,86],[32,62,32,68],[32,69,32,73],[32,74,32,86],[32,87,32,91],[33,5,33,7],[4,1,5,2],[35,84,35,91],[34,76,34,83],[34,84,34,91],[35,13,35,17],[35,18,35,25],[35,26,35,33],[35,50,35,54],[35,55,35,62],[35,63,35,70],[35,71,35,75],[33,10,33,12],[33,13,33,19],[33,20,33,26],[33,27,33,33],[33,34,33,40],[32,5,32,7],[32,10,32,12],[32,13,32,19],[32,20,32,26],[32,27,32,33],[32,34,32,40],[32,41,32,47],[32,48,32,54]]}
[null,null,null,null,null,null,null,null,null,null,null,null,null,null,null,null,null,null,null,null,null,null,null,null,null,null,null,null,null,null,null,null,null,null,null,null,null,null,null,null,null,null,null,null,null,null,null,null,null,null,null,null,null,null,null,null,null,null,null,null,null,null,null,null,{"$f":"IF('６号入力'!AB124=\"\",\"\",'６号入力'!AB124)","v":""}]
[]
[null,null,null,null,"栽培履歴",null,{"$f":"メニュー画面!F16","v":"静岡県温室農業協同組合（クラウンメロン支所）"},null,null,null,null,null,null,null,null,null,null,null,null,null,null,null,null,null,null,null,null,null,null,null,null,null,"検査日",null,null,null,null,null,"令和　　年　　月　　日",null,null,null,null,null,null,null,null,null,null,null,null,null,null,null,"検査責任者氏名　　　　　　　　　　 　　　　　　　　　　　　　印"]
[]
[null,"６号室",null,null,"組合員番号：",null,{"$f":"メニュー画面!F18","v":"４　３　６"},null,null,null,null,null,null,"施用資材名",null,null,null,null,null,null,null,null,null,null,null,null,null,null,"投入量",null,null,null,null,{"$f":"IF('６号入力'!F30=\"\",\"\",'６号入力'!F30)","v":"〃"},null,null,null,null,{"$f":"IF('６号入力'!AH30=\"\",\"\",'６号入力'!AH30)","v":""},null,null,null,null,null,null,null,null,null,{"$f":"IF('６号入力'!AA30=\"\",\"\",'６号入力'!AA30)","v":""},null,null,null,null,{"$f":"IF('６号入力'!F39=\"\",\"\",'６号入力'!F39)","v":""},null,null,null,null,{"$f":"IF('６号入力'!AH39=\"\",\"\",'６号入力'!AH39)","v":""},null,null,null,null,null,null,null,null,null,{"$f":"IF('６号入力'!AA39=\"\",\"\",'６号入力'!AA39)","v":""},null,null,null,null,"施用粒剤"]
[null,null,null,null,"氏名：",null,{"$f":"メニュー画面!F20","v":"中　條　文　義"},null,null,null,null,null,null,{"$f":"IF('６号入力'!F22=\"\",\"\",'６号入力'!F22)","v":""},null,null,null,null,{"$f":"IF('６号入力'!AH22=\"\",\"\",'６号入力'!AH22)","v":"育苗"},null,null,null,null,null,null,null,null,null,{"$f":"IF('６号入力'!AA22=\"\",\"\",'６号入力'!AA22)","v":""},null,null,null,null,{"$f":"IF('６号入力'!F31=\"\",\"\",'６号入力'!F31)","v":"〃"},null,null,null,null,{"$f":"IF('６号入力'!AH31=\"\",\"\",'６号入力'!AH31)","v":""},null,null,null,null,null,null,null,null,null,{"$f":"IF('６号入力'!AA31=\"\",\"\",'６号入力'!AA31)","v":""},null,null,null,null,{"$f":"IF('６号入力'!F40=\"\",\"\",'６号入力'!F40)","v":""},null,null,null,null,{"$f":"IF('６号入力'!AH40=\"\",\"\",'６号入力'!AH40)","v":""},null,null,null,null,null,null,null,null,null,{"$f":"IF('６号入力'!AA40=\"\",\"\",'６号入力'!AA40)","v":""},null,null,null,null,{"$f":"IF('６号入力'!F53=\"\",\"/\",'６号入力'!F53)","v":"/"},null,null,null,null,{"$f":"IF('６号入力'!I53=\"\",\"\",'６号入力'!I53)","v":""}]
[null,null,null,null,"部屋番号：",null,{"$f":"IF('６号入力'!F9=\"\",\"\",'６号入力'!F9)","v":6},{"$f":"IF('６号入力'!F10=\"\",\"\",'６号入力'!F10)","v":""},null,null,null,null,null,{"$f":"IF('６号入力'!F23=\"\",\"\",'６号入力'!F23)","v":"2006-01-01"},null,null,null,null,{"$f":"IF('６号入力'!AH23=\"\",\"\",'６号入力'!AH23)","v":""},null,null,null,null,null,null,null,null,null,{"$f":"IF('６号入力'!AA23=\"\",\"\",'６号入力'!AA23)","v":""},null,null,null,null,{"$f":"IF('６号入力'!F32=\"\",\"\",'６号入力'!F32)","v":"〃"},null,null,null,null,{"$f":"IF('６号入力'!AH32=\"\",\"\",'６号入力'!AH32)","v":""},null,null,null,null,null,null,null,null,null,{"$f":"IF('６号入力'!AA32=\"\",\"\",'６号入力'!AA32)","v":""},null,null,null,null,{"$f":"IF('６号入力'!F41=\"\",\"\",'６号入力'!F41)","v":""},null,null,null,null,{"$f":"IF('６号入力'!AH41=\"\",\"\",'６号入力'!AH41)","v":""},null,null,null,null,null,null,null,null,null,{"$f":"IF('６号入力'!AA41=\"\",\"\",'６号入力'!AA41)","v":""},null,null,null,null,{"$f":"IF('６号入力'!P53=0,\"g\",'６号入力'!P53)","v":"g"},null,null,null,null,null,null,null,{"$f":"IF('６号入力'!T53=0,0,'６号入力'!T53)","v":0}]
[null,null,null,null,"品種名：",null,{"$f":"IF('６号入力'!F11=\"\",\"\",'６号入力'!F11)","v":"春　　系"},null,null,null,null,null,null,{"$f":"IF('６号入力'!F24=\"\",\"\",'６号入力'!F24)","v":"〃"},null,null,null,null,{"$f":"IF('６号入力'!AH24=\"\",\"\",'６号入力'!AH24)","v":""},null,null,null,null,null,null,null,null,null,{"$f":"IF('６号入力'!AA24=\"\",\"\",'６号入力'!AA24)","v":""},null,null,null,null,{"$f":"IF('６号入力'!F33=\"\",\"\",'６号入力'!F33)","v":"〃"},null,null,null,null,{"$f":"IF('６号入力'!AH33=\"\",\"\",'６号入力'!AH33)","v":""},null,null,null,null,null,null,null,null,null,{"$f":"IF('６号入力'!AA33=\"\",\"\",'６号入力'!AA33)","v":""},null,null,null,null,{"$f":"IF('６号入力'!F42=\"\",\"\",'６号入力'!F42)","v":""},null,null,null,null,{"$f":"IF('６号入力'!AH42=\"\",\"\",'６号入力'!AH42)","v":""},null,null,null,null,null,null,null,null,null,{"$f":"IF('６号入力'!AA42=\"\",\"\",'６号入力'!AA42)","v":""},null,null,null,null,{"$f":"IF('６号入力'!F54=\"\",\"/\",'６号入力'!F54)","v":"/"},null,null,null,null,{"$f":"IF('６号入力'!I54=\"\",\"\",'６号入力'!I54)","v":""}]
[null,null,null,null,"播種日：",null,{"$f":"IF('６号入力'!F12=\"\",\"\",'６号入力'!F12)","v":""},null,null,null,null,null,null,{"$f":"IF('６号入力'!F25=\"\",\"\",'６号入力'!F25)","v":"〃"},null,null,null,null,{"$f":"IF('６号入力'!AH25=\"\",\"\",'６号入力'!AH25)","v":""},null,null,null,null,null,null,null,null,null,{"$f":"IF('６号入力'!AA25=\"\",\"\",'６号入力'!AA25)","v":""},null,null,null,null,{"$f":"IF('６号入力'!F34=\"\",\"\",'６号入力'!F34)","v":"〃"},null,null,null,null,{"$f":"IF('６号入力'!AH34=\"\",\"\",'６号入力'!AH34)","v":""},null,null,null,null,null,null,null,null,null,{"$f":"IF('６号入力'!AA34=\"\",\"\",'６号入力'!AA34)","v":""},null,null,null,null,{"$f":"IF('６号入力'!F43=\"\",\"\",'６号入力'!F43)","v":""},null,null,null,null,{"$f":"IF('６号入力'!AH43=\"\",\"\",'６号入力'!AH43)","v":""},null,null,null,null,null,null,null,null,null,{"$f":"IF('６号入力'!AA43=\"\",\"\",'６号入力'!AA43)","v":""},null,null,null,null,{"$f":"IF('６号入力'!P54=0,\"g\",'６号入力'!P54)","v":"g"},null,null,null,null,null,null,null,{"$f":"IF('６号入力'!T54=0,0,'６号入力'!T54)","v":0}]
[null,null,null,null,"定植日：",null,{"$f":"IF('６号入力'!F13=\"\",\"\",'６号入力'!F13)","v":""},null,null,null,null,null,null,{"$f":"IF('６号入力'!F26=\"\",\"\",'６号入力'!F26)","v":"〃"},null,null,null,null,{"$f":"IF('６号入力'!AH26=\"\",\"\",'６号入力'!AH26)","v":""},null,null,null,null,null,null,null,null,null,{"$f":"IF('６号入力'!AA26=\"\",\"\",'６号入力'!AA26)","v":""},null,null,null,null,{"$f":"IF('６号入力'!F35=\"\",\"\",'６号入力'!F35)","v":"〃"},null,null,null,null,{"$f":"IF('６号入力'!AH35=\"\",\"\",'６号入力'!AH35)","v":""},null,null,null,null,null,null,null,null,null,{"$f":"IF('６号入力'!AA35=\"\",\"\",'６号入力'!AA35)","v":""},null,null,null,null,{"$f":"IF('６号入力'!F44=\"\",\"\",'６号入力'!F44)","v":""},null,null,null,null,{"$f":"IF('６号入力'!AH44=\"\",\"\",'６号入力'!AH44)","v":""},null,null,null,null,null,null,null,null,null,{"$f":"IF('６号入力'!AA44=\"\",\"\",'６号入力'!AA44)","v":""},null,null,null,null,"硫黄くん蒸剤"]
[null,null,null,null,"交配日：",null,{"$f":"IF('６号入力'!F14=\"\",\"\",'６号入力'!F14)","v":""},null,null,null,null,null,null,{"$f":"IF('６号入力'!F27=\"\",\"\",'６号入力'!F27)","v":"〃"},null,null,null,null,{"$f":"IF('６号入力'!AH27=\"\",\"\",'６号入力'!AH27)","v":""},null,null,null,null,null,null,null,null,null,{"$f":"IF('６号入力'!AA27=\"\",\"\",'６号入力'!AA27)","v":""},null,null,null,null,{"$f":"IF('６号入力'!F36=\"\",\"\",'６号入力'!F36)","v":""},null,null,null,null,{"$f":"IF('６号入力'!AH36=\"\",\"\",'６号入力'!AH36)","v":""},null,null,null,null,null,null,null,null,null,{"$f":"IF('６号入力'!AA36=\"\",\"\",'６号入力'!AA36)","v":""},null,null,null,null,{"$f":"IF('６号入力'!F45=\"\",\"\",'６号入力'!F45)","v":""},null,null,null,null,{"$f":"IF('６号入力'!AH45=\"\",\"\",'６号入力'!AH45)","v":""},null,null,null,null,null,null,null,null,null,{"$f":"IF('６号入力'!AA45=\"\",\"\",'６号入力'!AA45)","v":""},null,null,null,null,{"$f":"IF('６号入力'!H59=\"\",\"/      ～\",'６号入力'!H59)","v":"/      ～"},null,null,null,null,null,null,null,null,null,{"$f":"IF('６号入力'!H60=\"\",\"    /\",'６号入力'!H60)","v":"    /"}]
[null,null,null,null,"収穫日：",null,{"$f":"IF('６号入力'!F16=\"\",\"\",'６号入力'!F16)","v":""},null,null,null,null,null,null,{"$f":"IF('６号入力'!F28=\"\",\"\",'６号入力'!F28)","v":"〃"},null,null,null,null,{"$f":"IF('６号入力'!AH28=\"\",\"\",'６号入力'!AH28)","v":""},null,null,null,null,null,null,null,null,null,{"$f":"IF('６号入力'!AA28=\"\",\"\",'６号入力'!AA28)","v":""},null,null,null,null,{"$f":"IF('６号入力'!F37=\"\",\"\",'６号入力'!F37)","v":""},null,null,null,null,{"$f":"IF('６号入力'!AH37=\"\",\"\",'６号入力'!AH37)","v":""},null,null,null,null,null,null,null,null,null,{"$f":"IF('６号入力'!AA37=\"\",\"\",'６号入力'!AA37)","v":""},null,null,null,null,{"$f":"IF('６号入力'!F46=\"\",\"\",'６号入力'!F46)","v":""},null,null,null,null,{"$f":"IF('６号入力'!AH46=\"\",\"\",'６号入力'!AH46)","v":""},null,null,null,null,null,null,null,null,null,{"$f":"IF('６号入力'!AA46=\"\",\"\",'６号入力'!AA46)","v":""}]
[null,null,null,null,null,null,null,null,null,null,null,null,null,null,null,null,null,null,null,null,null,null,null,null,null,null,null,null,null,null,null,null,null,null,null,null,null,null,null,null,null,null,null,null,null,null,null,null,null,null,null,null,null,null,null,null,null,null,null,null,null,null,null,null,null,null,null,null,null,null,null,null,null,{"$f":"IF('６号入力'!H61=\"\",\"g/日\",'６号入力'!H61)","v":2},null,null,null,null,null,null,null,null,{"$f":"IF('６号入力'!H62=\"\",\"g/部屋\",'６号入力'!H62)","v":"g/部屋"}]
[null,null,null,null,"採果日数：",null,{"$f":"'６号入力'!F15","v":0},null,null,null,null,null,null,{"$f":"IF('６号入力'!F29=\"\",\"\",'６号入力'!F29)","v":"〃"},null,null,null,null,{"$f":"IF('６号入力'!AH29=\"\",\"\",'６号入力'!AH29)","v":""},null,null,null,null,null,null,null,null,null,{"$f":"IF('６号入力'!AA29=\"\",\"\",'６号入力'!AA29)","v":""},null,null,null,null,{"$f":"IF('６号入力'!F38=\"\",\"\",'６号入力'!F38)","v":""},null,null,null,null,{"$f":"IF('６号入力'!AH38=\"\",\"\",'６号入力'!AH38)","v":""},null,null,null,null,null,null,null,null,null,{"$f":"IF('６号入力'!AA38=\"\",\"\",'６号入力'!AA38)","v":""},null,null,null,null,{"$f":"IF('６号入力'!F47=\"\",\"\",'６号入力'!F47)","v":""},null,null,null,null,{"$f":"IF('６号入力'!AH47=\"\",\"\",'６号入力'!AH47)","v":""},null,null,null,null,null,null,null,null,null,{"$f":"IF('６号入力'!AA47=\"\",\"\",'６号入力'!AA47)","v":""}]
[]
[null,null,null,null,"使用年月日",null,null,null,null,null,null,null,null,{"$f":"IF('６号入力'!R68=\"\",\"/\",'６号入力'!R68)","v":"/"},null,null,null,null,null,null,{"$f":"IF('６号入力'!U68=\"\",\"/\",'６号入力'!U68)","v":"/"},null,null,null,null,null,null,{"$f":"IF('６号入力'!X68=\"\",\"/\",'６号入力'!X68)","v":"/"},null,null,null,null,null,null,{"$f":"IF('６号入力'!AA68=\"\",\"/\",'６号入力'!AA68)","v":"/"},null,null,null,null,null,null,{"$f":"IF('６号入力'!AD68=\"\",\"/\",'６号入力'!AD68)","v":"/"},null,null,null,null,null,null,{"$f":"IF('６号入力'!AG68=\"\",\"/\",'６号入力'!AG68)","v":"/"},null,null,null,null,null,null,{"$f":"IF('６号入力'!AJ68=\"\",\"/\",'６号入力'!AJ68)","v":"/"},null,null,null,null,null,null,{"$f":"IF('６号入力'!AM68=\"\",\"/\",'６号入力'!AM68)","v":"/"},null,null,null,null,null,null,"使用液肥・葉面散布剤"]
[null,null,null,null,"生育ステージ",null,null,null,null,null,null,null,null,{"$f":"IF('６号入力'!R69=\"\",\"\",'６号入力'!R69)","v":"育苗"},null,null,null,null,null,null,{"$f":"IF('６号入力'!U69=\"\",\"\",'６号入力'!U69)","v":"木作り"},null,null,null,null,null,null,{"$f":"IF('６号入力'!X69=\"\",\"\",'６号入力'!X69)","v":"木作り"},null,null,null,null,null,null,{"$f":"IF('６号入力'!AA69=\"\",\"\",'６号入力'!AA69)","v":"肥大期"},null,null,null,null,null,null,{"$f":"IF('６号入力'!AD69=\"\",\"\",'６号入力'!AD69)","v":"肥大期"},null,null,null,null,null,null,{"$f":"IF('６号入力'!AG69=\"\",\"\",'６号入力'!AG69)","v":"仕上げ"},null,null,null,null,null,null,{"$f":"IF('６号入力'!AJ69=\"\",\"\",'６号入力'!AJ69)","v":"仕上げ"},null,null,null,null,null,null,{"$f":"IF('６号入力'!AM69=\"\",\"\",'６号入力'!AM69)","v":"仕上げ"},null,null,null,null,null,null,{"$f":"IF('６号入力'!E105=\"\",\"/\",'６号入力'!E105)","v":"/"},null,null,null,null,{"$f":"IF('６号入力'!H105=\"\",\"\",'６号入力'!H105)","v":""},null,null,null,null,null,null,null,null,null,null,null,null,{"$f":"IF('６号入力'!Q105=0,0,'６号入力'!Q105)","v":0}]
[null,null,null,null,"使用農薬名","散布量",null,null,null,null,null,null,null,{"$f":"IF('６号入力'!R70=0,0,'６号入力'!R70)","v":0},null,null,null,null,null,null,{"$f":"IF('６号入力'!U70=0,0,'６号入力'!U70)","v":0},null,null,null,null,null,null,{"$f":"IF('６号入力'!X70=0,0,'６号入力'!X70)","v":0},null,null,null,null,null,null,{"$f":"IF('６号入力'!AA70=0,0,'６号入力'!AA70)","v":0},null,null,null,null,null,null,{"$f":"IF('６号入力'!AD70=0,0,'６号入力'!AD70)","v":0},null,null,null,null,null,null,{"$f":"IF('６号入力'!AG70=0,0,'６号入力'!AG70)","v":0},null,null,null,null,null,null,{"$f":"IF('６号入力'!AJ70=0,0,'６号入力'!AJ70)","v":0},null,null,null,null,null,null,{"$f":"IF('６号入力'!AM70=0,0,'６号入力'!AM70)","v":0},null,null,null,null,null,null,{"$f":"IF('６号入力'!E106=\"\",\"\",'６号入力'!E106)","v":""},null,null,null,null,{"$f":"IF('６号入力'!H106=\"\",\"\",'６号入力'!H106)","v":""},null,null,null,null,null,null,null,null,null,null,null,null,{"$f":"IF('６号入力'!Q106=0,\"\",'６号入力'!Q106)","v":""}]
[null,null,null,null,null,{"$f":"IF('６号入力'!D71=\"\",\"\",'６号入力'!D71)","v":""},null,null,{"$f":"IF(F19=\"\",\"\",VLOOKUP(F19,Ｍ農薬台帳,3,FALSE))","v":""},{"$f":"IF(F19=\"\",\"\",\"-\")","v":""},{"$f":"IF(F19=\"\",\"\",VLOOKUP(F19,Ｍ農薬台帳,2,FALSE))","v":""},null,null,{"$f":"IF('６号入力'!R71=\"\",\"\",'６号入力'!R71)","v":""},null,null,null,null,null,null,{"$f":"IF('６号入力'!U71=\"\",\"\",'６号入力'!U71)","v":""},null,null,null,null,null,null,{"$f":"IF('６号入力'!X71=\"\",\"\",'６号入力'!X71)","v":""},null,null,null,null,null,null,{"$f":"IF('６号入力'!AA71=\"\",\"\",'６号入力'!AA71)","v":""},null,null,null,null,null,null,{"$f":"IF('６号入力'!AD71=\"\",\"\",'６号入力'!AD71)","v":""},null,null,null,null,null,null,{"$f":"IF('６号入力'!AG71=\"\",\"\",'６号入力'!AG71)","v":""},null,null,null,null,null,null,{"$f":"IF('６号入力'!AJ71=\"\",\"\",'６号入力'!AJ71)","v":""},null,null,null,null,null,null,{"$f":"IF('６号入力'!AM71=\"\",\"\",'６号入力'!AM71)","v":""},null,null,null,null,null,null,{"$f":"IF('６号入力'!E107=\"\",\"\",'６号入力'!E107)","v":""},null,null,null,null,{"$f":"IF('６号入力'!H107=\"\",\"\",'６号入力'!H107)","v":""},null,null,null,null,null,null,null,null,null,null,null,null,{"$f":"IF('６号入力'!Q107=0,\"\",'６号入力'!Q107)","v":""}]
[null,null,null,null,null,{"$f":"IF('６号入力'!D72=\"\",\"\",'６号入力'!D72)","v":""},null,null,"","","",null,null,{"$f":"IF('６号入力'!R72=\"\",\"\",'６号入力'!R72)","v":""},null,null,null,null,null,null,{"$f":"IF('６号入力'!U72=\"\",\"\",'６号入力'!U72)","v":""},null,null,null,null,null,null,{"$f":"IF('６号入力'!X72=\"\",\"\",'６号入力'!X72)","v":""},null,null,null,null,null,null,{"$f":"IF('６号入力'!AA72=\"\",\"\",'６号入力'!AA72)","v":""},null,null,null,null,null,null,{"$f":"IF('６号入力'!AD72=\"\",\"\",'６号入力'!AD72)","v":""},null,null,null,null,null,null,{"$f":"IF('６号入力'!AG72=\"\",\"\",'６号入力'!AG72)","v":""},null,null,null,null,null,null,{"$f":"IF('６号入力'!AJ72=\"\",\"\",'６号入力'!AJ72)","v":""},null,null,null,null,null,null,{"$f":"IF('６号入力'!AM72=\"\",\"\",'６号入力'!AM72)","v":""},null,null,null,null,null,null,{"$f":"IF('６号入力'!E108=\"\",\"\",'６号入力'!E108)","v":""},null,null,null,null,{"$f":"IF('６号入力'!H108=\"\",\"\",'６号入力'!H108)","v":""},null,null,null,null,null,null,null,null,null,null,null,null,{"$f":"IF('６号入力'!Q108=0,\"\",'６号入力'!Q108)","v":""}]
[null,null,null,null,null,{"$f":"IF('６号入力'!D73=\"\",\"\",'６号入力'!D73)","v":""},null,null,"","","",null,null,{"$f":"IF('６号入力'!R73=\"\",\"\",'６号入力'!R73)","v":""},null,null,null,null,null,null,{"$f":"IF('６号入力'!U73=\"\",\"\",'６号入力'!U73)","v":""},null,null,null,null,null,null,{"$f":"IF('６号入力'!X73=\"\",\"\",'６号入力'!X73)","v":""},null,null,null,null,null,null,{"$f":"IF('６号入力'!AA73=\"\",\"\",'６号入力'!AA73)","v":""},null,null,null,null,null,null,{"$f":"IF('６号入力'!AD73=\"\",\"\",'６号入力'!AD73)","v":""},null,null,null,null,null,null,{"$f":"IF('６号入力'!AG73=\"\",\"\",'６号入力'!AG73)","v":""},null,null,null,null,null,null,{"$f":"IF('６号入力'!AJ73=\"\",\"\",'６号入力'!AJ73)","v":""},null,null,null,null,null,null,{"$f":"IF('６号入力'!AM73=\"\",\"\",'６号入力'!AM73)","v":""},null,null,null,null,null,null,{"$f":"IF('６号入力'!E109=\"\",\"\",'６号入力'!E109)","v":""},null,null,null,null,{"$f":"IF('６号入力'!H109=\"\",\"\",'６号入力'!H109)","v":""},null,null,null,null,null,null,null,null,null,null,null,null,{"$f":"IF('６号入力'!Q109=0,\"\",'６号入力'!Q109)","v":""}]
[null,null,null,null,null,{"$f":"IF('６号入力'!D74=\"\",\"\",'６号入力'!D74)","v":""},null,null,"","","",null,null,{"$f":"IF('６号入力'!R74=\"\",\"\",'６号入力'!R74)","v":""},null,null,null,null,null,null,{"$f":"IF('６号入力'!U74=\"\",\"\",'６号入力'!U74)","v":""},null,null,null,null,null,null,{"$f":"IF('６号入力'!X74=\"\",\"\",'６号入力'!X74)","v":""},null,null,null,null,null,null,{"$f":"IF('６号入力'!AA74=\"\",\"\",'６号入力'!AA74)","v":""},null,null,null,null,null,null,{"$f":"IF('６号入力'!AD74=\"\",\"\",'６号入力'!AD74)","v":""},null,null,null,null,null,null,{"$f":"IF('６号入力'!AG74=\"\",\"\",'６号入力'!AG74)","v":""},null,null,null,null,null,null,{"$f":"IF('６号入力'!AJ74=\"\",\"\",'６号入力'!AJ74)","v":""},null,null,null,null,null,null,{"$f":"IF('６号入力'!AM74=\"\",\"\",'６号入力'!AM74)","v":""},null,null,null,null,null,null,{"$f":"IF('６号入力'!E110=\"\",\"\",'６号入力'!E110)","v":""},null,null,null,null,{"$f":"IF('６号入力'!H110=\"\",\"\",'６号入力'!H110)","v":""},null,null,null,null,null,null,null,null,null,null,null,null,{"$f":"IF('６号入力'!Q110=0,\"\",'６号入力'!Q110)","v":""}]
[null,null,null,null,null,{"$f":"IF('６号入力'!D75=\"\",\"\",'６号入力'!D75)","v":""},null,null,"","","",null,null,{"$f":"IF('６号入力'!R75=\"\",\"\",'６号入力'!R75)","v":""},null,null,null,null,null,null,{"$f":"IF('６号入力'!U75=\"\",\"\",'６号入力'!U75)","v":""},null,null,null,null,null,null,{"$f":"IF('６号入力'!X75=\"\",\"\",'６号入力'!X75)","v":""},null,null,null,null,null,null,{"$f":"IF('６号入力'!AA75=\"\",\"\",'６号入力'!AA75)","v":""},null,null,null,null,null,null,{"$f":"IF('６号入力'!AD75=\"\",\"\",'６号入力'!AD75)","v":""},null,null,null,null,null,null,{"$f":"IF('６号入力'!AG75=\"\",\"\",'６号入力'!AG75)","v":""},null,null,null,null,null,null,{"$f":"IF('６号入力'!AJ75=\"\",\"\",'６号入力'!AJ75)","v":""},null,null,null,null,null,null,{"$f":"IF('６号入力'!AM75=\"\",\"\",'６号入力'!AM75)","v":""},null,null,null,null,null,null,{"$f":"IF('６号入力'!E111=\"\",\"\",'６号入力'!E111)","v":""},null,null,null,null,{"$f":"IF('６号入力'!H111=\"\",\"\",'６号入力'!H111)","v":""},null,null,null,null,null,null,null,null,null,null,null,null,{"$f":"IF('６号入力'!Q111=0,\"\",'６号入力'!Q111)","v":""}]
[null,null,null,null,null,{"$f":"IF('６号入力'!D76=\"\",\"\",'６号入力'!D76)","v":""},null,null,"","","",null,null,{"$f":"IF('６号入力'!R76=\"\",\"\",'６号入力'!R76)","v":""},null,null,null,null,null,null,{"$f":"IF('６号入力'!U76=\"\",\"\",'６号入力'!U76)","v":""},null,null,null,null,null,null,{"$f":"IF('６号入力'!X76=\"\",\"\",'６号入力'!X76)","v":""},null,null,null,null,null,null,{"$f":"IF('６号入力'!AA76=\"\",\"\",'６号入力'!AA76)","v":""},null,null,null,null,null,null,{"$f":"IF('６号入力'!AD76=\"\",\"\",'６号入力'!AD76)","v":""},null,null,null,null,null,null,{"$f":"IF('６号入力'!AG76=\"\",\"\",'６号入力'!AG76)","v":""},null,null,null,null,null,null,{"$f":"IF('６号入力'!AJ76=\"\",\"\",'６号入力'!AJ76)","v":""},null,null,null,null,null,null,{"$f":"IF('６号入力'!AM76=\"\",\"\",'６号入力'!AM76)","v":""},null,null,null,null,null,null,{"$f":"IF('６号入力'!E112=\"\",\"\",'６号入力'!E112)","v":""},null,null,null,null,{"$f":"IF('６号入力'!H112=\"\",\"\",'６号入力'!H112)","v":""},null,null,null,null,null,null,null,null,null,null,null,null,{"$f":"IF('６号入力'!Q112=0,\"\",'６号入力'!Q112)","v":""}]
[null,null,null,null,null,{"$f":"IF('６号入力'!D77=\"\",\"\",'６号入力'!D77)","v":""},null,null,"","","",null,null,{"$f":"IF('６号入力'!R77=\"\",\"\",'６号入力'!R77)","v":""},null,null,null,null,null,null,{"$f":"IF('６号入力'!U77=\"\",\"\",'６号入力'!U77)","v":""},null,null,null,null,null,null,{"$f":"IF('６号入力'!X77=\"\",\"\",'６号入力'!X77)","v":""},null,null,null,null,null,null,{"$f":"IF('６号入力'!AA77=\"\",\"\",'６号入力'!AA77)","v":""},null,null,null,null,null,null,{"$f":"IF('６号入力'!AD77=\"\",\"\",'６号入力'!AD77)","v":""},null,null,null,null,null,null,{"$f":"IF('６号入力'!AG77=\"\",\"\",'６号入力'!AG77)","v":""},null,null,null,null,null,null,{"$f":"IF('６号入力'!AJ77=\"\",\"\",'６号入力'!AJ77)","v":""},null,null,null,null,null,null,{"$f":"IF('６号入力'!AM77=\"\",\"\",'６号入力'!AM77)","v":""},null,null,null,null,null,null,{"$f":"IF('６号入力'!E113=\"\",\"\",'６号入力'!E113)","v":""},null,null,null,null,{"$f":"IF('６号入力'!H113=\"\",\"\",'６号入力'!H113)","v":""},null,null,null,null,null,null,null,null,null,null,null,null,{"$f":"IF('６号入力'!Q113=0,\"\",'６号入力'!Q113)","v":""}]
[null,null,null,null,null,{"$f":"IF('６号入力'!D78=\"\",\"\",'６号入力'!D78)","v":""},null,null,"","","",null,null,{"$f":"IF('６号入力'!R78=\"\",\"\",'６号入力'!R78)","v":""},null,null,null,null,null,null,{"$f":"IF('６号入力'!U78=\"\",\"\",'６号入力'!U78)","v":""},null,null,null,null,null,null,{"$f":"IF('６号入力'!X78=\"\",\"\",'６号入力'!X78)","v":""},null,null,null,null,null,null,{"$f":"IF('６号入力'!AA78=\"\",\"\",'６号入力'!AA78)","v":""},null,null,null,null,null,null,{"$f":"IF('６号入力'!AD78=\"\",\"\",'６号入力'!AD78)","v":""},null,null,null,null,null,null,{"$f":"IF('６号入力'!AG78=\"\",\"\",'６号入力'!AG78)","v":""},null,null,null,null,null,null,{"$f":"IF('６号入力'!AJ78=\"\",\"\",'６号入力'!AJ78)","v":""},null,null,null,null,null,null,{"$f":"IF('６号入力'!AM78=\"\",\"\",'６号入力'!AM78)","v":""},null,null,null,null,null,null,{"$f":"IF('６号入力'!E114=\"\",\"\",'６号入力'!E114)","v":""},null,null,null,null,{"$f":"IF('６号入力'!H114=\"\",\"\",'６号入力'!H114)","v":""},null,null,null,null,null,null,null,null,null,null,null,null,{"$f":"IF('６号入力'!Q114=0,\"\",'６号入力'!Q114)","v":""}]
[null,null,null,null,null,{"$f":"IF('６号入力'!D79=\"\",\"\",'６号入力'!D79)","v":""},null,null,"","","",null,null,{"$f":"IF('６号入力'!R79=\"\",\"\",'６号入力'!R79)","v":""},null,null,null,null,null,null,{"$f":"IF('６号入力'!U79=\"\",\"\",'６号入力'!U79)","v":""},null,null,null,null,null,null,{"$f":"IF('６号入力'!X79=\"\",\"\",'６号入力'!X79)","v":""},null,null,null,null,null,null,{"$f":"IF('６号入力'!AA79=\"\",\"\",'６号入力'!AA79)","v":""},null,null,null,null,null,null,{"$f":"IF('６号入力'!AD79=\"\",\"\",'６号入力'!AD79)","v":""},null,null,null,null,null,null,{"$f":"IF('６号入力'!AG79=\"\",\"\",'６号入力'!AG79)","v":""},null,null,null,null,null,null,{"$f":"IF('６号入力'!AJ79=\"\",\"\",'６号入力'!AJ79)","v":""},null,null,null,null,null,null,{"$f":"IF('６号入力'!AM79=\"\",\"\",'６号入力'!AM79)","v":""},null,null,null,null,null,null,{"$f":"IF('６号入力'!E115=\"\",\"\",'６号入力'!E115)","v":""},null,null,null,null,{"$f":"IF('６号入力'!H115=\"\",\"\",'６号入力'!H115)","v":""},null,null,null,null,null,null,null,null,null,null,null,null,{"$f":"IF('６号入力'!Q115=0,\"\",'６号入力'!Q115)","v":""}]
[null,null,null,null,null,{"$f":"IF('６号入力'!D80=\"\",\"\",'６号入力'!D80)","v":""},null,null,"","","",null,null,{"$f":"IF('６号入力'!R80=\"\",\"\",'６号入力'!R80)","v":""},null,null,null,null,null,null,{"$f":"IF('６号入力'!U80=\"\",\"\",'６号入力'!U80)","v":""},null,null,null,null,null,null,{"$f":"IF('６号入力'!X80=\"\",\"\",'６号入力'!X80)","v":""},null,null,null,null,null,null,{"$f":"IF('６号入力'!AA80=\"\",\"\",'６号入力'!AA80)","v":""},null,null,null,null,null,null,{"$f":"IF('６号入力'!AD80=\"\",\"\",'６号入力'!AD80)","v":""},null,null,null,null,null,null,{"$f":"IF('６号入力'!AG80=\"\",\"\",'６号入力'!AG80)","v":""},null,null,null,null,null,null,{"$f":"IF('６号入力'!AJ80=\"\",\"\",'６号入力'!AJ80)","v":""},null,null,null,null,null,null,{"$f":"IF('６号入力'!AM80=\"\",\"\",'６号入力'!AM80)","v":""},null,null,null,null,null,null,{"$f":"IF('６号入力'!E116=\"\",\"\",'６号入力'!E116)","v":""},null,null,null,null,{"$f":"IF('６号入力'!H116=\"\",\"\",'６号入力'!H116)","v":""},null,null,null,null,null,null,null,null,null,null,null,null,{"$f":"IF('６号入力'!Q116=0,\"\",'６号入力'!Q116)","v":""}]
[null,null,null,null,null,{"$f":"IF('６号入力'!D81=\"\",\"\",'６号入力'!D81)","v":""},null,null,"","","",null,null,{"$f":"IF('６号入力'!R81=\"\",\"\",'６号入力'!R81)","v":""},null,null,null,null,null,null,{"$f":"IF('６号入力'!U81=\"\",\"\",'６号入力'!U81)","v":""},null,null,null,null,null,null,{"$f":"IF('６号入力'!X81=\"\",\"\",'６号入力'!X81)","v":""},null,null,null,null,null,null,{"$f":"IF('６号入力'!AA81=\"\",\"\",'６号入力'!AA81)","v":""},null,null,null,null,null,null,{"$f":"IF('６号入力'!AD81=\"\",\"\",'６号入力'!AD81)","v":""},null,null,null,null,null,null,{"$f":"IF('６号入力'!AG81=\"\",\"\",'６号入力'!AG81)","v":""},null,null,null,null,null,null,{"$f":"IF('６号入力'!AJ81=\"\",\"\",'６号入力'!AJ81)","v":""},null,null,null,null,null,null,{"$f":"IF('６号入力'!AM81=\"\",\"\",'６号入力'!AM81)","v":""},null,null,null,null,null,null,{"$f":"IF('６号入力'!E117=\"\",\"\",'６号入力'!E117)","v":""},null,null,null,null,{"$f":"IF('６号入力'!H117=\"\",\"\",'６号入力'!H117)","v":""},null,null,null,null,null,null,null,null,null,null,null,null,{"$f":"IF('６号入力'!Q117=0,\"\",'６号入力'!Q117)","v":""}]
[null,null,null,null,null,{"$f":"IF('６号入力'!D82=\"\",\"\",'６号入力'!D82)","v":""},null,null,"","","",null,null,{"$f":"IF('６号入力'!R82=\"\",\"\",'６号入力'!R82)","v":""},null,null,null,null,null,null,{"$f":"IF('６号入力'!U82=\"\",\"\",'６号入力'!U82)","v":""},null,null,null,null,null,null,{"$f":"IF('６号入力'!X82=\"\",\"\",'６号入力'!X82)","v":""},null,null,null,null,null,null,{"$f":"IF('６号入力'!AA82=\"\",\"\",'６号入力'!AA82)","v":""},null,null,null,null,null,null,{"$f":"IF('６号入力'!AD82=\"\",\"\",'６号入力'!AD82)","v":""},null,null,null,null,null,null,{"$f":"IF('６号入力'!AG82=\"\",\"\",'６号入力'!AG82)","v":""},null,null,null,null,null,null,{"$f":"IF('６号入力'!AJ82=\"\",\"\",'６号入力'!AJ82)","v":""},null,null,null,null,null,null,{"$f":"IF('６号入力'!AM82=\"\",\"\",'６号入力'!AM82)","v":""},null,null,null,null,null,null,{"$f":"IF('６号入力'!E118=\"\",\"\",'６号入力'!E118)","v":""},null,null,null,null,{"$f":"IF('６号入力'!H118=\"\",\"\",'６号入力'!H118)","v":""},null,null,null,null,null,null,null,null,null,null,null,null,{"$f":"IF('６号入力'!Q118=0,\"\",'６号入力'!Q118)","v":""}]
[null,null,null,null,null,{"$f":"IF('６号入力'!D83=\"\",\"\",'６号入力'!D83)","v":""},null,null,"","","",null,null,{"$f":"IF('６号入力'!R83=\"\",\"\",'６号入力'!R83)","v":""},null,null,null,null,null,null,{"$f":"IF('６号入力'!U83=\"\",\"\",'６号入力'!U83)","v":""},null,null,null,null,null,null,{"$f":"IF('６号入力'!X83=\"\",\"\",'６号入力'!X83)","v":""},null,null,null,null,null,null,{"$f":"IF('６号入力'!AA83=\"\",\"\",'６号入力'!AA83)","v":""},null,null,null,null,null,null,{"$f":"IF('６号入力'!AD83=\"\",\"\",'６号入力'!AD83)","v":""},null,null,null,null,null,null,{"$f":"IF('６号入力'!AG83=\"\",\"\",'６号入力'!AG83)","v":""},null,null,null,null,null,null,{"$f":"IF('６号入力'!AJ83=\"\",\"\",'６号入力'!AJ83)","v":""},null,null,null,null,null,null,{"$f":"IF('６号入力'!AM83=\"\",\"\",'６号入力'!AM83)","v":""},null,null,null,null,null,null,{"$f":"IF('６号入力'!E119=\"\",\"\",'６号入力'!E119)","v":""},null,null,null,null,{"$f":"IF('６号入力'!H119=\"\",\"\",'６号入力'!H119)","v":""},null,null,null,null,null,null,null,null,null,null,null,null,{"$f":"IF('６号入力'!Q119=0,\"\",'６号入力'!Q119)","v":""}]
[null,null,null,null,null,{"$f":"IF('６号入力'!D84=\"\",\"\",'６号入力'!D84)","v":""},null,null,"","","",null,null,{"$f":"IF('６号入力'!R84=\"\",\"\",'６号入力'!R84)","v":""},null,null,null,null,null,null,{"$f":"IF('６号入力'!U84=\"\",\"\",'６号入力'!U84)","v":""},null,null,null,null,null,null,{"$f":"IF('６号入力'!X84=\"\",\"\",'６号入力'!X84)","v":""},null,null,null,null,null,null,{"$f":"IF('６号入力'!AA84=\"\",\"\",'６号入力'!AA84)","v":""},null,null,null,null,null,null,{"$f":"IF('６号入力'!AD84=\"\",\"\",'６号入力'!AD84)","v":""},null,null,null,null,null,null,{"$f":"IF('６号入力'!AG84=\"\",\"\",'６号入力'!AG84)","v":""},null,null,null,null,null,null,{"$f":"IF('６号入力'!AJ84=\"\",\"\",'６号入力'!AJ84)","v":""},null,null,null,null,null,null,{"$f":"IF('６号入力'!AM84=\"\",\"\",'６号入力'!AM84)","v":""},null,null,null,null,null,null,{"$f":"IF('６号入力'!E120=\"\",\"\",'６号入力'!E120)","v":""},null,null,null,null,{"$f":"IF('６号入力'!H120=\"\",\"\",'６号入力'!H120)","v":""},null,null,null,null,null,null,null,null,null,null,null,null,{"$f":"IF('６号入力'!Q120=0,\"\",'６号入力'!Q120)","v":""}]
[null,null,null,null,null,{"$f":"IF('６号入力'!D85=\"\",\"\",'６号入力'!D85)","v":""},null,null,"","","",null,null,{"$f":"IF('６号入力'!R85=\"\",\"\",'６号入力'!R85)","v":""},null,null,null,null,null,null,{"$f":"IF('６号入力'!U85=\"\",\"\",'６号入力'!U85)","v":""},null,null,null,null,null,null,{"$f":"IF('６号入力'!X85=\"\",\"\",'６号入力'!X85)","v":""},null,null,null,null,null,null,{"$f":"IF('６号入力'!AA85=\"\",\"\",'６号入力'!AA85)","v":""},null,null,null,null,null,null,{"$f":"IF('６号入力'!AD85=\"\",\"\",'６号入力'!AD85)","v":""},null,null,null,null,null,null,{"$f":"IF('６号入力'!AG85=\"\",\"\",'６号入力'!AG85)","v":""},null,null,null,null,null,null,{"$f":"IF('６号入力'!AJ85=\"\",\"\",'６号入力'!AJ85)","v":""},null,null,null,null,null,null,{"$f":"IF('６号入力'!AM85=\"\",\"\",'６号入力'!AM85)","v":""},null,null,null,null,null,null,{"$f":"IF('６号入力'!E121=\"\",\"\",'６号入力'!E121)","v":""},null,null,null,null,{"$f":"IF('６号入力'!H121=\"\",\"\",'６号入力'!H121)","v":""},null,null,null,null,null,null,null,null,null,null,null,null,{"$f":"IF('６号入力'!Q121=0,\"\",'６号入力'!Q121)","v":""}]
[null,null,null,null,null,{"$f":"IF('６号入力'!D86=\"\",\"\",'６号入力'!D86)","v":""},null,null,"","","",null,null,{"$f":"IF('６号入力'!R86=\"\",\"\",'６号入力'!R86)","v":""},null,null,null,null,null,null,{"$f":"IF('６号入力'!U86=\"\",\"\",'６号入力'!U86)","v":""},null,null,null,null,null,null,{"$f":"IF('６号入力'!X86=\"\",\"\",'６号入力'!X86)","v":""},null,null,null,null,null,null,{"$f":"IF('６号入力'!AA86=\"\",\"\",'６号入力'!AA86)","v":""},null,null,null,null,null,null,{"$f":"IF('６号入力'!AD86=\"\",\"\",'６号入力'!AD86)","v":""},null,null,null,null,null,null,{"$f":"IF('６号入力'!AG86=\"\",\"\",'６号入力'!AG86)","v":""},null,null,null,null,null,null,{"$f":"IF('６号入力'!AJ86=\"\",\"\",'６号入力'!AJ86)","v":""},null,null,null,null,null,null,{"$f":"IF('６号入力'!AM86=\"\",\"\",'６号入力'!AM86)","v":""},null,null,null,null,null,null,{"$f":"IF('６号入力'!E122=\"\",\"\",'６号入力'!E122)","v":""},null,null,null,null,{"$f":"IF('６号入力'!H122=\"\",\"\",'６号入力'!H122)","v":""},null,null,null,null,null,null,null,null,null,null,null,null,{"$f":"IF('６号入力'!Q122=0,\"\",'６号入力'!Q122)","v":""}]
[null,null,null,null,null,"植物成長調整剤",null,null,null,null,null,null,null,{"$f":"IF('６号入力'!F91=\"\",\"/\",'６号入力'!F91)","v":"/"},null,null,null,null,{"$f":"IF('６号入力'!I91=0,0,'６号入力'!I91)","v":0},null,null,null,null,null,null,null,{"$f":"IF('６号入力'!N91=0,0,'６号入力'!N91)","v":0},null,null,null,null,null,null,null,{"$f":"IF('６号入力'!C94=\"\",\"\",'６号入力'!C94)","v":"トップジンＭ水和剤"},null,null,null,null,null,null,null,null,null,null,null,null,null,null,null,{"$f":"IF('６号入力'!F97=\"\",\"/\",'６号入力'!F97)","v":"/"},null,null,null,null,{"$f":"IF('６号入力'!I97=0,0,'６号入力'!I97)","v":0},null,null,null,null,null,null,null,{"$f":"IF('６号入力'!N97=0,0,'６号入力'!N97)","v":0},null,null,null,null,null,null,null,{"$f":"IF('６号入力'!F99=\"\",\"/\",'６号入力'!F99)","v":"/"},null,null,null,null,{"$f":"IF('６号入力'!I99=0,0,'６号入力'!I99)","v":0},null,null,null,null,null,null,null,{"$f":"IF('６号入力'!N99=0,0,'６号入力'!N99)","v":0}]
[null,null,null,null,null,{"$f":"IF('６号入力'!L88=\"\",\"\",'６号入力'!L88)","v":"アークランド液剤"},null,null,null,null,null,null,null,{"$f":"IF('６号入力'!F92=\"\",\"/\",'６号入力'!F92)","v":"/"},null,null,null,null,{"$f":"IF('６号入力'!I92=0,0,'６号入力'!I92)","v":0},null,null,null,null,null,null,null,{"$f":"IF('６号入力'!N92=0,0,'６号入力'!N92)","v":0},null,null,null,null,null,null,null,null,null,null,null,null,null,null,null,null,null,null,null,null,null,null,null,{"$f":"IF('６号入力'!F98=\"\",\"/\",'６号入力'!F98)","v":"/"},null,null,null,null,{"$f":"IF('６号入力'!I98=0,0,'６号入力'!I98)","v":0},null,null,null,null,null,null,null,{"$f":"IF('６号入力'!N98=0,0,'６号入力'!N98)","v":0},null,null,null,null,null,null,null,{"$f":"IF('６号入力'!F100=\"\",\"/\",'６号入力'!F100)","v":"/"},null,null,null,null,{"$f":"IF('６号入力'!I100=0,0,'６号入力'!I100)","v":0},null,null,null,null,null,null,null,{"$f":"IF('６号入力'!N100=0,0,'６号入力'!N100)","v":0}]

{"sheet":"７号入力","index":14,"n_rows":128,"n_cols":53,"rows_kept":128,"cut":false,"hidden":false,"merged":[[1,9,1,10],[1,11,1,14],[3,9,3,11],[3,12,3,18],[8,2,8,4],[8,5,8,11],[8,14,8,16],[8,17,8,23],[57,17,57,19],[9,2,9,4],[9,5,9,11],[11,2,11,4],[11,5,11,11],[10,5,10,11],[10,2,10,4],[12,2,12,4],[12,5,12,11],[12,14,12,31],[13,2,13,4],[13,5,13,11],[13,14,13,31],[14,2,14,4],[14,5,14,11],[15,2,15,4],[15,5,15,11],[19,5,19,7],[18,5,18,7],[20,33,20,39],[21,2,21,4],[21,5,21,7],[21,8,21,25],[21,26,21,29],[21,33,21,39],[20,2,20,4],[20,5,20,7],[20,8,20,25],[20,26,20,29],[22,33,22,39],[23,2,23,4],[23,5,23,7],[23,8,23,25],[23,26,23,29],[23,33,23,39],[22,2,22,4],[22,5,22,7],[22,8,22,25],[22,26,22,29],[24,33,24,39],[25,2,25,4],[25,5,25,7],[25,8,25,25],[25,26,25,29],[25,33,25,39],[24,2,24,4],[24,5,24,7],[24,8,24,25],[24,26,24,29],[26,33,26,39],[27,2,27,4],[27,5,27,7],[27,8,27,25],[27,26,27,29],[27,33,27,39],[26,2,26,4],[26,5,26,7],[26,8,26,25],[26,26,26,29],[28,33,28,39],[29,2,29,4],[29,5,29,7],[29,8,29,25],[29,26,29,29],[29,33,29,39],[28,2,28,4],[28,5,28,7],[28,8,28,25],[28,26,28,29],[30,33,30,39],[31,2,31,4],[31,5,31,7],[31,8,31,25],[31,26,31,29],[31,33,31,39],[30,2,30,4],[30,5,30,7],[30,8,30,25],[30,26,30,29],[32,33,32,39],[33,2,33,4],[33,5,33,7],[33,8,33,25],[33,26,33,29],[33,33,33,39],[32,2,32,4],[32,5,32,7],[32,8,32,25],[32,26,32,29],[34,33,34,39],[35,2,35,4],[35,5,35,7],[35,8,35,25],[35,26,35,29],[35,33,35,39],[34,2,34,4],[34,5,34,7],[34,8,34,25],[34,26,34,29],[36,33,36,39],[37,2,37,4],[37,5,37,7],[37,8,37,25],[37,26,37,29],[37,33,37,39],[36,2,36,4],[36,5,36,7],[36,8,36,25],[36,26,36,29],[38,33,38,39],[39,2,39,4],[39,5,39,7],[39,8,39,25],[39,26,39,29],[39,33,39,39],[38,2,38,4],[38,5,38,7],[38,8,38,25],[38,26,38,29],[40,33,40,39],[41,2,41,4],[41,5,41,7],[41,8,41,25],[41,26,41,29],[41,33,41,39],[40,2,40,4],[40,5,40,7],[40,8,40,25],[40,26,40,29],[42,33,42,39],[43,2,43,4],[43,5,43,7],[43,8,43,25],[43,26,43,29],[43,33,43,39],[42,2,42,4],[42,5,42,7],[42,8,42,25],[42,26,42,29],[52,19,52,23],[52,25,52,29],[44,33,44,39],[45,2,45,4],[45,5,45,7],[45,8,45,25],[45,26,45,29],[45,33,45,39],[44,2,44,4],[44,5,44,7],[44,8,44,25],[44,26,44,29],[60,20,60,26],[59,17,59,19],[58,17,58,19],[58,2,58,6],[58,7,58,13],[52,30,52,31],[52,32,52,37],[51,25,51,29],[46,33,46,39],[46,2,46,4],[46,5,46,7],[46,8,46,25],[46,26,46,29],[51,32,51,37],[51,30,51,31],[51,5,51,7],[51,8,51,14],[51,15,51,18],[51,2,51,4],[51,19,51,23],[52,2,52,4],[52,5,52,7],[52,8,52,14],[52,15,52,18],[61,2,61,6],[61,7,61,13],[59,2,59,6],[59,7,59,13],[53,32,53,37],[54,2,54,4],[54,5,54,7],[54,8,54,14],[54,15,54,18],[54,19,54,23],[53,15,53,18],[53,19,53,23],[57,2,57,13],[53,25,53,29],[53,30,53,31],[53,2,53,4],[53,5,53,7],[53,8,53,14],[60,2,60,6],[60,7,60,13],[60,17,60,19],[57,20,57,26],[58,20,58,26],[59,20,59,26],[66,38,66,40],[66,17,66,19],[66,20,66,22],[66,23,66,25],[66,26,66,28],[67,2,67,16],[67,17,67,19],[67,20,67,22],[67,23,67,25],[67,26,67,28],[67,29,67,31],[67,32,67,34],[67,35,67,37],[67,38,67,40],[66,29,66,31],[66,32,66,34],[66,35,66,37],[68,2,68,16],[68,17,68,19],[68,20,68,22],[68,23,68,25],[68,26,68,28],[68,29,68,31],[68,32,68,34],[68,35,68,37],[68,38,68,40],[69,23,69,25],[69,26,69,28],[70,3,70,10],[70,14,70,16],[70,17,70,19],[70,20,70,22],[71,3,71,10],[71,14,71,16],[71,17,71,19],[71,20,71,22],[69,29,69,31],[69,32,69,34],[69,35,69,37],[85,23,85,25],[85,26,85,28],[85,29,85,31],[85,32,85,34],[85,35,85,37],[69,38,69,40],[70,23,70,25],[70,26,70,28],[70,29,70,31],[70,32,70,34],[70,35,70,37],[70,38,70,40],[71,23,71,25],[71,26,71,28],[71,29,71,31],[71,32,71,34],[71,35,71,37],[71,38,71,40],[72,23,72,25],[72,26,72,28],[72,29,72,31],[72,32,72,34],[72,35,72,37],[72,38,72,40],[73,3,73,10],[73,14,73,16],[73,17,73,19],[73,20,73,22],[73,23,73,25],[73,26,73,28],[73,29,73,31],[73,32,73,34],[73,35,73,37],[73,38,73,40],[72,3,72,10],[72,14,72,16],[72,17,72,19],[72,20,72,22],[74,23,74,25],[74,26,74,28],[74,29,74,31],[74,32,74,34],[74,35,74,37],[74,38,74,40],[75,3,75,10],[75,14,75,16],[75,17,75,19],[75,20,75,22],[75,23,75,25],[75,26,75,28],[75,29,75,31],[75,32,75,34],[75,35,75,37],[75,38,75,40],[74,3,74,10],[74,14,74,16],[74,17,74,19],[76,38,76,40],[77,3,77,10],[77,14,77,16],[77,17,77,19],[77,20,77,22],[77,23,77,25],[77,26,77,28],[77,29,77,31],[77,32,77,34],[77,35,77,37],[77,38,77,40],[76,3,76,10],[76,14,76,16],[76,17,76,19],[76,20,76,22],[76,23,76,25],[76,26,76,28],[76,29,76,31],[76,32,76,34],[76,35,76,37],[78,38,78,40],[79,3,79,10],[79,14,79,16],[79,17,79,19],[79,20,79,22],[79,23,79,25],[79,26,79,28],[79,29,79,31],[79,32,79,34],[79,35,79,37],[79,38,79,40],[78,3,78,10],[78,14,78,16],[78,17,78,19],[78,20,78,22],[78,23,78,25],[78,26,78,28],[78,29,78,31],[78,32,78,34],[78,35,78,37],[80,38,80,40],[81,3,81,10],[81,14,81,16],[81,17,81,19],[81,20,81,22],[81,23,81,25],[81,26,81,28],[81,29,81,31],[81,32,81,34],[81,35,81,37],[81,38,81,40],[80,3,80,10],[80,14,80,16],[80,17,80,19],[80,20,80,22],[80,23,80,25],[80,26,80,28],[80,29,80,31],[80,32,80,34],[80,35,80,37],[82,38,82,40],[83,3,83,10],[83,14,83,16],[83,17,83,19],[83,20,83,22],[83,23,83,25],[83,26,83,28],[83,29,83,31],[83,32,83,34],[83,35,83,37],[83,38,83,40],[82,3,82,10],[82,14,82,16],[82,17,82,19],[82,20,82,22],[82,23,82,25],[82,26,82,28],[82,29,82,31],[82,32,82,34],[82,35,82,37],[84,23,84,25],[84,26,84,28],[84,29,84,31],[84,32,84,34],[85,38,85,40],[84,35,84,37],[84,38,84,40],[85,3,85,10],[85,14,85,16],[85,17,85,19],[89,2,89,4],[89,5,89,7],[89,8,89,12],[89,13,89,17],[85,20,85,22],[87,11,87,17],[90,2,90,4],[90,5,90,7],[90,8,90,12],[90,13,90,17],[69,2,85,2],[69,3,69,16],[69,17,69,19],[69,20,69,22],[84,3,84,10],[84,14,84,16],[84,17,84,19],[84,20,84,22],[74,20,74,22],[91,2,91,4],[91,5,91,7],[91,8,91,12],[91,13,91,17],[95,2,95,4],[95,5,95,7],[95,8,95,12],[95,13,95,17],[96,2,96,4],[96,5,96,7],[96,8,96,12],[96,13,96,17],[93,2,93,8],[97,2,97,4],[97,5,97,7],[97,8,97,12],[97,13,97,17],[98,2,98,4],[98,5,98,7],[98,8,98,12],[98,13,98,17],[99,2,99,4],[99,5,99,7],[99,8,99,12],[99,13,99,17],[103,2,103,3],[103,4,103,6],[103,7,103,15],[103,16,103,18],[104,2,104,3],[104,4,104,6],[104,7,104,15],[104,16,104,18],[105,2,105,3],[105,4,105,6],[105,7,105,15],[105,16,105,18],[106,2,106,3],[106,4,106,6],[106,7,106,15],[106,16,106,18],[107,2,107,3],[107,4,107,6],[107,7,107,15],[107,16,107,18],[108,2,108,3],[108,4,108,6],[108,7,108,15],[108,16,108,18],[109,2,109,3],[109,4,109,6],[109,7,109,15],[109,16,109,18],[110,2,110,3],[110,4,110,6],[110,7,110,15],[110,16,110,18],[111,2,111,3],[111,4,111,6],[111,7,111,15],[111,16,111,18],[112,2,112,3],[112,4,112,6],[112,7,112,15],[112,16,112,18],[113,2,113,3],[113,4,113,6],[113,7,113,15],[113,16,113,18],[114,2,114,3],[114,4,114,6],[114,7,114,15],[114,16,114,18],[115,2,115,3],[115,4,115,6],[115,7,115,15],[115,16,115,18],[117,7,117,15],[117,16,117,18],[116,2,116,3],[116,4,116,6],[116,7,116,15],[116,16,116,18],[117,2,117,3],[117,4,117,6],[119,16,119,18],[118,2,118,3],[118,4,118,6],[118,7,118,15],[118,16,118,18],[119,2,119,3],[119,4,119,6],[119,7,119,15],[123,27,123,32],[121,16,121,18],[120,2,120,3],[120,4,120,6],[120,7,120,15],[120,16,120,18],[121,2,121,3],[121,4,121,6],[121,7,121,15]]}
[]
[null,"７号室の入力画面",null,null,null,null,null,null,null,"No.",null,{"$f":"メニュー画面!F18","v":"４　３　６"}]
[]
[null,null,null,null,null,null,null,null,null,"氏名",null,null,{"$f":"メニュー画面!F20","v":"中　條　文　義"},null,null,null,null,null,null,null,null,null,null,null,null,null,null,null,null,null,null,null,null,{"$f":"VLOOKUP(B2,隠しページ!P7:Q22,2,FALSE)","v":"７号入力"},null,null,"→印刷画面へ"]
[]
[]
[null,"１．坪数～収穫日までの入力",null,null,null,null,null,null,null,null,null,null,null,null,"※白い枠のみに入力して下さい。ここで入力された値が、履歴シートに書き込まれます。"]
[]
[null,null,"部屋番号",null,null,7,null,null,null,null,null,null,null,null,"品種名",null,null,{"$f":"IF(F16=\"\",\"\",IF(AND(10<=MONTH(F16+1),MONTH(F16+1)<=11),\"秋　　系\",IF(AND(3<=MONTH(F16+1),MONTH(F16+1)<=5),\"春　　系\",IF(AND(6<=MONTH(F16+1),MONTH(F16+1)<=9),\"夏　　系\",\"冬　　系\"))))","v":""}]
[null,null,"坪数"]
[null,null,"品種名",null,null,"春　　系",null,null,null,null,null,null,null,null,{"$f":"IF(OR($R$9=$F$11,$R$9=\"\"),\"\",\"←県で指定された品種名と違いますが無視できます。\")","v":""}]
[null,null,"播種日"]
[null,null,"定植日",null,null,null,null,null,null,null,null,null,null,null,{"$f":"IF(OR(F13=\"\",F12=\"\"),\"\",IF(F13<F12,\"入力ミスです！播種日のほうが後の日付になりました。\",\"\"))","v":""},null,null,null,null,null,null,null,null,null,null,null,null,null,null,null,null,null,{"$f":"CONCATENATE(\"苗日数＝\",F13-F12,\"日\")","v":"苗日数＝0日"}]
[null,null,"交配日",null,null,null,null,null,null,null,null,null,null,null,{"$f":"IF(OR(F14=\"\",F13=\"\"),\"\",IF(F14<F13,\"入力ミスです！定植日の方が後になりました。\",\"\"))","v":""},null,null,null,null,null,null,null,null,null,null,null,null,null,null,null,null,null,{"$f":"CONCATENATE(\"交配日数＝\",F14-F13,\"日\")","v":"交配日数＝0日"}]
[null,null,"採果日数"]
[null,null,"収穫日",null,null,{"$f":"IF(OR(F14=\"\",F15=\"\"),\"\",F14+F15-1)","v":""},null,null,null,null,null,null,null,null,null,null,null,null,null,null,null,null,null,null,null,null,null,null,null,null,null,null,{"$f":"CONCATENATE(\"播種日～収穫日＝\",IF(F16=\"\",0,F16-F12),\"日\")","v":"播種日～収穫日＝0日"}]
[]
[null,"２．施用資材名の入力"]
[null,null,null,null,null,null,null,null,"［〃］このマークはリストから入力できます。日付はそのまま打ち込んでください。"]
[]
[null,null,null,null,null,"日付",null,null,"施用資材名",null,null,null,null,null,null,null,null,null,null,null,null,null,null,null,null,null,"投入量",null,null,null,null,null,null,"履歴シート表示確認欄"]
[null,null,null,null,null,{"$f":"IF(OR(C22=\"\",AH22=\"\"),\"\",IF(C22=\"育苗\",#REF!,IF(C22=\"定植\",#REF!,IF(C22=\"追肥（１）\",#REF!,IF(C22=\"追肥（２）\",#REF!,IF(C22=\"追肥（３）\",#REF!,\"入力ミス\"))))))","v":""},null,null,"育苗",null,null,null,null,null,null,null,null,null,null,null,null,null,null,null,null,null,null,null,null,null,null,null,null,{"$f":"IF(I22=\"\",\"\",VLOOKUP(I22,Ｍ肥料台帳,4,FALSE))","v":"育苗"}]
[null,null,null,null,null,"2006-01-01",null,null,null,null,null,null,null,null,null,null,null,null,null,null,null,null,null,null,null,null,null,null,null,null,null,null,null,""]
[null,null,null,null,null,"〃",null,null,null,null,null,null,null,null,null,null,null,null,null,null,null,null,null,null,null,null,null,null,null,null,null,null,null,""]
[null,null,null,null,null,"〃",null,null,null,null,null,null,null,null,null,null,null,null,null,null,null,null,null,null,null,null,null,null,null,null,null,null,null,""]
[null,null,null,null,null,"〃",null,null,null,null,null,null,null,null,null,null,null,null,null,null,null,null,null,null,null,null,null,null,null,null,null,null,null,""]
[null,null,null,null,null,"〃",null,null,null,null,null,null,null,null,null,null,null,null,null,null,null,null,null,null,null,null,null,null,null,null,null,null,null,""]
[null,null,null,null,null,"〃",null,null,null,null,null,null,null,null,null,null,null,null,null,null,null,null,null,null,null,null,null,null,null,null,null,null,null,""]
[null,null,null,null,null,"〃",null,null,null,null,null,null,null,null,null,null,null,null,null,null,null,null,null,null,null,null,null,null,null,null,null,null,null,""]
[null,null,null,null,null,"〃",null,null,null,null,null,null,null,null,null,null,null,null,null,null,null,null,null,null,null,null,null,null,null,null,null,null,null,""]
[null,null,null,null,null,"〃",null,null,null,null,null,null,null,null,null,null,null,null,null,null,null,null,null,null,null,null,null,null,null,null,null,null,null,""]
[null,null,null,null,null,"〃",null,null,null,null,null,null,null,null,null,null,null,null,null,null,null,null,null,null,null,null,null,null,null,null,null,null,null,""]
[null,null,null,null,null,"〃",null,null,null,null,null,null,null,null,null,null,null,null,null,null,null,null,null,null,null,null,null,null,null,null,null,null,null,""]
[null,null,null,null,null,"〃",null,null,null,null,null,null,null,null,null,null,null,null,null,null,null,null,null,null,null,null,null,null,null,null,null,null,null,""]
[null,null,null,null,null,"〃",null,null,null,null,null,null,null,null,null,null,null,null,null,null,null,null,null,null,null,null,null,null,null,null,null,null,null,""]
[null,null,null,null,null,null,null,null,null,null,null,null,null,null,null,null,null,null,null,null,null,null,null,null,null,null,null,null,null,null,null,null,null,""]
[null,null,null,null,null,null,null,null,null,null,null,null,null,null,null,null,null,null,null,null,null,null,null,null,null,null,null,null,null,null,null,null,null,""]
[null,null,null,null,null,null,null,null,null,null,null,null,null,null,null,null,null,null,null,null,null,null,null,null,null,null,null,null,null,null,null,null,null,""]
[null,null,null,null,null,null,null,null,null,null,null,null,null,null,null,null,null,null,null,null,null,null,null,null,null,null,null,null,null,null,null,null,null,""]
[null,null,null,null,null,null,null,null,null,null,null,null,null,null,null,null,null,null,null,null,null,null,null,null,null,null,null,null,null,null,null,null,null,""]
[null,null,null,null,null,null,null,null,null,null,null,null,null,null,null,null,null,null,null,null,null,null,null,null,null,null,null,null,null,null,null,null,null,""]
[null,null,null,null,null,null,null,null,null,null,null,null,null,null,null,null,null,null,null,null,null,null,null,null,null,null,null,null,null,null,null,null,null,""]
[null,null,null,null,null,null,null,null,null,null,null,null,null,null,null,null,null,null,null,null,null,null,null,null,null,null,null,null,null,null,null,null,null,""]
[null,null,null,null,null,null,null,null,null,null,null,null,null,null,null,null,null,null,null,null,null,null,null,null,null,null,null,null,null,null,null,null,null,""]
[null,null,null,null,null,null,null,null,null,null,null,null,null,null,null,null,null,null,null,null,null,null,null,null,null,null,null,null,null,null,null,null,null,""]
[null,null,null,null,null,null,null,null,null,null,null,null,null,null,null,null,null,null,null,null,null,null,null,null,null,null,null,null,null,null,null,null,null,""]
[null,null,null,null,null,null,null,null,null,null,null,null,null,null,null,null,null,null,null,null,null,null,null,null,null,null,null,null,null,null,null,null,null,""]
[]
[]
[null,"３．施用粒剤の入力"]
[null,null,null,null,null,null,null,null,null,null,null,null,null,null,null,null,null,null,null,null,null,null,null,null,null,null,null,null,null,null,null,null,null,null,null,null,null,null,null,null,null,null,null,null,null,null,null,null,null,null,null,null,"施用粒剤の日付入力"]
[null,null,null,null,null,"日付",null,null,"施用粒剤名",null,null,null,null,null,null,"施用量（g）",null,null,null,"施用鉢数（鉢）",null,null,null,null,null,"登録施用量",null,null,null,null,"回数",null,"時期"]
[null,null,"１回目",null,null,null,null,null,null,null,null,null,null,null,null,null,null,null,null,null,null,null,null,null,null,{"$f":"IF(I53=\"\",\"\",VLOOKUP(I53,施用粒剤台帳,2,FALSE))","v":""},null,null,null,null,{"$f":"IF(I53=\"\",\"\",VLOOKUP(I53,施用粒剤台帳,3,FALSE))","v":""},null,{"$f":"IF(I53=\"\",\"\",VLOOKUP(I53,施用粒剤台帳,4,FALSE))","v":""}]
[null,null,"２回目",null,null,null,null,null,null,null,null,null,null,null,null,null,null,null,null,null,null,null,null,null,null,{"$f":"IF(I54=\"\",\"\",VLOOKUP(I54,施用粒剤台帳,2,FALSE))","v":""},null,null,null,null,{"$f":"IF(I54=\"\",\"\",VLOOKUP(I54,施用粒剤台帳,3,FALSE))","v":""},null,{"$f":"IF(I54=\"\",\"\",VLOOKUP(I54,施用粒剤台帳,4,FALSE))","v":""}]
[]
[null,"４．硫黄くん蒸剤の入力",null,null,null,null,null,null,null,null,"※使用が２年にまたがるときは、前年の日付の前に年号を付けないとミスになります。"]
[]
[null,null,"履歴シートへの表示確認欄",null,null,null,null,null,null,null,null,null,null,null,null,null,null,"播種日",null,null,{"$f":"IF(F12=\"\",\"\",F12)","v":""}]
[null,null,"開始日",null,null,null,null,null,null,null,null,null,null,null,null,null,null,"定植日",null,null,{"$f":"IF(F13=\"\",\"\",F13)","v":""}]
[null,null,"終了日",null,null,null,null,null,null,null,null,null,null,null,{"$f":"IF(H60=\"\",\"\",IF(H60<H59,\" ミス\",\"\"))","v":""},null,null,"交配日",null,null,{"$f":"IF(F14=\"\",\"\",F14)","v":""}]
[null,null,"１日の使用量",null,null,null,null,2,null,null,null,null,null,null,null,null,null,"収穫日",null,null,{"$f":"IF(F16=\"\",\"\",F16)","v":""}]
[null,null,"総使用量",null,null,null,null,{"$f":"IF(OR(H59=\"\",OR(H60=\"\",H61=\"\")),\"\",(H60-H59)*H61)","v":""},null,null,null,null,null,null,null,null,null,null,null,null,"↑１.で入力した日付です。"]
[]
[null,"５．農薬散布の入力"]
[null,null,null,null,null,null,null,null,null,null,null,null,null,null,null,null,null,null,null,null,null,null,null,null,null,null,null,null,null,null,null,null,null,null,null,null,null,null,null,null,null,null,null,null,null,null,null,null,null,null,null,null,"農薬散布の日付入力"]
[]
[null,null,null,null,null,null,null,null,null,null,null,null,null,null,null,null,null,"Ｂ１",null,null,"Ｂ２",null,null,"Ｂ３",null,null,"Ｂ４",null,null,"Ｂ５",null,null,"Ｂ６",null,null,"Ｂ７",null,null,"Ｂ８"]
[null,null,"使用年月日"]
[null,null,"生育ステージ",null,null,null,null,null,null,null,null,null,null,null,null,null,null,"育苗",null,null,"木作り",null,null,"木作り",null,null,"肥大期",null,null,"肥大期",null,null,"仕上げ",null,null,"仕上げ",null,null,"仕上げ"]
[null,null,"使用農薬名","散布量"]
[null,null,null,null,null,null,null,null,null,null,null,{"$f":"IF(D71=\"\",\"\",VLOOKUP(D71,Ｍ農薬台帳,3,FALSE))","v":""},{"$f":"IF(D71=\"\",\"\",\"-\")","v":""},{"$f":"IF(D71=\"\",\"\",VLOOKUP(D71,Ｍ農薬台帳,2,FALSE))","v":""},{"$f":"IF(D71=\"\",\"\",VLOOKUP(D71,Ｍ農薬台帳,4,FALSE))","v":""}]
[null,null,null,null,null,null,null,null,null,null,null,"","","",""]
[null,null,null,null,null,null,null,null,null,null,null,"","","",""]
[null,null,null,null,null,null,null,null,null,null,null,"","","",""]
[null,null,null,null,null,null,null,null,null,null,null,"","","",""]
[null,null,null,null,null,null,null,null,null,null,null,"","","",""]
[null,null,null,null,null,null,null,null,null,null,null,"","","",""]
[null,null,null,null,null,null,null,null,null,null,null,"","","",""]
[null,null,null,null,null,null,null,null,null,null,null,"","","",""]
[null,null,null,null,null,null,null,null,null,null,null,"","","",""]
[null,null,null,null,null,null,null,null,null,null,null,"","","",""]
[null,null,null,null,null,null,null,null,null,null,null,"","","",""]
[null,null,null,null,null,null,null,null,null,null,null,"","","",""]
[null,null,null,null,null,null,null,null,null,null,null,"","","",""]
[null,null,null,null,null,null,null,null,null,null,null,"","","",""]
[null,null,null,null,null,null,null,null,null,null,null,"","","",""]
[]
[null,"６．植物成長調整剤の入力",null,null,null,null,null,null,null,null,null,"アークランド液剤",null,null,null,null,null,null,"　を使用した。"]
[]
[null,null,null,null,null,"日付",null,null,"希釈倍数",null,null,null,null,"散布量"]
[null,null,"1回目"]
[null,null,"2回目"]
[]
[null,"７．トップジンＭ水和剤の入力","トップジンＭ水和剤",null,null,null,null,null,null,"　の入力"]
[]
[null,null,null,null,null,"日付",null,null,"希釈倍数",null,null,null,null,"散布量"]
[null,null,"1回目"]
[null,null,"2回目"]
[null,null,"3回目"]
[null,null,"4回目"]
[]
[null,"８．施用液肥の入力"]
[]
[null,null,null,null,"日付",null,null,"液肥・葉面散布剤名",null,null,null,null,null,null,null,null,"使用量"]
[null,null,1]
[null,null,2]
[null,null,3]
[null,null,4]
[null,null,5]
[null,null,6]
[null,null,7]
[null,null,8]
[null,null,9]
[null,null,10]
[null,null,11]
[null,null,12]
[null,null,13]
[null,null,14]
[null,null,15]
[null,null,16]
[null,null,17]
[null,null,18]
[]
[null,"９.小メロンの出荷がある場合は、この枠に記載してください。リストから選べます。→"]
[]
[null,"10．印刷プレビューボタンを押し　印刷状態の確認をして　良ければそのまま印刷してください。"]
[]
[null,"11．以上で終りです。お疲れ様でした。"]

{"sheet":"７号Ｐ","index":15,"n_rows":36,"n_cols":88,"rows_kept":36,"cut":false,"hidden":false,"merged":[[4,1,5,2],[35,84,35,91],[34,76,34,83],[34,84,34,91],[35,13,35,17],[35,18,35,25],[35,26,35,33],[33,87,33,91],[35,55,35,62],[35,63,35,70],[35,71,35,75],[35,76,35,83],[34,13,34,17],[34,18,34,25],[34,26,34,33],[34,34,35,49],[34,50,34,54],[35,50,35,54],[32,48,32,54],[32,5,32,7],[33,27,33,33],[33,34,33,40],[31,55,31,61],[31,62,31,68],[0,64,0,89],[34,55,34,62],[32,74,32,86],[32,87,32,91],[31,87,31,91],[31,69,31,73],[31,74,31,86],[30,62,30,68],[30,69,30,73],[29,87,29,91],[33,74,33,86],[34,63,34,70],[34,71,34,75],[33,55,33,61],[33,62,33,68],[32,62,32,68],[32,69,32,73],[32,55,32,61],[33,69,33,73],[30,74,30,86],[30,87,30,91],[28,69,28,73],[28,74,28,86],[29,69,29,73],[31,27,31,33],[31,34,31,40],[31,41,31,47],[31,48,31,54],[33,41,33,47],[33,48,33,54],[32,27,32,33],[32,34,32,40],[32,41,32,47],[30,41,30,47],[30,48,30,54],[30,5,30,7],[30,10,30,12],[30,13,30,19],[30,20,30,26],[30,27,30,33],[30,34,30,40],[30,55,30,61],[28,62,28,68],[29,27,29,33],[29,34,29,40],[29,41,29,47],[29,48,29,54],[28,48,28,54],[28,55,28,61],[29,55,29,61],[29,62,29,68],[29,74,29,86],[28,87,28,91],[27,87,27,91],[28,5,28,7],[28,10,28,12],[28,13,28,19],[28,20,28,26],[28,27,28,33],[28,34,28,40],[28,41,28,47],[27,69,27,73],[27,74,27,86],[27,27,27,33],[27,34,27,40],[27,41,27,47],[27,48,27,54],[27,5,27,7],[27,10,27,12],[27,13,27,19],[27,20,27,26],[29,5,29,7],[29,10,29,12],[29,13,29,19],[29,20,29,26],[26,62,26,68],[26,69,26,73],[26,48,26,54],[26,55,26,61],[27,55,27,61],[27,62,27,68],[26,87,26,91],[25,87,25,91],[26,5,26,7],[26,10,26,12],[26,13,26,19],[26,20,26,26],[26,27,26,33],[26,34,26,40],[26,41,26,47],[25,74,25,86],[25,27,25,33],[25,34,25,40],[25,41,25,47],[25,48,25,54],[26,74,26,86],[25,55,25,61],[25,62,25,68],[25,69,25,73],[24,41,24,47],[25,5,25,7],[25,10,25,12],[25,13,25,19],[25,20,25,26],[24,62,24,68],[24,5,24,7],[24,10,24,12],[24,13,24,19],[24,20,24,26],[24,27,24,33],[24,34,24,40],[23,74,23,86],[22,74,22,86],[22,87,22,91],[24,74,24,86],[24,87,24,91],[23,87,23,91],[23,41,23,47],[23,5,23,7],[23,10,23,12],[23,13,23,19],[23,20,23,26],[23,27,23,33],[23,34,23,40],[23,48,23,54],[22,48,22,54],[22,55,22,61],[22,62,22,68],[22,69,22,73],[23,55,23,61],[23,62,23,68],[23,69,23,73],[24,69,24,73],[24,48,24,54],[24,55,24,61],[21,69,21,73],[21,74,21,86],[21,87,21,91],[22,5,22,7],[22,10,22,12],[22,13,22,19],[22,20,22,26],[22,27,22,33],[22,34,22,40],[22,41,22,47],[21,41,21,47],[21,48,21,54],[21,55,21,61],[21,62,21,68],[21,13,21,19],[21,20,21,26],[21,27,21,33],[21,34,21,40],[20,69,20,73],[20,74,20,86],[20,87,20,91],[19,87,19,91],[20,5,20,7],[20,10,20,12],[20,13,20,19],[20,20,20,26],[20,27,20,33],[20,34,20,40],[20,41,20,47],[20,48,20,54],[20,55,20,61],[19,55,19,61],[19,62,19,68],[20,62,20,68],[19,69,19,73],[19,74,19,86],[19,27,19,33],[19,34,19,40],[19,41,19,47],[19,48,19,54],[18,69,18,73],[18,74,18,86],[18,87,18,91],[17,87,17,91],[18,5,18,7],[18,10,18,12],[18,13,18,19],[18,20,18,26],[18,27,18,33],[18,34,18,40],[18,41,18,47],[18,48,18,54],[18,55,18,61],[17,55,17,61],[17,62,17,68],[18,62,18,68],[17,69,17,73],[17,74,17,86],[17,27,17,33],[17,34,17,40],[17,41,17,47],[17,48,17,54],[17,4,35,4],[17,5,17,12],[17,13,17,19],[17,20,17,26],[19,5,19,7],[19,10,19,12],[19,13,19,19],[19,20,19,26],[21,5,21,7],[21,10,21,12],[31,5,31,7],[31,10,31,12],[31,13,31,19],[31,20,31,26],[32,10,32,12],[32,13,32,19],[32,20,32,26],[33,5,33,7],[33,10,33,12],[33,13,33,19],[33,20,33,26],[34,5,34,12],[35,5,35,12],[16,4,16,12],[16,13,16,19],[16,20,16,26],[16,27,16,33],[16,34,16,40],[16,41,16,47],[16,48,16,54],[16,55,16,61],[15,34,15,40],[15,41,15,47],[15,48,15,54],[15,55,15,61],[15,4,15,12],[15,13,15,19],[15,20,15,26],[15,27,15,33],[13,33,13,37],[10,53,10,57],[11,53,12,57],[16,62,16,68],[16,69,16,73],[16,74,16,86],[16,87,16,91],[15,62,15,68],[15,69,15,91],[11,4,12,5],[11,6,12,12],[11,13,12,17],[11,18,12,27],[11,28,12,32],[11,33,12,37],[11,38,12,47],[11,48,12,52],[10,83,11,91],[11,58,12,67],[11,68,12,72],[12,73,13,81],[12,82,13,91],[13,68,13,72],[10,58,10,67],[10,68,10,72],[10,73,11,82],[13,38,13,47],[13,48,13,52],[13,53,13,57],[13,58,13,67],[13,13,13,17],[13,18,13,27],[13,28,13,32],[9,58,9,67],[9,68,9,72],[9,73,9,91],[10,6,10,12],[10,13,10,17],[10,18,10,27],[10,28,10,32],[10,33,10,37],[10,38,10,47],[10,48,10,52],[9,33,9,37],[9,38,9,47],[9,48,9,52],[9,53,9,57],[9,6,9,12],[9,13,9,17],[9,18,9,27],[9,28,9,32],[8,68,8,72],[8,73,8,80],[7,78,7,91],[8,81,8,91],[7,33,7,37],[7,38,7,47],[7,48,7,52],[7,53,7,57],[8,6,8,12],[8,13,8,17],[8,18,8,27],[8,28,8,32],[8,33,8,37],[8,38,8,47],[8,48,8,52],[8,53,8,57],[8,58,8,67],[5,73,5,77],[5,78,5,91],[4,68,4,72],[4,73,4,91],[4,58,4,67],[7,6,7,7],[7,13,7,17],[7,18,7,27],[7,28,7,32],[6,73,6,80],[6,81,6,91],[6,33,6,37],[6,38,6,47],[6,48,6,52],[6,53,6,57],[6,7,6,8],[6,13,6,17],[6,18,6,27],[6,28,6,32],[7,58,7,67],[7,68,7,72],[7,73,7,77],[5,48,5,52],[4,38,4,47],[4,48,4,52],[4,53,4,57],[5,58,5,67],[5,68,5,72],[5,53,5,57],[6,58,6,67],[6,68,6,72],[2,4,2,5],[2,6,2,31],[4,13,4,27],[4,33,4,37],[5,13,5,17],[5,18,5,27],[5,28,5,32],[5,33,5,37],[5,38,5,47]]}
[null,null,null,null,null,null,null,null,null,null,null,null,null,null,null,null,null,null,null,null,null,null,null,null,null,null,null,null,null,null,null,null,null,null,null,null,null,null,null,null,null,null,null,null,null,null,null,null,null,null,null,null,null,null,null,null,null,null,null,null,null,null,null,null,{"$f":"IF('７号入力'!AB124=\"\",\"\",'７号入力'!AB124)","v":""}]
[]
[null,null,null,null,"栽培履歴",null,{"$f":"メニュー画面!F16","v":"静岡県温室農業協同組合（クラウンメロン支所）"},null,null,null,null,null,null,null,null,null,null,null,null,null,null,null,null,null,null,null,null,null,null,null,null,null,"検査日",null,null,null,null,null,"令和　　年　　月　　日",null,null,null,null,null,null,null,null,null,null,null,null,null,null,null,"検査責任者氏名　　　　　　　　　　 　　　　　　　　　　　　　印"]
[]
[null,"７号室",null,null,"組合員番号：",null,{"$f":"メニュー画面!F18","v":"４　３　６"},null,null,null,null,null,null,"施用資材名",null,null,null,null,null,null,null,null,null,null,null,null,null,null,"投入量",null,null,null,null,{"$f":"IF('７号入力'!F30=\"\",\"\",'７号入力'!F30)","v":"〃"},null,null,null,null,{"$f":"IF('７号入力'!AH30=\"\",\"\",'７号入力'!AH30)","v":""},null,null,null,null,null,null,null,null,null,{"$f":"IF('７号入力'!AA30=\"\",\"\",'７号入力'!AA30)","v":""},null,null,null,null,{"$f":"IF('７号入力'!F39=\"\",\"\",'７号入力'!F39)","v":""},null,null,null,null,{"$f":"IF('７号入力'!AH39=\"\",\"\",'７号入力'!AH39)","v":""},null,null,null,null,null,null,null,null,null,{"$f":"IF('７号入力'!AA39=\"\",\"\",'７号入力'!AA39)","v":""},null,null,null,null,"施用粒剤"]
[null,null,null,null,"氏名：",null,{"$f":"メニュー画面!F20","v":"中　條　文　義"},null,null,null,null,null,null,{"$f":"IF('７号入力'!F22=\"\",\"\",'７号入力'!F22)","v":""},null,null,null,null,{"$f":"IF('７号入力'!AH22=\"\",\"\",'７号入力'!AH22)","v":"育苗"},null,null,null,null,null,null,null,null,null,{"$f":"IF('７号入力'!AA22=\"\",\"\",'７号入力'!AA22)","v":""},null,null,null,null,{"$f":"IF('７号入力'!F31=\"\",\"\",'７号入力'!F31)","v":"〃"},null,null,null,null,{"$f":"IF('７号入力'!AH31=\"\",\"\",'７号入力'!AH31)","v":""},null,null,null,null,null,null,null,null,null,{"$f":"IF('７号入力'!AA31=\"\",\"\",'７号入力'!AA31)","v":""},null,null,null,null,{"$f":"IF('７号入力'!F40=\"\",\"\",'７号入力'!F40)","v":""},null,null,null,null,{"$f":"IF('７号入力'!AH40=\"\",\"\",'７号入力'!AH40)","v":""},null,null,null,null,null,null,null,null,null,{"$f":"IF('７号入力'!AA40=\"\",\"\",'７号入力'!AA40)","v":""},null,null,null,null,{"$f":"IF('７号入力'!F53=\"\",\"/\",'７号入力'!F53)","v":"/"},null,null,null,null,{"$f":"IF('７号入力'!I53=\"\",\"\",'７号入力'!I53)","v":""}]
[null,null,null,null,"部屋番号：",null,{"$f":"IF('７号入力'!F9=\"\",\"\",'７号入力'!F9)","v":7},{"$f":"IF('７号入力'!F10=\"\",\"\",'７号入力'!F10)","v":""},null,null,null,null,null,{"$f":"IF('７号入力'!F23=\"\",\"\",'７号入力'!F23)","v":"2006-01-01"},null,null,null,null,{"$f":"IF('７号入力'!AH23=\"\",\"\",'７号入力'!AH23)","v":""},null,null,null,null,null,null,null,null,null,{"$f":"IF('７号入力'!AA23=\"\",\"\",'７号入力'!AA23)","v":""},null,null,null,null,{"$f":"IF('７号入力'!F32=\"\",\"\",'７号入力'!F32)","v":"〃"},null,null,null,null,{"$f":"IF('７号入力'!AH32=\"\",\"\",'７号入力'!AH32)","v":""},null,null,null,null,null,null,null,null,null,{"$f":"IF('７号入力'!AA32=\"\",\"\",'７号入力'!AA32)","v":""},null,null,null,null,{"$f":"IF('７号入力'!F41=\"\",\"\",'７号入力'!F41)","v":""},null,null,null,null,{"$f":"IF('７号入力'!AH41=\"\",\"\",'７号入力'!AH41)","v":""},null,null,null,null,null,null,null,null,null,{"$f":"IF('７号入力'!AA41=\"\",\"\",'７号入力'!AA41)","v":""},null,null,null,null,{"$f":"IF('７号入力'!P53=0,\"g\",'７号入力'!P53)","v":"g"},null,null,null,null,null,null,null,{"$f":"IF('７号入力'!T53=0,0,'７号入力'!T53)","v":0}]
[null,null,null,null,"品種名：",null,{"$f":"IF('７号入力'!F11=\"\",\"\",'７号入力'!F11)","v":"春　　系"},null,null,null,null,null,null,{"$f":"IF('７号入力'!F24=\"\",\"\",'７号入力'!F24)","v":"〃"},null,null,null,null,{"$f":"IF('７号入力'!AH24=\"\",\"\",'７号入力'!AH24)","v":""},null,null,null,null,null,null,null,null,null,{"$f":"IF('７号入力'!AA24=\"\",\"\",'７号入力'!AA24)","v":""},null,null,null,null,{"$f":"IF('７号入力'!F33=\"\",\"\",'７号入力'!F33)","v":"〃"},null,null,null,null,{"$f":"IF('７号入力'!AH33=\"\",\"\",'７号入力'!AH33)","v":""},null,null,null,null,null,null,null,null,null,{"$f":"IF('７号入力'!AA33=\"\",\"\",'７号入力'!AA33)","v":""},null,null,null,null,{"$f":"IF('７号入力'!F42=\"\",\"\",'７号入力'!F42)","v":""},null,null,null,null,{"$f":"IF('７号入力'!AH42=\"\",\"\",'７号入力'!AH42)","v":""},null,null,null,null,null,null,null,null,null,{"$f":"IF('７号入力'!AA42=\"\",\"\",'７号入力'!AA42)","v":""},null,null,null,null,{"$f":"IF('７号入力'!F54=\"\",\"/\",'７号入力'!F54)","v":"/"},null,null,null,null,{"$f":"IF('７号入力'!I54=\"\",\"\",'７号入力'!I54)","v":""}]
[null,null,null,null,"播種日：",null,{"$f":"IF('７号入力'!F12=\"\",\"\",'７号入力'!F12)","v":""},null,null,null,null,null,null,{"$f":"IF('７号入力'!F25=\"\",\"\",'７号入力'!F25)","v":"〃"},null,null,null,null,{"$f":"IF('７号入力'!AH25=\"\",\"\",'７号入力'!AH25)","v":""},null,null,null,null,null,null,null,null,null,{"$f":"IF('７号入力'!AA25=\"\",\"\",'７号入力'!AA25)","v":""},null,null,null,null,{"$f":"IF('７号入力'!F34=\"\",\"\",'７号入力'!F34)","v":"〃"},null,null,null,null,{"$f":"IF('７号入力'!AH34=\"\",\"\",'７号入力'!AH34)","v":""},null,null,null,null,null,null,null,null,null,{"$f":"IF('７号入力'!AA34=\"\",\"\",'７号入力'!AA34)","v":""},null,null,null,null,{"$f":"IF('７号入力'!F43=\"\",\"\",'７号入力'!F43)","v":""},null,null,null,null,{"$f":"IF('７号入力'!AH43=\"\",\"\",'７号入力'!AH43)","v":""},null,null,null,null,null,null,null,null,null,{"$f":"IF('７号入力'!AA43=\"\",\"\",'７号入力'!AA43)","v":""},null,null,null,null,{"$f":"IF('７号入力'!P54=0,\"g\",'７号入力'!P54)","v":"g"},null,null,null,null,null,null,null,{"$f":"IF('７号入力'!T54=0,0,'７号入力'!T54)","v":0}]
[null,null,null,null,"定植日：",null,{"$f":"IF('７号入力'!F13=\"\",\"\",'７号入力'!F13)","v":""},null,null,null,null,null,null,{"$f":"IF('７号入力'!F26=\"\",\"\",'７号入力'!F26)","v":"〃"},null,null,null,null,{"$f":"IF('７号入力'!AH26=\"\",\"\",'７号入力'!AH26)","v":""},null,null,null,null,null,null,null,null,null,{"$f":"IF('７号入力'!AA26=\"\",\"\",'７号入力'!AA26)","v":""},null,null,null,null,{"$f":"IF('７号入力'!F35=\"\",\"\",'７号入力'!F35)","v":"〃"},null,null,null,null,{"$f":"IF('７号入力'!AH35=\"\",\"\",'７号入力'!AH35)","v":""},null,null,null,null,null,null,null,null,null,{"$f":"IF('７号入力'!AA35=\"\",\"\",'７号入力'!AA35)","v":""},null,null,null,null,{"$f":"IF('７号入力'!F44=\"\",\"\",'７号入力'!F44)","v":""},null,null,null,null,{"$f":"IF('７号入力'!AH44=\"\",\"\",'７号入力'!AH44)","v":""},null,null,null,null,null,null,null,null,null,{"$f":"IF('７号入力'!AA44=\"\",\"\",'７号入力'!AA44)","v":""},null,null,null,null,"硫黄くん蒸剤"]
[null,null,null,null,"交配日：",null,{"$f":"IF('７号入力'!F14=\"\",\"\",'７号入力'!F14)","v":""},null,null,null,null,null,null,{"$f":"IF('７号入力'!F27=\"\",\"\",'７号入力'!F27)","v":"〃"},null,null,null,null,{"$f":"IF('７号入力'!AH27=\"\",\"\",'７号入力'!AH27)","v":""},null,null,null,null,null,null,null,null,null,{"$f":"IF('７号入力'!AA27=\"\",\"\",'７号入力'!AA27)","v":""},null,null,null,null,{"$f":"IF('７号入力'!F36=\"\",\"\",'７号入力'!F36)","v":""},null,null,null,null,{"$f":"IF('７号入力'!AH36=\"\",\"\",'７号入力'!AH36)","v":""},null,null,null,null,null,null,null,null,null,{"$f":"IF('７号入力'!AA36=\"\",\"\",'７号入力'!AA36)","v":""},null,null,null,null,{"$f":"IF('７号入力'!F45=\"\",\"\",'７号入力'!F45)","v":""},null,null,null,null,{"$f":"IF('７号入力'!AH45=\"\",\"\",'７号入力'!AH45)","v":""},null,null,null,null,null,null,null,null,null,{"$f":"IF('７号入力'!AA45=\"\",\"\",'７号入力'!AA45)","v":""},null,null,null,null,{"$f":"IF('７号入力'!H59=\"\",\"/      ～\",'７号入力'!H59)","v":"/      ～"},null,null,null,null,null,null,null,null,null,{"$f":"IF('７号入力'!H60=\"\",\"    /\",'７号入力'!H60)","v":"    /"}]
[null,null,null,null,"収穫日：",null,{"$f":"IF('７号入力'!F16=\"\",\"\",'７号入力'!F16)","v":""},null,null,null,null,null,null,{"$f":"IF('７号入力'!F28=\"\",\"\",'７号入力'!F28)","v":"〃"},null,null,null,null,{"$f":"IF('７号入力'!AH28=\"\",\"\",'７号入力'!AH28)","v":""},null,null,null,null,null,null,null,null,null,{"$f":"IF('７号入力'!AA28=\"\",\"\",'７号入力'!AA28)","v":""},null,null,null,null,{"$f":"IF('７号入力'!F37=\"\",\"\",'７号入力'!F37)","v":""},null,null,null,null,{"$f":"IF('７号入力'!AH37=\"\",\"\",'７号入力'!AH37)","v":""},null,null,null,null,null,null,null,null,null,{"$f":"IF('７号入力'!AA37=\"\",\"\",'７号入力'!AA37)","v":""},null,null,null,null,{"$f":"IF('７号入力'!F46=\"\",\"\",'７号入力'!F46)","v":""},null,null,null,null,{"$f":"IF('７号入力'!AH46=\"\",\"\",'７号入力'!AH46)","v":""},null,null,null,null,null,null,null,null,null,{"$f":"IF('７号入力'!AA46=\"\",\"\",'７号入力'!AA46)","v":""}]
[null,null,null,null,null,null,null,null,null,null,null,null,null,null,null,null,null,null,null,null,null,null,null,null,null,null,null,null,null,null,null,null,null,null,null,null,null,null,null,null,null,null,null,null,null,null,null,null,null,null,null,null,null,null,null,null,null,null,null,null,null,null,null,null,null,null,null,null,null,null,null,null,null,{"$f":"IF('７号入力'!H61=\"\",\"g/日\",'７号入力'!H61)","v":2},null,null,null,null,null,null,null,null,{"$f":"IF('７号入力'!H62=\"\",\"g/部屋\",'７号入力'!H62)","v":"g/部屋"}]
[null,null,null,null,"採果日数：",null,{"$f":"'７号入力'!F15","v":0},null,null,null,null,null,null,{"$f":"IF('７号入力'!F29=\"\",\"\",'７号入力'!F29)","v":"〃"},null,null,null,null,{"$f":"IF('７号入力'!AH29=\"\",\"\",'７号入力'!AH29)","v":""},null,null,null,null,null,null,null,null,null,{"$f":"IF('７号入力'!AA29=\"\",\"\",'７号入力'!AA29)","v":""},null,null,null,null,{"$f":"IF('７号入力'!F38=\"\",\"\",'７号入力'!F38)","v":""},null,null,null,null,{"$f":"IF('７号入力'!AH38=\"\",\"\",'７号入力'!AH38)","v":""},null,null,null,null,null,null,null,null,null,{"$f":"IF('７号入力'!AA38=\"\",\"\",'７号入力'!AA38)","v":""},null,null,null,null,{"$f":"IF('７号入力'!F47=\"\",\"\",'７号入力'!F47)","v":""},null,null,null,null,{"$f":"IF('７号入力'!AH47=\"\",\"\",'７号入力'!AH47)","v":""},null,null,null,null,null,null,null,null,null,{"$f":"IF('７号入力'!AA47=\"\",\"\",'７号入力'!AA47)","v":""}]
[]
[null,null,null,null,"使用年月日",null,null,null,null,null,null,null,null,{"$f":"IF('７号入力'!R68=\"\",\"/\",'７号入力'!R68)","v":"/"},null,null,null,null,null,null,{"$f":"IF('７号入力'!U68=\"\",\"/\",'７号入力'!U68)","v":"/"},null,null,null,null,null,null,{"$f":"IF('７号入力'!X68=\"\",\"/\",'７号入力'!X68)","v":"/"},null,null,null,null,null,null,{"$f":"IF('７号入力'!AA68=\"\",\"/\",'７号入力'!AA68)","v":"/"},null,null,null,null,null,null,{"$f":"IF('７号入力'!AD68=\"\",\"/\",'７号入力'!AD68)","v":"/"},null,null,null,null,null,null,{"$f":"IF('７号入力'!AG68=\"\",\"/\",'７号入力'!AG68)","v":"/"},null,null,null,null,null,null,{"$f":"IF('７号入力'!AJ68=\"\",\"/\",'７号入力'!AJ68)","v":"/"},null,null,null,null,null,null,{"$f":"IF('７号入力'!AM68=\"\",\"/\",'７号入力'!AM68)","v":"/"},null,null,null,null,null,null,"使用液肥・葉面散布剤"]
[null,null,null,null,"生育ステージ",null,null,null,null,null,null,null,null,{"$f":"IF('７号入力'!R69=\"\",\"\",'７号入力'!R69)","v":"育苗"},null,null,null,null,null,null,{"$f":"IF('７号入力'!U69=\"\",\"\",'７号入力'!U69)","v":"木作り"},null,null,null,null,null,null,{"$f":"IF('７号入力'!X69=\"\",\"\",'７号入力'!X69)","v":"木作り"},null,null,null,null,null,null,{"$f":"IF('７号入力'!AA69=\"\",\"\",'７号入力'!AA69)","v":"肥大期"},null,null,null,null,null,null,{"$f":"IF('７号入力'!AD69=\"\",\"\",'７号入力'!AD69)","v":"肥大期"},null,null,null,null,null,null,{"$f":"IF('７号入力'!AG69=\"\",\"\",'７号入力'!AG69)","v":"仕上げ"},null,null,null,null,null,null,{"$f":"IF('７号入力'!AJ69=\"\",\"\",'７号入力'!AJ69)","v":"仕上げ"},null,null,null,null,null,null,{"$f":"IF('７号入力'!AM69=\"\",\"\",'７号入力'!AM69)","v":"仕上げ"},null,null,null,null,null,null,{"$f":"IF('７号入力'!E105=\"\",\"/\",'７号入力'!E105)","v":"/"},null,null,null,null,{"$f":"IF('７号入力'!H105=\"\",\"\",'７号入力'!H105)","v":""},null,null,null,null,null,null,null,null,null,null,null,null,{"$f":"IF('７号入力'!Q105=0,0,'７号入力'!Q105)","v":0}]
[null,null,null,null,"使用農薬名","散布量",null,null,null,null,null,null,null,{"$f":"IF('７号入力'!R70=0,0,'７号入力'!R70)","v":0},null,null,null,null,null,null,{"$f":"IF('７号入力'!U70=0,0,'７号入力'!U70)","v":0},null,null,null,null,null,null,{"$f":"IF('７号入力'!X70=0,0,'７号入力'!X70)","v":0},null,null,null,null,null,null,{"$f":"IF('７号入力'!AA70=0,0,'７号入力'!AA70)","v":0},null,null,null,null,null,null,{"$f":"IF('７号入力'!AD70=0,0,'７号入力'!AD70)","v":0},null,null,null,null,null,null,{"$f":"IF('７号入力'!AG70=0,0,'７号入力'!AG70)","v":0},null,null,null,null,null,null,{"$f":"IF('７号入力'!AJ70=0,0,'７号入力'!AJ70)","v":0},null,null,null,null,null,null,{"$f":"IF('７号入力'!AM70=0,0,'７号入力'!AM70)","v":0},null,null,null,null,null,null,{"$f":"IF('７号入力'!E106=\"\",\"\",'７号入力'!E106)","v":""},null,null,null,null,{"$f":"IF('７号入力'!H106=\"\",\"\",'７号入力'!H106)","v":""},null,null,null,null,null,null,null,null,null,null,null,null,{"$f":"IF('７号入力'!Q106=0,\"\",'７号入力'!Q106)","v":""}]
[null,null,null,null,null,{"$f":"IF('７号入力'!D71=\"\",\"\",'７号入力'!D71)","v":""},null,null,{"$f":"IF(F19=\"\",\"\",VLOOKUP(F19,Ｍ農薬台帳,3,FALSE))","v":""},{"$f":"IF(F19=\"\",\"\",\"-\")","v":""},{"$f":"IF(F19=\"\",\"\",VLOOKUP(F19,Ｍ農薬台帳,2,FALSE))","v":""},null,null,{"$f":"IF('７号入力'!R71=\"\",\"\",'７号入力'!R71)","v":""},null,null,null,null,null,null,{"$f":"IF('７号入力'!U71=\"\",\"\",'７号入力'!U71)","v":""},null,null,null,null,null,null,{"$f":"IF('７号入力'!X71=\"\",\"\",'７号入力'!X71)","v":""},null,null,null,null,null,null,{"$f":"IF('７号入力'!AA71=\"\",\"\",'７号入力'!AA71)","v":""},null,null,null,null,null,null,{"$f":"IF('７号入力'!AD71=\"\",\"\",'７号入力'!AD71)","v":""},null,null,null,null,null,null,{"$f":"IF('７号入力'!AG71=\"\",\"\",'７号入力'!AG71)","v":""},null,null,null,null,null,null,{"$f":"IF('７号入力'!AJ71=\"\",\"\",'７号入力'!AJ71)","v":""},null,null,null,null,null,null,{"$f":"IF('７号入力'!AM71=\"\",\"\",'７号入力'!AM71)","v":""},null,null,null,null,null,null,{"$f":"IF('７号入力'!E107=\"\",\"\",'７号入力'!E107)","v":""},null,null,null,null,{"$f":"IF('７号入力'!H107=\"\",\"\",'７号入力'!H107)","v":""},null,null,null,null,null,null,null,null,null,null,null,null,{"$f":"IF('７号入力'!Q107=0,\"\",'７号入力'!Q107)","v":""}]
[null,null,null,null,null,{"$f":"IF('７号入力'!D72=\"\",\"\",'７号入力'!D72)","v":""},null,null,"","","",null,null,{"$f":"IF('７号入力'!R72=\"\",\"\",'７号入力'!R72)","v":""},null,null,null,null,null,null,{"$f":"IF('７号入力'!U72=\"\",\"\",'７号入力'!U72)","v":""},null,null,null,null,null,null,{"$f":"IF('７号入力'!X72=\"\",\"\",'７号入力'!X72)","v":""},null,null,null,null,null,null,{"$f":"IF('７号入力'!AA72=\"\",\"\",'７号入力'!AA72)","v":""},null,null,null,null,null,null,{"$f":"IF('７号入力'!AD72=\"\",\"\",'７号入力'!AD72)","v":""},null,null,null,null,null,null,{"$f":"IF('７号入力'!AG72=\"\",\"\",'７号入力'!AG72)","v":""},null,null,null,null,null,null,{"$f":"IF('７号入力'!AJ72=\"\",\"\",'７号入力'!AJ72)","v":""},null,null,null,null,null,null,{"$f":"IF('７号入力'!AM72=\"\",\"\",'７号入力'!AM72)","v":""},null,null,null,null,null,null,{"$f":"IF('７号入力'!E108=\"\",\"\",'７号入力'!E108)","v":""},null,null,null,null,{"$f":"IF('７号入力'!H108=\"\",\"\",'７号入力'!H108)","v":""},null,null,null,null,null,null,null,null,null,null,null,null,{"$f":"IF('７号入力'!Q108=0,\"\",'７号入力'!Q108)","v":""}]
[null,null,null,null,null,{"$f":"IF('７号入力'!D73=\"\",\"\",'７号入力'!D73)","v":""},null,null,"","","",null,null,{"$f":"IF('７号入力'!R73=\"\",\"\",'７号入力'!R73)","v":""},null,null,null,null,null,null,{"$f":"IF('７号入力'!U73=\"\",\"\",'７号入力'!U73)","v":""},null,null,null,null,null,null,{"$f":"IF('７号入力'!X73=\"\",\"\",'７号入力'!X73)","v":""},null,null,null,null,null,null,{"$f":"IF('７号入力'!AA73=\"\",\"\",'７号入力'!AA73)","v":""},null,null,null,null,null,null,{"$f":"IF('７号入力'!AD73=\"\",\"\",'７号入力'!AD73)","v":""},null,null,null,null,null,null,{"$f":"IF('７号入力'!AG73=\"\",\"\",'７号入力'!AG73)","v":""},null,null,null,null,null,null,{"$f":"IF('７号入力'!AJ73=\"\",\"\",'７号入力'!AJ73)","v":""},null,null,null,null,null,null,{"$f":"IF('７号入力'!AM73=\"\",\"\",'７号入力'!AM73)","v":""},null,null,null,null,null,null,{"$f":"IF('７号入力'!E109=\"\",\"\",'７号入力'!E109)","v":""},null,null,null,null,{"$f":"IF('７号入力'!H109=\"\",\"\",'７号入力'!H109)","v":""},null,null,null,null,null,null,null,null,null,null,null,null,{"$f":"IF('７号入力'!Q109=0,\"\",'７号入力'!Q109)","v":""}]
[null,null,null,null,null,{"$f":"IF('７号入力'!D74=\"\",\"\",'７号入力'!D74)","v":""},null,null,"","","",null,null,{"$f":"IF('７号入力'!R74=\"\",\"\",'７号入力'!R74)","v":""},null,null,null,null,null,null,{"$f":"IF('７号入力'!U74=\"\",\"\",'７号入力'!U74)","v":""},null,null,null,null,null,null,{"$f":"IF('７号入力'!X74=\"\",\"\",'７号入力'!X74)","v":""},null,null,null,null,null,null,{"$f":"IF('７号入力'!AA74=\"\",\"\",'７号入力'!AA74)","v":""},null,null,null,null,null,null,{"$f":"IF('７号入力'!AD74=\"\",\"\",'７号入力'!AD74)","v":""},null,null,null,null,null,null,{"$f":"IF('７号入力'!AG74=\"\",\"\",'７号入力'!AG74)","v":""},null,null,null,null,null,null,{"$f":"IF('７号入力'!AJ74=\"\",\"\",'７号入力'!AJ74)","v":""},null,null,null,null,null,null,{"$f":"IF('７号入力'!AM74=\"\",\"\",'７号入力'!AM74)","v":""},null,null,null,null,null,null,{"$f":"IF('７号入力'!E110=\"\",\"\",'７号入力'!E110)","v":""},null,null,null,null,{"$f":"IF('７号入力'!H110=\"\",\"\",'７号入力'!H110)","v":""},null,null,null,null,null,null,null,null,null,null,null,null,{"$f":"IF('７号入力'!Q110=0,\"\",'７号入力'!Q110)","v":""}]
[null,null,null,null,null,{"$f":"IF('７号入力'!D75=\"\",\"\",'７号入力'!D75)","v":""},null,null,"","","",null,null,{"$f":"IF('７号入力'!R75=\"\",\"\",'７号入力'!R75)","v":""},null,null,null,null,null,null,{"$f":"IF('７号入力'!U75=\"\",\"\",'７号入力'!U75)","v":""},null,null,null,null,null,null,{"$f":"IF('７号入力'!X75=\"\",\"\",'７号入力'!X75)","v":""},null,null,null,null,null,null,{"$f":"IF('７号入力'!AA75=\"\",\"\",'７号入力'!AA75)","v":""},null,null,null,null,null,null,{"$f":"IF('７号入力'!AD75=\"\",\"\",'７号入力'!AD75)","v":""},null,null,null,null,null,null,{"$f":"IF('７号入力'!AG75=\"\",\"\",'７号入力'!AG75)","v":""},null,null,null,null,null,null,{"$f":"IF('７号入力'!AJ75=\"\",\"\",'７号入力'!AJ75)","v":""},null,null,null,null,null,null,{"$f":"IF('７号入力'!AM75=\"\",\"\",'７号入力'!AM75)","v":""},null,null,null,null,null,null,{"$f":"IF('７号入力'!E111=\"\",\"\",'７号入力'!E111)","v":""},null,null,null,null,{"$f":"IF('７号入力'!H111=\"\",\"\",'７号入力'!H111)","v":""},null,null,null,null,null,null,null,null,null,null,null,null,{"$f":"IF('７号入力'!Q111=0,\"\",'７号入力'!Q111)","v":""}]
[null,null,null,null,null,{"$f":"IF('７号入力'!D76=\"\",\"\",'７号入力'!D76)","v":""},null,null,"","","",null,null,{"$f":"IF('７号入力'!R76=\"\",\"\",'７号入力'!R76)","v":""},null,null,null,null,null,null,{"$f":"IF('７号入力'!U76=\"\",\"\",'７号入力'!U76)","v":""},null,null,null,null,null,null,{"$f":"IF('７号入力'!X76=\"\",\"\",'７号入力'!X76)","v":""},null,null,null,null,null,null,{"$f":"IF('７号入力'!AA76=\"\",\"\",'７号入力'!AA76)","v":""},null,null,null,null,null,null,{"$f":"IF('７号入力'!AD76=\"\",\"\",'７号入力'!AD76)","v":""},null,null,null,null,null,null,{"$f":"IF('７号入力'!AG76=\"\",\"\",'７号入力'!AG76)","v":""},null,null,null,null,null,null,{"$f":"IF('７号入力'!AJ76=\"\",\"\",'７号入力'!AJ76)","v":""},null,null,null,null,null,null,{"$f":"IF('７号入力'!AM76=\"\",\"\",'７号入力'!AM76)","v":""},null,null,null,null,null,null,{"$f":"IF('７号入力'!E112=\"\",\"\",'７号入力'!E112)","v":""},null,null,null,null,{"$f":"IF('７号入力'!H112=\"\",\"\",'７号入力'!H112)","v":""},null,null,null,null,null,null,null,null,null,null,null,null,{"$f":"IF('７号入力'!Q112=0,\"\",'７号入力'!Q112)","v":""}]
[null,null,null,null,null,{"$f":"IF('７号入力'!D77=\"\",\"\",'７号入力'!D77)","v":""},null,null,"","","",null,null,{"$f":"IF('７号入力'!R77=\"\",\"\",'７号入力'!R77)","v":""},null,null,null,null,null,null,{"$f":"IF('７号入力'!U77=\"\",\"\",'７号入力'!U77)","v":""},null,null,null,null,null,null,{"$f":"IF('７号入力'!X77=\"\",\"\",'７号入力'!X77)","v":""},null,null,null,null,null,null,{"$f":"IF('７号入力'!AA77=\"\",\"\",'７号入力'!AA77)","v":""},null,null,null,null,null,null,{"$f":"IF('７号入力'!AD77=\"\",\"\",'７号入力'!AD77)","v":""},null,null,null,null,null,null,{"$f":"IF('７号入力'!AG77=\"\",\"\",'７号入力'!AG77)","v":""},null,null,null,null,null,null,{"$f":"IF('７号入力'!AJ77=\"\",\"\",'７号入力'!AJ77)","v":""},null,null,null,null,null,null,{"$f":"IF('７号入力'!AM77=\"\",\"\",'７号入力'!AM77)","v":""},null,null,null,null,null,null,{"$f":"IF('７号入力'!E113=\"\",\"\",'７号入力'!E113)","v":""},null,null,null,null,{"$f":"IF('７号入力'!H113=\"\",\"\",'７号入力'!H113)","v":""},null,null,null,null,null,null,null,null,null,null,null,null,{"$f":"IF('７号入力'!Q113=0,\"\",'７号入力'!Q113)","v":""}]
[null,null,null,null,null,{"$f":"IF('７号入力'!D78=\"\",\"\",'７号入力'!D78)","v":""},null,null,"","","",null,null,{"$f":"IF('７号入力'!R78=\"\",\"\",'７号入力'!R78)","v":""},null,null,null,null,null,null,{"$f":"IF('７号入力'!U78=\"\",\"\",'７号入力'!U78)","v":""},null,null,null,null,null,null,{"$f":"IF('７号入力'!X78=\"\",\"\",'７号入力'!X78)","v":""},null,null,null,null,null,null,{"$f":"IF('７号入力'!AA78=\"\",\"\",'７号入力'!AA78)","v":""},null,null,null,null,null,null,{"$f":"IF('７号入力'!AD78=\"\",\"\",'７号入力'!AD78)","v":""},null,null,null,null,null,null,{"$f":"IF('７号入力'!AG78=\"\",\"\",'７号入力'!AG78)","v":""},null,null,null,null,null,null,{"$f":"IF('７号入力'!AJ78=\"\",\"\",'７号入力'!AJ78)","v":""},null,null,null,null,null,null,{"$f":"IF('７号入力'!AM78=\"\",\"\",'７号入力'!AM78)","v":""},null,null,null,null,null,null,{"$f":"IF('７号入力'!E114=\"\",\"\",'７号入力'!E114)","v":""},null,null,null,null,{"$f":"IF('７号入力'!H114=\"\",\"\",'７号入力'!H114)","v":""},null,null,null,null,null,null,null,null,null,null,null,null,{"$f":"IF('７号入力'!Q114=0,\"\",'７号入力'!Q114)","v":""}]
[null,null,null,null,null,{"$f":"IF('７号入力'!D79=\"\",\"\",'７号入力'!D79)","v":""},null,null,"","","",null,null,{"$f":"IF('７号入力'!R79=\"\",\"\",'７号入力'!R79)","v":""},null,null,null,null,null,null,{"$f":"IF('７号入力'!U79=\"\",\"\",'７号入力'!U79)","v":""},null,null,null,null,null,null,{"$f":"IF('７号入力'!X79=\"\",\"\",'７号入力'!X79)","v":""},null,null,null,null,null,null,{"$f":"IF('７号入力'!AA79=\"\",\"\",'７号入力'!AA79)","v":""},null,null,null,null,null,null,{"$f":"IF('７号入力'!AD79=\"\",\"\",'７号入力'!AD79)","v":""},null,null,null,null,null,null,{"$f":"IF('７号入力'!AG79=\"\",\"\",'７号入力'!AG79)","v":""},null,null,null,null,null,null,{"$f":"IF('７号入力'!AJ79=\"\",\"\",'７号入力'!AJ79)","v":""},null,null,null,null,null,null,{"$f":"IF('７号入力'!AM79=\"\",\"\",'７号入力'!AM79)","v":""},null,null,null,null,null,null,{"$f":"IF('７号入力'!E115=\"\",\"\",'７号入力'!E115)","v":""},null,null,null,null,{"$f":"IF('７号入力'!H115=\"\",\"\",'７号入力'!H115)","v":""},null,null,null,null,null,null,null,null,null,null,null,null,{"$f":"IF('７号入力'!Q115=0,\"\",'７号入力'!Q115)","v":""}]
[null,null,null,null,null,{"$f":"IF('７号入力'!D80=\"\",\"\",'７号入力'!D80)","v":""},null,null,"","","",null,null,{"$f":"IF('７号入力'!R80=\"\",\"\",'７号入力'!R80)","v":""},null,null,null,null,null,null,{"$f":"IF('７号入力'!U80=\"\",\"\",'７号入力'!U80)","v":""},null,null,null,null,null,null,{"$f":"IF('７号入力'!X80=\"\",\"\",'７号入力'!X80)","v":""},null,null,null,null,null,null,{"$f":"IF('７号入力'!AA80=\"\",\"\",'７号入力'!AA80)","v":""},null,null,null,null,null,null,{"$f":"IF('７号入力'!AD80=\"\",\"\",'７号入力'!AD80)","v":""},null,null,null,null,null,null,{"$f":"IF('７号入力'!AG80=\"\",\"\",'７号入力'!AG80)","v":""},null,null,null,null,null,null,{"$f":"IF('７号入力'!AJ80=\"\",\"\",'７号入力'!AJ80)","v":""},null,null,null,null,null,null,{"$f":"IF('７号入力'!AM80=\"\",\"\",'７号入力'!AM80)","v":""},null,null,null,null,null,null,{"$f":"IF('７号入力'!E116=\"\",\"\",'７号入力'!E116)","v":""},null,null,null,null,{"$f":"IF('７号入力'!H116=\"\",\"\",'７号入力'!H116)","v":""},null,null,null,null,null,null,null,null,null,null,null,null,{"$f":"IF('７号入力'!Q116=0,\"\",'７号入力'!Q116)","v":""}]
[null,null,null,null,null,{"$f":"IF('７号入力'!D81=\"\",\"\",'７号入力'!D81)","v":""},null,null,"","","",null,null,{"$f":"IF('７号入力'!R81=\"\",\"\",'７号入力'!R81)","v":""},null,null,null,null,null,null,{"$f":"IF('７号入力'!U81=\"\",\"\",'７号入力'!U81)","v":""},null,null,null,null,null,null,{"$f":"IF('７号入力'!X81=\"\",\"\",'７号入力'!X81)","v":""},null,null,null,null,null,null,{"$f":"IF('７号入力'!AA81=\"\",\"\",'７号入力'!AA81)","v":""},null,null,null,null,null,null,{"$f":"IF('７号入力'!AD81=\"\",\"\",'７号入力'!AD81)","v":""},null,null,null,null,null,null,{"$f":"IF('７号入力'!AG81=\"\",\"\",'７号入力'!AG81)","v":""},null,null,null,null,null,null,{"$f":"IF('７号入力'!AJ81=\"\",\"\",'７号入力'!AJ81)","v":""},null,null,null,null,null,null,{"$f":"IF('７号入力'!AM81=\"\",\"\",'７号入力'!AM81)","v":""},null,null,null,null,null,null,{"$f":"IF('７号入力'!E117=\"\",\"\",'７号入力'!E117)","v":""},null,null,null,null,{"$f":"IF('７号入力'!H117=\"\",\"\",'７号入力'!H117)","v":""},null,null,null,null,null,null,null,null,null,null,null,null,{"$f":"IF('７号入力'!Q117=0,\"\",'７号入力'!Q117)","v":""}]
[null,null,null,null,null,{"$f":"IF('７号入力'!D82=\"\",\"\",'７号入力'!D82)","v":""},null,null,"","","",null,null,{"$f":"IF('７号入力'!R82=\"\",\"\",'７号入力'!R82)","v":""},null,null,null,null,null,null,{"$f":"IF('７号入力'!U82=\"\",\"\",'７号入力'!U82)","v":""},null,null,null,null,null,null,{"$f":"IF('７号入力'!X82=\"\",\"\",'７号入力'!X82)","v":""},null,null,null,null,null,null,{"$f":"IF('７号入力'!AA82=\"\",\"\",'７号入力'!AA82)","v":""},null,null,null,null,null,null,{"$f":"IF('７号入力'!AD82=\"\",\"\",'７号入力'!AD82)","v":""},null,null,null,null,null,null,{"$f":"IF('７号入力'!AG82=\"\",\"\",'７号入力'!AG82)","v":""},null,null,null,null,null,null,{"$f":"IF('７号入力'!AJ82=\"\",\"\",'７号入力'!AJ82)","v":""},null,null,null,null,null,null,{"$f":"IF('７号入力'!AM82=\"\",\"\",'７号入力'!AM82)","v":""},null,null,null,null,null,null,{"$f":"IF('７号入力'!E118=\"\",\"\",'７号入力'!E118)","v":""},null,null,null,null,{"$f":"IF('７号入力'!H118=\"\",\"\",'７号入力'!H118)","v":""},null,null,null,null,null,null,null,null,null,null,null,null,{"$f":"IF('７号入力'!Q118=0,\"\",'７号入力'!Q118)","v":""}]
[null,null,null,null,null,{"$f":"IF('７号入力'!D83=\"\",\"\",'７号入力'!D83)","v":""},null,null,"","","",null,null,{"$f":"IF('７号入力'!R83=\"\",\"\",'７号入力'!R83)","v":""},null,null,null,null,null,null,{"$f":"IF('７号入力'!U83=\"\",\"\",'７号入力'!U83)","v":""},null,null,null,null,null,null,{"$f":"IF('７号入力'!X83=\"\",\"\",'７号入力'!X83)","v":""},null,null,null,null,null,null,{"$f":"IF('７号入力'!AA83=\"\",\"\",'７号入力'!AA83)","v":""},null,null,null,null,null,null,{"$f":"IF('７号入力'!AD83=\"\",\"\",'７号入力'!AD83)","v":""},null,null,null,null,null,null,{"$f":"IF('７号入力'!AG83=\"\",\"\",'７号入力'!AG83)","v":""},null,null,null,null,null,null,{"$f":"IF('７号入力'!AJ83=\"\",\"\",'７号入力'!AJ83)","v":""},null,null,null,null,null,null,{"$f":"IF('７号入力'!AM83=\"\",\"\",'７号入力'!AM83)","v":""},null,null,null,null,null,null,{"$f":"IF('７号入力'!E119=\"\",\"\",'７号入力'!E119)","v":""},null,null,null,null,{"$f":"IF('７号入力'!H119=\"\",\"\",'７号入力'!H119)","v":""},null,null,null,null,null,null,null,null,null,null,null,null,{"$f":"IF('７号入力'!Q119=0,\"\",'７号入力'!Q119)","v":""}]
[null,null,null,null,null,{"$f":"IF('７号入力'!D84=\"\",\"\",'７号入力'!D84)","v":""},null,null,"","","",null,null,{"$f":"IF('７号入力'!R84=\"\",\"\",'７号入力'!R84)","v":""},null,null,null,null,null,null,{"$f":"IF('７号入力'!U84=\"\",\"\",'７号入力'!U84)","v":""},null,null,null,null,null,null,{"$f":"IF('７号入力'!X84=\"\",\"\",'７号入力'!X84)","v":""},null,null,null,null,null,null,{"$f":"IF('７号入力'!AA84=\"\",\"\",'７号入力'!AA84)","v":""},null,null,null,null,null,null,{"$f":"IF('７号入力'!AD84=\"\",\"\",'７号入力'!AD84)","v":""},null,null,null,null,null,null,{"$f":"IF('７号入力'!AG84=\"\",\"\",'７号入力'!AG84)","v":""},null,null,null,null,null,null,{"$f":"IF('７号入力'!AJ84=\"\",\"\",'７号入力'!AJ84)","v":""},null,null,null,null,null,null,{"$f":"IF('７号入力'!AM84=\"\",\"\",'７号入力'!AM84)","v":""},null,null,null,null,null,null,{"$f":"IF('７号入力'!E120=\"\",\"\",'７号入力'!E120)","v":""},null,null,null,null,{"$f":"IF('７号入力'!H120=\"\",\"\",'７号入力'!H120)","v":""},null,null,null,null,null,null,null,null,null,null,null,null,{"$f":"IF('７号入力'!Q120=0,\"\",'７号入力'!Q120)","v":""}]
[null,null,null,null,null,{"$f":"IF('７号入力'!D85=\"\",\"\",'７号入力'!D85)","v":""},null,null,"","","",null,null,{"$f":"IF('７号入力'!R85=\"\",\"\",'７号入力'!R85)","v":""},null,null,null,null,null,null,{"$f":"IF('７号入力'!U85=\"\",\"\",'７号入力'!U85)","v":""},null,null,null,null,null,null,{"$f":"IF('７号入力'!X85=\"\",\"\",'７号入力'!X85)","v":""},null,null,null,null,null,null,{"$f":"IF('７号入力'!AA85=\"\",\"\",'７号入力'!AA85)","v":""},null,null,null,null,null,null,{"$f":"IF('７号入力'!AD85=\"\",\"\",'７号入力'!AD85)","v":""},null,null,null,null,null,null,{"$f":"IF('７号入力'!AG85=\"\",\"\",'７号入力'!AG85)","v":""},null,null,null,null,null,null,{"$f":"IF('７号入力'!AJ85=\"\",\"\",'７号入力'!AJ85)","v":""},null,null,null,null,null,null,{"$f":"IF('７号入力'!AM85=\"\",\"\",'７号入力'!AM85)","v":""},null,null,null,null,null,null,{"$f":"IF('７号入力'!E121=\"\",\"\",'７号入力'!E121)","v":""},null,null,null,null,{"$f":"IF('７号入力'!H121=\"\",\"\",'７号入力'!H121)","v":""},null,null,null,null,null,null,null,null,null,null,null,null,{"$f":"IF('７号入力'!Q121=0,\"\",'７号入力'!Q121)","v":""}]
[null,null,null,null,null,{"$f":"IF('７号入力'!D86=\"\",\"\",'７号入力'!D86)","v":""},null,null,"","","",null,null,{"$f":"IF('７号入力'!R86=\"\",\"\",'７号入力'!R86)","v":""},null,null,null,null,null,null,{"$f":"IF('７号入力'!U86=\"\",\"\",'７号入力'!U86)","v":""},null,null,null,null,null,null,{"$f":"IF('７号入力'!X86=\"\",\"\",'７号入力'!X86)","v":""},null,null,null,null,null,null,{"$f":"IF('７号入力'!AA86=\"\",\"\",'７号入力'!AA86)","v":""},null,null,null,null,null,null,{"$f":"IF('７号入力'!AD86=\"\",\"\",'７号入力'!AD86)","v":""},null,null,null,null,null,null,{"$f":"IF('７号入力'!AG86=\"\",\"\",'７号入力'!AG86)","v":""},null,null,null,null,null,null,{"$f":"IF('７号入力'!AJ86=\"\",\"\",'７号入力'!AJ86)","v":""},null,null,null,null,null,null,{"$f":"IF('７号入力'!AM86=\"\",\"\",'７号入力'!AM86)","v":""},null,null,null,null,null,null,{"$f":"IF('７号入力'!E122=\"\",\"\",'７号入力'!E122)","v":""},null,null,null,null,{"$f":"IF('７号入力'!H122=\"\",\"\",'７号入力'!H122)","v":""},null,null,null,null,null,null,null,null,null,null,null,null,{"$f":"IF('７号入力'!Q122=0,\"\",'７号入力'!Q122)","v":""}]
[null,null,null,null,null,"植物成長調整剤",null,null,null,null,null,null,null,{"$f":"IF('７号入力'!F91=\"\",\"/\",'７号入力'!F91)","v":"/"},null,null,null,null,{"$f":"IF('７号入力'!I91=0,0,'７号入力'!I91)","v":0},null,null,null,null,null,null,null,{"$f":"IF('７号入力'!N91=0,0,'７号入力'!N91)","v":0},null,null,null,null,null,null,null,{"$f":"IF('７号入力'!C94=\"\",\"\",'７号入力'!C94)","v":"トップジンＭ水和剤"},null,null,null,null,null,null,null,null,null,null,null,null,null,null,null,{"$f":"IF('７号入力'!F97=\"\",\"/\",'７号入力'!F97)","v":"/"},null,null,null,null,{"$f":"IF('７号入力'!I97=0,0,'７号入力'!I97)","v":0},null,null,null,null,null,null,null,{"$f":"IF('７号入力'!N97=0,0,'７号入力'!N97)","v":0},null,null,null,null,null,null,null,{"$f":"IF('７号入力'!F99=\"\",\"/\",'７号入力'!F99)","v":"/"},null,null,null,null,{"$f":"IF('７号入力'!I99=0,0,'７号入力'!I99)","v":0},null,null,null,null,null,null,null,{"$f":"IF('７号入力'!N99=0,0,'７号入力'!N99)","v":0}]
[null,null,null,null,null,{"$f":"IF('７号入力'!L88=\"\",\"\",'７号入力'!L88)","v":"アークランド液剤"},null,null,null,null,null,null,null,{"$f":"IF('７号入力'!F92=\"\",\"/\",'７号入力'!F92)","v":"/"},null,null,null,null,{"$f":"IF('７号入力'!I92=0,0,'７号入力'!I92)","v":0},null,null,null,null,null,null,null,{"$f":"IF('７号入力'!N92=0,0,'７号入力'!N92)","v":0},null,null,null,null,null,null,null,null,null,null,null,null,null,null,null,null,null,null,null,null,null,null,null,{"$f":"IF('７号入力'!F98=\"\",\"/\",'７号入力'!F98)","v":"/"},null,null,null,null,{"$f":"IF('７号入力'!I98=0,0,'７号入力'!I98)","v":0},null,null,null,null,null,null,null,{"$f":"IF('７号入力'!N98=0,0,'７号入力'!N98)","v":0},null,null,null,null,null,null,null,{"$f":"IF('７号入力'!F100=\"\",\"/\",'７号入力'!F100)","v":"/"},null,null,null,null,{"$f":"IF('７号入力'!I100=0,0,'７号入力'!I100)","v":0},null,null,null,null,null,null,null,{"$f":"IF('７号入力'!N100=0,0,'７号入力'!N100)","v":0}]

{"sheet":"８号入力","index":16,"n_rows":128,"n_cols":53,"rows_kept":128,"cut":false,"hidden":false,"merged":[[121,16,121,18],[120,2,120,3],[120,4,120,6],[120,7,120,15],[120,16,120,18],[121,2,121,3],[121,4,121,6],[121,7,121,15],[119,16,119,18],[118,2,118,3],[118,4,118,6],[118,7,118,15],[118,16,118,18],[119,2,119,3],[119,4,119,6],[119,7,119,15],[117,7,117,15],[117,16,117,18],[116,2,116,3],[116,4,116,6],[116,7,116,15],[116,16,116,18],[117,2,117,3],[117,4,117,6],[115,2,115,3],[115,4,115,6],[115,7,115,15],[115,16,115,18],[114,2,114,3],[114,4,114,6],[114,7,114,15],[114,16,114,18],[113,2,113,3],[113,4,113,6],[113,7,113,15],[113,16,113,18],[112,2,112,3],[112,4,112,6],[112,7,112,15],[112,16,112,18],[111,2,111,3],[111,4,111,6],[111,7,111,15],[111,16,111,18],[110,2,110,3],[110,4,110,6],[110,7,110,15],[110,16,110,18],[109,2,109,3],[109,4,109,6],[109,7,109,15],[109,16,109,18],[108,2,108,3],[108,4,108,6],[108,7,108,15],[108,16,108,18],[107,2,107,3],[107,4,107,6],[107,7,107,15],[107,16,107,18],[106,2,106,3],[106,4,106,6],[106,7,106,15],[106,16,106,18],[105,2,105,3],[105,4,105,6],[105,7,105,15],[105,16,105,18],[104,2,104,3],[104,4,104,6],[104,7,104,15],[104,16,104,18],[103,2,103,3],[103,4,103,6],[103,7,103,15],[103,16,103,18],[99,2,99,4],[99,5,99,7],[99,8,99,12],[99,13,99,17],[98,2,98,4],[98,5,98,7],[98,8,98,12],[98,13,98,17],[97,2,97,4],[97,5,97,7],[97,8,97,12],[97,13,97,17],[96,2,96,4],[96,5,96,7],[96,8,96,12],[96,13,96,17],[95,2,95,4],[95,5,95,7],[95,8,95,12],[95,13,95,17],[91,2,91,4],[91,5,91,7],[91,8,91,12],[91,13,91,17],[93,2,93,8],[90,2,90,4],[90,5,90,7],[90,8,90,12],[90,13,90,17],[89,2,89,4],[89,5,89,7],[89,8,89,12],[89,13,89,17],[85,35,85,37],[69,2,85,2],[85,3,85,10],[85,14,85,16],[69,35,69,37],[85,38,85,40],[85,17,85,19],[85,20,85,22],[84,35,84,37],[84,38,84,40],[85,23,85,25],[85,26,85,28],[85,29,85,31],[85,32,85,34],[83,38,83,40],[84,3,84,10],[84,14,84,16],[84,17,84,19],[84,20,84,22],[84,23,84,25],[84,26,84,28],[84,29,84,31],[84,32,84,34],[83,3,83,10],[83,14,83,16],[83,17,83,19],[83,20,83,22],[83,23,83,25],[83,26,83,28],[83,29,83,31],[83,32,83,34],[83,35,83,37],[81,38,81,40],[82,3,82,10],[82,14,82,16],[82,17,82,19],[82,20,82,22],[82,23,82,25],[82,26,82,28],[82,29,82,31],[82,32,82,34],[82,35,82,37],[82,38,82,40],[81,3,81,10],[81,14,81,16],[81,17,81,19],[81,20,81,22],[81,23,81,25],[81,26,81,28],[81,29,81,31],[81,32,81,34],[81,35,81,37],[79,38,79,40],[80,3,80,10],[80,14,80,16],[80,17,80,19],[80,20,80,22],[80,23,80,25],[80,26,80,28],[80,29,80,31],[80,32,80,34],[80,35,80,37],[80,38,80,40],[79,3,79,10],[79,14,79,16],[79,17,79,19],[79,20,79,22],[79,23,79,25],[79,26,79,28],[79,29,79,31],[79,32,79,34],[79,35,79,37],[77,38,77,40],[78,3,78,10],[78,14,78,16],[78,17,78,19],[78,20,78,22],[78,23,78,25],[78,26,78,28],[78,29,78,31],[78,32,78,34],[78,35,78,37],[78,38,78,40],[77,3,77,10],[77,14,77,16],[77,17,77,19],[77,20,77,22],[77,23,77,25],[77,26,77,28],[77,29,77,31],[77,32,77,34],[77,35,77,37],[75,38,75,40],[76,3,76,10],[76,14,76,16],[76,17,76,19],[76,20,76,22],[76,23,76,25],[76,26,76,28],[76,29,76,31],[76,32,76,34],[76,35,76,37],[76,38,76,40],[75,3,75,10],[75,14,75,16],[75,17,75,19],[75,20,75,22],[75,23,75,25],[75,26,75,28],[75,29,75,31],[75,32,75,34],[75,35,75,37],[73,38,73,40],[74,3,74,10],[74,14,74,16],[74,17,74,19],[74,20,74,22],[74,23,74,25],[74,26,74,28],[74,29,74,31],[74,32,74,34],[74,35,74,37],[74,38,74,40],[73,3,73,10],[73,14,73,16],[73,17,73,19],[73,20,73,22],[73,23,73,25],[73,26,73,28],[73,29,73,31],[73,32,73,34],[73,35,73,37],[71,38,71,40],[72,3,72,10],[72,14,72,16],[72,17,72,19],[72,20,72,22],[72,23,72,25],[72,26,72,28],[72,29,72,31],[72,32,72,34],[72,35,72,37],[72,38,72,40],[71,3,71,10],[71,14,71,16],[71,17,71,19],[71,20,71,22],[71,23,71,25],[71,26,71,28],[71,29,71,31],[71,32,71,34],[71,35,71,37],[69,38,69,40],[70,3,70,10],[70,14,70,16],[70,17,70,19],[70,20,70,22],[70,23,70,25],[70,26,70,28],[70,29,70,31],[70,32,70,34],[69,23,69,25],[69,26,69,28],[69,29,69,31],[69,32,69,34],[69,3,69,16],[69,17,69,19],[69,20,69,22],[70,35,70,37],[70,38,70,40],[67,38,67,40],[68,2,68,16],[68,17,68,19],[68,20,68,22],[68,23,68,25],[68,26,68,28],[68,29,68,31],[68,32,68,34],[68,35,68,37],[68,38,68,40],[67,26,67,28],[67,29,67,31],[67,32,67,34],[67,35,67,37],[67,2,67,16],[67,17,67,19],[67,20,67,22],[67,23,67,25],[66,38,66,40],[66,17,66,19],[66,20,66,22],[66,23,66,25],[66,26,66,28],[57,2,57,13],[66,29,66,31],[66,32,66,34],[66,35,66,37],[58,2,58,6],[58,7,58,13],[61,2,61,6],[61,7,61,13],[59,2,59,6],[59,7,59,13],[60,2,60,6],[60,7,60,13],[52,32,52,37],[51,25,51,29],[54,2,54,4],[54,5,54,7],[54,8,54,14],[54,15,54,18],[54,19,54,23],[53,15,53,18],[53,25,53,29],[51,15,51,18],[51,30,51,31],[51,5,51,7],[51,8,51,14],[46,33,46,39],[44,33,44,39],[45,26,45,29],[45,33,45,39],[46,2,46,4],[46,5,46,7],[46,8,46,25],[46,26,46,29],[53,32,53,37],[53,30,53,31],[51,32,51,37],[52,19,52,23],[52,25,52,29],[51,2,51,4],[53,2,53,4],[53,5,53,7],[53,8,53,14],[51,19,51,23],[53,19,53,23],[52,2,52,4],[52,5,52,7],[52,8,52,14],[52,15,52,18],[52,30,52,31],[42,5,42,7],[42,8,42,25],[42,26,42,29],[45,2,45,4],[45,5,45,7],[45,8,45,25],[44,2,44,4],[40,5,40,7],[40,8,40,25],[40,26,40,29],[44,5,44,7],[44,8,44,25],[44,26,44,29],[38,33,38,39],[39,2,39,4],[39,5,39,7],[39,8,39,25],[39,26,39,29],[39,33,39,39],[38,2,38,4],[42,33,42,39],[43,2,43,4],[43,5,43,7],[43,8,43,25],[43,26,43,29],[43,33,43,39],[42,2,42,4],[38,5,38,7],[38,8,38,25],[38,26,38,29],[40,33,40,39],[41,2,41,4],[41,5,41,7],[41,8,41,25],[41,26,41,29],[41,33,41,39],[40,2,40,4],[36,33,36,39],[37,2,37,4],[37,5,37,7],[37,8,37,25],[37,26,37,29],[37,33,37,39],[36,2,36,4],[36,5,36,7],[36,8,36,25],[36,26,36,29],[34,33,34,39],[35,2,35,4],[35,5,35,7],[35,8,35,25],[35,26,35,29],[35,33,35,39],[34,2,34,4],[34,5,34,7],[34,8,34,25],[34,26,34,29],[32,33,32,39],[33,2,33,4],[33,5,33,7],[33,8,33,25],[33,26,33,29],[33,33,33,39],[32,2,32,4],[32,5,32,7],[32,8,32,25],[32,26,32,29],[30,33,30,39],[31,2,31,4],[31,5,31,7],[31,8,31,25],[31,26,31,29],[31,33,31,39],[30,2,30,4],[30,5,30,7],[30,8,30,25],[30,26,30,29],[28,33,28,39],[29,2,29,4],[29,5,29,7],[29,8,29,25],[29,26,29,29],[29,33,29,39],[28,2,28,4],[28,5,28,7],[28,8,28,25],[28,26,28,29],[26,33,26,39],[27,2,27,4],[27,5,27,7],[27,8,27,25],[27,26,27,29],[27,33,27,39],[26,2,26,4],[26,5,26,7],[26,8,26,25],[26,26,26,29],[24,33,24,39],[25,2,25,4],[25,5,25,7],[25,8,25,25],[25,26,25,29],[25,33,25,39],[24,2,24,4],[24,5,24,7],[24,8,24,25],[24,26,24,29],[22,33,22,39],[23,2,23,4],[23,5,23,7],[23,8,23,25],[23,26,23,29],[23,33,23,39],[22,2,22,4],[22,5,22,7],[22,8,22,25],[22,26,22,29],[19,5,19,7],[18,5,18,7],[20,33,20,39],[21,2,21,4],[21,5,21,7],[21,8,21,25],[21,26,21,29],[21,33,21,39],[20,2,20,4],[20,5,20,7],[20,8,20,25],[20,26,20,29],[9,5,9,11],[11,2,11,4],[11,5,11,11],[10,5,10,11],[10,2,10,4],[9,2,9,4],[12,2,12,4],[12,5,12,11],[15,5,15,11],[15,2,15,4],[1,9,1,10],[1,11,1,14],[3,9,3,11],[3,12,3,18],[8,2,8,4],[8,5,8,11],[8,14,8,16],[8,17,8,23],[123,27,123,32],[57,17,57,19],[60,17,60,19],[57,20,57,26],[58,20,58,26],[59,20,59,26],[60,20,60,26],[59,17,59,19],[58,17,58,19],[87,11,87,17],[12,14,12,31],[13,2,13,4],[13,5,13,11],[13,14,13,31],[14,2,14,4],[14,5,14,11]]}
[]
[null,"８号室の入力画面",null,null,null,null,null,null,null,"No.",null,{"$f":"メニュー画面!F18","v":"４　３　６"}]
[]
[null,null,null,null,null,null,null,null,null,"氏名",null,null,{"$f":"メニュー画面!F20","v":"中　條　文　義"},null,null,null,null,null,null,null,null,null,null,null,null,null,null,null,null,null,null,null,null,{"$f":"VLOOKUP(B2,隠しページ!P7:Q22,2,FALSE)","v":"８号入力"},null,null,"→印刷画面へ"]
[]
[]
[null,"１．坪数～収穫日までの入力",null,null,null,null,null,null,null,null,null,null,null,null,"※白い枠のみに入力して下さい。ここで入力された値が、履歴シートに書き込まれます。"]
[]
[null,null,"部屋番号",null,null,8,null,null,null,null,null,null,null,null,"品種名",null,null,{"$f":"IF(F16=\"\",\"\",IF(AND(10<=MONTH(F16+1),MONTH(F16+1)<=11),\"秋　　系\",IF(AND(3<=MONTH(F16+1),MONTH(F16+1)<=5),\"春　　系\",IF(AND(6<=MONTH(F16+1),MONTH(F16+1)<=9),\"夏　　系\",\"冬　　系\"))))","v":""}]
[null,null,"坪数"]
[null,null,"品種名",null,null,"夏　　系",null,null,null,null,null,null,null,null,{"$f":"IF(OR($R$9=$F$11,$R$9=\"\"),\"\",\"←県で指定された品種名と違いますが無視できます。\")","v":""}]
[null,null,"播種日"]
[null,null,"定植日",null,null,null,null,null,null,null,null,null,null,null,{"$f":"IF(OR(F13=\"\",F12=\"\"),\"\",IF(F13<F12,\"入力ミスです！播種日のほうが後の日付になりました。\",\"\"))","v":""},null,null,null,null,null,null,null,null,null,null,null,null,null,null,null,null,null,{"$f":"CONCATENATE(\"苗日数＝\",F13-F12,\"日\")","v":"苗日数＝0日"}]
[null,null,"交配日",null,null,null,null,null,null,null,null,null,null,null,{"$f":"IF(OR(F14=\"\",F13=\"\"),\"\",IF(F14<F13,\"入力ミスです！定植日の方が後になりました。\",\"\"))","v":""},null,null,null,null,null,null,null,null,null,null,null,null,null,null,null,null,null,{"$f":"CONCATENATE(\"交配日数＝\",F14-F13,\"日\")","v":"交配日数＝0日"}]
[null,null,"採果日数"]
[null,null,"収穫日",null,null,{"$f":"IF(OR(F14=\"\",F15=\"\"),\"\",F14+F15-1)","v":""},null,null,null,null,null,null,null,null,null,null,null,null,null,null,null,null,null,null,null,null,null,null,null,null,null,null,{"$f":"CONCATENATE(\"播種日～収穫日＝\",IF(F16=\"\",0,F16-F12),\"日\")","v":"播種日～収穫日＝0日"}]
[]
[null,"２．施用資材名の入力"]
[null,null,null,null,null,null,null,null,"［〃］このマークはリストから入力できます。日付はそのまま打ち込んでください。"]
[]
[null,null,null,null,null,"日付",null,null,"施用資材名",null,null,null,null,null,null,null,null,null,null,null,null,null,null,null,null,null,"投入量",null,null,null,null,null,null,"履歴シート表示確認欄"]
[null,null,null,null,null,{"$f":"IF(OR(C22=\"\",AH22=\"\"),\"\",IF(C22=\"育苗\",#REF!,IF(C22=\"定植\",#REF!,IF(C22=\"追肥（１）\",#REF!,IF(C22=\"追肥（２）\",#REF!,IF(C22=\"追肥（３）\",#REF!,\"入力ミス\"))))))","v":""},null,null,"育苗",null,null,null,null,null,null,null,null,null,null,null,null,null,null,null,null,null,null,null,null,null,null,null,null,{"$f":"IF(I22=\"\",\"\",VLOOKUP(I22,Ｍ肥料台帳,4,FALSE))","v":"育苗"}]
[null,null,null,null,null,"2006-01-01",null,null,null,null,null,null,null,null,null,null,null,null,null,null,null,null,null,null,null,null,null,null,null,null,null,null,null,""]
[null,null,null,null,null,"〃",null,null,null,null,null,null,null,null,null,null,null,null,null,null,null,null,null,null,null,null,null,null,null,null,null,null,null,""]
[null,null,null,null,null,"〃",null,null,null,null,null,null,null,null,null,null,null,null,null,null,null,null,null,null,null,null,null,null,null,null,null,null,null,""]
[null,null,null,null,null,"〃",null,null,null,null,null,null,null,null,null,null,null,null,null,null,null,null,null,null,null,null,null,null,null,null,null,null,null,""]
[null,null,null,null,null,"〃",null,null,null,null,null,null,null,null,null,null,null,null,null,null,null,null,null,null,null,null,null,null,null,null,null,null,null,""]
[null,null,null,null,null,"〃",null,null,null,null,null,null,null,null,null,null,null,null,null,null,null,null,null,null,null,null,null,null,null,null,null,null,null,""]
[null,null,null,null,null,"〃",null,null,"木作り",null,null,null,null,null,null,null,null,null,null,null,null,null,null,null,null,null,null,null,null,null,null,null,null,"木作り"]
[null,null,null,null,null,"〃",null,null,null,null,null,null,null,null,null,null,null,null,null,null,null,null,null,null,null,null,null,null,null,null,null,null,null,""]
[null,null,null,null,null,"〃",null,null,null,null,null,null,null,null,null,null,null,null,null,null,null,null,null,null,null,null,null,null,null,null,null,null,null,""]
[null,null,null,null,null,"〃",null,null,null,null,null,null,null,null,null,null,null,null,null,null,null,null,null,null,null,null,null,null,null,null,null,null,null,""]
[null,null,null,null,null,"〃",null,null,null,null,null,null,null,null,null,null,null,null,null,null,null,null,null,null,null,null,null,null,null,null,null,null,null,""]
[null,null,null,null,null,"〃",null,null,null,null,null,null,null,null,null,null,null,null,null,null,null,null,null,null,null,null,null,null,null,null,null,null,null,""]
[null,null,null,null,null,"〃",null,null,null,null,null,null,null,null,null,null,null,null,null,null,null,null,null,null,null,null,null,null,null,null,null,null,null,""]
[null,null,null,null,null,null,null,null,null,null,null,null,null,null,null,null,null,null,null,null,null,null,null,null,null,null,null,null,null,null,null,null,null,""]
[null,null,null,null,null,null,null,null,null,null,null,null,null,null,null,null,null,null,null,null,null,null,null,null,null,null,null,null,null,null,null,null,null,""]
[null,null,null,null,null,null,null,null,"交配",null,null,null,null,null,null,null,null,null,null,null,null,null,null,null,null,null,null,null,null,null,null,null,null,"交配"]
[null,null,null,null,null,null,null,null,null,null,null,null,null,null,null,null,null,null,null,null,null,null,null,null,null,null,null,null,null,null,null,null,null,""]
[null,null,null,null,null,null,null,null,null,null,null,null,null,null,null,null,null,null,null,null,null,null,null,null,null,null,null,null,null,null,null,null,null,""]
[null,null,null,null,null,null,null,null,null,null,null,null,null,null,null,null,null,null,null,null,null,null,null,null,null,null,null,null,null,null,null,null,null,""]
[null,null,null,null,null,null,null,null,null,null,null,null,null,null,null,null,null,null,null,null,null,null,null,null,null,null,null,null,null,null,null,null,null,""]
[null,null,null,null,null,null,null,null,null,null,null,null,null,null,null,null,null,null,null,null,null,null,null,null,null,null,null,null,null,null,null,null,null,""]
[null,null,null,null,null,null,null,null,null,null,null,null,null,null,null,null,null,null,null,null,null,null,null,null,null,null,null,null,null,null,null,null,null,""]
[null,null,null,null,null,null,null,null,null,null,null,null,null,null,null,null,null,null,null,null,null,null,null,null,null,null,null,null,null,null,null,null,null,""]
[null,null,null,null,null,null,null,null,null,null,null,null,null,null,null,null,null,null,null,null,null,null,null,null,null,null,null,null,null,null,null,null,null,""]
[null,null,null,null,null,null,null,null,"ネット",null,null,null,null,null,null,null,null,null,null,null,null,null,null,null,null,null,null,null,null,null,null,null,null,"ネット"]
[]
[]
[null,"３．施用粒剤の入力"]
[null,null,null,null,null,null,null,null,null,null,null,null,null,null,null,null,null,null,null,null,null,null,null,null,null,null,null,null,null,null,null,null,null,null,null,null,null,null,null,null,null,null,null,null,null,null,null,null,null,null,null,null,"施用粒剤の日付入力"]
[null,null,null,null,null,"日付",null,null,"施用粒剤名",null,null,null,null,null,null,"施用量（g）",null,null,null,"施用鉢数（鉢）",null,null,null,null,null,"登録施用量",null,null,null,null,"回数",null,"時期"]
[null,null,"１回目",null,null,null,null,null,null,null,null,null,null,null,null,null,null,null,null,null,null,null,null,null,null,{"$f":"IF(I53=\"\",\"\",VLOOKUP(I53,施用粒剤台帳,2,FALSE))","v":""},null,null,null,null,{"$f":"IF(I53=\"\",\"\",VLOOKUP(I53,施用粒剤台帳,3,FALSE))","v":""},null,{"$f":"IF(I53=\"\",\"\",VLOOKUP(I53,施用粒剤台帳,4,FALSE))","v":""}]
[null,null,"２回目",null,null,null,null,null,null,null,null,null,null,null,null,null,null,null,null,null,null,null,null,null,null,{"$f":"IF(I54=\"\",\"\",VLOOKUP(I54,施用粒剤台帳,2,FALSE))","v":""},null,null,null,null,{"$f":"IF(I54=\"\",\"\",VLOOKUP(I54,施用粒剤台帳,3,FALSE))","v":""},null,{"$f":"IF(I54=\"\",\"\",VLOOKUP(I54,施用粒剤台帳,4,FALSE))","v":""}]
[]
[null,"４．硫黄くん蒸剤の入力",null,null,null,null,null,null,null,null,"※使用が２年にまたがるときは、前年の日付の前に年号を付けないとミスになります。"]
[]
[null,null,"履歴シートへの表示確認欄",null,null,null,null,null,null,null,null,null,null,null,null,null,null,"播種日",null,null,{"$f":"IF(F12=\"\",\"\",F12)","v":""}]
[null,null,"開始日",null,null,null,null,null,null,null,null,null,null,null,null,null,null,"定植日",null,null,{"$f":"IF(F13=\"\",\"\",F13)","v":""}]
[null,null,"終了日",null,null,null,null,null,null,null,null,null,null,null,{"$f":"IF(H60=\"\",\"\",IF(H60<H59,\" ミス\",\"\"))","v":""},null,null,"交配日",null,null,{"$f":"IF(F14=\"\",\"\",F14)","v":""}]
[null,null,"１日の使用量",null,null,null,null,2,null,null,null,null,null,null,null,null,null,"収穫日",null,null,{"$f":"IF(F16=\"\",\"\",F16)","v":""}]
[null,null,"総使用量",null,null,null,null,{"$f":"IF(OR(H59=\"\",OR(H60=\"\",H61=\"\")),\"\",(H60-H59)*H61)","v":""},null,null,null,null,null,null,null,null,null,null,null,null,"↑１.で入力した日付です。"]
[]
[null,"５．農薬散布の入力"]
[null,null,null,null,null,null,null,null,null,null,null,null,null,null,null,null,null,null,null,null,null,null,null,null,null,null,null,null,null,null,null,null,null,null,null,null,null,null,null,null,null,null,null,null,null,null,null,null,null,null,null,null,"農薬散布の日付入力"]
[]
[null,null,null,null,null,null,null,null,null,null,null,null,null,null,null,null,null,"Ｂ１",null,null,"Ｂ２",null,null,"Ｂ３",null,null,"Ｂ４",null,null,"Ｂ５",null,null,"Ｂ６",null,null,"Ｂ７",null,null,"Ｂ８"]
[null,null,"使用年月日"]
[null,null,"生育ステージ",null,null,null,null,null,null,null,null,null,null,null,null,null,null,"育苗",null,null,"木作り",null,null,"木作り",null,null,"肥大期",null,null,"肥大期",null,null,"仕上げ",null,null,"仕上げ",null,null,"仕上げ"]
[null,null,"使用農薬名","散布量"]
[null,null,null,null,null,null,null,null,null,null,null,{"$f":"IF(D71=\"\",\"\",VLOOKUP(D71,Ｍ農薬台帳,3,FALSE))","v":""},{"$f":"IF(D71=\"\",\"\",\"-\")","v":""},{"$f":"IF(D71=\"\",\"\",VLOOKUP(D71,Ｍ農薬台帳,2,FALSE))","v":""},{"$f":"IF(D71=\"\",\"\",VLOOKUP(D71,Ｍ農薬台帳,4,FALSE))","v":""}]
[null,null,null,null,null,null,null,null,null,null,null,"","","",""]
[null,null,null,null,null,null,null,null,null,null,null,"","","",""]
[null,null,null,null,null,null,null,null,null,null,null,"","","",""]
[null,null,null,null,null,null,null,null,null,null,null,"","","",""]
[null,null,null,null,null,null,null,null,null,null,null,"","","",""]
[null,null,null,null,null,null,null,null,null,null,null,"","","",""]
[null,null,null,null,null,null,null,null,null,null,null,"","","",""]
[null,null,null,null,null,null,null,null,null,null,null,"","","",""]
[null,null,null,null,null,null,null,null,null,null,null,"","","",""]
[null,null,null,null,null,null,null,null,null,null,null,"","","",""]
[null,null,null,null,null,null,null,null,null,null,null,"","","",""]
[null,null,null,null,null,null,null,null,null,null,null,"","","",""]
[null,null,null,null,null,null,null,null,null,null,null,"","","",""]
[null,null,null,null,null,null,null,null,null,null,null,"","","",""]
[null,null,null,null,null,null,null,null,null,null,null,"","","",""]
[]
[null,"６．植物成長調整剤の入力",null,null,null,null,null,null,null,null,null,"アークランド液剤",null,null,null,null,null,null,"　を使用した。"]
[]
[null,null,null,null,null,"日付",null,null,"希釈倍数",null,null,null,null,"散布量"]
[null,null,"1回目"]
[null,null,"2回目"]
[]
[null,"７．トップジンＭ水和剤の入力","トップジンＭ水和剤",null,null,null,null,null,null,"　の入力"]
[]
[null,null,null,null,null,"日付",null,null,"希釈倍数",null,null,null,null,"散布量"]
[null,null,"1回目"]
[null,null,"2回目"]
[null,null,"3回目"]
[null,null,"4回目"]
[]
[null,"８．施用液肥の入力"]
[]
[null,null,null,null,"日付",null,null,"液肥・葉面散布剤名",null,null,null,null,null,null,null,null,"使用量"]
[null,null,1]
[null,null,2]
[null,null,3]
[null,null,4]
[null,null,5]
[null,null,6]
[null,null,7]
[null,null,8]
[null,null,9]
[null,null,10]
[null,null,11]
[null,null,12]
[null,null,13]
[null,null,14]
[null,null,15]
[null,null,16]
[null,null,17]
[null,null,18]
[]
[null,"９.小メロンの出荷がある場合は、この枠に記載してください。リストから選べます。→"]
[]
[null,"10．印刷プレビューボタンを押し　印刷状態の確認をして　良ければそのまま印刷してください。"]
[]
[null,"11．以上で終りです。お疲れ様でした。"]

{"sheet":"８号Ｐ","index":17,"n_rows":36,"n_cols":88,"rows_kept":36,"cut":false,"hidden":false,"merged":[[4,38,4,47],[5,58,5,67],[0,64,0,89],[4,48,4,52],[4,53,4,57],[4,58,4,67],[4,68,4,72],[4,73,4,91],[2,4,2,5],[2,6,2,31],[4,13,4,27],[4,33,4,37],[5,68,5,72],[5,73,5,77],[5,78,5,91],[6,7,6,8],[6,13,6,17],[6,18,6,27],[6,28,6,32],[6,33,6,37],[6,38,6,47],[6,48,6,52],[6,53,6,57],[6,58,6,67],[6,68,6,72],[6,73,6,80],[6,81,6,91],[5,13,5,17],[5,18,5,27],[5,28,5,32],[5,33,5,37],[5,38,5,47],[5,48,5,52],[5,53,5,57],[7,6,7,7],[7,13,7,17],[7,18,7,27],[7,28,7,32],[7,33,7,37],[7,38,7,47],[7,48,7,52],[7,53,7,57],[8,58,8,67],[7,58,7,67],[8,6,8,12],[8,13,8,17],[8,18,8,27],[8,28,8,32],[9,58,9,67],[7,68,7,72],[7,73,7,77],[8,68,8,72],[8,73,8,80],[7,78,7,91],[8,81,8,91],[8,33,8,37],[8,38,8,47],[8,48,8,52],[8,53,8,57],[9,68,9,72],[9,73,9,91],[13,13,13,17],[13,18,13,27],[13,28,13,32],[9,18,9,27],[9,28,9,32],[9,33,9,37],[9,38,9,47],[9,48,9,52],[9,53,9,57],[10,48,10,52],[10,53,10,57],[11,53,12,57],[13,53,13,57],[11,48,12,52],[13,33,13,37],[13,38,13,47],[13,48,13,52],[10,83,11,91],[11,58,12,67],[11,68,12,72],[12,73,13,81],[12,82,13,91],[13,68,13,72],[10,58,10,67],[10,68,10,72],[10,73,11,82],[13,58,13,67],[9,6,9,12],[9,13,9,17],[11,4,12,5],[11,6,12,12],[11,13,12,17],[11,18,12,27],[11,28,12,32],[11,33,12,37],[11,38,12,47],[10,6,10,12],[10,13,10,17],[10,18,10,27],[10,28,10,32],[10,33,10,37],[10,38,10,47],[15,69,15,91],[16,4,16,12],[16,13,16,19],[16,20,16,26],[16,27,16,33],[16,34,16,40],[16,41,16,47],[16,48,16,54],[16,55,16,61],[16,62,16,68],[16,69,16,73],[16,74,16,86],[16,87,16,91],[15,4,15,12],[15,13,15,19],[15,20,15,26],[15,27,15,33],[15,34,15,40],[15,41,15,47],[15,48,15,54],[15,55,15,61],[15,62,15,68],[17,4,35,4],[17,5,17,12],[17,13,17,19],[17,20,17,26],[19,5,19,7],[19,10,19,12],[19,13,19,19],[19,20,19,26],[21,5,21,7],[21,10,21,12],[23,5,23,7],[23,10,23,12],[23,13,23,19],[23,20,23,26],[24,5,24,7],[24,10,24,12],[24,13,24,19],[24,20,24,26],[25,5,25,7],[25,10,25,12],[25,13,25,19],[25,20,25,26],[26,5,26,7],[26,10,26,12],[17,62,17,68],[17,69,17,73],[17,74,17,86],[17,87,17,91],[18,5,18,7],[18,10,18,12],[18,13,18,19],[18,20,18,26],[18,27,18,33],[18,34,18,40],[18,41,18,47],[18,48,18,54],[18,55,18,61],[18,62,18,68],[18,69,18,73],[18,74,18,86],[18,87,18,91],[17,27,17,33],[17,34,17,40],[17,41,17,47],[17,48,17,54],[17,55,17,61],[19,62,19,68],[19,69,19,73],[19,74,19,86],[19,87,19,91],[20,5,20,7],[20,10,20,12],[20,13,20,19],[20,20,20,26],[20,27,20,33],[20,34,20,40],[20,41,20,47],[20,48,20,54],[20,55,20,61],[20,62,20,68],[20,69,20,73],[20,74,20,86],[20,87,20,91],[19,27,19,33],[19,34,19,40],[19,41,19,47],[19,48,19,54],[19,55,19,61],[21,62,21,68],[21,69,21,73],[21,74,21,86],[21,87,21,91],[22,5,22,7],[22,10,22,12],[22,13,22,19],[22,20,22,26],[22,27,22,33],[22,34,22,40],[22,41,22,47],[22,48,22,54],[22,55,22,61],[22,62,22,68],[22,69,22,73],[22,74,22,86],[22,87,22,91],[21,13,21,19],[21,20,21,26],[21,27,21,33],[21,34,21,40],[21,41,21,47],[21,48,21,54],[21,55,21,61],[23,27,23,33],[23,34,23,40],[23,41,23,47],[23,48,23,54],[23,55,23,61],[23,62,23,68],[23,69,23,73],[23,74,23,86],[23,87,23,91],[25,74,25,86],[25,87,25,91],[24,27,24,33],[24,34,24,40],[24,41,24,47],[24,48,24,54],[24,55,24,61],[24,62,24,68],[24,69,24,73],[24,74,24,86],[24,87,24,91],[26,48,26,54],[26,55,26,61],[26,62,26,68],[26,69,26,73],[25,27,25,33],[25,34,25,40],[25,41,25,47],[25,48,25,54],[25,55,25,61],[25,62,25,68],[25,69,25,73],[28,34,28,40],[28,41,28,47],[28,48,28,54],[28,55,28,61],[26,74,26,86],[26,87,26,91],[27,5,27,7],[27,10,27,12],[27,13,27,19],[27,20,27,26],[27,27,27,33],[27,34,27,40],[27,41,27,47],[27,48,27,54],[27,55,27,61],[27,62,27,68],[27,69,27,73],[27,74,27,86],[27,87,27,91],[26,13,26,19],[26,20,26,26],[26,27,26,33],[26,34,26,40],[26,41,26,47],[30,48,30,54],[30,55,30,61],[28,62,28,68],[28,69,28,73],[28,74,28,86],[28,87,28,91],[29,5,29,7],[29,10,29,12],[29,13,29,19],[29,20,29,26],[29,27,29,33],[29,34,29,40],[29,41,29,47],[29,48,29,54],[29,55,29,61],[29,62,29,68],[29,69,29,73],[29,74,29,86],[29,87,29,91],[28,5,28,7],[28,10,28,12],[28,13,28,19],[28,20,28,26],[28,27,28,33],[30,62,30,68],[30,69,30,73],[30,74,30,86],[30,87,30,91],[31,5,31,7],[31,10,31,12],[31,13,31,19],[31,20,31,26],[31,27,31,33],[31,34,31,40],[31,41,31,47],[31,48,31,54],[31,55,31,61],[31,62,31,68],[31,69,31,73],[31,74,31,86],[31,87,31,91],[30,5,30,7],[30,10,30,12],[30,13,30,19],[30,20,30,26],[30,27,30,33],[30,34,30,40],[30,41,30,47],[32,5,32,7],[32,10,32,12],[32,13,32,19],[32,20,32,26],[32,27,32,33],[32,34,32,40],[32,41,32,47],[32,48,32,54],[32,55,32,61],[35,71,35,75],[33,74,33,86],[35,76,35,83],[33,5,33,7],[33,10,33,12],[33,13,33,19],[33,20,33,26],[33,62,33,68],[33,69,33,73],[33,27,33,33],[33,34,33,40],[33,41,33,47],[33,48,33,54],[34,5,34,12],[35,5,35,12],[4,1,5,2],[35,84,35,91],[34,76,34,83],[34,84,34,91],[35,13,35,17],[35,18,35,25],[35,26,35,33],[34,55,34,62],[33,87,33,91],[32,62,32,68],[32,69,32,73],[32,74,32,86],[32,87,32,91],[34,13,34,17],[34,18,34,25],[34,26,34,33],[34,34,35,49],[34,50,34,54],[35,50,35,54],[34,63,34,70],[34,71,34,75],[33,55,33,61],[35,55,35,62],[35,63,35,70]]}
[null,null,null,null,null,null,null,null,null,null,null,null,null,null,null,null,null,null,null,null,null,null,null,null,null,null,null,null,null,null,null,null,null,null,null,null,null,null,null,null,null,null,null,null,null,null,null,null,null,null,null,null,null,null,null,null,null,null,null,null,null,null,null,null,{"$f":"IF('８号入力'!AB124=\"\",\"\",'８号入力'!AB124)","v":""}]
[]
[null,null,null,null,"栽培履歴",null,{"$f":"メニュー画面!F16","v":"静岡県温室農業協同組合（クラウンメロン支所）"},null,null,null,null,null,null,null,null,null,null,null,null,null,null,null,null,null,null,null,null,null,null,null,null,null,"検査日",null,null,null,null,null,"令和　　年　　月　　日",null,null,null,null,null,null,null,null,null,null,null,null,null,null,null,"検査責任者氏名　　　　　　　　　　 　　　　　　　　　　　　　印"]
[]
[null,"８号室",null,null,"組合員番号：",null,{"$f":"メニュー画面!F18","v":"４　３　６"},null,null,null,null,null,null,"施用資材名",null,null,null,null,null,null,null,null,null,null,null,null,null,null,"投入量",null,null,null,null,{"$f":"IF('８号入力'!F30=\"\",\"\",'８号入力'!F30)","v":"〃"},null,null,null,null,{"$f":"IF('８号入力'!AH30=\"\",\"\",'８号入力'!AH30)","v":""},null,null,null,null,null,null,null,null,null,{"$f":"IF('８号入力'!AA30=\"\",\"\",'８号入力'!AA30)","v":""},null,null,null,null,{"$f":"IF('８号入力'!F39=\"\",\"\",'８号入力'!F39)","v":""},null,null,null,null,{"$f":"IF('８号入力'!AH39=\"\",\"\",'８号入力'!AH39)","v":""},null,null,null,null,null,null,null,null,null,{"$f":"IF('８号入力'!AA39=\"\",\"\",'８号入力'!AA39)","v":""},null,null,null,null,"施用粒剤"]
[null,null,null,null,"氏名：",null,{"$f":"メニュー画面!F20","v":"中　條　文　義"},null,null,null,null,null,null,{"$f":"IF('８号入力'!F22=\"\",\"\",'８号入力'!F22)","v":""},null,null,null,null,{"$f":"IF('８号入力'!AH22=\"\",\"\",'８号入力'!AH22)","v":"育苗"},null,null,null,null,null,null,null,null,null,{"$f":"IF('８号入力'!AA22=\"\",\"\",'８号入力'!AA22)","v":""},null,null,null,null,{"$f":"IF('８号入力'!F31=\"\",\"\",'８号入力'!F31)","v":"〃"},null,null,null,null,{"$f":"IF('８号入力'!AH31=\"\",\"\",'８号入力'!AH31)","v":""},null,null,null,null,null,null,null,null,null,{"$f":"IF('８号入力'!AA31=\"\",\"\",'８号入力'!AA31)","v":""},null,null,null,null,{"$f":"IF('８号入力'!F40=\"\",\"\",'８号入力'!F40)","v":""},null,null,null,null,{"$f":"IF('８号入力'!AH40=\"\",\"\",'８号入力'!AH40)","v":""},null,null,null,null,null,null,null,null,null,{"$f":"IF('８号入力'!AA40=\"\",\"\",'８号入力'!AA40)","v":""},null,null,null,null,{"$f":"IF('８号入力'!F53=\"\",\"/\",'８号入力'!F53)","v":"/"},null,null,null,null,{"$f":"IF('８号入力'!I53=\"\",\"\",'８号入力'!I53)","v":""}]
[null,null,null,null,"部屋番号：",null,{"$f":"IF('８号入力'!F9=\"\",\"\",'８号入力'!F9)","v":8},{"$f":"IF('８号入力'!F10=\"\",\"\",'８号入力'!F10)","v":""},null,null,null,null,null,{"$f":"IF('８号入力'!F23=\"\",\"\",'８号入力'!F23)","v":"2006-01-01"},null,null,null,null,{"$f":"IF('８号入力'!AH23=\"\",\"\",'８号入力'!AH23)","v":""},null,null,null,null,null,null,null,null,null,{"$f":"IF('８号入力'!AA23=\"\",\"\",'８号入力'!AA23)","v":""},null,null,null,null,{"$f":"IF('８号入力'!F32=\"\",\"\",'８号入力'!F32)","v":"〃"},null,null,null,null,{"$f":"IF('８号入力'!AH32=\"\",\"\",'８号入力'!AH32)","v":""},null,null,null,null,null,null,null,null,null,{"$f":"IF('８号入力'!AA32=\"\",\"\",'８号入力'!AA32)","v":""},null,null,null,null,{"$f":"IF('８号入力'!F41=\"\",\"\",'８号入力'!F41)","v":""},null,null,null,null,{"$f":"IF('８号入力'!AH41=\"\",\"\",'８号入力'!AH41)","v":""},null,null,null,null,null,null,null,null,null,{"$f":"IF('８号入力'!AA41=\"\",\"\",'８号入力'!AA41)","v":""},null,null,null,null,{"$f":"IF('８号入力'!P53=0,\"g\",'８号入力'!P53)","v":"g"},null,null,null,null,null,null,null,{"$f":"IF('８号入力'!T53=0,0,'８号入力'!T53)","v":0}]
[null,null,null,null,"品種名：",null,{"$f":"IF('８号入力'!F11=\"\",\"\",'８号入力'!F11)","v":"夏　　系"},null,null,null,null,null,null,{"$f":"IF('８号入力'!F24=\"\",\"\",'８号入力'!F24)","v":"〃"},null,null,null,null,{"$f":"IF('８号入力'!AH24=\"\",\"\",'８号入力'!AH24)","v":""},null,null,null,null,null,null,null,null,null,{"$f":"IF('８号入力'!AA24=\"\",\"\",'８号入力'!AA24)","v":""},null,null,null,null,{"$f":"IF('８号入力'!F33=\"\",\"\",'８号入力'!F33)","v":"〃"},null,null,null,null,{"$f":"IF('８号入力'!AH33=\"\",\"\",'８号入力'!AH33)","v":""},null,null,null,null,null,null,null,null,null,{"$f":"IF('８号入力'!AA33=\"\",\"\",'８号入力'!AA33)","v":""},null,null,null,null,{"$f":"IF('８号入力'!F42=\"\",\"\",'８号入力'!F42)","v":""},null,null,null,null,{"$f":"IF('８号入力'!AH42=\"\",\"\",'８号入力'!AH42)","v":""},null,null,null,null,null,null,null,null,null,{"$f":"IF('８号入力'!AA42=\"\",\"\",'８号入力'!AA42)","v":""},null,null,null,null,{"$f":"IF('８号入力'!F54=\"\",\"/\",'８号入力'!F54)","v":"/"},null,null,null,null,{"$f":"IF('８号入力'!I54=\"\",\"\",'８号入力'!I54)","v":""}]
[null,null,null,null,"播種日：",null,{"$f":"IF('８号入力'!F12=\"\",\"\",'８号入力'!F12)","v":""},null,null,null,null,null,null,{"$f":"IF('８号入力'!F25=\"\",\"\",'８号入力'!F25)","v":"〃"},null,null,null,null,{"$f":"IF('８号入力'!AH25=\"\",\"\",'８号入力'!AH25)","v":""},null,null,null,null,null,null,null,null,null,{"$f":"IF('８号入力'!AA25=\"\",\"\",'８号入力'!AA25)","v":""},null,null,null,null,{"$f":"IF('８号入力'!F34=\"\",\"\",'８号入力'!F34)","v":"〃"},null,null,null,null,{"$f":"IF('８号入力'!AH34=\"\",\"\",'８号入力'!AH34)","v":""},null,null,null,null,null,null,null,null,null,{"$f":"IF('８号入力'!AA34=\"\",\"\",'８号入力'!AA34)","v":""},null,null,null,null,{"$f":"IF('８号入力'!F43=\"\",\"\",'８号入力'!F43)","v":""},null,null,null,null,{"$f":"IF('８号入力'!AH43=\"\",\"\",'８号入力'!AH43)","v":""},null,null,null,null,null,null,null,null,null,{"$f":"IF('８号入力'!AA43=\"\",\"\",'８号入力'!AA43)","v":""},null,null,null,null,{"$f":"IF('８号入力'!P54=0,\"g\",'８号入力'!P54)","v":"g"},null,null,null,null,null,null,null,{"$f":"IF('８号入力'!T54=0,0,'８号入力'!T54)","v":0}]
[null,null,null,null,"定植日：",null,{"$f":"IF('８号入力'!F13=\"\",\"\",'８号入力'!F13)","v":""},null,null,null,null,null,null,{"$f":"IF('８号入力'!F26=\"\",\"\",'８号入力'!F26)","v":"〃"},null,null,null,null,{"$f":"IF('８号入力'!AH26=\"\",\"\",'８号入力'!AH26)","v":""},null,null,null,null,null,null,null,null,null,{"$f":"IF('８号入力'!AA26=\"\",\"\",'８号入力'!AA26)","v":""},null,null,null,null,{"$f":"IF('８号入力'!F35=\"\",\"\",'８号入力'!F35)","v":"〃"},null,null,null,null,{"$f":"IF('８号入力'!AH35=\"\",\"\",'８号入力'!AH35)","v":""},null,null,null,null,null,null,null,null,null,{"$f":"IF('８号入力'!AA35=\"\",\"\",'８号入力'!AA35)","v":""},null,null,null,null,{"$f":"IF('８号入力'!F44=\"\",\"\",'８号入力'!F44)","v":""},null,null,null,null,{"$f":"IF('８号入力'!AH44=\"\",\"\",'８号入力'!AH44)","v":""},null,null,null,null,null,null,null,null,null,{"$f":"IF('８号入力'!AA44=\"\",\"\",'８号入力'!AA44)","v":""},null,null,null,null,"硫黄くん蒸剤"]
[null,null,null,null,"交配日：",null,{"$f":"IF('８号入力'!F14=\"\",\"\",'８号入力'!F14)","v":""},null,null,null,null,null,null,{"$f":"IF('８号入力'!F27=\"\",\"\",'８号入力'!F27)","v":"〃"},null,null,null,null,{"$f":"IF('８号入力'!AH27=\"\",\"\",'８号入力'!AH27)","v":""},null,null,null,null,null,null,null,null,null,{"$f":"IF('８号入力'!AA27=\"\",\"\",'８号入力'!AA27)","v":""},null,null,null,null,{"$f":"IF('８号入力'!F36=\"\",\"\",'８号入力'!F36)","v":""},null,null,null,null,{"$f":"IF('８号入力'!AH36=\"\",\"\",'８号入力'!AH36)","v":""},null,null,null,null,null,null,null,null,null,{"$f":"IF('８号入力'!AA36=\"\",\"\",'８号入力'!AA36)","v":""},null,null,null,null,{"$f":"IF('８号入力'!F45=\"\",\"\",'８号入力'!F45)","v":""},null,null,null,null,{"$f":"IF('８号入力'!AH45=\"\",\"\",'８号入力'!AH45)","v":""},null,null,null,null,null,null,null,null,null,{"$f":"IF('８号入力'!AA45=\"\",\"\",'８号入力'!AA45)","v":""},null,null,null,null,{"$f":"IF('８号入力'!H59=\"\",\"/      ～\",'８号入力'!H59)","v":"/      ～"},null,null,null,null,null,null,null,null,null,{"$f":"IF('８号入力'!H60=\"\",\"    /\",'８号入力'!H60)","v":"    /"}]
[null,null,null,null,"収穫日：",null,{"$f":"IF('８号入力'!F16=\"\",\"\",'８号入力'!F16)","v":""},null,null,null,null,null,null,{"$f":"IF('８号入力'!F28=\"\",\"\",'８号入力'!F28)","v":"〃"},null,null,null,null,{"$f":"IF('８号入力'!AH28=\"\",\"\",'８号入力'!AH28)","v":""},null,null,null,null,null,null,null,null,null,{"$f":"IF('８号入力'!AA28=\"\",\"\",'８号入力'!AA28)","v":""},null,null,null,null,{"$f":"IF('８号入力'!F37=\"\",\"\",'８号入力'!F37)","v":""},null,null,null,null,{"$f":"IF('８号入力'!AH37=\"\",\"\",'８号入力'!AH37)","v":""},null,null,null,null,null,null,null,null,null,{"$f":"IF('８号入力'!AA37=\"\",\"\",'８号入力'!AA37)","v":""},null,null,null,null,{"$f":"IF('８号入力'!F46=\"\",\"\",'８号入力'!F46)","v":""},null,null,null,null,{"$f":"IF('８号入力'!AH46=\"\",\"\",'８号入力'!AH46)","v":""},null,null,null,null,null,null,null,null,null,{"$f":"IF('８号入力'!AA46=\"\",\"\",'８号入力'!AA46)","v":""}]
[null,null,null,null,null,null,null,null,null,null,null,null,null,null,null,null,null,null,null,null,null,null,null,null,null,null,null,null,null,null,null,null,null,null,null,null,null,null,null,null,null,null,null,null,null,null,null,null,null,null,null,null,null,null,null,null,null,null,null,null,null,null,null,null,null,null,null,null,null,null,null,null,null,{"$f":"IF('８号入力'!H61=\"\",\"g/日\",'８号入力'!H61)","v":2},null,null,null,null,null,null,null,null,{"$f":"IF('８号入力'!H62=\"\",\"g/部屋\",'８号入力'!H62)","v":"g/部屋"}]
[null,null,null,null,"採果日数：",null,{"$f":"'８号入力'!F15","v":0},null,null,null,null,null,null,{"$f":"IF('８号入力'!F29=\"\",\"\",'８号入力'!F29)","v":"〃"},null,null,null,null,{"$f":"IF('８号入力'!AH29=\"\",\"\",'８号入力'!AH29)","v":"木作り"},null,null,null,null,null,null,null,null,null,{"$f":"IF('８号入力'!AA29=\"\",\"\",'８号入力'!AA29)","v":""},null,null,null,null,{"$f":"IF('８号入力'!F38=\"\",\"\",'８号入力'!F38)","v":""},null,null,null,null,{"$f":"IF('８号入力'!AH38=\"\",\"\",'８号入力'!AH38)","v":"交配"},null,null,null,null,null,null,null,null,null,{"$f":"IF('８号入力'!AA38=\"\",\"\",'８号入力'!AA38)","v":""},null,null,null,null,{"$f":"IF('８号入力'!F47=\"\",\"\",'８号入力'!F47)","v":""},null,null,null,null,{"$f":"IF('８号入力'!AH47=\"\",\"\",'８号入力'!AH47)","v":"ネット"},null,null,null,null,null,null,null,null,null,{"$f":"IF('８号入力'!AA47=\"\",\"\",'８号入力'!AA47)","v":""}]
[]
[null,null,null,null,"使用年月日",null,null,null,null,null,null,null,null,{"$f":"IF('８号入力'!R68=\"\",\"/\",'８号入力'!R68)","v":"/"},null,null,null,null,null,null,{"$f":"IF('８号入力'!U68=\"\",\"/\",'８号入力'!U68)","v":"/"},null,null,null,null,null,null,{"$f":"IF('８号入力'!X68=\"\",\"/\",'８号入力'!X68)","v":"/"},null,null,null,null,null,null,{"$f":"IF('８号入力'!AA68=\"\",\"/\",'８号入力'!AA68)","v":"/"},null,null,null,null,null,null,{"$f":"IF('８号入力'!AD68=\"\",\"/\",'８号入力'!AD68)","v":"/"},null,null,null,null,null,null,{"$f":"IF('８号入力'!AG68=\"\",\"/\",'８号入力'!AG68)","v":"/"},null,null,null,null,null,null,{"$f":"IF('８号入力'!AJ68=\"\",\"/\",'８号入力'!AJ68)","v":"/"},null,null,null,null,null,null,{"$f":"IF('８号入力'!AM68=\"\",\"/\",'８号入力'!AM68)","v":"/"},null,null,null,null,null,null,"使用液肥・葉面散布剤"]
[null,null,null,null,"生育ステージ",null,null,null,null,null,null,null,null,{"$f":"IF('８号入力'!R69=\"\",\"\",'８号入力'!R69)","v":"育苗"},null,null,null,null,null,null,{"$f":"IF('８号入力'!U69=\"\",\"\",'８号入力'!U69)","v":"木作り"},null,null,null,null,null,null,{"$f":"IF('８号入力'!X69=\"\",\"\",'８号入力'!X69)","v":"木作り"},null,null,null,null,null,null,{"$f":"IF('８号入力'!AA69=\"\",\"\",'８号入力'!AA69)","v":"肥大期"},null,null,null,null,null,null,{"$f":"IF('８号入力'!AD69=\"\",\"\",'８号入力'!AD69)","v":"肥大期"},null,null,null,null,null,null,{"$f":"IF('８号入力'!AG69=\"\",\"\",'８号入力'!AG69)","v":"仕上げ"},null,null,null,null,null,null,{"$f":"IF('８号入力'!AJ69=\"\",\"\",'８号入力'!AJ69)","v":"仕上げ"},null,null,null,null,null,null,{"$f":"IF('８号入力'!AM69=\"\",\"\",'８号入力'!AM69)","v":"仕上げ"},null,null,null,null,null,null,{"$f":"IF('８号入力'!E105=\"\",\"/\",'８号入力'!E105)","v":"/"},null,null,null,null,{"$f":"IF('８号入力'!H105=\"\",\"\",'８号入力'!H105)","v":""},null,null,null,null,null,null,null,null,null,null,null,null,{"$f":"IF('８号入力'!Q105=0,0,'８号入力'!Q105)","v":0}]
[null,null,null,null,"使用農薬名","散布量",null,null,null,null,null,null,null,{"$f":"IF('８号入力'!R70=0,0,'８号入力'!R70)","v":0},null,null,null,null,null,null,{"$f":"IF('８号入力'!U70=0,0,'８号入力'!U70)","v":0},null,null,null,null,null,null,{"$f":"IF('８号入力'!X70=0,0,'８号入力'!X70)","v":0},null,null,null,null,null,null,{"$f":"IF('８号入力'!AA70=0,0,'８号入力'!AA70)","v":0},null,null,null,null,null,null,{"$f":"IF('８号入力'!AD70=0,0,'８号入力'!AD70)","v":0},null,null,null,null,null,null,{"$f":"IF('８号入力'!AG70=0,0,'８号入力'!AG70)","v":0},null,null,null,null,null,null,{"$f":"IF('８号入力'!AJ70=0,0,'８号入力'!AJ70)","v":0},null,null,null,null,null,null,{"$f":"IF('８号入力'!AM70=0,0,'８号入力'!AM70)","v":0},null,null,null,null,null,null,{"$f":"IF('８号入力'!E106=\"\",\"\",'８号入力'!E106)","v":""},null,null,null,null,{"$f":"IF('８号入力'!H106=\"\",\"\",'８号入力'!H106)","v":""},null,null,null,null,null,null,null,null,null,null,null,null,{"$f":"IF('８号入力'!Q106=0,\"\",'８号入力'!Q106)","v":""}]
[null,null,null,null,null,{"$f":"IF('８号入力'!D71=\"\",\"\",'８号入力'!D71)","v":""},null,null,{"$f":"IF(F19=\"\",\"\",VLOOKUP(F19,Ｍ農薬台帳,3,FALSE))","v":""},{"$f":"IF(F19=\"\",\"\",\"-\")","v":""},{"$f":"IF(F19=\"\",\"\",VLOOKUP(F19,Ｍ農薬台帳,2,FALSE))","v":""},null,null,{"$f":"IF('８号入力'!R71=\"\",\"\",'８号入力'!R71)","v":""},null,null,null,null,null,null,{"$f":"IF('８号入力'!U71=\"\",\"\",'８号入力'!U71)","v":""},null,null,null,null,null,null,{"$f":"IF('８号入力'!X71=\"\",\"\",'８号入力'!X71)","v":""},null,null,null,null,null,null,{"$f":"IF('８号入力'!AA71=\"\",\"\",'８号入力'!AA71)","v":""},null,null,null,null,null,null,{"$f":"IF('８号入力'!AD71=\"\",\"\",'８号入力'!AD71)","v":""},null,null,null,null,null,null,{"$f":"IF('８号入力'!AG71=\"\",\"\",'８号入力'!AG71)","v":""},null,null,null,null,null,null,{"$f":"IF('８号入力'!AJ71=\"\",\"\",'８号入力'!AJ71)","v":""},null,null,null,null,null,null,{"$f":"IF('８号入力'!AM71=\"\",\"\",'８号入力'!AM71)","v":""},null,null,null,null,null,null,{"$f":"IF('８号入力'!E107=\"\",\"\",'８号入力'!E107)","v":""},null,null,null,null,{"$f":"IF('８号入力'!H107=\"\",\"\",'８号入力'!H107)","v":""},null,null,null,null,null,null,null,null,null,null,null,null,{"$f":"IF('８号入力'!Q107=0,\"\",'８号入力'!Q107)","v":""}]
[null,null,null,null,null,{"$f":"IF('８号入力'!D72=\"\",\"\",'８号入力'!D72)","v":""},null,null,"","","",null,null,{"$f":"IF('８号入力'!R72=\"\",\"\",'８号入力'!R72)","v":""},null,null,null,null,null,null,{"$f":"IF('８号入力'!U72=\"\",\"\",'８号入力'!U72)","v":""},null,null,null,null,null,null,{"$f":"IF('８号入力'!X72=\"\",\"\",'８号入力'!X72)","v":""},null,null,null,null,null,null,{"$f":"IF('８号入力'!AA72=\"\",\"\",'８号入力'!AA72)","v":""},null,null,null,null,null,null,{"$f":"IF('８号入力'!AD72=\"\",\"\",'８号入力'!AD72)","v":""},null,null,null,null,null,null,{"$f":"IF('８号入力'!AG72=\"\",\"\",'８号入力'!AG72)","v":""},null,null,null,null,null,null,{"$f":"IF('８号入力'!AJ72=\"\",\"\",'８号入力'!AJ72)","v":""},null,null,null,null,null,null,{"$f":"IF('８号入力'!AM72=\"\",\"\",'８号入力'!AM72)","v":""},null,null,null,null,null,null,{"$f":"IF('８号入力'!E108=\"\",\"\",'８号入力'!E108)","v":""},null,null,null,null,{"$f":"IF('８号入力'!H108=\"\",\"\",'８号入力'!H108)","v":""},null,null,null,null,null,null,null,null,null,null,null,null,{"$f":"IF('８号入力'!Q108=0,\"\",'８号入力'!Q108)","v":""}]
[null,null,null,null,null,{"$f":"IF('８号入力'!D73=\"\",\"\",'８号入力'!D73)","v":""},null,null,"","","",null,null,{"$f":"IF('８号入力'!R73=\"\",\"\",'８号入力'!R73)","v":""},null,null,null,null,null,null,{"$f":"IF('８号入力'!U73=\"\",\"\",'８号入力'!U73)","v":""},null,null,null,null,null,null,{"$f":"IF('８号入力'!X73=\"\",\"\",'８号入力'!X73)","v":""},null,null,null,null,null,null,{"$f":"IF('８号入力'!AA73=\"\",\"\",'８号入力'!AA73)","v":""},null,null,null,null,null,null,{"$f":"IF('８号入力'!AD73=\"\",\"\",'８号入力'!AD73)","v":""},null,null,null,null,null,null,{"$f":"IF('８号入力'!AG73=\"\",\"\",'８号入力'!AG73)","v":""},null,null,null,null,null,null,{"$f":"IF('８号入力'!AJ73=\"\",\"\",'８号入力'!AJ73)","v":""},null,null,null,null,null,null,{"$f":"IF('８号入力'!AM73=\"\",\"\",'８号入力'!AM73)","v":""},null,null,null,null,null,null,{"$f":"IF('８号入力'!E109=\"\",\"\",'８号入力'!E109)","v":""},null,null,null,null,{"$f":"IF('８号入力'!H109=\"\",\"\",'８号入力'!H109)","v":""},null,null,null,null,null,null,null,null,null,null,null,null,{"$f":"IF('８号入力'!Q109=0,\"\",'８号入力'!Q109)","v":""}]
[null,null,null,null,null,{"$f":"IF('８号入力'!D74=\"\",\"\",'８号入力'!D74)","v":""},null,null,"","","",null,null,{"$f":"IF('８号入力'!R74=\"\",\"\",'８号入力'!R74)","v":""},null,null,null,null,null,null,{"$f":"IF('８号入力'!U74=\"\",\"\",'８号入力'!U74)","v":""},null,null,null,null,null,null,{"$f":"IF('８号入力'!X74=\"\",\"\",'８号入力'!X74)","v":""},null,null,null,null,null,null,{"$f":"IF('８号入力'!AA74=\"\",\"\",'８号入力'!AA74)","v":""},null,null,null,null,null,null,{"$f":"IF('８号入力'!AD74=\"\",\"\",'８号入力'!AD74)","v":""},null,null,null,null,null,null,{"$f":"IF('８号入力'!AG74=\"\",\"\",'８号入力'!AG74)","v":""},null,null,null,null,null,null,{"$f":"IF('８号入力'!AJ74=\"\",\"\",'８号入力'!AJ74)","v":""},null,null,null,null,null,null,{"$f":"IF('８号入力'!AM74=\"\",\"\",'８号入力'!AM74)","v":""},null,null,null,null,null,null,{"$f":"IF('８号入力'!E110=\"\",\"\",'８号入力'!E110)","v":""},null,null,null,null,{"$f":"IF('８号入力'!H110=\"\",\"\",'８号入力'!H110)","v":""},null,null,null,null,null,null,null,null,null,null,null,null,{"$f":"IF('８号入力'!Q110=0,\"\",'８号入力'!Q110)","v":""}]
[null,null,null,null,null,{"$f":"IF('８号入力'!D75=\"\",\"\",'８号入力'!D75)","v":""},null,null,"","","",null,null,{"$f":"IF('８号入力'!R75=\"\",\"\",'８号入力'!R75)","v":""},null,null,null,null,null,null,{"$f":"IF('８号入力'!U75=\"\",\"\",'８号入力'!U75)","v":""},null,null,null,null,null,null,{"$f":"IF('８号入力'!X75=\"\",\"\",'８号入力'!X75)","v":""},null,null,null,null,null,null,{"$f":"IF('８号入力'!AA75=\"\",\"\",'８号入力'!AA75)","v":""},null,null,null,null,null,null,{"$f":"IF('８号入力'!AD75=\"\",\"\",'８号入力'!AD75)","v":""},null,null,null,null,null,null,{"$f":"IF('８号入力'!AG75=\"\",\"\",'８号入力'!AG75)","v":""},null,null,null,null,null,null,{"$f":"IF('８号入力'!AJ75=\"\",\"\",'８号入力'!AJ75)","v":""},null,null,null,null,null,null,{"$f":"IF('８号入力'!AM75=\"\",\"\",'８号入力'!AM75)","v":""},null,null,null,null,null,null,{"$f":"IF('８号入力'!E111=\"\",\"\",'８号入力'!E111)","v":""},null,null,null,null,{"$f":"IF('８号入力'!H111=\"\",\"\",'８号入力'!H111)","v":""},null,null,null,null,null,null,null,null,null,null,null,null,{"$f":"IF('８号入力'!Q111=0,\"\",'８号入力'!Q111)","v":""}]
[null,null,null,null,null,{"$f":"IF('８号入力'!D76=\"\",\"\",'８号入力'!D76)","v":""},null,null,"","","",null,null,{"$f":"IF('８号入力'!R76=\"\",\"\",'８号入力'!R76)","v":""},null,null,null,null,null,null,{"$f":"IF('８号入力'!U76=\"\",\"\",'８号入力'!U76)","v":""},null,null,null,null,null,null,{"$f":"IF('８号入力'!X76=\"\",\"\",'８号入力'!X76)","v":""},null,null,null,null,null,null,{"$f":"IF('８号入力'!AA76=\"\",\"\",'８号入力'!AA76)","v":""},null,null,null,null,null,null,{"$f":"IF('８号入力'!AD76=\"\",\"\",'８号入力'!AD76)","v":""},null,null,null,null,null,null,{"$f":"IF('８号入力'!AG76=\"\",\"\",'８号入力'!AG76)","v":""},null,null,null,null,null,null,{"$f":"IF('８号入力'!AJ76=\"\",\"\",'８号入力'!AJ76)","v":""},null,null,null,null,null,null,{"$f":"IF('８号入力'!AM76=\"\",\"\",'８号入力'!AM76)","v":""},null,null,null,null,null,null,{"$f":"IF('８号入力'!E112=\"\",\"\",'８号入力'!E112)","v":""},null,null,null,null,{"$f":"IF('８号入力'!H112=\"\",\"\",'８号入力'!H112)","v":""},null,null,null,null,null,null,null,null,null,null,null,null,{"$f":"IF('８号入力'!Q112=0,\"\",'８号入力'!Q112)","v":""}]
[null,null,null,null,null,{"$f":"IF('８号入力'!D77=\"\",\"\",'８号入力'!D77)","v":""},null,null,"","","",null,null,{"$f":"IF('８号入力'!R77=\"\",\"\",'８号入力'!R77)","v":""},null,null,null,null,null,null,{"$f":"IF('８号入力'!U77=\"\",\"\",'８号入力'!U77)","v":""},null,null,null,null,null,null,{"$f":"IF('８号入力'!X77=\"\",\"\",'８号入力'!X77)","v":""},null,null,null,null,null,null,{"$f":"IF('８号入力'!AA77=\"\",\"\",'８号入力'!AA77)","v":""},null,null,null,null,null,null,{"$f":"IF('８号入力'!AD77=\"\",\"\",'８号入力'!AD77)","v":""},null,null,null,null,null,null,{"$f":"IF('８号入力'!AG77=\"\",\"\",'８号入力'!AG77)","v":""},null,null,null,null,null,null,{"$f":"IF('８号入力'!AJ77=\"\",\"\",'８号入力'!AJ77)","v":""},null,null,null,null,null,null,{"$f":"IF('８号入力'!AM77=\"\",\"\",'８号入力'!AM77)","v":""},null,null,null,null,null,null,{"$f":"IF('８号入力'!E113=\"\",\"\",'８号入力'!E113)","v":""},null,null,null,null,{"$f":"IF('８号入力'!H113=\"\",\"\",'８号入力'!H113)","v":""},null,null,null,null,null,null,null,null,null,null,null,null,{"$f":"IF('８号入力'!Q113=0,\"\",'８号入力'!Q113)","v":""}]
[null,null,null,null,null,{"$f":"IF('８号入力'!D78=\"\",\"\",'８号入力'!D78)","v":""},null,null,"","","",null,null,{"$f":"IF('８号入力'!R78=\"\",\"\",'８号入力'!R78)","v":""},null,null,null,null,null,null,{"$f":"IF('８号入力'!U78=\"\",\"\",'８号入力'!U78)","v":""},null,null,null,null,null,null,{"$f":"IF('８号入力'!X78=\"\",\"\",'８号入力'!X78)","v":""},null,null,null,null,null,null,{"$f":"IF('８号入力'!AA78=\"\",\"\",'８号入力'!AA78)","v":""},null,null,null,null,null,null,{"$f":"IF('８号入力'!AD78=\"\",\"\",'８号入力'!AD78)","v":""},null,null,null,null,null,null,{"$f":"IF('８号入力'!AG78=\"\",\"\",'８号入力'!AG78)","v":""},null,null,null,null,null,null,{"$f":"IF('８号入力'!AJ78=\"\",\"\",'８号入力'!AJ78)","v":""},null,null,null,null,null,null,{"$f":"IF('８号入力'!AM78=\"\",\"\",'８号入力'!AM78)","v":""},null,null,null,null,null,null,{"$f":"IF('８号入力'!E114=\"\",\"\",'８号入力'!E114)","v":""},null,null,null,null,{"$f":"IF('８号入力'!H114=\"\",\"\",'８号入力'!H114)","v":""},null,null,null,null,null,null,null,null,null,null,null,null,{"$f":"IF('８号入力'!Q114=0,\"\",'８号入力'!Q114)","v":""}]
[null,null,null,null,null,{"$f":"IF('８号入力'!D79=\"\",\"\",'８号入力'!D79)","v":""},null,null,"","","",null,null,{"$f":"IF('８号入力'!R79=\"\",\"\",'８号入力'!R79)","v":""},null,null,null,null,null,null,{"$f":"IF('８号入力'!U79=\"\",\"\",'８号入力'!U79)","v":""},null,null,null,null,null,null,{"$f":"IF('８号入力'!X79=\"\",\"\",'８号入力'!X79)","v":""},null,null,null,null,null,null,{"$f":"IF('８号入力'!AA79=\"\",\"\",'８号入力'!AA79)","v":""},null,null,null,null,null,null,{"$f":"IF('８号入力'!AD79=\"\",\"\",'８号入力'!AD79)","v":""},null,null,null,null,null,null,{"$f":"IF('８号入力'!AG79=\"\",\"\",'８号入力'!AG79)","v":""},null,null,null,null,null,null,{"$f":"IF('８号入力'!AJ79=\"\",\"\",'８号入力'!AJ79)","v":""},null,null,null,null,null,null,{"$f":"IF('８号入力'!AM79=\"\",\"\",'８号入力'!AM79)","v":""},null,null,null,null,null,null,{"$f":"IF('８号入力'!E115=\"\",\"\",'８号入力'!E115)","v":""},null,null,null,null,{"$f":"IF('８号入力'!H115=\"\",\"\",'８号入力'!H115)","v":""},null,null,null,null,null,null,null,null,null,null,null,null,{"$f":"IF('８号入力'!Q115=0,\"\",'８号入力'!Q115)","v":""}]
[null,null,null,null,null,{"$f":"IF('８号入力'!D80=\"\",\"\",'８号入力'!D80)","v":""},null,null,"","","",null,null,{"$f":"IF('８号入力'!R80=\"\",\"\",'８号入力'!R80)","v":""},null,null,null,null,null,null,{"$f":"IF('８号入力'!U80=\"\",\"\",'８号入力'!U80)","v":""},null,null,null,null,null,null,{"$f":"IF('８号入力'!X80=\"\",\"\",'８号入力'!X80)","v":""},null,null,null,null,null,null,{"$f":"IF('８号入力'!AA80=\"\",\"\",'８号入力'!AA80)","v":""},null,null,null,null,null,null,{"$f":"IF('８号入力'!AD80=\"\",\"\",'８号入力'!AD80)","v":""},null,null,null,null,null,null,{"$f":"IF('８号入力'!AG80=\"\",\"\",'８号入力'!AG80)","v":""},null,null,null,null,null,null,{"$f":"IF('８号入力'!AJ80=\"\",\"\",'８号入力'!AJ80)","v":""},null,null,null,null,null,null,{"$f":"IF('８号入力'!AM80=\"\",\"\",'８号入力'!AM80)","v":""},null,null,null,null,null,null,{"$f":"IF('８号入力'!E116=\"\",\"\",'８号入力'!E116)","v":""},null,null,null,null,{"$f":"IF('８号入力'!H116=\"\",\"\",'８号入力'!H116)","v":""},null,null,null,null,null,null,null,null,null,null,null,null,{"$f":"IF('８号入力'!Q116=0,\"\",'８号入力'!Q116)","v":""}]
[null,null,null,null,null,{"$f":"IF('８号入力'!D81=\"\",\"\",'８号入力'!D81)","v":""},null,null,"","","",null,null,{"$f":"IF('８号入力'!R81=\"\",\"\",'８号入力'!R81)","v":""},null,null,null,null,null,null,{"$f":"IF('８号入力'!U81=\"\",\"\",'８号入力'!U81)","v":""},null,null,null,null,null,null,{"$f":"IF('８号入力'!X81=\"\",\"\",'８号入力'!X81)","v":""},null,null,null,null,null,null,{"$f":"IF('８号入力'!AA81=\"\",\"\",'８号入力'!AA81)","v":""},null,null,null,null,null,null,{"$f":"IF('８号入力'!AD81=\"\",\"\",'８号入力'!AD81)","v":""},null,null,null,null,null,null,{"$f":"IF('８号入力'!AG81=\"\",\"\",'８号入力'!AG81)","v":""},null,null,null,null,null,null,{"$f":"IF('８号入力'!AJ81=\"\",\"\",'８号入力'!AJ81)","v":""},null,null,null,null,null,null,{"$f":"IF('８号入力'!AM81=\"\",\"\",'８号入力'!AM81)","v":""},null,null,null,null,null,null,{"$f":"IF('８号入力'!E117=\"\",\"\",'８号入力'!E117)","v":""},null,null,null,null,{"$f":"IF('８号入力'!H117=\"\",\"\",'８号入力'!H117)","v":""},null,null,null,null,null,null,null,null,null,null,null,null,{"$f":"IF('８号入力'!Q117=0,\"\",'８号入力'!Q117)","v":""}]
[null,null,null,null,null,{"$f":"IF('８号入力'!D82=\"\",\"\",'８号入力'!D82)","v":""},null,null,"","","",null,null,{"$f":"IF('８号入力'!R82=\"\",\"\",'８号入力'!R82)","v":""},null,null,null,null,null,null,{"$f":"IF('８号入力'!U82=\"\",\"\",'８号入力'!U82)","v":""},null,null,null,null,null,null,{"$f":"IF('８号入力'!X82=\"\",\"\",'８号入力'!X82)","v":""},null,null,null,null,null,null,{"$f":"IF('８号入力'!AA82=\"\",\"\",'８号入力'!AA82)","v":""},null,null,null,null,null,null,{"$f":"IF('８号入力'!AD82=\"\",\"\",'８号入力'!AD82)","v":""},null,null,null,null,null,null,{"$f":"IF('８号入力'!AG82=\"\",\"\",'８号入力'!AG82)","v":""},null,null,null,null,null,null,{"$f":"IF('８号入力'!AJ82=\"\",\"\",'８号入力'!AJ82)","v":""},null,null,null,null,null,null,{"$f":"IF('８号入力'!AM82=\"\",\"\",'８号入力'!AM82)","v":""},null,null,null,null,null,null,{"$f":"IF('８号入力'!E118=\"\",\"\",'８号入力'!E118)","v":""},null,null,null,null,{"$f":"IF('８号入力'!H118=\"\",\"\",'８号入力'!H118)","v":""},null,null,null,null,null,null,null,null,null,null,null,null,{"$f":"IF('８号入力'!Q118=0,\"\",'８号入力'!Q118)","v":""}]
[null,null,null,null,null,{"$f":"IF('８号入力'!D83=\"\",\"\",'８号入力'!D83)","v":""},null,null,"","","",null,null,{"$f":"IF('８号入力'!R83=\"\",\"\",'８号入力'!R83)","v":""},null,null,null,null,null,null,{"$f":"IF('８号入力'!U83=\"\",\"\",'８号入力'!U83)","v":""},null,null,null,null,null,null,{"$f":"IF('８号入力'!X83=\"\",\"\",'８号入力'!X83)","v":""},null,null,null,null,null,null,{"$f":"IF('８号入力'!AA83=\"\",\"\",'８号入力'!AA83)","v":""},null,null,null,null,null,null,{"$f":"IF('８号入力'!AD83=\"\",\"\",'８号入力'!AD83)","v":""},null,null,null,null,null,null,{"$f":"IF('８号入力'!AG83=\"\",\"\",'８号入力'!AG83)","v":""},null,null,null,null,null,null,{"$f":"IF('８号入力'!AJ83=\"\",\"\",'８号入力'!AJ83)","v":""},null,null,null,null,null,null,{"$f":"IF('８号入力'!AM83=\"\",\"\",'８号入力'!AM83)","v":""},null,null,null,null,null,null,{"$f":"IF('８号入力'!E119=\"\",\"\",'８号入力'!E119)","v":""},null,null,null,null,{"$f":"IF('８号入力'!H119=\"\",\"\",'８号入力'!H119)","v":""},null,null,null,null,null,null,null,null,null,null,null,null,{"$f":"IF('８号入力'!Q119=0,\"\",'８号入力'!Q119)","v":""}]
[null,null,null,null,null,{"$f":"IF('８号入力'!D84=\"\",\"\",'８号入力'!D84)","v":""},null,null,"","","",null,null,{"$f":"IF('８号入力'!R84=\"\",\"\",'８号入力'!R84)","v":""},null,null,null,null,null,null,{"$f":"IF('８号入力'!U84=\"\",\"\",'８号入力'!U84)","v":""},null,null,null,null,null,null,{"$f":"IF('８号入力'!X84=\"\",\"\",'８号入力'!X84)","v":""},null,null,null,null,null,null,{"$f":"IF('８号入力'!AA84=\"\",\"\",'８号入力'!AA84)","v":""},null,null,null,null,null,null,{"$f":"IF('８号入力'!AD84=\"\",\"\",'８号入力'!AD84)","v":""},null,null,null,null,null,null,{"$f":"IF('８号入力'!AG84=\"\",\"\",'８号入力'!AG84)","v":""},null,null,null,null,null,null,{"$f":"IF('８号入力'!AJ84=\"\",\"\",'８号入力'!AJ84)","v":""},null,null,null,null,null,null,{"$f":"IF('８号入力'!AM84=\"\",\"\",'８号入力'!AM84)","v":""},null,null,null,null,null,null,{"$f":"IF('８号入力'!E120=\"\",\"\",'８号入力'!E120)","v":""},null,null,null,null,{"$f":"IF('８号入力'!H120=\"\",\"\",'８号入力'!H120)","v":""},null,null,null,null,null,null,null,null,null,null,null,null,{"$f":"IF('８号入力'!Q120=0,\"\",'８号入力'!Q120)","v":""}]
[null,null,null,null,null,{"$f":"IF('８号入力'!D85=\"\",\"\",'８号入力'!D85)","v":""},null,null,"","","",null,null,{"$f":"IF('８号入力'!R85=\"\",\"\",'８号入力'!R85)","v":""},null,null,null,null,null,null,{"$f":"IF('８号入力'!U85=\"\",\"\",'８号入力'!U85)","v":""},null,null,null,null,null,null,{"$f":"IF('８号入力'!X85=\"\",\"\",'８号入力'!X85)","v":""},null,null,null,null,null,null,{"$f":"IF('８号入力'!AA85=\"\",\"\",'８号入力'!AA85)","v":""},null,null,null,null,null,null,{"$f":"IF('８号入力'!AD85=\"\",\"\",'８号入力'!AD85)","v":""},null,null,null,null,null,null,{"$f":"IF('８号入力'!AG85=\"\",\"\",'８号入力'!AG85)","v":""},null,null,null,null,null,null,{"$f":"IF('８号入力'!AJ85=\"\",\"\",'８号入力'!AJ85)","v":""},null,null,null,null,null,null,{"$f":"IF('８号入力'!AM85=\"\",\"\",'８号入力'!AM85)","v":""},null,null,null,null,null,null,{"$f":"IF('８号入力'!E121=\"\",\"\",'８号入力'!E121)","v":""},null,null,null,null,{"$f":"IF('８号入力'!H121=\"\",\"\",'８号入力'!H121)","v":""},null,null,null,null,null,null,null,null,null,null,null,null,{"$f":"IF('８号入力'!Q121=0,\"\",'８号入力'!Q121)","v":""}]
[null,null,null,null,null,{"$f":"IF('８号入力'!D86=\"\",\"\",'８号入力'!D86)","v":""},null,null,"","","",null,null,{"$f":"IF('８号入力'!R86=\"\",\"\",'８号入力'!R86)","v":""},null,null,null,null,null,null,{"$f":"IF('８号入力'!U86=\"\",\"\",'８号入力'!U86)","v":""},null,null,null,null,null,null,{"$f":"IF('８号入力'!X86=\"\",\"\",'８号入力'!X86)","v":""},null,null,null,null,null,null,{"$f":"IF('８号入力'!AA86=\"\",\"\",'８号入力'!AA86)","v":""},null,null,null,null,null,null,{"$f":"IF('８号入力'!AD86=\"\",\"\",'８号入力'!AD86)","v":""},null,null,null,null,null,null,{"$f":"IF('８号入力'!AG86=\"\",\"\",'８号入力'!AG86)","v":""},null,null,null,null,null,null,{"$f":"IF('８号入力'!AJ86=\"\",\"\",'８号入力'!AJ86)","v":""},null,null,null,null,null,null,{"$f":"IF('８号入力'!AM86=\"\",\"\",'８号入力'!AM86)","v":""},null,null,null,null,null,null,{"$f":"IF('８号入力'!E122=\"\",\"\",'８号入力'!E122)","v":""},null,null,null,null,{"$f":"IF('８号入力'!H122=\"\",\"\",'８号入力'!H122)","v":""},null,null,null,null,null,null,null,null,null,null,null,null,{"$f":"IF('８号入力'!Q122=0,\"\",'８号入力'!Q122)","v":""}]
[null,null,null,null,null,"植物成長調整剤",null,null,null,null,null,null,null,{"$f":"IF('８号入力'!F91=\"\",\"/\",'８号入力'!F91)","v":"/"},null,null,null,null,{"$f":"IF('８号入力'!I91=0,0,'８号入力'!I91)","v":0},null,null,null,null,null,null,null,{"$f":"IF('８号入力'!N91=0,0,'８号入力'!N91)","v":0},null,null,null,null,null,null,null,{"$f":"IF('８号入力'!C94=\"\",\"\",'８号入力'!C94)","v":"トップジンＭ水和剤"},null,null,null,null,null,null,null,null,null,null,null,null,null,null,null,{"$f":"IF('８号入力'!F97=\"\",\"/\",'８号入力'!F97)","v":"/"},null,null,null,null,{"$f":"IF('８号入力'!I97=0,0,'８号入力'!I97)","v":0},null,null,null,null,null,null,null,{"$f":"IF('８号入力'!N97=0,0,'８号入力'!N97)","v":0},null,null,null,null,null,null,null,{"$f":"IF('８号入力'!F99=\"\",\"/\",'８号入力'!F99)","v":"/"},null,null,null,null,{"$f":"IF('８号入力'!I99=0,0,'８号入力'!I99)","v":0},null,null,null,null,null,null,null,{"$f":"IF('８号入力'!N99=0,0,'８号入力'!N99)","v":0}]
[null,null,null,null,null,{"$f":"IF('８号入力'!L88=\"\",\"\",'８号入力'!L88)","v":"アークランド液剤"},null,null,null,null,null,null,null,{"$f":"IF('８号入力'!F92=\"\",\"/\",'８号入力'!F92)","v":"/"},null,null,null,null,{"$f":"IF('８号入力'!I92=0,0,'８号入力'!I92)","v":0},null,null,null,null,null,null,null,{"$f":"IF('８号入力'!N92=0,0,'８号入力'!N92)","v":0},null,null,null,null,null,null,null,null,null,null,null,null,null,null,null,null,null,null,null,null,null,null,null,{"$f":"IF('８号入力'!F98=\"\",\"/\",'８号入力'!F98)","v":"/"},null,null,null,null,{"$f":"IF('８号入力'!I98=0,0,'８号入力'!I98)","v":0},null,null,null,null,null,null,null,{"$f":"IF('８号入力'!N98=0,0,'８号入力'!N98)","v":0},null,null,null,null,null,null,null,{"$f":"IF('８号入力'!F100=\"\",\"/\",'８号入力'!F100)","v":"/"},null,null,null,null,{"$f":"IF('８号入力'!I100=0,0,'８号入力'!I100)","v":0},null,null,null,null,null,null,null,{"$f":"IF('８号入力'!N100=0,0,'８号入力'!N100)","v":0}]

{"sheet":"９号入力","index":18,"n_rows":128,"n_cols":53,"rows_kept":128,"cut":false,"hidden":false,"merged":[[1,9,1,10],[1,11,1,14],[3,9,3,11],[3,12,3,18],[8,2,8,4],[8,5,8,11],[8,14,8,16],[8,17,8,23],[57,17,57,19],[9,2,9,4],[9,5,9,11],[11,2,11,4],[11,5,11,11],[10,5,10,11],[10,2,10,4],[12,2,12,4],[12,5,12,11],[12,14,12,31],[13,2,13,4],[13,5,13,11],[13,14,13,31],[14,2,14,4],[14,5,14,11],[15,2,15,4],[15,5,15,11],[19,5,19,7],[18,5,18,7],[20,33,20,39],[21,2,21,4],[21,5,21,7],[21,8,21,25],[21,26,21,29],[21,33,21,39],[20,2,20,4],[20,5,20,7],[20,8,20,25],[20,26,20,29],[22,33,22,39],[23,2,23,4],[23,5,23,7],[23,8,23,25],[23,26,23,29],[23,33,23,39],[22,2,22,4],[22,5,22,7],[22,8,22,25],[22,26,22,29],[24,33,24,39],[25,2,25,4],[25,5,25,7],[25,8,25,25],[25,26,25,29],[25,33,25,39],[24,2,24,4],[24,5,24,7],[24,8,24,25],[24,26,24,29],[26,33,26,39],[27,2,27,4],[27,5,27,7],[27,8,27,25],[27,26,27,29],[27,33,27,39],[26,2,26,4],[26,5,26,7],[26,8,26,25],[26,26,26,29],[28,33,28,39],[29,2,29,4],[29,5,29,7],[29,8,29,25],[29,26,29,29],[29,33,29,39],[28,2,28,4],[28,5,28,7],[28,8,28,25],[28,26,28,29],[30,33,30,39],[31,2,31,4],[31,5,31,7],[31,8,31,25],[31,26,31,29],[31,33,31,39],[30,2,30,4],[30,5,30,7],[30,8,30,25],[30,26,30,29],[32,33,32,39],[33,2,33,4],[33,5,33,7],[33,8,33,25],[33,26,33,29],[33,33,33,39],[32,2,32,4],[32,5,32,7],[32,8,32,25],[32,26,32,29],[34,33,34,39],[35,2,35,4],[35,5,35,7],[35,8,35,25],[35,26,35,29],[35,33,35,39],[34,2,34,4],[34,5,34,7],[34,8,34,25],[34,26,34,29],[36,33,36,39],[37,2,37,4],[37,5,37,7],[37,8,37,25],[37,26,37,29],[37,33,37,39],[36,2,36,4],[36,5,36,7],[36,8,36,25],[36,26,36,29],[38,33,38,39],[39,2,39,4],[39,5,39,7],[39,8,39,25],[39,26,39,29],[39,33,39,39],[38,2,38,4],[38,5,38,7],[38,8,38,25],[38,26,38,29],[40,33,40,39],[41,2,41,4],[41,5,41,7],[41,8,41,25],[41,26,41,29],[41,33,41,39],[40,2,40,4],[40,5,40,7],[40,8,40,25],[40,26,40,29],[42,33,42,39],[43,2,43,4],[43,5,43,7],[43,8,43,25],[43,26,43,29],[43,33,43,39],[42,2,42,4],[42,5,42,7],[42,8,42,25],[42,26,42,29],[52,19,52,23],[52,25,52,29],[44,33,44,39],[45,2,45,4],[45,5,45,7],[45,8,45,25],[45,26,45,29],[45,33,45,39],[44,2,44,4],[44,5,44,7],[44,8,44,25],[44,26,44,29],[60,20,60,26],[59,17,59,19],[58,17,58,19],[58,2,58,6],[58,7,58,13],[52,30,52,31],[52,32,52,37],[51,25,51,29],[46,33,46,39],[46,2,46,4],[46,5,46,7],[46,8,46,25],[46,26,46,29],[51,32,51,37],[51,30,51,31],[51,5,51,7],[51,8,51,14],[51,15,51,18],[51,2,51,4],[51,19,51,23],[52,2,52,4],[52,5,52,7],[52,8,52,14],[52,15,52,18],[61,2,61,6],[61,7,61,13],[59,2,59,6],[59,7,59,13],[53,32,53,37],[54,2,54,4],[54,5,54,7],[54,8,54,14],[54,15,54,18],[54,19,54,23],[53,15,53,18],[53,19,53,23],[57,2,57,13],[53,25,53,29],[53,30,53,31],[53,2,53,4],[53,5,53,7],[53,8,53,14],[60,2,60,6],[60,7,60,13],[60,17,60,19],[57,20,57,26],[58,20,58,26],[59,20,59,26],[66,38,66,40],[66,17,66,19],[66,20,66,22],[66,23,66,25],[66,26,66,28],[67,2,67,16],[67,17,67,19],[67,20,67,22],[67,23,67,25],[67,26,67,28],[67,29,67,31],[67,32,67,34],[67,35,67,37],[67,38,67,40],[66,29,66,31],[66,32,66,34],[66,35,66,37],[68,2,68,16],[68,17,68,19],[68,20,68,22],[68,23,68,25],[68,26,68,28],[68,29,68,31],[68,32,68,34],[68,35,68,37],[68,38,68,40],[69,23,69,25],[69,26,69,28],[70,3,70,10],[70,14,70,16],[70,17,70,19],[70,20,70,22],[71,3,71,10],[71,14,71,16],[71,17,71,19],[71,20,71,22],[69,29,69,31],[69,32,69,34],[69,35,69,37],[85,23,85,25],[85,26,85,28],[85,29,85,31],[85,32,85,34],[85,35,85,37],[69,38,69,40],[70,23,70,25],[70,26,70,28],[70,29,70,31],[70,32,70,34],[70,35,70,37],[70,38,70,40],[71,23,71,25],[71,26,71,28],[71,29,71,31],[71,32,71,34],[71,35,71,37],[71,38,71,40],[72,23,72,25],[72,26,72,28],[72,29,72,31],[72,32,72,34],[72,35,72,37],[72,38,72,40],[73,3,73,10],[73,14,73,16],[73,17,73,19],[73,20,73,22],[73,23,73,25],[73,26,73,28],[73,29,73,31],[73,32,73,34],[73,35,73,37],[73,38,73,40],[72,3,72,10],[72,14,72,16],[72,17,72,19],[72,20,72,22],[74,23,74,25],[74,26,74,28],[74,29,74,31],[74,32,74,34],[74,35,74,37],[74,38,74,40],[75,3,75,10],[75,14,75,16],[75,17,75,19],[75,20,75,22],[75,23,75,25],[75,26,75,28],[75,29,75,31],[75,32,75,34],[75,35,75,37],[75,38,75,40],[74,3,74,10],[74,14,74,16],[74,17,74,19],[76,38,76,40],[77,3,77,10],[77,14,77,16],[77,17,77,19],[77,20,77,22],[77,23,77,25],[77,26,77,28],[77,29,77,31],[77,32,77,34],[77,35,77,37],[77,38,77,40],[76,3,76,10],[76,14,76,16],[76,17,76,19],[76,20,76,22],[76,23,76,25],[76,26,76,28],[76,29,76,31],[76,32,76,34],[76,35,76,37],[78,38,78,40],[79,3,79,10],[79,14,79,16],[79,17,79,19],[79,20,79,22],[79,23,79,25],[79,26,79,28],[79,29,79,31],[79,32,79,34],[79,35,79,37],[79,38,79,40],[78,3,78,10],[78,14,78,16],[78,17,78,19],[78,20,78,22],[78,23,78,25],[78,26,78,28],[78,29,78,31],[78,32,78,34],[78,35,78,37],[80,38,80,40],[81,3,81,10],[81,14,81,16],[81,17,81,19],[81,20,81,22],[81,23,81,25],[81,26,81,28],[81,29,81,31],[81,32,81,34],[81,35,81,37],[81,38,81,40],[80,3,80,10],[80,14,80,16],[80,17,80,19],[80,20,80,22],[80,23,80,25],[80,26,80,28],[80,29,80,31],[80,32,80,34],[80,35,80,37],[82,38,82,40],[83,3,83,10],[83,14,83,16],[83,17,83,19],[83,20,83,22],[83,23,83,25],[83,26,83,28],[83,29,83,31],[83,32,83,34],[83,35,83,37],[83,38,83,40],[82,3,82,10],[82,14,82,16],[82,17,82,19],[82,20,82,22],[82,23,82,25],[82,26,82,28],[82,29,82,31],[82,32,82,34],[82,35,82,37],[84,23,84,25],[84,26,84,28],[84,29,84,31],[84,32,84,34],[85,38,85,40],[84,35,84,37],[84,38,84,40],[85,3,85,10],[85,14,85,16],[85,17,85,19],[89,2,89,4],[89,5,89,7],[89,8,89,12],[89,13,89,17],[85,20,85,22],[87,11,87,17],[90,2,90,4],[90,5,90,7],[90,8,90,12],[90,13,90,17],[69,2,85,2],[69,3,69,16],[69,17,69,19],[69,20,69,22],[84,3,84,10],[84,14,84,16],[84,17,84,19],[84,20,84,22],[74,20,74,22],[91,2,91,4],[91,5,91,7],[91,8,91,12],[91,13,91,17],[95,2,95,4],[95,5,95,7],[95,8,95,12],[95,13,95,17],[96,2,96,4],[96,5,96,7],[96,8,96,12],[96,13,96,17],[93,2,93,8],[97,2,97,4],[97,5,97,7],[97,8,97,12],[97,13,97,17],[98,2,98,4],[98,5,98,7],[98,8,98,12],[98,13,98,17],[99,2,99,4],[99,5,99,7],[99,8,99,12],[99,13,99,17],[103,2,103,3],[103,4,103,6],[103,7,103,15],[103,16,103,18],[104,2,104,3],[104,4,104,6],[104,7,104,15],[104,16,104,18],[105,2,105,3],[105,4,105,6],[105,7,105,15],[105,16,105,18],[106,2,106,3],[106,4,106,6],[106,7,106,15],[106,16,106,18],[107,2,107,3],[107,4,107,6],[107,7,107,15],[107,16,107,18],[108,2,108,3],[108,4,108,6],[108,7,108,15],[108,16,108,18],[109,2,109,3],[109,4,109,6],[109,7,109,15],[109,16,109,18],[110,2,110,3],[110,4,110,6],[110,7,110,15],[110,16,110,18],[111,2,111,3],[111,4,111,6],[111,7,111,15],[111,16,111,18],[112,2,112,3],[112,4,112,6],[112,7,112,15],[112,16,112,18],[113,2,113,3],[113,4,113,6],[113,7,113,15],[113,16,113,18],[114,2,114,3],[114,4,114,6],[114,7,114,15],[114,16,114,18],[115,2,115,3],[115,4,115,6],[115,7,115,15],[115,16,115,18],[117,7,117,15],[117,16,117,18],[116,2,116,3],[116,4,116,6],[116,7,116,15],[116,16,116,18],[117,2,117,3],[117,4,117,6],[119,16,119,18],[118,2,118,3],[118,4,118,6],[118,7,118,15],[118,16,118,18],[119,2,119,3],[119,4,119,6],[119,7,119,15],[123,27,123,32],[121,16,121,18],[120,2,120,3],[120,4,120,6],[120,7,120,15],[120,16,120,18],[121,2,121,3],[121,4,121,6],[121,7,121,15]]}
[]
[null,"９号室の入力画面",null,null,null,null,null,null,null,"No.",null,{"$f":"メニュー画面!F18","v":"４　３　６"}]
[]
[null,null,null,null,null,null,null,null,null,"氏名",null,null,{"$f":"メニュー画面!F20","v":"中　條　文　義"},null,null,null,null,null,null,null,null,null,null,null,null,null,null,null,null,null,null,null,null,{"$f":"VLOOKUP(B2,隠しページ!P7:Q22,2,FALSE)","v":"９号入力"},null,null,"→印刷画面へ"]
[]
[]
[null,"１．坪数～収穫日までの入力",null,null,null,null,null,null,null,null,null,null,null,null,"※白い枠のみに入力して下さい。ここで入力された値が、履歴シートに書き込まれます。"]
[]
[null,null,"部屋番号",null,null,9,null,null,null,null,null,null,null,null,"品種名",null,null,{"$f":"IF(F16=\"\",\"\",IF(AND(10<=MONTH(F16+1),MONTH(F16+1)<=11),\"秋　　系\",IF(AND(3<=MONTH(F16+1),MONTH(F16+1)<=5),\"春　　系\",IF(AND(6<=MONTH(F16+1),MONTH(F16+1)<=9),\"夏　　系\",\"冬　　系\"))))","v":""}]
[null,null,"坪数"]
[null,null,"品種名",null,null,"夏　　系",null,null,null,null,null,null,null,null,{"$f":"IF(OR($R$9=$F$11,$R$9=\"\"),\"\",\"←県で指定された品種名と違いますが無視できます。\")","v":""}]
[null,null,"播種日"]
[null,null,"定植日",null,null,null,null,null,null,null,null,null,null,null,{"$f":"IF(OR(F13=\"\",F12=\"\"),\"\",IF(F13<F12,\"入力ミスです！播種日のほうが後の日付になりました。\",\"\"))","v":""},null,null,null,null,null,null,null,null,null,null,null,null,null,null,null,null,null,{"$f":"CONCATENATE(\"苗日数＝\",F13-F12,\"日\")","v":"苗日数＝0日"}]
[null,null,"交配日",null,null,null,null,null,null,null,null,null,null,null,{"$f":"IF(OR(F14=\"\",F13=\"\"),\"\",IF(F14<F13,\"入力ミスです！定植日の方が後になりました。\",\"\"))","v":""},null,null,null,null,null,null,null,null,null,null,null,null,null,null,null,null,null,{"$f":"CONCATENATE(\"交配日数＝\",F14-F13,\"日\")","v":"交配日数＝0日"}]
[null,null,"採果日数"]
[null,null,"収穫日",null,null,{"$f":"IF(OR(F14=\"\",F15=\"\"),\"\",F14+F15-1)","v":""},null,null,null,null,null,null,null,null,null,null,null,null,null,null,null,null,null,null,null,null,null,null,null,null,null,null,{"$f":"CONCATENATE(\"播種日～収穫日＝\",IF(F16=\"\",0,F16-F12),\"日\")","v":"播種日～収穫日＝0日"}]
[]
[null,"２．施用資材名の入力"]
[null,null,null,null,null,null,null,null,"［〃］このマークはリストから入力できます。日付はそのまま打ち込んでください。"]
[]
[null,null,null,null,null,"日付",null,null,"施用資材名",null,null,null,null,null,null,null,null,null,null,null,null,null,null,null,null,null,"投入量",null,null,null,null,null,null,"履歴シート表示確認欄"]
[null,null,null,null,null,{"$f":"IF(OR(C22=\"\",AH22=\"\"),\"\",IF(C22=\"育苗\",#REF!,IF(C22=\"定植\",#REF!,IF(C22=\"追肥（１）\",#REF!,IF(C22=\"追肥（２）\",#REF!,IF(C22=\"追肥（３）\",#REF!,\"入力ミス\"))))))","v":""},null,null,"育苗",null,null,null,null,null,null,null,null,null,null,null,null,null,null,null,null,null,null,null,null,null,null,null,null,{"$f":"IF(I22=\"\",\"\",VLOOKUP(I22,Ｍ肥料台帳,4,FALSE))","v":"育苗"}]
[null,null,null,null,null,"2006-01-01",null,null,null,null,null,null,null,null,null,null,null,null,null,null,null,null,null,null,null,null,null,null,null,null,null,null,null,""]
[null,null,null,null,null,"〃",null,null,null,null,null,null,null,null,null,null,null,null,null,null,null,null,null,null,null,null,null,null,null,null,null,null,null,""]
[null,null,null,null,null,"〃",null,null,null,null,null,null,null,null,null,null,null,null,null,null,null,null,null,null,null,null,null,null,null,null,null,null,null,""]
[null,null,null,null,null,"〃",null,null,null,null,null,null,null,null,null,null,null,null,null,null,null,null,null,null,null,null,null,null,null,null,null,null,null,""]
[null,null,null,null,null,"〃",null,null,null,null,null,null,null,null,null,null,null,null,null,null,null,null,null,null,null,null,null,null,null,null,null,null,null,""]
[null,null,null,null,null,"〃",null,null,null,null,null,null,null,null,null,null,null,null,null,null,null,null,null,null,null,null,null,null,null,null,null,null,null,""]
[null,null,null,null,null,"〃",null,null,null,null,null,null,null,null,null,null,null,null,null,null,null,null,null,null,null,null,null,null,null,null,null,null,null,""]
[null,null,null,null,null,"〃",null,null,null,null,null,null,null,null,null,null,null,null,null,null,null,null,null,null,null,null,null,null,null,null,null,null,null,""]
[null,null,null,null,null,"〃",null,null,null,null,null,null,null,null,null,null,null,null,null,null,null,null,null,null,null,null,null,null,null,null,null,null,null,""]
[null,null,null,null,null,"〃",null,null,null,null,null,null,null,null,null,null,null,null,null,null,null,null,null,null,null,null,null,null,null,null,null,null,null,""]
[null,null,null,null,null,"〃",null,null,null,null,null,null,null,null,null,null,null,null,null,null,null,null,null,null,null,null,null,null,null,null,null,null,null,""]
[null,null,null,null,null,"〃",null,null,null,null,null,null,null,null,null,null,null,null,null,null,null,null,null,null,null,null,null,null,null,null,null,null,null,""]
[null,null,null,null,null,"〃",null,null,null,null,null,null,null,null,null,null,null,null,null,null,null,null,null,null,null,null,null,null,null,null,null,null,null,""]
[null,null,null,null,null,null,null,null,null,null,null,null,null,null,null,null,null,null,null,null,null,null,null,null,null,null,null,null,null,null,null,null,null,""]
[null,null,null,null,null,null,null,null,null,null,null,null,null,null,null,null,null,null,null,null,null,null,null,null,null,null,null,null,null,null,null,null,null,""]
[null,null,null,null,null,null,null,null,null,null,null,null,null,null,null,null,null,null,null,null,null,null,null,null,null,null,null,null,null,null,null,null,null,""]
[null,null,null,null,null,null,null,null,null,null,null,null,null,null,null,null,null,null,null,null,null,null,null,null,null,null,null,null,null,null,null,null,null,""]
[null,null,null,null,null,null,null,null,null,null,null,null,null,null,null,null,null,null,null,null,null,null,null,null,null,null,null,null,null,null,null,null,null,""]
[null,null,null,null,null,null,null,null,null,null,null,null,null,null,null,null,null,null,null,null,null,null,null,null,null,null,null,null,null,null,null,null,null,""]
[null,null,null,null,null,null,null,null,null,null,null,null,null,null,null,null,null,null,null,null,null,null,null,null,null,null,null,null,null,null,null,null,null,""]
[null,null,null,null,null,null,null,null,null,null,null,null,null,null,null,null,null,null,null,null,null,null,null,null,null,null,null,null,null,null,null,null,null,""]
[null,null,null,null,null,null,null,null,null,null,null,null,null,null,null,null,null,null,null,null,null,null,null,null,null,null,null,null,null,null,null,null,null,""]
[null,null,null,null,null,null,null,null,null,null,null,null,null,null,null,null,null,null,null,null,null,null,null,null,null,null,null,null,null,null,null,null,null,""]
[null,null,null,null,null,null,null,null,null,null,null,null,null,null,null,null,null,null,null,null,null,null,null,null,null,null,null,null,null,null,null,null,null,""]
[null,null,null,null,null,null,null,null,null,null,null,null,null,null,null,null,null,null,null,null,null,null,null,null,null,null,null,null,null,null,null,null,null,""]
[]
[]
[null,"３．施用粒剤の入力"]
[null,null,null,null,null,null,null,null,null,null,null,null,null,null,null,null,null,null,null,null,null,null,null,null,null,null,null,null,null,null,null,null,null,null,null,null,null,null,null,null,null,null,null,null,null,null,null,null,null,null,null,null,"施用粒剤の日付入力"]
[null,null,null,null,null,"日付",null,null,"施用粒剤名",null,null,null,null,null,null,"施用量（g）",null,null,null,"施用鉢数（鉢）",null,null,null,null,null,"登録施用量",null,null,null,null,"回数",null,"時期"]
[null,null,"１回目",null,null,null,null,null,null,null,null,null,null,null,null,null,null,null,null,null,null,null,null,null,null,{"$f":"IF(I53=\"\",\"\",VLOOKUP(I53,施用粒剤台帳,2,FALSE))","v":""},null,null,null,null,{"$f":"IF(I53=\"\",\"\",VLOOKUP(I53,施用粒剤台帳,3,FALSE))","v":""},null,{"$f":"IF(I53=\"\",\"\",VLOOKUP(I53,施用粒剤台帳,4,FALSE))","v":""}]
[null,null,"２回目",null,null,null,null,null,null,null,null,null,null,null,null,null,null,null,null,null,null,null,null,null,null,{"$f":"IF(I54=\"\",\"\",VLOOKUP(I54,施用粒剤台帳,2,FALSE))","v":""},null,null,null,null,{"$f":"IF(I54=\"\",\"\",VLOOKUP(I54,施用粒剤台帳,3,FALSE))","v":""},null,{"$f":"IF(I54=\"\",\"\",VLOOKUP(I54,施用粒剤台帳,4,FALSE))","v":""}]
[]
[null,"４．硫黄くん蒸剤の入力",null,null,null,null,null,null,null,null,"※使用が２年にまたがるときは、前年の日付の前に年号を付けないとミスになります。"]
[]
[null,null,"履歴シートへの表示確認欄",null,null,null,null,null,null,null,null,null,null,null,null,null,null,"播種日",null,null,{"$f":"IF(F12=\"\",\"\",F12)","v":""}]
[null,null,"開始日",null,null,null,null,null,null,null,null,null,null,null,null,null,null,"定植日",null,null,{"$f":"IF(F13=\"\",\"\",F13)","v":""}]
[null,null,"終了日",null,null,null,null,null,null,null,null,null,null,null,{"$f":"IF(H60=\"\",\"\",IF(H60<H59,\" ミス\",\"\"))","v":""},null,null,"交配日",null,null,{"$f":"IF(F14=\"\",\"\",F14)","v":""}]
[null,null,"１日の使用量",null,null,null,null,2,null,null,null,null,null,null,null,null,null,"収穫日",null,null,{"$f":"IF(F16=\"\",\"\",F16)","v":""}]
[null,null,"総使用量",null,null,null,null,{"$f":"IF(OR(H59=\"\",OR(H60=\"\",H61=\"\")),\"\",(H60-H59)*H61)","v":""},null,null,null,null,null,null,null,null,null,null,null,null,"↑１.で入力した日付です。"]
[]
[null,"５．農薬散布の入力"]
[null,null,null,null,null,null,null,null,null,null,null,null,null,null,null,null,null,null,null,null,null,null,null,null,null,null,null,null,null,null,null,null,null,null,null,null,null,null,null,null,null,null,null,null,null,null,null,null,null,null,null,null,"農薬散布の日付入力"]
[]
[null,null,null,null,null,null,null,null,null,null,null,null,null,null,null,null,null,"Ｂ１",null,null,"Ｂ２",null,null,"Ｂ３",null,null,"Ｂ４",null,null,"Ｂ５",null,null,"Ｂ６",null,null,"Ｂ７",null,null,"Ｂ８"]
[null,null,"使用年月日"]
[null,null,"生育ステージ",null,null,null,null,null,null,null,null,null,null,null,null,null,null,"育苗",null,null,"木作り",null,null,"木作り",null,null,"肥大期",null,null,"肥大期",null,null,"仕上げ",null,null,"仕上げ",null,null,"仕上げ"]
[null,null,"使用農薬名","散布量"]
[null,null,null,null,null,null,null,null,null,null,null,{"$f":"IF(D71=\"\",\"\",VLOOKUP(D71,Ｍ農薬台帳,3,FALSE))","v":""},{"$f":"IF(D71=\"\",\"\",\"-\")","v":""},{"$f":"IF(D71=\"\",\"\",VLOOKUP(D71,Ｍ農薬台帳,2,FALSE))","v":""},{"$f":"IF(D71=\"\",\"\",VLOOKUP(D71,Ｍ農薬台帳,4,FALSE))","v":""}]
[null,null,null,null,null,null,null,null,null,null,null,"","","",""]
[null,null,null,null,null,null,null,null,null,null,null,"","","",""]
[null,null,null,null,null,null,null,null,null,null,null,"","","",""]
[null,null,null,null,null,null,null,null,null,null,null,"","","",""]
[null,null,null,null,null,null,null,null,null,null,null,"","","",""]
[null,null,null,null,null,null,null,null,null,null,null,"","","",""]
[null,null,null,null,null,null,null,null,null,null,null,"","","",""]
[null,null,null,null,null,null,null,null,null,null,null,"","","",""]
[null,null,null,null,null,null,null,null,null,null,null,"","","",""]
[null,null,null,null,null,null,null,null,null,null,null,"","","",""]
[null,null,null,null,null,null,null,null,null,null,null,"","","",""]
[null,null,null,null,null,null,null,null,null,null,null,"","","",""]
[null,null,null,null,null,null,null,null,null,null,null,"","","",""]
[null,null,null,null,null,null,null,null,null,null,null,"","","",""]
[null,null,null,null,null,null,null,null,null,null,null,"","","",""]
[]
[null,"６．植物成長調整剤の入力",null,null,null,null,null,null,null,null,null,"アークランド液剤",null,null,null,null,null,null,"　を使用した。"]
[]
[null,null,null,null,null,"日付",null,null,"希釈倍数",null,null,null,null,"散布量"]
[null,null,"1回目"]
[null,null,"2回目"]
[]
[null,"７．トップジンＭ水和剤の入力","トップジンＭ水和剤",null,null,null,null,null,null,"　の入力"]
[]
[null,null,null,null,null,"日付",null,null,"希釈倍数",null,null,null,null,"散布量"]
[null,null,"1回目"]
[null,null,"2回目"]
[null,null,"3回目"]
[null,null,"4回目"]
[]
[null,"８．施用液肥の入力"]
[]
[null,null,null,null,"日付",null,null,"液肥・葉面散布剤名",null,null,null,null,null,null,null,null,"使用量"]
[null,null,1]
[null,null,2]
[null,null,3]
[null,null,4]
[null,null,5]
[null,null,6]
[null,null,7]
[null,null,8]
[null,null,9]
[null,null,10]
[null,null,11]
[null,null,12]
[null,null,13]
[null,null,14]
[null,null,15]
[null,null,16]
[null,null,17]
[null,null,18]
[]
[null,"９.小メロンの出荷がある場合は、この枠に記載してください。リストから選べます。→"]
[]
[null,"10．印刷プレビューボタンを押し　印刷状態の確認をして　良ければそのまま印刷してください。"]
[]
[null,"11．以上で終りです。お疲れ様でした。"]

{"sheet":"９号Ｐ","index":19,"n_rows":36,"n_cols":88,"rows_kept":36,"cut":false,"hidden":false,"merged":[[4,1,5,2],[35,84,35,91],[34,76,34,83],[34,84,34,91],[35,13,35,17],[35,18,35,25],[35,26,35,33],[33,87,33,91],[35,55,35,62],[35,63,35,70],[35,71,35,75],[35,76,35,83],[34,13,34,17],[34,18,34,25],[34,26,34,33],[34,34,35,49],[34,50,34,54],[35,50,35,54],[32,48,32,54],[32,5,32,7],[33,27,33,33],[33,34,33,40],[31,55,31,61],[31,62,31,68],[0,64,0,89],[34,55,34,62],[32,74,32,86],[32,87,32,91],[31,87,31,91],[31,69,31,73],[31,74,31,86],[30,62,30,68],[30,69,30,73],[29,87,29,91],[33,74,33,86],[34,63,34,70],[34,71,34,75],[33,55,33,61],[33,62,33,68],[32,62,32,68],[32,69,32,73],[32,55,32,61],[33,69,33,73],[30,74,30,86],[30,87,30,91],[28,69,28,73],[28,74,28,86],[29,69,29,73],[31,27,31,33],[31,34,31,40],[31,41,31,47],[31,48,31,54],[33,41,33,47],[33,48,33,54],[32,27,32,33],[32,34,32,40],[32,41,32,47],[30,41,30,47],[30,48,30,54],[30,5,30,7],[30,10,30,12],[30,13,30,19],[30,20,30,26],[30,27,30,33],[30,34,30,40],[30,55,30,61],[28,62,28,68],[29,27,29,33],[29,34,29,40],[29,41,29,47],[29,48,29,54],[28,48,28,54],[28,55,28,61],[29,55,29,61],[29,62,29,68],[29,74,29,86],[28,87,28,91],[27,87,27,91],[28,5,28,7],[28,10,28,12],[28,13,28,19],[28,20,28,26],[28,27,28,33],[28,34,28,40],[28,41,28,47],[27,69,27,73],[27,74,27,86],[27,27,27,33],[27,34,27,40],[27,41,27,47],[27,48,27,54],[27,5,27,7],[27,10,27,12],[27,13,27,19],[27,20,27,26],[29,5,29,7],[29,10,29,12],[29,13,29,19],[29,20,29,26],[26,62,26,68],[26,69,26,73],[26,48,26,54],[26,55,26,61],[27,55,27,61],[27,62,27,68],[26,87,26,91],[25,87,25,91],[26,5,26,7],[26,10,26,12],[26,13,26,19],[26,20,26,26],[26,27,26,33],[26,34,26,40],[26,41,26,47],[25,74,25,86],[25,27,25,33],[25,34,25,40],[25,41,25,47],[25,48,25,54],[26,74,26,86],[25,55,25,61],[25,62,25,68],[25,69,25,73],[24,41,24,47],[25,5,25,7],[25,10,25,12],[25,13,25,19],[25,20,25,26],[24,62,24,68],[24,5,24,7],[24,10,24,12],[24,13,24,19],[24,20,24,26],[24,27,24,33],[24,34,24,40],[23,74,23,86],[22,74,22,86],[22,87,22,91],[24,74,24,86],[24,87,24,91],[23,87,23,91],[23,41,23,47],[23,5,23,7],[23,10,23,12],[23,13,23,19],[23,20,23,26],[23,27,23,33],[23,34,23,40],[23,48,23,54],[22,48,22,54],[22,55,22,61],[22,62,22,68],[22,69,22,73],[23,55,23,61],[23,62,23,68],[23,69,23,73],[24,69,24,73],[24,48,24,54],[24,55,24,61],[21,69,21,73],[21,74,21,86],[21,87,21,91],[22,5,22,7],[22,10,22,12],[22,13,22,19],[22,20,22,26],[22,27,22,33],[22,34,22,40],[22,41,22,47],[21,41,21,47],[21,48,21,54],[21,55,21,61],[21,62,21,68],[21,13,21,19],[21,20,21,26],[21,27,21,33],[21,34,21,40],[20,69,20,73],[20,74,20,86],[20,87,20,91],[19,87,19,91],[20,5,20,7],[20,10,20,12],[20,13,20,19],[20,20,20,26],[20,27,20,33],[20,34,20,40],[20,41,20,47],[20,48,20,54],[20,55,20,61],[19,55,19,61],[19,62,19,68],[20,62,20,68],[19,69,19,73],[19,74,19,86],[19,27,19,33],[19,34,19,40],[19,41,19,47],[19,48,19,54],[18,69,18,73],[18,74,18,86],[18,87,18,91],[17,87,17,91],[18,5,18,7],[18,10,18,12],[18,13,18,19],[18,20,18,26],[18,27,18,33],[18,34,18,40],[18,41,18,47],[18,48,18,54],[18,55,18,61],[17,55,17,61],[17,62,17,68],[18,62,18,68],[17,69,17,73],[17,74,17,86],[17,27,17,33],[17,34,17,40],[17,41,17,47],[17,48,17,54],[17,4,35,4],[17,5,17,12],[17,13,17,19],[17,20,17,26],[19,5,19,7],[19,10,19,12],[19,13,19,19],[19,20,19,26],[21,5,21,7],[21,10,21,12],[31,5,31,7],[31,10,31,12],[31,13,31,19],[31,20,31,26],[32,10,32,12],[32,13,32,19],[32,20,32,26],[33,5,33,7],[33,10,33,12],[33,13,33,19],[33,20,33,26],[34,5,34,12],[35,5,35,12],[16,4,16,12],[16,13,16,19],[16,20,16,26],[16,27,16,33],[16,34,16,40],[16,41,16,47],[16,48,16,54],[16,55,16,61],[15,34,15,40],[15,41,15,47],[15,48,15,54],[15,55,15,61],[15,4,15,12],[15,13,15,19],[15,20,15,26],[15,27,15,33],[13,33,13,37],[10,53,10,57],[11,53,12,57],[16,62,16,68],[16,69,16,73],[16,74,16,86],[16,87,16,91],[15,62,15,68],[15,69,15,91],[11,4,12,5],[11,6,12,12],[11,13,12,17],[11,18,12,27],[11,28,12,32],[11,33,12,37],[11,38,12,47],[11,48,12,52],[10,83,11,91],[11,58,12,67],[11,68,12,72],[12,73,13,81],[12,82,13,91],[13,68,13,72],[10,58,10,67],[10,68,10,72],[10,73,11,82],[13,38,13,47],[13,48,13,52],[13,53,13,57],[13,58,13,67],[13,13,13,17],[13,18,13,27],[13,28,13,32],[9,58,9,67],[9,68,9,72],[9,73,9,91],[10,6,10,12],[10,13,10,17],[10,18,10,27],[10,28,10,32],[10,33,10,37],[10,38,10,47],[10,48,10,52],[9,33,9,37],[9,38,9,47],[9,48,9,52],[9,53,9,57],[9,6,9,12],[9,13,9,17],[9,18,9,27],[9,28,9,32],[8,68,8,72],[8,73,8,80],[7,78,7,91],[8,81,8,91],[7,33,7,37],[7,38,7,47],[7,48,7,52],[7,53,7,57],[8,6,8,12],[8,13,8,17],[8,18,8,27],[8,28,8,32],[8,33,8,37],[8,38,8,47],[8,48,8,52],[8,53,8,57],[8,58,8,67],[5,73,5,77],[5,78,5,91],[4,68,4,72],[4,73,4,91],[4,58,4,67],[7,6,7,7],[7,13,7,17],[7,18,7,27],[7,28,7,32],[6,73,6,80],[6,81,6,91],[6,33,6,37],[6,38,6,47],[6,48,6,52],[6,53,6,57],[6,7,6,8],[6,13,6,17],[6,18,6,27],[6,28,6,32],[7,58,7,67],[7,68,7,72],[7,73,7,77],[5,48,5,52],[4,38,4,47],[4,48,4,52],[4,53,4,57],[5,58,5,67],[5,68,5,72],[5,53,5,57],[6,58,6,67],[6,68,6,72],[2,4,2,5],[2,6,2,31],[4,13,4,27],[4,33,4,37],[5,13,5,17],[5,18,5,27],[5,28,5,32],[5,33,5,37],[5,38,5,47]]}
[27,null,null,null,null,null,null,null,null,null,null,null,null,null,null,null,null,null,null,null,null,null,null,null,null,null,null,null,null,null,null,null,null,null,null,null,null,null,null,null,null,null,null,null,null,null,null,null,null,null,null,null,null,null,null,null,null,null,null,null,null,null,null,null,{"$f":"IF('９号入力'!AB124=\"\",\"\",'９号入力'!AB124)","v":""}]
[]
[null,null,null,null,"栽培履歴",null,{"$f":"メニュー画面!F16","v":"静岡県温室農業協同組合（クラウンメロン支所）"},null,null,null,null,null,null,null,null,null,null,null,null,null,null,null,null,null,null,null,null,null,null,null,null,null,"検査日",null,null,null,null,null,"令和　　年　　月　　日",null,null,null,null,null,null,null,null,null,null,null,null,null,null,null,"検査責任者氏名　　　　　　　　　　 　　　　　　　　　　　　　印"]
[]
[null,"９号室",null,null,"組合員番号：",null,{"$f":"メニュー画面!F18","v":"４　３　６"},null,null,null,null,null,null,"施用資材名",null,null,null,null,null,null,null,null,null,null,null,null,null,null,"投入量",null,null,null,null,{"$f":"IF('９号入力'!F30=\"\",\"\",'９号入力'!F30)","v":"〃"},null,null,null,null,{"$f":"IF('９号入力'!AH30=\"\",\"\",'９号入力'!AH30)","v":""},null,null,null,null,null,null,null,null,null,{"$f":"IF('９号入力'!AA30=\"\",\"\",'９号入力'!AA30)","v":""},null,null,null,null,{"$f":"IF('９号入力'!F39=\"\",\"\",'９号入力'!F39)","v":""},null,null,null,null,{"$f":"IF('９号入力'!AH39=\"\",\"\",'９号入力'!AH39)","v":""},null,null,null,null,null,null,null,null,null,{"$f":"IF('９号入力'!AA39=\"\",\"\",'９号入力'!AA39)","v":""},null,null,null,null,"施用粒剤"]
[null,null,null,null,"氏名：",null,{"$f":"メニュー画面!F20","v":"中　條　文　義"},null,null,null,null,null,null,{"$f":"IF('９号入力'!F22=\"\",\"\",'９号入力'!F22)","v":""},null,null,null,null,{"$f":"IF('９号入力'!AH22=\"\",\"\",'９号入力'!AH22)","v":"育苗"},null,null,null,null,null,null,null,null,null,{"$f":"IF('９号入力'!AA22=\"\",\"\",'９号入力'!AA22)","v":""},null,null,null,null,{"$f":"IF('９号入力'!F31=\"\",\"\",'９号入力'!F31)","v":"〃"},null,null,null,null,{"$f":"IF('９号入力'!AH31=\"\",\"\",'９号入力'!AH31)","v":""},null,null,null,null,null,null,null,null,null,{"$f":"IF('９号入力'!AA31=\"\",\"\",'９号入力'!AA31)","v":""},null,null,null,null,{"$f":"IF('９号入力'!F40=\"\",\"\",'９号入力'!F40)","v":""},null,null,null,null,{"$f":"IF('９号入力'!AH40=\"\",\"\",'９号入力'!AH40)","v":""},null,null,null,null,null,null,null,null,null,{"$f":"IF('９号入力'!AA40=\"\",\"\",'９号入力'!AA40)","v":""},null,null,null,null,{"$f":"IF('９号入力'!F53=\"\",\"/\",'９号入力'!F53)","v":"/"},null,null,null,null,{"$f":"IF('９号入力'!I53=\"\",\"\",'９号入力'!I53)","v":""}]
[null,null,null,null,"部屋番号：",null,{"$f":"IF('９号入力'!F9=\"\",\"\",'９号入力'!F9)","v":9},{"$f":"IF('９号入力'!F10=\"\",\"\",'９号入力'!F10)","v":""},null,null,null,null,null,{"$f":"IF('９号入力'!F23=\"\",\"\",'９号入力'!F23)","v":"2006-01-01"},null,null,null,null,{"$f":"IF('９号入力'!AH23=\"\",\"\",'９号入力'!AH23)","v":""},null,null,null,null,null,null,null,null,null,{"$f":"IF('９号入力'!AA23=\"\",\"\",'９号入力'!AA23)","v":""},null,null,null,null,{"$f":"IF('９号入力'!F32=\"\",\"\",'９号入力'!F32)","v":"〃"},null,null,null,null,{"$f":"IF('９号入力'!AH32=\"\",\"\",'９号入力'!AH32)","v":""},null,null,null,null,null,null,null,null,null,{"$f":"IF('９号入力'!AA32=\"\",\"\",'９号入力'!AA32)","v":""},null,null,null,null,{"$f":"IF('９号入力'!F41=\"\",\"\",'９号入力'!F41)","v":""},null,null,null,null,{"$f":"IF('９号入力'!AH41=\"\",\"\",'９号入力'!AH41)","v":""},null,null,null,null,null,null,null,null,null,{"$f":"IF('９号入力'!AA41=\"\",\"\",'９号入力'!AA41)","v":""},null,null,null,null,{"$f":"IF('９号入力'!P53=0,\"g\",'９号入力'!P53)","v":"g"},null,null,null,null,null,null,null,{"$f":"IF('９号入力'!T53=0,0,'９号入力'!T53)","v":0}]
[null,null,null,null,"品種名：",null,{"$f":"IF('９号入力'!F11=\"\",\"\",'９号入力'!F11)","v":"夏　　系"},null,null,null,null,null,null,{"$f":"IF('９号入力'!F24=\"\",\"\",'９号入力'!F24)","v":"〃"},null,null,null,null,{"$f":"IF('９号入力'!AH24=\"\",\"\",'９号入力'!AH24)","v":""},null,null,null,null,null,null,null,null,null,{"$f":"IF('９号入力'!AA24=\"\",\"\",'９号入力'!AA24)","v":""},null,null,null,null,{"$f":"IF('９号入力'!F33=\"\",\"\",'９号入力'!F33)","v":"〃"},null,null,null,null,{"$f":"IF('９号入力'!AH33=\"\",\"\",'９号入力'!AH33)","v":""},null,null,null,null,null,null,null,null,null,{"$f":"IF('９号入力'!AA33=\"\",\"\",'９号入力'!AA33)","v":""},null,null,null,null,{"$f":"IF('９号入力'!F42=\"\",\"\",'９号入力'!F42)","v":""},null,null,null,null,{"$f":"IF('９号入力'!AH42=\"\",\"\",'９号入力'!AH42)","v":""},null,null,null,null,null,null,null,null,null,{"$f":"IF('９号入力'!AA42=\"\",\"\",'９号入力'!AA42)","v":""},null,null,null,null,{"$f":"IF('９号入力'!F54=\"\",\"/\",'９号入力'!F54)","v":"/"},null,null,null,null,{"$f":"IF('９号入力'!I54=\"\",\"\",'９号入力'!I54)","v":""}]
[null,null,null,null,"播種日：",null,{"$f":"IF('９号入力'!F12=\"\",\"\",'９号入力'!F12)","v":""},null,null,null,null,null,null,{"$f":"IF('９号入力'!F25=\"\",\"\",'９号入力'!F25)","v":"〃"},null,null,null,null,{"$f":"IF('９号入力'!AH25=\"\",\"\",'９号入力'!AH25)","v":""},null,null,null,null,null,null,null,null,null,{"$f":"IF('９号入力'!AA25=\"\",\"\",'９号入力'!AA25)","v":""},null,null,null,null,{"$f":"IF('９号入力'!F34=\"\",\"\",'９号入力'!F34)","v":"〃"},null,null,null,null,{"$f":"IF('９号入力'!AH34=\"\",\"\",'９号入力'!AH34)","v":""},null,null,null,null,null,null,null,null,null,{"$f":"IF('９号入力'!AA34=\"\",\"\",'９号入力'!AA34)","v":""},null,null,null,null,{"$f":"IF('９号入力'!F43=\"\",\"\",'９号入力'!F43)","v":""},null,null,null,null,{"$f":"IF('９号入力'!AH43=\"\",\"\",'９号入力'!AH43)","v":""},null,null,null,null,null,null,null,null,null,{"$f":"IF('９号入力'!AA43=\"\",\"\",'９号入力'!AA43)","v":""},null,null,null,null,{"$f":"IF('９号入力'!P54=0,\"g\",'９号入力'!P54)","v":"g"},null,null,null,null,null,null,null,{"$f":"IF('９号入力'!T54=0,0,'９号入力'!T54)","v":0}]
[null,null,null,null,"定植日：",null,{"$f":"IF('９号入力'!F13=\"\",\"\",'９号入力'!F13)","v":""},null,null,null,null,null,null,{"$f":"IF('９号入力'!F26=\"\",\"\",'９号入力'!F26)","v":"〃"},null,null,null,null,{"$f":"IF('９号入力'!AH26=\"\",\"\",'９号入力'!AH26)","v":""},null,null,null,null,null,null,null,null,null,{"$f":"IF('９号入力'!AA26=\"\",\"\",'９号入力'!AA26)","v":""},null,null,null,null,{"$f":"IF('９号入力'!F35=\"\",\"\",'９号入力'!F35)","v":"〃"},null,null,null,null,{"$f":"IF('９号入力'!AH35=\"\",\"\",'９号入力'!AH35)","v":""},null,null,null,null,null,null,null,null,null,{"$f":"IF('９号入力'!AA35=\"\",\"\",'９号入力'!AA35)","v":""},null,null,null,null,{"$f":"IF('９号入力'!F44=\"\",\"\",'９号入力'!F44)","v":""},null,null,null,null,{"$f":"IF('９号入力'!AH44=\"\",\"\",'９号入力'!AH44)","v":""},null,null,null,null,null,null,null,null,null,{"$f":"IF('９号入力'!AA44=\"\",\"\",'９号入力'!AA44)","v":""},null,null,null,null,"硫黄くん蒸剤"]
[null,null,null,null,"交配日：",null,{"$f":"IF('９号入力'!F14=\"\",\"\",'９号入力'!F14)","v":""},null,null,null,null,null,null,{"$f":"IF('９号入力'!F27=\"\",\"\",'９号入力'!F27)","v":"〃"},null,null,null,null,{"$f":"IF('９号入力'!AH27=\"\",\"\",'９号入力'!AH27)","v":""},null,null,null,null,null,null,null,null,null,{"$f":"IF('９号入力'!AA27=\"\",\"\",'９号入力'!AA27)","v":""},null,null,null,null,{"$f":"IF('９号入力'!F36=\"\",\"\",'９号入力'!F36)","v":""},null,null,null,null,{"$f":"IF('９号入力'!AH36=\"\",\"\",'９号入力'!AH36)","v":""},null,null,null,null,null,null,null,null,null,{"$f":"IF('９号入力'!AA36=\"\",\"\",'９号入力'!AA36)","v":""},null,null,null,null,{"$f":"IF('９号入力'!F45=\"\",\"\",'９号入力'!F45)","v":""},null,null,null,null,{"$f":"IF('９号入力'!AH45=\"\",\"\",'９号入力'!AH45)","v":""},null,null,null,null,null,null,null,null,null,{"$f":"IF('９号入力'!AA45=\"\",\"\",'９号入力'!AA45)","v":""},null,null,null,null,{"$f":"IF('９号入力'!H59=\"\",\"/      ～\",'９号入力'!H59)","v":"/      ～"},null,null,null,null,null,null,null,null,null,{"$f":"IF('９号入力'!H60=\"\",\"    /\",'９号入力'!H60)","v":"    /"}]
[null,null,null,null,"収穫日：",null,{"$f":"IF('９号入力'!F16=\"\",\"\",'９号入力'!F16)","v":""},null,null,null,null,null,null,{"$f":"IF('９号入力'!F28=\"\",\"\",'９号入力'!F28)","v":"〃"},null,null,null,null,{"$f":"IF('９号入力'!AH28=\"\",\"\",'９号入力'!AH28)","v":""},null,null,null,null,null,null,null,null,null,{"$f":"IF('９号入力'!AA28=\"\",\"\",'９号入力'!AA28)","v":""},null,null,null,null,{"$f":"IF('９号入力'!F37=\"\",\"\",'９号入力'!F37)","v":""},null,null,null,null,{"$f":"IF('９号入力'!AH37=\"\",\"\",'９号入力'!AH37)","v":""},null,null,null,null,null,null,null,null,null,{"$f":"IF('９号入力'!AA37=\"\",\"\",'９号入力'!AA37)","v":""},null,null,null,null,{"$f":"IF('９号入力'!F46=\"\",\"\",'９号入力'!F46)","v":""},null,null,null,null,{"$f":"IF('９号入力'!AH46=\"\",\"\",'９号入力'!AH46)","v":""},null,null,null,null,null,null,null,null,null,{"$f":"IF('９号入力'!AA46=\"\",\"\",'９号入力'!AA46)","v":""}]
[null,null,null,null,null,null,null,null,null,null,null,null,null,null,null,null,null,null,null,null,null,null,null,null,null,null,null,null,null,null,null,null,null,null,null,null,null,null,null,null,null,null,null,null,null,null,null,null,null,null,null,null,null,null,null,null,null,null,null,null,null,null,null,null,null,null,null,null,null,null,null,null,null,{"$f":"IF('９号入力'!H61=\"\",\"g/日\",'９号入力'!H61)","v":2},null,null,null,null,null,null,null,null,{"$f":"IF('９号入力'!H62=\"\",\"g/部屋\",'９号入力'!H62)","v":"g/部屋"}]
[null,null,null,null,"採果日数：",null,{"$f":"'９号入力'!F15","v":0},null,null,null,null,null,null,{"$f":"IF('９号入力'!F29=\"\",\"\",'９号入力'!F29)","v":"〃"},null,null,null,null,{"$f":"IF('９号入力'!AH29=\"\",\"\",'９号入力'!AH29)","v":""},null,null,null,null,null,null,null,null,null,{"$f":"IF('９号入力'!AA29=\"\",\"\",'９号入力'!AA29)","v":""},null,null,null,null,{"$f":"IF('９号入力'!F38=\"\",\"\",'９号入力'!F38)","v":""},null,null,null,null,{"$f":"IF('９号入力'!AH38=\"\",\"\",'９号入力'!AH38)","v":""},null,null,null,null,null,null,null,null,null,{"$f":"IF('９号入力'!AA38=\"\",\"\",'９号入力'!AA38)","v":""},null,null,null,null,{"$f":"IF('９号入力'!F47=\"\",\"\",'９号入力'!F47)","v":""},null,null,null,null,{"$f":"IF('９号入力'!AH47=\"\",\"\",'９号入力'!AH47)","v":""},null,null,null,null,null,null,null,null,null,{"$f":"IF('９号入力'!AA47=\"\",\"\",'９号入力'!AA47)","v":""}]
[]
[null,null,null,null,"使用年月日",null,null,null,null,null,null,null,null,{"$f":"IF('９号入力'!R68=\"\",\"/\",'９号入力'!R68)","v":"/"},null,null,null,null,null,null,{"$f":"IF('９号入力'!U68=\"\",\"/\",'９号入力'!U68)","v":"/"},null,null,null,null,null,null,{"$f":"IF('９号入力'!X68=\"\",\"/\",'９号入力'!X68)","v":"/"},null,null,null,null,null,null,{"$f":"IF('９号入力'!AA68=\"\",\"/\",'９号入力'!AA68)","v":"/"},null,null,null,null,null,null,{"$f":"IF('９号入力'!AD68=\"\",\"/\",'９号入力'!AD68)","v":"/"},null,null,null,null,null,null,{"$f":"IF('９号入力'!AG68=\"\",\"/\",'９号入力'!AG68)","v":"/"},null,null,null,null,null,null,{"$f":"IF('９号入力'!AJ68=\"\",\"/\",'９号入力'!AJ68)","v":"/"},null,null,null,null,null,null,{"$f":"IF('９号入力'!AM68=\"\",\"/\",'９号入力'!AM68)","v":"/"},null,null,null,null,null,null,"使用液肥・葉面散布剤"]
[null,null,null,null,"生育ステージ",null,null,null,null,null,null,null,null,{"$f":"IF('９号入力'!R69=\"\",\"\",'９号入力'!R69)","v":"育苗"},null,null,null,null,null,null,{"$f":"IF('９号入力'!U69=\"\",\"\",'９号入力'!U69)","v":"木作り"},null,null,null,null,null,null,{"$f":"IF('９号入力'!X69=\"\",\"\",'９号入力'!X69)","v":"木作り"},null,null,null,null,null,null,{"$f":"IF('９号入力'!AA69=\"\",\"\",'９号入力'!AA69)","v":"肥大期"},null,null,null,null,null,null,{"$f":"IF('９号入力'!AD69=\"\",\"\",'９号入力'!AD69)","v":"肥大期"},null,null,null,null,null,null,{"$f":"IF('９号入力'!AG69=\"\",\"\",'９号入力'!AG69)","v":"仕上げ"},null,null,null,null,null,null,{"$f":"IF('９号入力'!AJ69=\"\",\"\",'９号入力'!AJ69)","v":"仕上げ"},null,null,null,null,null,null,{"$f":"IF('９号入力'!AM69=\"\",\"\",'９号入力'!AM69)","v":"仕上げ"},null,null,null,null,null,null,{"$f":"IF('９号入力'!E105=\"\",\"/\",'９号入力'!E105)","v":"/"},null,null,null,null,{"$f":"IF('９号入力'!H105=\"\",\"\",'９号入力'!H105)","v":""},null,null,null,null,null,null,null,null,null,null,null,null,{"$f":"IF('９号入力'!Q105=0,0,'９号入力'!Q105)","v":0}]
[null,null,null,null,"使用農薬名","散布量",null,null,null,null,null,null,null,{"$f":"IF('９号入力'!R70=0,0,'９号入力'!R70)","v":0},null,null,null,null,null,null,{"$f":"IF('９号入力'!U70=0,0,'９号入力'!U70)","v":0},null,null,null,null,null,null,{"$f":"IF('９号入力'!X70=0,0,'９号入力'!X70)","v":0},null,null,null,null,null,null,{"$f":"IF('９号入力'!AA70=0,0,'９号入力'!AA70)","v":0},null,null,null,null,null,null,{"$f":"IF('９号入力'!AD70=0,0,'９号入力'!AD70)","v":0},null,null,null,null,null,null,{"$f":"IF('９号入力'!AG70=0,0,'９号入力'!AG70)","v":0},null,null,null,null,null,null,{"$f":"IF('９号入力'!AJ70=0,0,'９号入力'!AJ70)","v":0},null,null,null,null,null,null,{"$f":"IF('９号入力'!AM70=0,0,'９号入力'!AM70)","v":0},null,null,null,null,null,null,{"$f":"IF('９号入力'!E106=\"\",\"\",'９号入力'!E106)","v":""},null,null,null,null,{"$f":"IF('９号入力'!H106=\"\",\"\",'９号入力'!H106)","v":""},null,null,null,null,null,null,null,null,null,null,null,null,{"$f":"IF('９号入力'!Q106=0,\"\",'９号入力'!Q106)","v":""}]
[null,null,null,null,null,{"$f":"IF('９号入力'!D71=\"\",\"\",'９号入力'!D71)","v":""},null,null,{"$f":"IF(F19=\"\",\"\",VLOOKUP(F19,Ｍ農薬台帳,3,FALSE))","v":""},{"$f":"IF(F19=\"\",\"\",\"-\")","v":""},{"$f":"IF(F19=\"\",\"\",VLOOKUP(F19,Ｍ農薬台帳,2,FALSE))","v":""},null,null,{"$f":"IF('９号入力'!R71=\"\",\"\",'９号入力'!R71)","v":""},null,null,null,null,null,null,{"$f":"IF('９号入力'!U71=\"\",\"\",'９号入力'!U71)","v":""},null,null,null,null,null,null,{"$f":"IF('９号入力'!X71=\"\",\"\",'９号入力'!X71)","v":""},null,null,null,null,null,null,{"$f":"IF('９号入力'!AA71=\"\",\"\",'９号入力'!AA71)","v":""},null,null,null,null,null,null,{"$f":"IF('９号入力'!AD71=\"\",\"\",'９号入力'!AD71)","v":""},null,null,null,null,null,null,{"$f":"IF('９号入力'!AG71=\"\",\"\",'９号入力'!AG71)","v":""},null,null,null,null,null,null,{"$f":"IF('９号入力'!AJ71=\"\",\"\",'９号入力'!AJ71)","v":""},null,null,null,null,null,null,{"$f":"IF('９号入力'!AM71=\"\",\"\",'９号入力'!AM71)","v":""},null,null,null,null,null,null,{"$f":"IF('９号入力'!E107=\"\",\"\",'９号入力'!E107)","v":""},null,null,null,null,{"$f":"IF('９号入力'!H107=\"\",\"\",'９号入力'!H107)","v":""},null,null,null,null,null,null,null,null,null,null,null,null,{"$f":"IF('９号入力'!Q107=0,\"\",'９号入力'!Q107)","v":""}]
[null,null,null,null,null,{"$f":"IF('９号入力'!D72=\"\",\"\",'９号入力'!D72)","v":""},null,null,"","","",null,null,{"$f":"IF('９号入力'!R72=\"\",\"\",'９号入力'!R72)","v":""},null,null,null,null,null,null,{"$f":"IF('９号入力'!U72=\"\",\"\",'９号入力'!U72)","v":""},null,null,null,null,null,null,{"$f":"IF('９号入力'!X72=\"\",\"\",'９号入力'!X72)","v":""},null,null,null,null,null,null,{"$f":"IF('９号入力'!AA72=\"\",\"\",'９号入力'!AA72)","v":""},null,null,null,null,null,null,{"$f":"IF('９号入力'!AD72=\"\",\"\",'９号入力'!AD72)","v":""},null,null,null,null,null,null,{"$f":"IF('９号入力'!AG72=\"\",\"\",'９号入力'!AG72)","v":""},null,null,null,null,null,null,{"$f":"IF('９号入力'!AJ72=\"\",\"\",'９号入力'!AJ72)","v":""},null,null,null,null,null,null,{"$f":"IF('９号入力'!AM72=\"\",\"\",'９号入力'!AM72)","v":""},null,null,null,null,null,null,{"$f":"IF('９号入力'!E108=\"\",\"\",'９号入力'!E108)","v":""},null,null,null,null,{"$f":"IF('９号入力'!H108=\"\",\"\",'９号入力'!H108)","v":""},null,null,null,null,null,null,null,null,null,null,null,null,{"$f":"IF('９号入力'!Q108=0,\"\",'９号入力'!Q108)","v":""}]
[null,null,null,null,null,{"$f":"IF('９号入力'!D73=\"\",\"\",'９号入力'!D73)","v":""},null,null,"","","",null,null,{"$f":"IF('９号入力'!R73=\"\",\"\",'９号入力'!R73)","v":""},null,null,null,null,null,null,{"$f":"IF('９号入力'!U73=\"\",\"\",'９号入力'!U73)","v":""},null,null,null,null,null,null,{"$f":"IF('９号入力'!X73=\"\",\"\",'９号入力'!X73)","v":""},null,null,null,null,null,null,{"$f":"IF('９号入力'!AA73=\"\",\"\",'９号入力'!AA73)","v":""},null,null,null,null,null,null,{"$f":"IF('９号入力'!AD73=\"\",\"\",'９号入力'!AD73)","v":""},null,null,null,null,null,null,{"$f":"IF('９号入力'!AG73=\"\",\"\",'９号入力'!AG73)","v":""},null,null,null,null,null,null,{"$f":"IF('９号入力'!AJ73=\"\",\"\",'９号入力'!AJ73)","v":""},null,null,null,null,null,null,{"$f":"IF('９号入力'!AM73=\"\",\"\",'９号入力'!AM73)","v":""},null,null,null,null,null,null,{"$f":"IF('９号入力'!E109=\"\",\"\",'９号入力'!E109)","v":""},null,null,null,null,{"$f":"IF('９号入力'!H109=\"\",\"\",'９号入力'!H109)","v":""},null,null,null,null,null,null,null,null,null,null,null,null,{"$f":"IF('９号入力'!Q109=0,\"\",'９号入力'!Q109)","v":""}]
[null,null,null,null,null,{"$f":"IF('９号入力'!D74=\"\",\"\",'９号入力'!D74)","v":""},null,null,"","","",null,null,{"$f":"IF('９号入力'!R74=\"\",\"\",'９号入力'!R74)","v":""},null,null,null,null,null,null,{"$f":"IF('９号入力'!U74=\"\",\"\",'９号入力'!U74)","v":""},null,null,null,null,null,null,{"$f":"IF('９号入力'!X74=\"\",\"\",'９号入力'!X74)","v":""},null,null,null,null,null,null,{"$f":"IF('９号入力'!AA74=\"\",\"\",'９号入力'!AA74)","v":""},null,null,null,null,null,null,{"$f":"IF('９号入力'!AD74=\"\",\"\",'９号入力'!AD74)","v":""},null,null,null,null,null,null,{"$f":"IF('９号入力'!AG74=\"\",\"\",'９号入力'!AG74)","v":""},null,null,null,null,null,null,{"$f":"IF('９号入力'!AJ74=\"\",\"\",'９号入力'!AJ74)","v":""},null,null,null,null,null,null,{"$f":"IF('９号入力'!AM74=\"\",\"\",'９号入力'!AM74)","v":""},null,null,null,null,null,null,{"$f":"IF('９号入力'!E110=\"\",\"\",'９号入力'!E110)","v":""},null,null,null,null,{"$f":"IF('９号入力'!H110=\"\",\"\",'９号入力'!H110)","v":""},null,null,null,null,null,null,null,null,null,null,null,null,{"$f":"IF('９号入力'!Q110=0,\"\",'９号入力'!Q110)","v":""}]
[null,null,null,null,null,{"$f":"IF('９号入力'!D75=\"\",\"\",'９号入力'!D75)","v":""},null,null,"","","",null,null,{"$f":"IF('９号入力'!R75=\"\",\"\",'９号入力'!R75)","v":""},null,null,null,null,null,null,{"$f":"IF('９号入力'!U75=\"\",\"\",'９号入力'!U75)","v":""},null,null,null,null,null,null,{"$f":"IF('９号入力'!X75=\"\",\"\",'９号入力'!X75)","v":""},null,null,null,null,null,null,{"$f":"IF('９号入力'!AA75=\"\",\"\",'９号入力'!AA75)","v":""},null,null,null,null,null,null,{"$f":"IF('９号入力'!AD75=\"\",\"\",'９号入力'!AD75)","v":""},null,null,null,null,null,null,{"$f":"IF('９号入力'!AG75=\"\",\"\",'９号入力'!AG75)","v":""},null,null,null,null,null,null,{"$f":"IF('９号入力'!AJ75=\"\",\"\",'９号入力'!AJ75)","v":""},null,null,null,null,null,null,{"$f":"IF('９号入力'!AM75=\"\",\"\",'９号入力'!AM75)","v":""},null,null,null,null,null,null,{"$f":"IF('９号入力'!E111=\"\",\"\",'９号入力'!E111)","v":""},null,null,null,null,{"$f":"IF('９号入力'!H111=\"\",\"\",'９号入力'!H111)","v":""},null,null,null,null,null,null,null,null,null,null,null,null,{"$f":"IF('９号入力'!Q111=0,\"\",'９号入力'!Q111)","v":""}]
[null,null,null,null,null,{"$f":"IF('９号入力'!D76=\"\",\"\",'９号入力'!D76)","v":""},null,null,"","","",null,null,{"$f":"IF('９号入力'!R76=\"\",\"\",'９号入力'!R76)","v":""},null,null,null,null,null,null,{"$f":"IF('９号入力'!U76=\"\",\"\",'９号入力'!U76)","v":""},null,null,null,null,null,null,{"$f":"IF('９号入力'!X76=\"\",\"\",'９号入力'!X76)","v":""},null,null,null,null,null,null,{"$f":"IF('９号入力'!AA76=\"\",\"\",'９号入力'!AA76)","v":""},null,null,null,null,null,null,{"$f":"IF('９号入力'!AD76=\"\",\"\",'９号入力'!AD76)","v":""},null,null,null,null,null,null,{"$f":"IF('９号入力'!AG76=\"\",\"\",'９号入力'!AG76)","v":""},null,null,null,null,null,null,{"$f":"IF('９号入力'!AJ76=\"\",\"\",'９号入力'!AJ76)","v":""},null,null,null,null,null,null,{"$f":"IF('９号入力'!AM76=\"\",\"\",'９号入力'!AM76)","v":""},null,null,null,null,null,null,{"$f":"IF('９号入力'!E112=\"\",\"\",'９号入力'!E112)","v":""},null,null,null,null,{"$f":"IF('９号入力'!H112=\"\",\"\",'９号入力'!H112)","v":""},null,null,null,null,null,null,null,null,null,null,null,null,{"$f":"IF('９号入力'!Q112=0,\"\",'９号入力'!Q112)","v":""}]
[null,null,null,null,null,{"$f":"IF('９号入力'!D77=\"\",\"\",'９号入力'!D77)","v":""},null,null,"","","",null,null,{"$f":"IF('９号入力'!R77=\"\",\"\",'９号入力'!R77)","v":""},null,null,null,null,null,null,{"$f":"IF('９号入力'!U77=\"\",\"\",'９号入力'!U77)","v":""},null,null,null,null,null,null,{"$f":"IF('９号入力'!X77=\"\",\"\",'９号入力'!X77)","v":""},null,null,null,null,null,null,{"$f":"IF('９号入力'!AA77=\"\",\"\",'９号入力'!AA77)","v":""},null,null,null,null,null,null,{"$f":"IF('９号入力'!AD77=\"\",\"\",'９号入力'!AD77)","v":""},null,null,null,null,null,null,{"$f":"IF('９号入力'!AG77=\"\",\"\",'９号入力'!AG77)","v":""},null,null,null,null,null,null,{"$f":"IF('９号入力'!AJ77=\"\",\"\",'９号入力'!AJ77)","v":""},null,null,null,null,null,null,{"$f":"IF('９号入力'!AM77=\"\",\"\",'９号入力'!AM77)","v":""},null,null,null,null,null,null,{"$f":"IF('９号入力'!E113=\"\",\"\",'９号入力'!E113)","v":""},null,null,null,null,{"$f":"IF('９号入力'!H113=\"\",\"\",'９号入力'!H113)","v":""},null,null,null,null,null,null,null,null,null,null,null,null,{"$f":"IF('９号入力'!Q113=0,\"\",'９号入力'!Q113)","v":""}]
[null,null,null,null,null,{"$f":"IF('９号入力'!D78=\"\",\"\",'９号入力'!D78)","v":""},null,null,"","","",null,null,{"$f":"IF('９号入力'!R78=\"\",\"\",'９号入力'!R78)","v":""},null,null,null,null,null,null,{"$f":"IF('９号入力'!U78=\"\",\"\",'９号入力'!U78)","v":""},null,null,null,null,null,null,{"$f":"IF('９号入力'!X78=\"\",\"\",'９号入力'!X78)","v":""},null,null,null,null,null,null,{"$f":"IF('９号入力'!AA78=\"\",\"\",'９号入力'!AA78)","v":""},null,null,null,null,null,null,{"$f":"IF('９号入力'!AD78=\"\",\"\",'９号入力'!AD78)","v":""},null,null,null,null,null,null,{"$f":"IF('９号入力'!AG78=\"\",\"\",'９号入力'!AG78)","v":""},null,null,null,null,null,null,{"$f":"IF('９号入力'!AJ78=\"\",\"\",'９号入力'!AJ78)","v":""},null,null,null,null,null,null,{"$f":"IF('９号入力'!AM78=\"\",\"\",'９号入力'!AM78)","v":""},null,null,null,null,null,null,{"$f":"IF('９号入力'!E114=\"\",\"\",'９号入力'!E114)","v":""},null,null,null,null,{"$f":"IF('９号入力'!H114=\"\",\"\",'９号入力'!H114)","v":""},null,null,null,null,null,null,null,null,null,null,null,null,{"$f":"IF('９号入力'!Q114=0,\"\",'９号入力'!Q114)","v":""}]
[null,null,null,null,null,{"$f":"IF('９号入力'!D79=\"\",\"\",'９号入力'!D79)","v":""},null,null,"","","",null,null,{"$f":"IF('９号入力'!R79=\"\",\"\",'９号入力'!R79)","v":""},null,null,null,null,null,null,{"$f":"IF('９号入力'!U79=\"\",\"\",'９号入力'!U79)","v":""},null,null,null,null,null,null,{"$f":"IF('９号入力'!X79=\"\",\"\",'９号入力'!X79)","v":""},null,null,null,null,null,null,{"$f":"IF('９号入力'!AA79=\"\",\"\",'９号入力'!AA79)","v":""},null,null,null,null,null,null,{"$f":"IF('９号入力'!AD79=\"\",\"\",'９号入力'!AD79)","v":""},null,null,null,null,null,null,{"$f":"IF('９号入力'!AG79=\"\",\"\",'９号入力'!AG79)","v":""},null,null,null,null,null,null,{"$f":"IF('９号入力'!AJ79=\"\",\"\",'９号入力'!AJ79)","v":""},null,null,null,null,null,null,{"$f":"IF('９号入力'!AM79=\"\",\"\",'９号入力'!AM79)","v":""},null,null,null,null,null,null,{"$f":"IF('９号入力'!E115=\"\",\"\",'９号入力'!E115)","v":""},null,null,null,null,{"$f":"IF('９号入力'!H115=\"\",\"\",'９号入力'!H115)","v":""},null,null,null,null,null,null,null,null,null,null,null,null,{"$f":"IF('９号入力'!Q115=0,\"\",'９号入力'!Q115)","v":""}]
[null,null,null,null,null,{"$f":"IF('９号入力'!D80=\"\",\"\",'９号入力'!D80)","v":""},null,null,"","","",null,null,{"$f":"IF('９号入力'!R80=\"\",\"\",'９号入力'!R80)","v":""},null,null,null,null,null,null,{"$f":"IF('９号入力'!U80=\"\",\"\",'９号入力'!U80)","v":""},null,null,null,null,null,null,{"$f":"IF('９号入力'!X80=\"\",\"\",'９号入力'!X80)","v":""},null,null,null,null,null,null,{"$f":"IF('９号入力'!AA80=\"\",\"\",'９号入力'!AA80)","v":""},null,null,null,null,null,null,{"$f":"IF('９号入力'!AD80=\"\",\"\",'９号入力'!AD80)","v":""},null,null,null,null,null,null,{"$f":"IF('９号入力'!AG80=\"\",\"\",'９号入力'!AG80)","v":""},null,null,null,null,null,null,{"$f":"IF('９号入力'!AJ80=\"\",\"\",'９号入力'!AJ80)","v":""},null,null,null,null,null,null,{"$f":"IF('９号入力'!AM80=\"\",\"\",'９号入力'!AM80)","v":""},null,null,null,null,null,null,{"$f":"IF('９号入力'!E116=\"\",\"\",'９号入力'!E116)","v":""},null,null,null,null,{"$f":"IF('９号入力'!H116=\"\",\"\",'９号入力'!H116)","v":""},null,null,null,null,null,null,null,null,null,null,null,null,{"$f":"IF('９号入力'!Q116=0,\"\",'９号入力'!Q116)","v":""}]
[null,null,null,null,null,{"$f":"IF('９号入力'!D81=\"\",\"\",'９号入力'!D81)","v":""},null,null,"","","",null,null,{"$f":"IF('９号入力'!R81=\"\",\"\",'９号入力'!R81)","v":""},null,null,null,null,null,null,{"$f":"IF('９号入力'!U81=\"\",\"\",'９号入力'!U81)","v":""},null,null,null,null,null,null,{"$f":"IF('９号入力'!X81=\"\",\"\",'９号入力'!X81)","v":""},null,null,null,null,null,null,{"$f":"IF('９号入力'!AA81=\"\",\"\",'９号入力'!AA81)","v":""},null,null,null,null,null,null,{"$f":"IF('９号入力'!AD81=\"\",\"\",'９号入力'!AD81)","v":""},null,null,null,null,null,null,{"$f":"IF('９号入力'!AG81=\"\",\"\",'９号入力'!AG81)","v":""},null,null,null,null,null,null,{"$f":"IF('９号入力'!AJ81=\"\",\"\",'９号入力'!AJ81)","v":""},null,null,null,null,null,null,{"$f":"IF('９号入力'!AM81=\"\",\"\",'９号入力'!AM81)","v":""},null,null,null,null,null,null,{"$f":"IF('９号入力'!E117=\"\",\"\",'９号入力'!E117)","v":""},null,null,null,null,{"$f":"IF('９号入力'!H117=\"\",\"\",'９号入力'!H117)","v":""},null,null,null,null,null,null,null,null,null,null,null,null,{"$f":"IF('９号入力'!Q117=0,\"\",'９号入力'!Q117)","v":""}]
[null,null,null,null,null,{"$f":"IF('９号入力'!D82=\"\",\"\",'９号入力'!D82)","v":""},null,null,"","","",null,null,{"$f":"IF('９号入力'!R82=\"\",\"\",'９号入力'!R82)","v":""},null,null,null,null,null,null,{"$f":"IF('９号入力'!U82=\"\",\"\",'９号入力'!U82)","v":""},null,null,null,null,null,null,{"$f":"IF('９号入力'!X82=\"\",\"\",'９号入力'!X82)","v":""},null,null,null,null,null,null,{"$f":"IF('９号入力'!AA82=\"\",\"\",'９号入力'!AA82)","v":""},null,null,null,null,null,null,{"$f":"IF('９号入力'!AD82=\"\",\"\",'９号入力'!AD82)","v":""},null,null,null,null,null,null,{"$f":"IF('９号入力'!AG82=\"\",\"\",'９号入力'!AG82)","v":""},null,null,null,null,null,null,{"$f":"IF('９号入力'!AJ82=\"\",\"\",'９号入力'!AJ82)","v":""},null,null,null,null,null,null,{"$f":"IF('９号入力'!AM82=\"\",\"\",'９号入力'!AM82)","v":""},null,null,null,null,null,null,{"$f":"IF('９号入力'!E118=\"\",\"\",'９号入力'!E118)","v":""},null,null,null,null,{"$f":"IF('９号入力'!H118=\"\",\"\",'９号入力'!H118)","v":""},null,null,null,null,null,null,null,null,null,null,null,null,{"$f":"IF('９号入力'!Q118=0,\"\",'９号入力'!Q118)","v":""}]
[null,null,null,null,null,{"$f":"IF('９号入力'!D83=\"\",\"\",'９号入力'!D83)","v":""},null,null,"","","",null,null,{"$f":"IF('９号入力'!R83=\"\",\"\",'９号入力'!R83)","v":""},null,null,null,null,null,null,{"$f":"IF('９号入力'!U83=\"\",\"\",'９号入力'!U83)","v":""},null,null,null,null,null,null,{"$f":"IF('９号入力'!X83=\"\",\"\",'９号入力'!X83)","v":""},null,null,null,null,null,null,{"$f":"IF('９号入力'!AA83=\"\",\"\",'９号入力'!AA83)","v":""},null,null,null,null,null,null,{"$f":"IF('９号入力'!AD83=\"\",\"\",'９号入力'!AD83)","v":""},null,null,null,null,null,null,{"$f":"IF('９号入力'!AG83=\"\",\"\",'９号入力'!AG83)","v":""},null,null,null,null,null,null,{"$f":"IF('９号入力'!AJ83=\"\",\"\",'９号入力'!AJ83)","v":""},null,null,null,null,null,null,{"$f":"IF('９号入力'!AM83=\"\",\"\",'９号入力'!AM83)","v":""},null,null,null,null,null,null,{"$f":"IF('９号入力'!E119=\"\",\"\",'９号入力'!E119)","v":""},null,null,null,null,{"$f":"IF('９号入力'!H119=\"\",\"\",'９号入力'!H119)","v":""},null,null,null,null,null,null,null,null,null,null,null,null,{"$f":"IF('９号入力'!Q119=0,\"\",'９号入力'!Q119)","v":""}]
[null,null,null,null,null,{"$f":"IF('９号入力'!D84=\"\",\"\",'９号入力'!D84)","v":""},null,null,"","","",null,null,{"$f":"IF('９号入力'!R84=\"\",\"\",'９号入力'!R84)","v":""},null,null,null,null,null,null,{"$f":"IF('９号入力'!U84=\"\",\"\",'９号入力'!U84)","v":""},null,null,null,null,null,null,{"$f":"IF('９号入力'!X84=\"\",\"\",'９号入力'!X84)","v":""},null,null,null,null,null,null,{"$f":"IF('９号入力'!AA84=\"\",\"\",'９号入力'!AA84)","v":""},null,null,null,null,null,null,{"$f":"IF('９号入力'!AD84=\"\",\"\",'９号入力'!AD84)","v":""},null,null,null,null,null,null,{"$f":"IF('９号入力'!AG84=\"\",\"\",'９号入力'!AG84)","v":""},null,null,null,null,null,null,{"$f":"IF('９号入力'!AJ84=\"\",\"\",'９号入力'!AJ84)","v":""},null,null,null,null,null,null,{"$f":"IF('９号入力'!AM84=\"\",\"\",'９号入力'!AM84)","v":""},null,null,null,null,null,null,{"$f":"IF('９号入力'!E120=\"\",\"\",'９号入力'!E120)","v":""},null,null,null,null,{"$f":"IF('９号入力'!H120=\"\",\"\",'９号入力'!H120)","v":""},null,null,null,null,null,null,null,null,null,null,null,null,{"$f":"IF('９号入力'!Q120=0,\"\",'９号入力'!Q120)","v":""}]
[null,null,null,null,null,{"$f":"IF('９号入力'!D85=\"\",\"\",'９号入力'!D85)","v":""},null,null,"","","",null,null,{"$f":"IF('９号入力'!R85=\"\",\"\",'９号入力'!R85)","v":""},null,null,null,null,null,null,{"$f":"IF('９号入力'!U85=\"\",\"\",'９号入力'!U85)","v":""},null,null,null,null,null,null,{"$f":"IF('９号入力'!X85=\"\",\"\",'９号入力'!X85)","v":""},null,null,null,null,null,null,{"$f":"IF('９号入力'!AA85=\"\",\"\",'９号入力'!AA85)","v":""},null,null,null,null,null,null,{"$f":"IF('９号入力'!AD85=\"\",\"\",'９号入力'!AD85)","v":""},null,null,null,null,null,null,{"$f":"IF('９号入力'!AG85=\"\",\"\",'９号入力'!AG85)","v":""},null,null,null,null,null,null,{"$f":"IF('９号入力'!AJ85=\"\",\"\",'９号入力'!AJ85)","v":""},null,null,null,null,null,null,{"$f":"IF('９号入力'!AM85=\"\",\"\",'９号入力'!AM85)","v":""},null,null,null,null,null,null,{"$f":"IF('９号入力'!E121=\"\",\"\",'９号入力'!E121)","v":""},null,null,null,null,{"$f":"IF('９号入力'!H121=\"\",\"\",'９号入力'!H121)","v":""},null,null,null,null,null,null,null,null,null,null,null,null,{"$f":"IF('９号入力'!Q121=0,\"\",'９号入力'!Q121)","v":""}]
[null,null,null,null,null,{"$f":"IF('９号入力'!D86=\"\",\"\",'９号入力'!D86)","v":""},null,null,"","","",null,null,{"$f":"IF('９号入力'!R86=\"\",\"\",'９号入力'!R86)","v":""},null,null,null,null,null,null,{"$f":"IF('９号入力'!U86=\"\",\"\",'９号入力'!U86)","v":""},null,null,null,null,null,null,{"$f":"IF('９号入力'!X86=\"\",\"\",'９号入力'!X86)","v":""},null,null,null,null,null,null,{"$f":"IF('９号入力'!AA86=\"\",\"\",'９号入力'!AA86)","v":""},null,null,null,null,null,null,{"$f":"IF('９号入力'!AD86=\"\",\"\",'９号入力'!AD86)","v":""},null,null,null,null,null,null,{"$f":"IF('９号入力'!AG86=\"\",\"\",'９号入力'!AG86)","v":""},null,null,null,null,null,null,{"$f":"IF('９号入力'!AJ86=\"\",\"\",'９号入力'!AJ86)","v":""},null,null,null,null,null,null,{"$f":"IF('９号入力'!AM86=\"\",\"\",'９号入力'!AM86)","v":""},null,null,null,null,null,null,{"$f":"IF('９号入力'!E122=\"\",\"\",'９号入力'!E122)","v":""},null,null,null,null,{"$f":"IF('９号入力'!H122=\"\",\"\",'９号入力'!H122)","v":""},null,null,null,null,null,null,null,null,null,null,null,null,{"$f":"IF('９号入力'!Q122=0,\"\",'９号入力'!Q122)","v":""}]
[null,null,null,null,null,"植物成長調整剤",null,null,null,null,null,null,null,{"$f":"IF('９号入力'!F91=\"\",\"/\",'９号入力'!F91)","v":"/"},null,null,null,null,{"$f":"IF('９号入力'!I91=0,0,'９号入力'!I91)","v":0},null,null,null,null,null,null,null,{"$f":"IF('９号入力'!N91=0,0,'９号入力'!N91)","v":0},null,null,null,null,null,null,null,{"$f":"IF('９号入力'!C94=\"\",\"\",'９号入力'!C94)","v":"トップジンＭ水和剤"},null,null,null,null,null,null,null,null,null,null,null,null,null,null,null,{"$f":"IF('９号入力'!F97=\"\",\"/\",'９号入力'!F97)","v":"/"},null,null,null,null,{"$f":"IF('９号入力'!I97=0,0,'９号入力'!I97)","v":0},null,null,null,null,null,null,null,{"$f":"IF('９号入力'!N97=0,0,'９号入力'!N97)","v":0},null,null,null,null,null,null,null,{"$f":"IF('９号入力'!F99=\"\",\"/\",'９号入力'!F99)","v":"/"},null,null,null,null,{"$f":"IF('９号入力'!I99=0,0,'９号入力'!I99)","v":0},null,null,null,null,null,null,null,{"$f":"IF('９号入力'!N99=0,0,'９号入力'!N99)","v":0}]
[null,null,null,null,null,{"$f":"IF('９号入力'!L88=\"\",\"\",'９号入力'!L88)","v":"アークランド液剤"},null,null,null,null,null,null,null,{"$f":"IF('９号入力'!F92=\"\",\"/\",'９号入力'!F92)","v":"/"},null,null,null,null,{"$f":"IF('９号入力'!I92=0,0,'９号入力'!I92)","v":0},null,null,null,null,null,null,null,{"$f":"IF('９号入力'!N92=0,0,'９号入力'!N92)","v":0},null,null,null,null,null,null,null,null,null,null,null,null,null,null,null,null,null,null,null,null,null,null,null,{"$f":"IF('９号入力'!F98=\"\",\"/\",'９号入力'!F98)","v":"/"},null,null,null,null,{"$f":"IF('９号入力'!I98=0,0,'９号入力'!I98)","v":0},null,null,null,null,null,null,null,{"$f":"IF('９号入力'!N98=0,0,'９号入力'!N98)","v":0},null,null,null,null,null,null,null,{"$f":"IF('９号入力'!F100=\"\",\"/\",'９号入力'!F100)","v":"/"},null,null,null,null,{"$f":"IF('９号入力'!I100=0,0,'９号入力'!I100)","v":0},null,null,null,null,null,null,null,{"$f":"IF('９号入力'!N100=0,0,'９号入力'!N100)","v":0}]

{"sheet":"１０号入力","index":20,"n_rows":128,"n_cols":53,"rows_kept":128,"cut":false,"hidden":false,"merged":[[121,16,121,18],[120,2,120,3],[120,4,120,6],[120,7,120,15],[120,16,120,18],[121,2,121,3],[121,4,121,6],[121,7,121,15],[119,16,119,18],[118,2,118,3],[118,4,118,6],[118,7,118,15],[118,16,118,18],[119,2,119,3],[119,4,119,6],[119,7,119,15],[117,7,117,15],[117,16,117,18],[116,2,116,3],[116,4,116,6],[116,7,116,15],[116,16,116,18],[117,2,117,3],[117,4,117,6],[115,2,115,3],[115,4,115,6],[115,7,115,15],[115,16,115,18],[114,2,114,3],[114,4,114,6],[114,7,114,15],[114,16,114,18],[113,2,113,3],[113,4,113,6],[113,7,113,15],[113,16,113,18],[112,2,112,3],[112,4,112,6],[112,7,112,15],[112,16,112,18],[111,2,111,3],[111,4,111,6],[111,7,111,15],[111,16,111,18],[110,2,110,3],[110,4,110,6],[110,7,110,15],[110,16,110,18],[109,2,109,3],[109,4,109,6],[109,7,109,15],[109,16,109,18],[108,2,108,3],[108,4,108,6],[108,7,108,15],[108,16,108,18],[107,2,107,3],[107,4,107,6],[107,7,107,15],[107,16,107,18],[106,2,106,3],[106,4,106,6],[106,7,106,15],[106,16,106,18],[105,2,105,3],[105,4,105,6],[105,7,105,15],[105,16,105,18],[104,2,104,3],[104,4,104,6],[104,7,104,15],[104,16,104,18],[103,2,103,3],[103,4,103,6],[103,7,103,15],[103,16,103,18],[99,2,99,4],[99,5,99,7],[99,8,99,12],[99,13,99,17],[98,2,98,4],[98,5,98,7],[98,8,98,12],[98,13,98,17],[97,2,97,4],[97,5,97,7],[97,8,97,12],[97,13,97,17],[96,2,96,4],[96,5,96,7],[96,8,96,12],[96,13,96,17],[95,2,95,4],[95,5,95,7],[95,8,95,12],[95,13,95,17],[91,2,91,4],[91,5,91,7],[91,8,91,12],[91,13,91,17],[93,2,93,8],[90,2,90,4],[90,5,90,7],[90,8,90,12],[90,13,90,17],[89,2,89,4],[89,5,89,7],[89,8,89,12],[89,13,89,17],[85,35,85,37],[69,2,85,2],[85,3,85,10],[85,14,85,16],[69,35,69,37],[85,38,85,40],[85,17,85,19],[85,20,85,22],[84,35,84,37],[84,38,84,40],[85,23,85,25],[85,26,85,28],[85,29,85,31],[85,32,85,34],[83,38,83,40],[84,3,84,10],[84,14,84,16],[84,17,84,19],[84,20,84,22],[84,23,84,25],[84,26,84,28],[84,29,84,31],[84,32,84,34],[83,3,83,10],[83,14,83,16],[83,17,83,19],[83,20,83,22],[83,23,83,25],[83,26,83,28],[83,29,83,31],[83,32,83,34],[83,35,83,37],[81,38,81,40],[82,3,82,10],[82,14,82,16],[82,17,82,19],[82,20,82,22],[82,23,82,25],[82,26,82,28],[82,29,82,31],[82,32,82,34],[82,35,82,37],[82,38,82,40],[81,3,81,10],[81,14,81,16],[81,17,81,19],[81,20,81,22],[81,23,81,25],[81,26,81,28],[81,29,81,31],[81,32,81,34],[81,35,81,37],[79,38,79,40],[80,3,80,10],[80,14,80,16],[80,17,80,19],[80,20,80,22],[80,23,80,25],[80,26,80,28],[80,29,80,31],[80,32,80,34],[80,35,80,37],[80,38,80,40],[79,3,79,10],[79,14,79,16],[79,17,79,19],[79,20,79,22],[79,23,79,25],[79,26,79,28],[79,29,79,31],[79,32,79,34],[79,35,79,37],[77,38,77,40],[78,3,78,10],[78,14,78,16],[78,17,78,19],[78,20,78,22],[78,23,78,25],[78,26,78,28],[78,29,78,31],[78,32,78,34],[78,35,78,37],[78,38,78,40],[77,3,77,10],[77,14,77,16],[77,17,77,19],[77,20,77,22],[77,23,77,25],[77,26,77,28],[77,29,77,31],[77,32,77,34],[77,35,77,37],[75,38,75,40],[76,3,76,10],[76,14,76,16],[76,17,76,19],[76,20,76,22],[76,23,76,25],[76,26,76,28],[76,29,76,31],[76,32,76,34],[76,35,76,37],[76,38,76,40],[75,3,75,10],[75,14,75,16],[75,17,75,19],[75,20,75,22],[75,23,75,25],[75,26,75,28],[75,29,75,31],[75,32,75,34],[75,35,75,37],[73,38,73,40],[74,3,74,10],[74,14,74,16],[74,17,74,19],[74,20,74,22],[74,23,74,25],[74,26,74,28],[74,29,74,31],[74,32,74,34],[74,35,74,37],[74,38,74,40],[73,3,73,10],[73,14,73,16],[73,17,73,19],[73,20,73,22],[73,23,73,25],[73,26,73,28],[73,29,73,31],[73,32,73,34],[73,35,73,37],[71,38,71,40],[72,3,72,10],[72,14,72,16],[72,17,72,19],[72,20,72,22],[72,23,72,25],[72,26,72,28],[72,29,72,31],[72,32,72,34],[72,35,72,37],[72,38,72,40],[71,3,71,10],[71,14,71,16],[71,17,71,19],[71,20,71,22],[71,23,71,25],[71,26,71,28],[71,29,71,31],[71,32,71,34],[71,35,71,37],[69,38,69,40],[70,3,70,10],[70,14,70,16],[70,17,70,19],[70,20,70,22],[70,23,70,25],[70,26,70,28],[70,29,70,31],[70,32,70,34],[69,23,69,25],[69,26,69,28],[69,29,69,31],[69,32,69,34],[69,3,69,16],[69,17,69,19],[69,20,69,22],[70,35,70,37],[70,38,70,40],[67,38,67,40],[68,2,68,16],[68,17,68,19],[68,20,68,22],[68,23,68,25],[68,26,68,28],[68,29,68,31],[68,32,68,34],[68,35,68,37],[68,38,68,40],[67,26,67,28],[67,29,67,31],[67,32,67,34],[67,35,67,37],[67,2,67,16],[67,17,67,19],[67,20,67,22],[67,23,67,25],[66,38,66,40],[66,17,66,19],[66,20,66,22],[66,23,66,25],[66,26,66,28],[57,2,57,13],[66,29,66,31],[66,32,66,34],[66,35,66,37],[58,2,58,6],[58,7,58,13],[61,2,61,6],[61,7,61,13],[59,2,59,6],[59,7,59,13],[60,2,60,6],[60,7,60,13],[52,32,52,37],[51,25,51,29],[54,2,54,4],[54,5,54,7],[54,8,54,14],[54,15,54,18],[54,19,54,23],[53,15,53,18],[53,25,53,29],[51,15,51,18],[51,30,51,31],[51,5,51,7],[51,8,51,14],[46,33,46,39],[44,33,44,39],[45,26,45,29],[45,33,45,39],[46,2,46,4],[46,5,46,7],[46,8,46,25],[46,26,46,29],[53,32,53,37],[53,30,53,31],[51,32,51,37],[52,19,52,23],[52,25,52,29],[51,2,51,4],[53,2,53,4],[53,5,53,7],[53,8,53,14],[51,19,51,23],[53,19,53,23],[52,2,52,4],[52,5,52,7],[52,8,52,14],[52,15,52,18],[52,30,52,31],[42,5,42,7],[42,8,42,25],[42,26,42,29],[45,2,45,4],[45,5,45,7],[45,8,45,25],[44,2,44,4],[40,5,40,7],[40,8,40,25],[40,26,40,29],[44,5,44,7],[44,8,44,25],[44,26,44,29],[38,33,38,39],[39,2,39,4],[39,5,39,7],[39,8,39,25],[39,26,39,29],[39,33,39,39],[38,2,38,4],[42,33,42,39],[43,2,43,4],[43,5,43,7],[43,8,43,25],[43,26,43,29],[43,33,43,39],[42,2,42,4],[38,5,38,7],[38,8,38,25],[38,26,38,29],[40,33,40,39],[41,2,41,4],[41,5,41,7],[41,8,41,25],[41,26,41,29],[41,33,41,39],[40,2,40,4],[36,33,36,39],[37,2,37,4],[37,5,37,7],[37,8,37,25],[37,26,37,29],[37,33,37,39],[36,2,36,4],[36,5,36,7],[36,8,36,25],[36,26,36,29],[34,33,34,39],[35,2,35,4],[35,5,35,7],[35,8,35,25],[35,26,35,29],[35,33,35,39],[34,2,34,4],[34,5,34,7],[34,8,34,25],[34,26,34,29],[32,33,32,39],[33,2,33,4],[33,5,33,7],[33,8,33,25],[33,26,33,29],[33,33,33,39],[32,2,32,4],[32,5,32,7],[32,8,32,25],[32,26,32,29],[30,33,30,39],[31,2,31,4],[31,5,31,7],[31,8,31,25],[31,26,31,29],[31,33,31,39],[30,2,30,4],[30,5,30,7],[30,8,30,25],[30,26,30,29],[28,33,28,39],[29,2,29,4],[29,5,29,7],[29,8,29,25],[29,26,29,29],[29,33,29,39],[28,2,28,4],[28,5,28,7],[28,8,28,25],[28,26,28,29],[26,33,26,39],[27,2,27,4],[27,5,27,7],[27,8,27,25],[27,26,27,29],[27,33,27,39],[26,2,26,4],[26,5,26,7],[26,8,26,25],[26,26,26,29],[24,33,24,39],[25,2,25,4],[25,5,25,7],[25,8,25,25],[25,26,25,29],[25,33,25,39],[24,2,24,4],[24,5,24,7],[24,8,24,25],[24,26,24,29],[22,33,22,39],[23,2,23,4],[23,5,23,7],[23,8,23,25],[23,26,23,29],[23,33,23,39],[22,2,22,4],[22,5,22,7],[22,8,22,25],[22,26,22,29],[19,5,19,7],[18,5,18,7],[20,33,20,39],[21,2,21,4],[21,5,21,7],[21,8,21,25],[21,26,21,29],[21,33,21,39],[20,2,20,4],[20,5,20,7],[20,8,20,25],[20,26,20,29],[9,5,9,11],[11,2,11,4],[11,5,11,11],[10,5,10,11],[10,2,10,4],[9,2,9,4],[12,2,12,4],[12,5,12,11],[15,5,15,11],[15,2,15,4],[1,9,1,10],[1,11,1,14],[3,9,3,11],[3,12,3,18],[8,2,8,4],[8,5,8,11],[8,14,8,16],[8,17,8,23],[123,27,123,32],[57,17,57,19],[60,17,60,19],[57,20,57,26],[58,20,58,26],[59,20,59,26],[60,20,60,26],[59,17,59,19],[58,17,58,19],[87,11,87,17],[12,14,12,31],[13,2,13,4],[13,5,13,11],[13,14,13,31],[14,2,14,4],[14,5,14,11]]}
[]
[null,"１０号室の入力画面",null,null,null,null,null,null,null,"No.",null,{"$f":"メニュー画面!F18","v":"４　３　６"}]
[]
[null,null,null,null,null,null,null,null,null,"氏名",null,null,{"$f":"メニュー画面!F20","v":"中　條　文　義"},null,null,null,null,null,null,null,null,null,null,null,null,null,null,null,null,null,null,null,null,{"$f":"VLOOKUP(B2,隠しページ!P7:Q22,2,FALSE)","v":"１０号入力"},null,null,"→印刷画面へ"]
[]
[]
[null,"１．坪数～収穫日までの入力",null,null,null,null,null,null,null,null,null,null,null,null,"※白い枠のみに入力して下さい。ここで入力された値が、履歴シートに書き込まれます。"]
[]
[null,null,"部屋番号",null,null,10,null,null,null,null,null,null,null,null,"品種名",null,null,{"$f":"IF(F16=\"\",\"\",IF(AND(10<=MONTH(F16+1),MONTH(F16+1)<=11),\"秋　　系\",IF(AND(3<=MONTH(F16+1),MONTH(F16+1)<=5),\"春　　系\",IF(AND(6<=MONTH(F16+1),MONTH(F16+1)<=9),\"夏　　系\",\"冬　　系\"))))","v":""}]
[null,null,"坪数"]
[null,null,"品種名",null,null,"春　　系",null,null,null,null,null,null,null,null,{"$f":"IF(OR($R$9=$F$11,$R$9=\"\"),\"\",\"←県で指定された品種名と違いますが無視できます。\")","v":""}]
[null,null,"播種日"]
[null,null,"定植日",null,null,null,null,null,null,null,null,null,null,null,{"$f":"IF(OR(F13=\"\",F12=\"\"),\"\",IF(F13<F12,\"入力ミスです！播種日のほうが後の日付になりました。\",\"\"))","v":""},null,null,null,null,null,null,null,null,null,null,null,null,null,null,null,null,null,{"$f":"CONCATENATE(\"苗日数＝\",F13-F12,\"日\")","v":"苗日数＝0日"}]
[null,null,"交配日",null,null,null,null,null,null,null,null,null,null,null,{"$f":"IF(OR(F14=\"\",F13=\"\"),\"\",IF(F14<F13,\"入力ミスです！定植日の方が後になりました。\",\"\"))","v":""},null,null,null,null,null,null,null,null,null,null,null,null,null,null,null,null,null,{"$f":"CONCATENATE(\"交配日数＝\",F14-F13,\"日\")","v":"交配日数＝0日"}]
[null,null,"採果日数"]
[null,null,"収穫日",null,null,{"$f":"IF(OR(F14=\"\",F15=\"\"),\"\",F14+F15-1)","v":""},null,null,null,null,null,null,null,null,null,null,null,null,null,null,null,null,null,null,null,null,null,null,null,null,null,null,{"$f":"CONCATENATE(\"播種日～収穫日＝\",IF(F16=\"\",0,F16-F12),\"日\")","v":"播種日～収穫日＝0日"}]
[]
[null,"２．施用資材名の入力"]
[null,null,null,null,null,null,null,null,"［〃］このマークはリストから入力できます。日付はそのまま打ち込んでください。"]
[]
[null,null,null,null,null,"日付",null,null,"施用資材名",null,null,null,null,null,null,null,null,null,null,null,null,null,null,null,null,null,"投入量",null,null,null,null,null,null,"履歴シート表示確認欄"]
[null,null,null,null,null,{"$f":"IF(OR(C22=\"\",AH22=\"\"),\"\",IF(C22=\"育苗\",#REF!,IF(C22=\"定植\",#REF!,IF(C22=\"追肥（１）\",#REF!,IF(C22=\"追肥（２）\",#REF!,IF(C22=\"追肥（３）\",#REF!,\"入力ミス\"))))))","v":""},null,null,"育苗",null,null,null,null,null,null,null,null,null,null,null,null,null,null,null,null,null,null,null,null,null,null,null,null,{"$f":"IF(I22=\"\",\"\",VLOOKUP(I22,Ｍ肥料台帳,4,FALSE))","v":"育苗"}]
[null,null,null,null,null,"2006-01-01",null,null,null,null,null,null,null,null,null,null,null,null,null,null,null,null,null,null,null,null,null,null,null,null,null,null,null,""]
[null,null,null,null,null,"〃",null,null,null,null,null,null,null,null,null,null,null,null,null,null,null,null,null,null,null,null,null,null,null,null,null,null,null,""]
[null,null,null,null,null,"〃",null,null,null,null,null,null,null,null,null,null,null,null,null,null,null,null,null,null,null,null,null,null,null,null,null,null,null,""]
[null,null,null,null,null,"〃",null,null,null,null,null,null,null,null,null,null,null,null,null,null,null,null,null,null,null,null,null,null,null,null,null,null,null,""]
[null,null,null,null,null,"〃",null,null,null,null,null,null,null,null,null,null,null,null,null,null,null,null,null,null,null,null,null,null,null,null,null,null,null,""]
[null,null,null,null,null,"〃",null,null,null,null,null,null,null,null,null,null,null,null,null,null,null,null,null,null,null,null,null,null,null,null,null,null,null,""]
[null,null,null,null,null,"〃",null,null,null,null,null,null,null,null,null,null,null,null,null,null,null,null,null,null,null,null,null,null,null,null,null,null,null,""]
[null,null,null,null,null,"〃",null,null,null,null,null,null,null,null,null,null,null,null,null,null,null,null,null,null,null,null,null,null,null,null,null,null,null,""]
[null,null,null,null,null,"〃",null,null,null,null,null,null,null,null,null,null,null,null,null,null,null,null,null,null,null,null,null,null,null,null,null,null,null,""]
[null,null,null,null,null,"〃",null,null,null,null,null,null,null,null,null,null,null,null,null,null,null,null,null,null,null,null,null,null,null,null,null,null,null,""]
[null,null,null,null,null,"〃",null,null,null,null,null,null,null,null,null,null,null,null,null,null,null,null,null,null,null,null,null,null,null,null,null,null,null,""]
[null,null,null,null,null,"〃",null,null,null,null,null,null,null,null,null,null,null,null,null,null,null,null,null,null,null,null,null,null,null,null,null,null,null,""]
[null,null,null,null,null,"〃",null,null,null,null,null,null,null,null,null,null,null,null,null,null,null,null,null,null,null,null,null,null,null,null,null,null,null,""]
[null,null,null,null,null,null,null,null,null,null,null,null,null,null,null,null,null,null,null,null,null,null,null,null,null,null,null,null,null,null,null,null,null,""]
[null,null,null,null,null,null,null,null,null,null,null,null,null,null,null,null,null,null,null,null,null,null,null,null,null,null,null,null,null,null,null,null,null,""]
[null,null,null,null,null,null,null,null,null,null,null,null,null,null,null,null,null,null,null,null,null,null,null,null,null,null,null,null,null,null,null,null,null,""]
[null,null,null,null,null,null,null,null,null,null,null,null,null,null,null,null,null,null,null,null,null,null,null,null,null,null,null,null,null,null,null,null,null,""]
[null,null,null,null,null,null,null,null,null,null,null,null,null,null,null,null,null,null,null,null,null,null,null,null,null,null,null,null,null,null,null,null,null,""]
[null,null,null,null,null,null,null,null,null,null,null,null,null,null,null,null,null,null,null,null,null,null,null,null,null,null,null,null,null,null,null,null,null,""]
[null,null,null,null,null,null,null,null,null,null,null,null,null,null,null,null,null,null,null,null,null,null,null,null,null,null,null,null,null,null,null,null,null,""]
[null,null,null,null,null,null,null,null,null,null,null,null,null,null,null,null,null,null,null,null,null,null,null,null,null,null,null,null,null,null,null,null,null,""]
[null,null,null,null,null,null,null,null,null,null,null,null,null,null,null,null,null,null,null,null,null,null,null,null,null,null,null,null,null,null,null,null,null,""]
[null,null,null,null,null,null,null,null,null,null,null,null,null,null,null,null,null,null,null,null,null,null,null,null,null,null,null,null,null,null,null,null,null,""]
[null,null,null,null,null,null,null,null,null,null,null,null,null,null,null,null,null,null,null,null,null,null,null,null,null,null,null,null,null,null,null,null,null,""]
[null,null,null,null,null,null,null,null,null,null,null,null,null,null,null,null,null,null,null,null,null,null,null,null,null,null,null,null,null,null,null,null,null,""]
[]
[]
[null,"３．施用粒剤の入力"]
[null,null,null,null,null,null,null,null,null,null,null,null,null,null,null,null,null,null,null,null,null,null,null,null,null,null,null,null,null,null,null,null,null,null,null,null,null,null,null,null,null,null,null,null,null,null,null,null,null,null,null,null,"施用粒剤の日付入力"]
[null,null,null,null,null,"日付",null,null,"施用粒剤名",null,null,null,null,null,null,"施用量（g）",null,null,null,"施用鉢数（鉢）",null,null,null,null,null,"登録施用量",null,null,null,null,"回数",null,"時期"]
[null,null,"１回目",null,null,null,null,null,null,null,null,null,null,null,null,null,null,null,null,null,null,null,null,null,null,{"$f":"IF(I53=\"\",\"\",VLOOKUP(I53,施用粒剤台帳,2,FALSE))","v":""},null,null,null,null,{"$f":"IF(I53=\"\",\"\",VLOOKUP(I53,施用粒剤台帳,3,FALSE))","v":""},null,{"$f":"IF(I53=\"\",\"\",VLOOKUP(I53,施用粒剤台帳,4,FALSE))","v":""}]
[null,null,"２回目",null,null,null,null,null,null,null,null,null,null,null,null,null,null,null,null,null,null,null,null,null,null,{"$f":"IF(I54=\"\",\"\",VLOOKUP(I54,施用粒剤台帳,2,FALSE))","v":""},null,null,null,null,{"$f":"IF(I54=\"\",\"\",VLOOKUP(I54,施用粒剤台帳,3,FALSE))","v":""},null,{"$f":"IF(I54=\"\",\"\",VLOOKUP(I54,施用粒剤台帳,4,FALSE))","v":""}]
[]
[null,"４．硫黄くん蒸剤の入力",null,null,null,null,null,null,null,null,"※使用が２年にまたがるときは、前年の日付の前に年号を付けないとミスになります。"]
[]
[null,null,"履歴シートへの表示確認欄",null,null,null,null,null,null,null,null,null,null,null,null,null,null,"播種日",null,null,{"$f":"IF(F12=\"\",\"\",F12)","v":""}]
[null,null,"開始日",null,null,null,null,null,null,null,null,null,null,null,null,null,null,"定植日",null,null,{"$f":"IF(F13=\"\",\"\",F13)","v":""}]
[null,null,"終了日",null,null,null,null,null,null,null,null,null,null,null,{"$f":"IF(H60=\"\",\"\",IF(H60<H59,\" ミス\",\"\"))","v":""},null,null,"交配日",null,null,{"$f":"IF(F14=\"\",\"\",F14)","v":""}]
[null,null,"１日の使用量",null,null,null,null,2,null,null,null,null,null,null,null,null,null,"収穫日",null,null,{"$f":"IF(F16=\"\",\"\",F16)","v":""}]
[null,null,"総使用量",null,null,null,null,{"$f":"IF(OR(H59=\"\",OR(H60=\"\",H61=\"\")),\"\",(H60-H59)*H61)","v":""},null,null,null,null,null,null,null,null,null,null,null,null,"↑１.で入力した日付です。"]
[]
[null,"５．農薬散布の入力"]
[null,null,null,null,null,null,null,null,null,null,null,null,null,null,null,null,null,null,null,null,null,null,null,null,null,null,null,null,null,null,null,null,null,null,null,null,null,null,null,null,null,null,null,null,null,null,null,null,null,null,null,null,"農薬散布の日付入力"]
[]
[null,null,null,null,null,null,null,null,null,null,null,null,null,null,null,null,null,"Ｂ１",null,null,"Ｂ２",null,null,"Ｂ３",null,null,"Ｂ４",null,null,"Ｂ５",null,null,"Ｂ６",null,null,"Ｂ７",null,null,"Ｂ８"]
[null,null,"使用年月日"]
[null,null,"生育ステージ",null,null,null,null,null,null,null,null,null,null,null,null,null,null,"育苗",null,null,"木作り",null,null,"木作り",null,null,"肥大期",null,null,"肥大期",null,null,"仕上げ",null,null,"仕上げ",null,null,"仕上げ"]
[null,null,"使用農薬名","散布量"]
[null,null,null,null,null,null,null,null,null,null,null,{"$f":"IF(D71=\"\",\"\",VLOOKUP(D71,Ｍ農薬台帳,3,FALSE))","v":""},{"$f":"IF(D71=\"\",\"\",\"-\")","v":""},{"$f":"IF(D71=\"\",\"\",VLOOKUP(D71,Ｍ農薬台帳,2,FALSE))","v":""},{"$f":"IF(D71=\"\",\"\",VLOOKUP(D71,Ｍ農薬台帳,4,FALSE))","v":""}]
[null,null,null,null,null,null,null,null,null,null,null,"","","",""]
[null,null,null,null,null,null,null,null,null,null,null,"","","",""]
[null,null,null,null,null,null,null,null,null,null,null,"","","",""]
[null,null,null,null,null,null,null,null,null,null,null,"","","",""]
[null,null,null,null,null,null,null,null,null,null,null,"","","",""]
[null,null,null,null,null,null,null,null,null,null,null,"","","",""]
[null,null,null,null,null,null,null,null,null,null,null,"","","",""]
[null,null,null,null,null,null,null,null,null,null,null,"","","",""]
[null,null,null,null,null,null,null,null,null,null,null,"","","",""]
[null,null,null,null,null,null,null,null,null,null,null,"","","",""]
[null,null,null,null,null,null,null,null,null,null,null,"","","",""]
[null,null,null,null,null,null,null,null,null,null,null,"","","",""]
[null,null,null,null,null,null,null,null,null,null,null,"","","",""]
[null,null,null,null,null,null,null,null,null,null,null,"","","",""]
[null,null,null,null,null,null,null,null,null,null,null,"","","",""]
[]
[null,"６．植物成長調整剤の入力",null,null,null,null,null,null,null,null,null,"アークランド液剤",null,null,null,null,null,null,"　を使用した。"]
[]
[null,null,null,null,null,"日付",null,null,"希釈倍数",null,null,null,null,"散布量"]
[null,null,"1回目"]
[null,null,"2回目"]
[]
[null,"７．トップジンＭ水和剤の入力","トップジンＭ水和剤",null,null,null,null,null,null,"　の入力"]
[]
[null,null,null,null,null,"日付",null,null,"希釈倍数",null,null,null,null,"散布量"]
[null,null,"1回目"]
[null,null,"2回目"]
[null,null,"3回目"]
[null,null,"4回目"]
[]
[null,"８．施用液肥の入力"]
[]
[null,null,null,null,"日付",null,null,"液肥・葉面散布剤名",null,null,null,null,null,null,null,null,"使用量"]
[null,null,1]
[null,null,2]
[null,null,3]
[null,null,4]
[null,null,5]
[null,null,6]
[null,null,7]
[null,null,8]
[null,null,9]
[null,null,10]
[null,null,11]
[null,null,12]
[null,null,13]
[null,null,14]
[null,null,15]
[null,null,16]
[null,null,17]
[null,null,18]
[]
[null,"９.小メロンの出荷がある場合は、この枠に記載してください。リストから選べます。→"]
[]
[null,"10．印刷プレビューボタンを押し　印刷状態の確認をして　良ければそのまま印刷してください。"]
[]
[null,"11．以上で終りです。お疲れ様でした。"]

{"sheet":"１０号Ｐ","index":21,"n_rows":36,"n_cols":88,"rows_kept":36,"cut":false,"hidden":false,"merged":[[4,38,4,47],[5,58,5,67],[0,64,0,89],[4,48,4,52],[4,53,4,57],[4,58,4,67],[4,68,4,72],[4,73,4,91],[2,4,2,5],[2,6,2,31],[4,13,4,27],[4,33,4,37],[5,68,5,72],[5,73,5,77],[5,78,5,91],[6,7,6,8],[6,13,6,17],[6,18,6,27],[6,28,6,32],[6,33,6,37],[6,38,6,47],[6,48,6,52],[6,53,6,57],[6,58,6,67],[6,68,6,72],[6,73,6,80],[6,81,6,91],[5,13,5,17],[5,18,5,27],[5,28,5,32],[5,33,5,37],[5,38,5,47],[5,48,5,52],[5,53,5,57],[7,6,7,7],[7,13,7,17],[7,18,7,27],[7,28,7,32],[7,33,7,37],[7,38,7,47],[7,48,7,52],[7,53,7,57],[8,58,8,67],[7,58,7,67],[8,6,8,12],[8,13,8,17],[8,18,8,27],[8,28,8,32],[9,58,9,67],[7,68,7,72],[7,73,7,77],[8,68,8,72],[8,73,8,80],[7,78,7,91],[8,81,8,91],[8,33,8,37],[8,38,8,47],[8,48,8,52],[8,53,8,57],[9,68,9,72],[9,73,9,91],[13,13,13,17],[13,18,13,27],[13,28,13,32],[9,18,9,27],[9,28,9,32],[9,33,9,37],[9,38,9,47],[9,48,9,52],[9,53,9,57],[10,48,10,52],[10,53,10,57],[11,53,12,57],[13,53,13,57],[11,48,12,52],[13,33,13,37],[13,38,13,47],[13,48,13,52],[10,83,11,91],[11,58,12,67],[11,68,12,72],[12,73,13,81],[12,82,13,91],[13,68,13,72],[10,58,10,67],[10,68,10,72],[10,73,11,82],[13,58,13,67],[9,6,9,12],[9,13,9,17],[11,4,12,5],[11,6,12,12],[11,13,12,17],[11,18,12,27],[11,28,12,32],[11,33,12,37],[11,38,12,47],[10,6,10,12],[10,13,10,17],[10,18,10,27],[10,28,10,32],[10,33,10,37],[10,38,10,47],[15,69,15,91],[16,4,16,12],[16,13,16,19],[16,20,16,26],[16,27,16,33],[16,34,16,40],[16,41,16,47],[16,48,16,54],[16,55,16,61],[16,62,16,68],[16,69,16,73],[16,74,16,86],[16,87,16,91],[15,4,15,12],[15,13,15,19],[15,20,15,26],[15,27,15,33],[15,34,15,40],[15,41,15,47],[15,48,15,54],[15,55,15,61],[15,62,15,68],[17,4,35,4],[17,5,17,12],[17,13,17,19],[17,20,17,26],[19,5,19,7],[19,10,19,12],[19,13,19,19],[19,20,19,26],[21,5,21,7],[21,10,21,12],[23,5,23,7],[23,10,23,12],[23,13,23,19],[23,20,23,26],[24,5,24,7],[24,10,24,12],[24,13,24,19],[24,20,24,26],[25,5,25,7],[25,10,25,12],[25,13,25,19],[25,20,25,26],[26,5,26,7],[26,10,26,12],[17,62,17,68],[17,69,17,73],[17,74,17,86],[17,87,17,91],[18,5,18,7],[18,10,18,12],[18,13,18,19],[18,20,18,26],[18,27,18,33],[18,34,18,40],[18,41,18,47],[18,48,18,54],[18,55,18,61],[18,62,18,68],[18,69,18,73],[18,74,18,86],[18,87,18,91],[17,27,17,33],[17,34,17,40],[17,41,17,47],[17,48,17,54],[17,55,17,61],[19,62,19,68],[19,69,19,73],[19,74,19,86],[19,87,19,91],[20,5,20,7],[20,10,20,12],[20,13,20,19],[20,20,20,26],[20,27,20,33],[20,34,20,40],[20,41,20,47],[20,48,20,54],[20,55,20,61],[20,62,20,68],[20,69,20,73],[20,74,20,86],[20,87,20,91],[19,27,19,33],[19,34,19,40],[19,41,19,47],[19,48,19,54],[19,55,19,61],[21,62,21,68],[21,69,21,73],[21,74,21,86],[21,87,21,91],[22,5,22,7],[22,10,22,12],[22,13,22,19],[22,20,22,26],[22,27,22,33],[22,34,22,40],[22,41,22,47],[22,48,22,54],[22,55,22,61],[22,62,22,68],[22,69,22,73],[22,74,22,86],[22,87,22,91],[21,13,21,19],[21,20,21,26],[21,27,21,33],[21,34,21,40],[21,41,21,47],[21,48,21,54],[21,55,21,61],[23,27,23,33],[23,34,23,40],[23,41,23,47],[23,48,23,54],[23,55,23,61],[23,62,23,68],[23,69,23,73],[23,74,23,86],[23,87,23,91],[25,74,25,86],[25,87,25,91],[24,27,24,33],[24,34,24,40],[24,41,24,47],[24,48,24,54],[24,55,24,61],[24,62,24,68],[24,69,24,73],[24,74,24,86],[24,87,24,91],[26,48,26,54],[26,55,26,61],[26,62,26,68],[26,69,26,73],[25,27,25,33],[25,34,25,40],[25,41,25,47],[25,48,25,54],[25,55,25,61],[25,62,25,68],[25,69,25,73],[28,34,28,40],[28,41,28,47],[28,48,28,54],[28,55,28,61],[26,74,26,86],[26,87,26,91],[27,5,27,7],[27,10,27,12],[27,13,27,19],[27,20,27,26],[27,27,27,33],[27,34,27,40],[27,41,27,47],[27,48,27,54],[27,55,27,61],[27,62,27,68],[27,69,27,73],[27,74,27,86],[27,87,27,91],[26,13,26,19],[26,20,26,26],[26,27,26,33],[26,34,26,40],[26,41,26,47],[30,48,30,54],[30,55,30,61],[28,62,28,68],[28,69,28,73],[28,74,28,86],[28,87,28,91],[29,5,29,7],[29,10,29,12],[29,13,29,19],[29,20,29,26],[29,27,29,33],[29,34,29,40],[29,41,29,47],[29,48,29,54],[29,55,29,61],[29,62,29,68],[29,69,29,73],[29,74,29,86],[29,87,29,91],[28,5,28,7],[28,10,28,12],[28,13,28,19],[28,20,28,26],[28,27,28,33],[30,62,30,68],[30,69,30,73],[30,74,30,86],[30,87,30,91],[31,5,31,7],[31,10,31,12],[31,13,31,19],[31,20,31,26],[31,27,31,33],[31,34,31,40],[31,41,31,47],[31,48,31,54],[31,55,31,61],[31,62,31,68],[31,69,31,73],[31,74,31,86],[31,87,31,91],[30,5,30,7],[30,10,30,12],[30,13,30,19],[30,20,30,26],[30,27,30,33],[30,34,30,40],[30,41,30,47],[32,5,32,7],[32,10,32,12],[32,13,32,19],[32,20,32,26],[32,27,32,33],[32,34,32,40],[32,41,32,47],[32,48,32,54],[32,55,32,61],[35,71,35,75],[33,74,33,86],[35,76,35,83],[33,5,33,7],[33,10,33,12],[33,13,33,19],[33,20,33,26],[33,62,33,68],[33,69,33,73],[33,27,33,33],[33,34,33,40],[33,41,33,47],[33,48,33,54],[34,5,34,12],[35,5,35,12],[4,1,5,2],[35,84,35,91],[34,76,34,83],[34,84,34,91],[35,13,35,17],[35,18,35,25],[35,26,35,33],[34,55,34,62],[33,87,33,91],[32,62,32,68],[32,69,32,73],[32,74,32,86],[32,87,32,91],[34,13,34,17],[34,18,34,25],[34,26,34,33],[34,34,35,49],[34,50,34,54],[35,50,35,54],[34,63,34,70],[34,71,34,75],[33,55,33,61],[35,55,35,62],[35,63,35,70]]}
[null,null,null,null,null,null,null,null,null,null,null,null,null,null,null,null,null,null,null,null,null,null,null,null,null,null,null,null,null,null,null,null,null,null,null,null,null,null,null,null,null,null,null,null,null,null,null,null,null,null,null,null,null,null,null,null,null,null,null,null,null,null,null,null,{"$f":"IF('１０号入力'!AB124=\"\",\"\",'１０号入力'!AB124)","v":""}]
[]
[null,null,null,null,"栽培履歴",null,{"$f":"メニュー画面!F16","v":"静岡県温室農業協同組合（クラウンメロン支所）"},null,null,null,null,null,null,null,null,null,null,null,null,null,null,null,null,null,null,null,null,null,null,null,null,null,"検査日",null,null,null,null,null,"令和　　年　　月　　日",null,null,null,null,null,null,null,null,null,null,null,null,null,null,null,"検査責任者氏名　　　　　　　　　　 　　　　　　　　　　　　　印"]
[]
[null,"１０号室",null,null,"組合員番号：",null,{"$f":"メニュー画面!F18","v":"４　３　６"},null,null,null,null,null,null,"施用資材名",null,null,null,null,null,null,null,null,null,null,null,null,null,null,"投入量",null,null,null,null,{"$f":"IF('１０号入力'!F30=\"\",\"\",'１０号入力'!F30)","v":"〃"},null,null,null,null,{"$f":"IF('１０号入力'!AH30=\"\",\"\",'１０号入力'!AH30)","v":""},null,null,null,null,null,null,null,null,null,{"$f":"IF('１０号入力'!AA30=\"\",\"\",'１０号入力'!AA30)","v":""},null,null,null,null,{"$f":"IF('１０号入力'!F39=\"\",\"\",'１０号入力'!F39)","v":""},null,null,null,null,{"$f":"IF('１０号入力'!AH39=\"\",\"\",'１０号入力'!AH39)","v":""},null,null,null,null,null,null,null,null,null,{"$f":"IF('１０号入力'!AA39=\"\",\"\",'１０号入力'!AA39)","v":""},null,null,null,null,"施用粒剤"]
[null,null,null,null,"氏名：",null,{"$f":"メニュー画面!F20","v":"中　條　文　義"},null,null,null,null,null,null,{"$f":"IF('１０号入力'!F22=\"\",\"\",'１０号入力'!F22)","v":""},null,null,null,null,{"$f":"IF('１０号入力'!AH22=\"\",\"\",'１０号入力'!AH22)","v":"育苗"},null,null,null,null,null,null,null,null,null,{"$f":"IF('１０号入力'!AA22=\"\",\"\",'１０号入力'!AA22)","v":""},null,null,null,null,{"$f":"IF('１０号入力'!F31=\"\",\"\",'１０号入力'!F31)","v":"〃"},null,null,null,null,{"$f":"IF('１０号入力'!AH31=\"\",\"\",'１０号入力'!AH31)","v":""},null,null,null,null,null,null,null,null,null,{"$f":"IF('１０号入力'!AA31=\"\",\"\",'１０号入力'!AA31)","v":""},null,null,null,null,{"$f":"IF('１０号入力'!F40=\"\",\"\",'１０号入力'!F40)","v":""},null,null,null,null,{"$f":"IF('１０号入力'!AH40=\"\",\"\",'１０号入力'!AH40)","v":""},null,null,null,null,null,null,null,null,null,{"$f":"IF('１０号入力'!AA40=\"\",\"\",'１０号入力'!AA40)","v":""},null,null,null,null,{"$f":"IF('１０号入力'!F53=\"\",\"/\",'１０号入力'!F53)","v":"/"},null,null,null,null,{"$f":"IF('１０号入力'!I53=\"\",\"\",'１０号入力'!I53)","v":""}]
[null,null,null,null,"部屋番号：",null,{"$f":"IF('１０号入力'!F9=\"\",\"\",'１０号入力'!F9)","v":10},{"$f":"IF('１０号入力'!F10=\"\",\"\",'１０号入力'!F10)","v":""},null,null,null,null,null,{"$f":"IF('１０号入力'!F23=\"\",\"\",'１０号入力'!F23)","v":"2006-01-01"},null,null,null,null,{"$f":"IF('１０号入力'!AH23=\"\",\"\",'１０号入力'!AH23)","v":""},null,null,null,null,null,null,null,null,null,{"$f":"IF('１０号入力'!AA23=\"\",\"\",'１０号入力'!AA23)","v":""},null,null,null,null,{"$f":"IF('１０号入力'!F32=\"\",\"\",'１０号入力'!F32)","v":"〃"},null,null,null,null,{"$f":"IF('１０号入力'!AH32=\"\",\"\",'１０号入力'!AH32)","v":""},null,null,null,null,null,null,null,null,null,{"$f":"IF('１０号入力'!AA32=\"\",\"\",'１０号入力'!AA32)","v":""},null,null,null,null,{"$f":"IF('１０号入力'!F41=\"\",\"\",'１０号入力'!F41)","v":""},null,null,null,null,{"$f":"IF('１０号入力'!AH41=\"\",\"\",'１０号入力'!AH41)","v":""},null,null,null,null,null,null,null,null,null,{"$f":"IF('１０号入力'!AA41=\"\",\"\",'１０号入力'!AA41)","v":""},null,null,null,null,{"$f":"IF('１０号入力'!P53=0,\"g\",'１０号入力'!P53)","v":"g"},null,null,null,null,null,null,null,{"$f":"IF('１０号入力'!T53=0,0,'１０号入力'!T53)","v":0}]
[null,null,null,null,"品種名：",null,{"$f":"IF('１０号入力'!F11=\"\",\"\",'１０号入力'!F11)","v":"春　　系"},null,null,null,null,null,null,{"$f":"IF('１０号入力'!F24=\"\",\"\",'１０号入力'!F24)","v":"〃"},null,null,null,null,{"$f":"IF('１０号入力'!AH24=\"\",\"\",'１０号入力'!AH24)","v":""},null,null,null,null,null,null,null,null,null,{"$f":"IF('１０号入力'!AA24=\"\",\"\",'１０号入力'!AA24)","v":""},null,null,null,null,{"$f":"IF('１０号入力'!F33=\"\",\"\",'１０号入力'!F33)","v":"〃"},null,null,null,null,{"$f":"IF('１０号入力'!AH33=\"\",\"\",'１０号入力'!AH33)","v":""},null,null,null,null,null,null,null,null,null,{"$f":"IF('１０号入力'!AA33=\"\",\"\",'１０号入力'!AA33)","v":""},null,null,null,null,{"$f":"IF('１０号入力'!F42=\"\",\"\",'１０号入力'!F42)","v":""},null,null,null,null,{"$f":"IF('１０号入力'!AH42=\"\",\"\",'１０号入力'!AH42)","v":""},null,null,null,null,null,null,null,null,null,{"$f":"IF('１０号入力'!AA42=\"\",\"\",'１０号入力'!AA42)","v":""},null,null,null,null,{"$f":"IF('１０号入力'!F54=\"\",\"/\",'１０号入力'!F54)","v":"/"},null,null,null,null,{"$f":"IF('１０号入力'!I54=\"\",\"\",'１０号入力'!I54)","v":""}]
[null,null,null,null,"播種日：",null,{"$f":"IF('１０号入力'!F12=\"\",\"\",'１０号入力'!F12)","v":""},null,null,null,null,null,null,{"$f":"IF('１０号入力'!F25=\"\",\"\",'１０号入力'!F25)","v":"〃"},null,null,null,null,{"$f":"IF('１０号入力'!AH25=\"\",\"\",'１０号入力'!AH25)","v":""},null,null,null,null,null,null,null,null,null,{"$f":"IF('１０号入力'!AA25=\"\",\"\",'１０号入力'!AA25)","v":""},null,null,null,null,{"$f":"IF('１０号入力'!F34=\"\",\"\",'１０号入力'!F34)","v":"〃"},null,null,null,null,{"$f":"IF('１０号入力'!AH34=\"\",\"\",'１０号入力'!AH34)","v":""},null,null,null,null,null,null,null,null,null,{"$f":"IF('１０号入力'!AA34=\"\",\"\",'１０号入力'!AA34)","v":""},null,null,null,null,{"$f":"IF('１０号入力'!F43=\"\",\"\",'１０号入力'!F43)","v":""},null,null,null,null,{"$f":"IF('１０号入力'!AH43=\"\",\"\",'１０号入力'!AH43)","v":""},null,null,null,null,null,null,null,null,null,{"$f":"IF('１０号入力'!AA43=\"\",\"\",'１０号入力'!AA43)","v":""},null,null,null,null,{"$f":"IF('１０号入力'!P54=0,\"g\",'１０号入力'!P54)","v":"g"},null,null,null,null,null,null,null,{"$f":"IF('１０号入力'!T54=0,0,'１０号入力'!T54)","v":0}]
[null,null,null,null,"定植日：",null,{"$f":"IF('１０号入力'!F13=\"\",\"\",'１０号入力'!F13)","v":""},null,null,null,null,null,null,{"$f":"IF('１０号入力'!F26=\"\",\"\",'１０号入力'!F26)","v":"〃"},null,null,null,null,{"$f":"IF('１０号入力'!AH26=\"\",\"\",'１０号入力'!AH26)","v":""},null,null,null,null,null,null,null,null,null,{"$f":"IF('１０号入力'!AA26=\"\",\"\",'１０号入力'!AA26)","v":""},null,null,null,null,{"$f":"IF('１０号入力'!F35=\"\",\"\",'１０号入力'!F35)","v":"〃"},null,null,null,null,{"$f":"IF('１０号入力'!AH35=\"\",\"\",'１０号入力'!AH35)","v":""},null,null,null,null,null,null,null,null,null,{"$f":"IF('１０号入力'!AA35=\"\",\"\",'１０号入力'!AA35)","v":""},null,null,null,null,{"$f":"IF('１０号入力'!F44=\"\",\"\",'１０号入力'!F44)","v":""},null,null,null,null,{"$f":"IF('１０号入力'!AH44=\"\",\"\",'１０号入力'!AH44)","v":""},null,null,null,null,null,null,null,null,null,{"$f":"IF('１０号入力'!AA44=\"\",\"\",'１０号入力'!AA44)","v":""},null,null,null,null,"硫黄くん蒸剤"]
[null,null,null,null,"交配日：",null,{"$f":"IF('１０号入力'!F14=\"\",\"\",'１０号入力'!F14)","v":""},null,null,null,null,null,null,{"$f":"IF('１０号入力'!F27=\"\",\"\",'１０号入力'!F27)","v":"〃"},null,null,null,null,{"$f":"IF('１０号入力'!AH27=\"\",\"\",'１０号入力'!AH27)","v":""},null,null,null,null,null,null,null,null,null,{"$f":"IF('１０号入力'!AA27=\"\",\"\",'１０号入力'!AA27)","v":""},null,null,null,null,{"$f":"IF('１０号入力'!F36=\"\",\"\",'１０号入力'!F36)","v":""},null,null,null,null,{"$f":"IF('１０号入力'!AH36=\"\",\"\",'１０号入力'!AH36)","v":""},null,null,null,null,null,null,null,null,null,{"$f":"IF('１０号入力'!AA36=\"\",\"\",'１０号入力'!AA36)","v":""},null,null,null,null,{"$f":"IF('１０号入力'!F45=\"\",\"\",'１０号入力'!F45)","v":""},null,null,null,null,{"$f":"IF('１０号入力'!AH45=\"\",\"\",'１０号入力'!AH45)","v":""},null,null,null,null,null,null,null,null,null,{"$f":"IF('１０号入力'!AA45=\"\",\"\",'１０号入力'!AA45)","v":""},null,null,null,null,{"$f":"IF('１０号入力'!H59=\"\",\"/      ～\",'１０号入力'!H59)","v":"/      ～"},null,null,null,null,null,null,null,null,null,{"$f":"IF('１０号入力'!H60=\"\",\"    /\",'１０号入力'!H60)","v":"    /"}]
[null,null,null,null,"収穫日：",null,{"$f":"IF('１０号入力'!F16=\"\",\"\",'１０号入力'!F16)","v":""},null,null,null,null,null,null,{"$f":"IF('１０号入力'!F28=\"\",\"\",'１０号入力'!F28)","v":"〃"},null,null,null,null,{"$f":"IF('１０号入力'!AH28=\"\",\"\",'１０号入力'!AH28)","v":""},null,null,null,null,null,null,null,null,null,{"$f":"IF('１０号入力'!AA28=\"\",\"\",'１０号入力'!AA28)","v":""},null,null,null,null,{"$f":"IF('１０号入力'!F37=\"\",\"\",'１０号入力'!F37)","v":""},null,null,null,null,{"$f":"IF('１０号入力'!AH37=\"\",\"\",'１０号入力'!AH37)","v":""},null,null,null,null,null,null,null,null,null,{"$f":"IF('１０号入力'!AA37=\"\",\"\",'１０号入力'!AA37)","v":""},null,null,null,null,{"$f":"IF('１０号入力'!F46=\"\",\"\",'１０号入力'!F46)","v":""},null,null,null,null,{"$f":"IF('１０号入力'!AH46=\"\",\"\",'１０号入力'!AH46)","v":""},null,null,null,null,null,null,null,null,null,{"$f":"IF('１０号入力'!AA46=\"\",\"\",'１０号入力'!AA46)","v":""}]
[null,null,null,null,null,null,null,null,null,null,null,null,null,null,null,null,null,null,null,null,null,null,null,null,null,null,null,null,null,null,null,null,null,null,null,null,null,null,null,null,null,null,null,null,null,null,null,null,null,null,null,null,null,null,null,null,null,null,null,null,null,null,null,null,null,null,null,null,null,null,null,null,null,{"$f":"IF('１０号入力'!H61=\"\",\"g/日\",'１０号入力'!H61)","v":2},null,null,null,null,null,null,null,null,{"$f":"IF('１０号入力'!H62=\"\",\"g/部屋\",'１０号入力'!H62)","v":"g/部屋"}]
[null,null,null,null,"採果日数：",null,{"$f":"'１０号入力'!F15","v":0},null,null,null,null,null,null,{"$f":"IF('１０号入力'!F29=\"\",\"\",'１０号入力'!F29)","v":"〃"},null,null,null,null,{"$f":"IF('１０号入力'!AH29=\"\",\"\",'１０号入力'!AH29)","v":""},null,null,null,null,null,null,null,null,null,{"$f":"IF('１０号入力'!AA29=\"\",\"\",'１０号入力'!AA29)","v":""},null,null,null,null,{"$f":"IF('１０号入力'!F38=\"\",\"\",'１０号入力'!F38)","v":""},null,null,null,null,{"$f":"IF('１０号入力'!AH38=\"\",\"\",'１０号入力'!AH38)","v":""},null,null,null,null,null,null,null,null,null,{"$f":"IF('１０号入力'!AA38=\"\",\"\",'１０号入力'!AA38)","v":""},null,null,null,null,{"$f":"IF('１０号入力'!F47=\"\",\"\",'１０号入力'!F47)","v":""},null,null,null,null,{"$f":"IF('１０号入力'!AH47=\"\",\"\",'１０号入力'!AH47)","v":""},null,null,null,null,null,null,null,null,null,{"$f":"IF('１０号入力'!AA47=\"\",\"\",'１０号入力'!AA47)","v":""}]
[]
[null,null,null,null,"使用年月日",null,null,null,null,null,null,null,null,{"$f":"IF('１０号入力'!R68=\"\",\"/\",'１０号入力'!R68)","v":"/"},null,null,null,null,null,null,{"$f":"IF('１０号入力'!U68=\"\",\"/\",'１０号入力'!U68)","v":"/"},null,null,null,null,null,null,{"$f":"IF('１０号入力'!X68=\"\",\"/\",'１０号入力'!X68)","v":"/"},null,null,null,null,null,null,{"$f":"IF('１０号入力'!AA68=\"\",\"/\",'１０号入力'!AA68)","v":"/"},null,null,null,null,null,null,{"$f":"IF('１０号入力'!AD68=\"\",\"/\",'１０号入力'!AD68)","v":"/"},null,null,null,null,null,null,{"$f":"IF('１０号入力'!AG68=\"\",\"/\",'１０号入力'!AG68)","v":"/"},null,null,null,null,null,null,{"$f":"IF('１０号入力'!AJ68=\"\",\"/\",'１０号入力'!AJ68)","v":"/"},null,null,null,null,null,null,{"$f":"IF('１０号入力'!AM68=\"\",\"/\",'１０号入力'!AM68)","v":"/"},null,null,null,null,null,null,"使用液肥・葉面散布剤"]
[null,null,null,null,"生育ステージ",null,null,null,null,null,null,null,null,{"$f":"IF('１０号入力'!R69=\"\",\"\",'１０号入力'!R69)","v":"育苗"},null,null,null,null,null,null,{"$f":"IF('１０号入力'!U69=\"\",\"\",'１０号入力'!U69)","v":"木作り"},null,null,null,null,null,null,{"$f":"IF('１０号入力'!X69=\"\",\"\",'１０号入力'!X69)","v":"木作り"},null,null,null,null,null,null,{"$f":"IF('１０号入力'!AA69=\"\",\"\",'１０号入力'!AA69)","v":"肥大期"},null,null,null,null,null,null,{"$f":"IF('１０号入力'!AD69=\"\",\"\",'１０号入力'!AD69)","v":"肥大期"},null,null,null,null,null,null,{"$f":"IF('１０号入力'!AG69=\"\",\"\",'１０号入力'!AG69)","v":"仕上げ"},null,null,null,null,null,null,{"$f":"IF('１０号入力'!AJ69=\"\",\"\",'１０号入力'!AJ69)","v":"仕上げ"},null,null,null,null,null,null,{"$f":"IF('１０号入力'!AM69=\"\",\"\",'１０号入力'!AM69)","v":"仕上げ"},null,null,null,null,null,null,{"$f":"IF('１０号入力'!E105=\"\",\"/\",'１０号入力'!E105)","v":"/"},null,null,null,null,{"$f":"IF('１０号入力'!H105=\"\",\"\",'１０号入力'!H105)","v":""},null,null,null,null,null,null,null,null,null,null,null,null,{"$f":"IF('１０号入力'!Q105=0,0,'１０号入力'!Q105)","v":0}]
[null,null,null,null,"使用農薬名","散布量",null,null,null,null,null,null,null,{"$f":"IF('１０号入力'!R70=0,0,'１０号入力'!R70)","v":0},null,null,null,null,null,null,{"$f":"IF('１０号入力'!U70=0,0,'１０号入力'!U70)","v":0},null,null,null,null,null,null,{"$f":"IF('１０号入力'!X70=0,0,'１０号入力'!X70)","v":0},null,null,null,null,null,null,{"$f":"IF('１０号入力'!AA70=0,0,'１０号入力'!AA70)","v":0},null,null,null,null,null,null,{"$f":"IF('１０号入力'!AD70=0,0,'１０号入力'!AD70)","v":0},null,null,null,null,null,null,{"$f":"IF('１０号入力'!AG70=0,0,'１０号入力'!AG70)","v":0},null,null,null,null,null,null,{"$f":"IF('１０号入力'!AJ70=0,0,'１０号入力'!AJ70)","v":0},null,null,null,null,null,null,{"$f":"IF('１０号入力'!AM70=0,0,'１０号入力'!AM70)","v":0},null,null,null,null,null,null,{"$f":"IF('１０号入力'!E106=\"\",\"\",'１０号入力'!E106)","v":""},null,null,null,null,{"$f":"IF('１０号入力'!H106=\"\",\"\",'１０号入力'!H106)","v":""},null,null,null,null,null,null,null,null,null,null,null,null,{"$f":"IF('１０号入力'!Q106=0,\"\",'１０号入力'!Q106)","v":""}]
[null,null,null,null,null,{"$f":"IF('１０号入力'!D71=\"\",\"\",'１０号入力'!D71)","v":""},null,null,{"$f":"IF(F19=\"\",\"\",VLOOKUP(F19,Ｍ農薬台帳,3,FALSE))","v":""},{"$f":"IF(F19=\"\",\"\",\"-\")","v":""},{"$f":"IF(F19=\"\",\"\",VLOOKUP(F19,Ｍ農薬台帳,2,FALSE))","v":""},null,null,{"$f":"IF('１０号入力'!R71=\"\",\"\",'１０号入力'!R71)","v":""},null,null,null,null,null,null,{"$f":"IF('１０号入力'!U71=\"\",\"\",'１０号入力'!U71)","v":""},null,null,null,null,null,null,{"$f":"IF('１０号入力'!X71=\"\",\"\",'１０号入力'!X71)","v":""},null,null,null,null,null,null,{"$f":"IF('１０号入力'!AA71=\"\",\"\",'１０号入力'!AA71)","v":""},null,null,null,null,null,null,{"$f":"IF('１０号入力'!AD71=\"\",\"\",'１０号入力'!AD71)","v":""},null,null,null,null,null,null,{"$f":"IF('１０号入力'!AG71=\"\",\"\",'１０号入力'!AG71)","v":""},null,null,null,null,null,null,{"$f":"IF('１０号入力'!AJ71=\"\",\"\",'１０号入力'!AJ71)","v":""},null,null,null,null,null,null,{"$f":"IF('１０号入力'!AM71=\"\",\"\",'１０号入力'!AM71)","v":""},null,null,null,null,null,null,{"$f":"IF('１０号入力'!E107=\"\",\"\",'１０号入力'!E107)","v":""},null,null,null,null,{"$f":"IF('１０号入力'!H107=\"\",\"\",'１０号入力'!H107)","v":""},null,null,null,null,null,null,null,null,null,null,null,null,{"$f":"IF('１０号入力'!Q107=0,\"\",'１０号入力'!Q107)","v":""}]
[null,null,null,null,null,{"$f":"IF('１０号入力'!D72=\"\",\"\",'１０号入力'!D72)","v":""},null,null,"","","",null,null,{"$f":"IF('１０号入力'!R72=\"\",\"\",'１０号入力'!R72)","v":""},null,null,null,null,null,null,{"$f":"IF('１０号入力'!U72=\"\",\"\",'１０号入力'!U72)","v":""},null,null,null,null,null,null,{"$f":"IF('１０号入力'!X72=\"\",\"\",'１０号入力'!X72)","v":""},null,null,null,null,null,null,{"$f":"IF('１０号入力'!AA72=\"\",\"\",'１０号入力'!AA72)","v":""},null,null,null,null,null,null,{"$f":"IF('１０号入力'!AD72=\"\",\"\",'１０号入力'!AD72)","v":""},null,null,null,null,null,null,{"$f":"IF('１０号入力'!AG72=\"\",\"\",'１０号入力'!AG72)","v":""},null,null,null,null,null,null,{"$f":"IF('１０号入力'!AJ72=\"\",\"\",'１０号入力'!AJ72)","v":""},null,null,null,null,null,null,{"$f":"IF('１０号入力'!AM72=\"\",\"\",'１０号入力'!AM72)","v":""},null,null,null,null,null,null,{"$f":"IF('１０号入力'!E108=\"\",\"\",'１０号入力'!E108)","v":""},null,null,null,null,{"$f":"IF('１０号入力'!H108=\"\",\"\",'１０号入力'!H108)","v":""},null,null,null,null,null,null,null,null,null,null,null,null,{"$f":"IF('１０号入力'!Q108=0,\"\",'１０号入力'!Q108)","v":""}]
[null,null,null,null,null,{"$f":"IF('１０号入力'!D73=\"\",\"\",'１０号入力'!D73)","v":""},null,null,"","","",null,null,{"$f":"IF('１０号入力'!R73=\"\",\"\",'１０号入力'!R73)","v":""},null,null,null,null,null,null,{"$f":"IF('１０号入力'!U73=\"\",\"\",'１０号入力'!U73)","v":""},null,null,null,null,null,null,{"$f":"IF('１０号入力'!X73=\"\",\"\",'１０号入力'!X73)","v":""},null,null,null,null,null,null,{"$f":"IF('１０号入力'!AA73=\"\",\"\",'１０号入力'!AA73)","v":""},null,null,null,null,null,null,{"$f":"IF('１０号入力'!AD73=\"\",\"\",'１０号入力'!AD73)","v":""},null,null,null,null,null,null,{"$f":"IF('１０号入力'!AG73=\"\",\"\",'１０号入力'!AG73)","v":""},null,null,null,null,null,null,{"$f":"IF('１０号入力'!AJ73=\"\",\"\",'１０号入力'!AJ73)","v":""},null,null,null,null,null,null,{"$f":"IF('１０号入力'!AM73=\"\",\"\",'１０号入力'!AM73)","v":""},null,null,null,null,null,null,{"$f":"IF('１０号入力'!E109=\"\",\"\",'１０号入力'!E109)","v":""},null,null,null,null,{"$f":"IF('１０号入力'!H109=\"\",\"\",'１０号入力'!H109)","v":""},null,null,null,null,null,null,null,null,null,null,null,null,{"$f":"IF('１０号入力'!Q109=0,\"\",'１０号入力'!Q109)","v":""}]
[null,null,null,null,null,{"$f":"IF('１０号入力'!D74=\"\",\"\",'１０号入力'!D74)","v":""},null,null,"","","",null,null,{"$f":"IF('１０号入力'!R74=\"\",\"\",'１０号入力'!R74)","v":""},null,null,null,null,null,null,{"$f":"IF('１０号入力'!U74=\"\",\"\",'１０号入力'!U74)","v":""},null,null,null,null,null,null,{"$f":"IF('１０号入力'!X74=\"\",\"\",'１０号入力'!X74)","v":""},null,null,null,null,null,null,{"$f":"IF('１０号入力'!AA74=\"\",\"\",'１０号入力'!AA74)","v":""},null,null,null,null,null,null,{"$f":"IF('１０号入力'!AD74=\"\",\"\",'１０号入力'!AD74)","v":""},null,null,null,null,null,null,{"$f":"IF('１０号入力'!AG74=\"\",\"\",'１０号入力'!AG74)","v":""},null,null,null,null,null,null,{"$f":"IF('１０号入力'!AJ74=\"\",\"\",'１０号入力'!AJ74)","v":""},null,null,null,null,null,null,{"$f":"IF('１０号入力'!AM74=\"\",\"\",'１０号入力'!AM74)","v":""},null,null,null,null,null,null,{"$f":"IF('１０号入力'!E110=\"\",\"\",'１０号入力'!E110)","v":""},null,null,null,null,{"$f":"IF('１０号入力'!H110=\"\",\"\",'１０号入力'!H110)","v":""},null,null,null,null,null,null,null,null,null,null,null,null,{"$f":"IF('１０号入力'!Q110=0,\"\",'１０号入力'!Q110)","v":""}]
[null,null,null,null,null,{"$f":"IF('１０号入力'!D75=\"\",\"\",'１０号入力'!D75)","v":""},null,null,"","","",null,null,{"$f":"IF('１０号入力'!R75=\"\",\"\",'１０号入力'!R75)","v":""},null,null,null,null,null,null,{"$f":"IF('１０号入力'!U75=\"\",\"\",'１０号入力'!U75)","v":""},null,null,null,null,null,null,{"$f":"IF('１０号入力'!X75=\"\",\"\",'１０号入力'!X75)","v":""},null,null,null,null,null,null,{"$f":"IF('１０号入力'!AA75=\"\",\"\",'１０号入力'!AA75)","v":""},null,null,null,null,null,null,{"$f":"IF('１０号入力'!AD75=\"\",\"\",'１０号入力'!AD75)","v":""},null,null,null,null,null,null,{"$f":"IF('１０号入力'!AG75=\"\",\"\",'１０号入力'!AG75)","v":""},null,null,null,null,null,null,{"$f":"IF('１０号入力'!AJ75=\"\",\"\",'１０号入力'!AJ75)","v":""},null,null,null,null,null,null,{"$f":"IF('１０号入力'!AM75=\"\",\"\",'１０号入力'!AM75)","v":""},null,null,null,null,null,null,{"$f":"IF('１０号入力'!E111=\"\",\"\",'１０号入力'!E111)","v":""},null,null,null,null,{"$f":"IF('１０号入力'!H111=\"\",\"\",'１０号入力'!H111)","v":""},null,null,null,null,null,null,null,null,null,null,null,null,{"$f":"IF('１０号入力'!Q111=0,\"\",'１０号入力'!Q111)","v":""}]
[null,null,null,null,null,{"$f":"IF('１０号入力'!D76=\"\",\"\",'１０号入力'!D76)","v":""},null,null,"","","",null,null,{"$f":"IF('１０号入力'!R76=\"\",\"\",'１０号入力'!R76)","v":""},null,null,null,null,null,null,{"$f":"IF('１０号入力'!U76=\"\",\"\",'１０号入力'!U76)","v":""},null,null,null,null,null,null,{"$f":"IF('１０号入力'!X76=\"\",\"\",'１０号入力'!X76)","v":""},null,null,null,null,null,null,{"$f":"IF('１０号入力'!AA76=\"\",\"\",'１０号入力'!AA76)","v":""},null,null,null,null,null,null,{"$f":"IF('１０号入力'!AD76=\"\",\"\",'１０号入力'!AD76)","v":""},null,null,null,null,null,null,{"$f":"IF('１０号入力'!AG76=\"\",\"\",'１０号入力'!AG76)","v":""},null,null,null,null,null,null,{"$f":"IF('１０号入力'!AJ76=\"\",\"\",'１０号入力'!AJ76)","v":""},null,null,null,null,null,null,{"$f":"IF('１０号入力'!AM76=\"\",\"\",'１０号入力'!AM76)","v":""},null,null,null,null,null,null,{"$f":"IF('１０号入力'!E112=\"\",\"\",'１０号入力'!E112)","v":""},null,null,null,null,{"$f":"IF('１０号入力'!H112=\"\",\"\",'１０号入力'!H112)","v":""},null,null,null,null,null,null,null,null,null,null,null,null,{"$f":"IF('１０号入力'!Q112=0,\"\",'１０号入力'!Q112)","v":""}]
[null,null,null,null,null,{"$f":"IF('１０号入力'!D77=\"\",\"\",'１０号入力'!D77)","v":""},null,null,"","","",null,null,{"$f":"IF('１０号入力'!R77=\"\",\"\",'１０号入力'!R77)","v":""},null,null,null,null,null,null,{"$f":"IF('１０号入力'!U77=\"\",\"\",'１０号入力'!U77)","v":""},null,null,null,null,null,null,{"$f":"IF('１０号入力'!X77=\"\",\"\",'１０号入力'!X77)","v":""},null,null,null,null,null,null,{"$f":"IF('１０号入力'!AA77=\"\",\"\",'１０号入力'!AA77)","v":""},null,null,null,null,null,null,{"$f":"IF('１０号入力'!AD77=\"\",\"\",'１０号入力'!AD77)","v":""},null,null,null,null,null,null,{"$f":"IF('１０号入力'!AG77=\"\",\"\",'１０号入力'!AG77)","v":""},null,null,null,null,null,null,{"$f":"IF('１０号入力'!AJ77=\"\",\"\",'１０号入力'!AJ77)","v":""},null,null,null,null,null,null,{"$f":"IF('１０号入力'!AM77=\"\",\"\",'１０号入力'!AM77)","v":""},null,null,null,null,null,null,{"$f":"IF('１０号入力'!E113=\"\",\"\",'１０号入力'!E113)","v":""},null,null,null,null,{"$f":"IF('１０号入力'!H113=\"\",\"\",'１０号入力'!H113)","v":""},null,null,null,null,null,null,null,null,null,null,null,null,{"$f":"IF('１０号入力'!Q113=0,\"\",'１０号入力'!Q113)","v":""}]
[null,null,null,null,null,{"$f":"IF('１０号入力'!D78=\"\",\"\",'１０号入力'!D78)","v":""},null,null,"","","",null,null,{"$f":"IF('１０号入力'!R78=\"\",\"\",'１０号入力'!R78)","v":""},null,null,null,null,null,null,{"$f":"IF('１０号入力'!U78=\"\",\"\",'１０号入力'!U78)","v":""},null,null,null,null,null,null,{"$f":"IF('１０号入力'!X78=\"\",\"\",'１０号入力'!X78)","v":""},null,null,null,null,null,null,{"$f":"IF('１０号入力'!AA78=\"\",\"\",'１０号入力'!AA78)","v":""},null,null,null,null,null,null,{"$f":"IF('１０号入力'!AD78=\"\",\"\",'１０号入力'!AD78)","v":""},null,null,null,null,null,null,{"$f":"IF('１０号入力'!AG78=\"\",\"\",'１０号入力'!AG78)","v":""},null,null,null,null,null,null,{"$f":"IF('１０号入力'!AJ78=\"\",\"\",'１０号入力'!AJ78)","v":""},null,null,null,null,null,null,{"$f":"IF('１０号入力'!AM78=\"\",\"\",'１０号入力'!AM78)","v":""},null,null,null,null,null,null,{"$f":"IF('１０号入力'!E114=\"\",\"\",'１０号入力'!E114)","v":""},null,null,null,null,{"$f":"IF('１０号入力'!H114=\"\",\"\",'１０号入力'!H114)","v":""},null,null,null,null,null,null,null,null,null,null,null,null,{"$f":"IF('１０号入力'!Q114=0,\"\",'１０号入力'!Q114)","v":""}]
[null,null,null,null,null,{"$f":"IF('１０号入力'!D79=\"\",\"\",'１０号入力'!D79)","v":""},null,null,"","","",null,null,{"$f":"IF('１０号入力'!R79=\"\",\"\",'１０号入力'!R79)","v":""},null,null,null,null,null,null,{"$f":"IF('１０号入力'!U79=\"\",\"\",'１０号入力'!U79)","v":""},null,null,null,null,null,null,{"$f":"IF('１０号入力'!X79=\"\",\"\",'１０号入力'!X79)","v":""},null,null,null,null,null,null,{"$f":"IF('１０号入力'!AA79=\"\",\"\",'１０号入力'!AA79)","v":""},null,null,null,null,null,null,{"$f":"IF('１０号入力'!AD79=\"\",\"\",'１０号入力'!AD79)","v":""},null,null,null,null,null,null,{"$f":"IF('１０号入力'!AG79=\"\",\"\",'１０号入力'!AG79)","v":""},null,null,null,null,null,null,{"$f":"IF('１０号入力'!AJ79=\"\",\"\",'１０号入力'!AJ79)","v":""},null,null,null,null,null,null,{"$f":"IF('１０号入力'!AM79=\"\",\"\",'１０号入力'!AM79)","v":""},null,null,null,null,null,null,{"$f":"IF('１０号入力'!E115=\"\",\"\",'１０号入力'!E115)","v":""},null,null,null,null,{"$f":"IF('１０号入力'!H115=\"\",\"\",'１０号入力'!H115)","v":""},null,null,null,null,null,null,null,null,null,null,null,null,{"$f":"IF('１０号入力'!Q115=0,\"\",'１０号入力'!Q115)","v":""}]
[null,null,null,null,null,{"$f":"IF('１０号入力'!D80=\"\",\"\",'１０号入力'!D80)","v":""},null,null,"","","",null,null,{"$f":"IF('１０号入力'!R80=\"\",\"\",'１０号入力'!R80)","v":""},null,null,null,null,null,null,{"$f":"IF('１０号入力'!U80=\"\",\"\",'１０号入力'!U80)","v":""},null,null,null,null,null,null,{"$f":"IF('１０号入力'!X80=\"\",\"\",'１０号入力'!X80)","v":""},null,null,null,null,null,null,{"$f":"IF('１０号入力'!AA80=\"\",\"\",'１０号入力'!AA80)","v":""},null,null,null,null,null,null,{"$f":"IF('１０号入力'!AD80=\"\",\"\",'１０号入力'!AD80)","v":""},null,null,null,null,null,null,{"$f":"IF('１０号入力'!AG80=\"\",\"\",'１０号入力'!AG80)","v":""},null,null,null,null,null,null,{"$f":"IF('１０号入力'!AJ80=\"\",\"\",'１０号入力'!AJ80)","v":""},null,null,null,null,null,null,{"$f":"IF('１０号入力'!AM80=\"\",\"\",'１０号入力'!AM80)","v":""},null,null,null,null,null,null,{"$f":"IF('１０号入力'!E116=\"\",\"\",'１０号入力'!E116)","v":""},null,null,null,null,{"$f":"IF('１０号入力'!H116=\"\",\"\",'１０号入力'!H116)","v":""},null,null,null,null,null,null,null,null,null,null,null,null,{"$f":"IF('１０号入力'!Q116=0,\"\",'１０号入力'!Q116)","v":""}]
[null,null,null,null,null,{"$f":"IF('１０号入力'!D81=\"\",\"\",'１０号入力'!D81)","v":""},null,null,"","","",null,null,{"$f":"IF('１０号入力'!R81=\"\",\"\",'１０号入力'!R81)","v":""},null,null,null,null,null,null,{"$f":"IF('１０号入力'!U81=\"\",\"\",'１０号入力'!U81)","v":""},null,null,null,null,null,null,{"$f":"IF('１０号入力'!X81=\"\",\"\",'１０号入力'!X81)","v":""},null,null,null,null,null,null,{"$f":"IF('１０号入力'!AA81=\"\",\"\",'１０号入力'!AA81)","v":""},null,null,null,null,null,null,{"$f":"IF('１０号入力'!AD81=\"\",\"\",'１０号入力'!AD81)","v":""},null,null,null,null,null,null,{"$f":"IF('１０号入力'!AG81=\"\",\"\",'１０号入力'!AG81)","v":""},null,null,null,null,null,null,{"$f":"IF('１０号入力'!AJ81=\"\",\"\",'１０号入力'!AJ81)","v":""},null,null,null,null,null,null,{"$f":"IF('１０号入力'!AM81=\"\",\"\",'１０号入力'!AM81)","v":""},null,null,null,null,null,null,{"$f":"IF('１０号入力'!E117=\"\",\"\",'１０号入力'!E117)","v":""},null,null,null,null,{"$f":"IF('１０号入力'!H117=\"\",\"\",'１０号入力'!H117)","v":""},null,null,null,null,null,null,null,null,null,null,null,null,{"$f":"IF('１０号入力'!Q117=0,\"\",'１０号入力'!Q117)","v":""}]
[null,null,null,null,null,{"$f":"IF('１０号入力'!D82=\"\",\"\",'１０号入力'!D82)","v":""},null,null,"","","",null,null,{"$f":"IF('１０号入力'!R82=\"\",\"\",'１０号入力'!R82)","v":""},null,null,null,null,null,null,{"$f":"IF('１０号入力'!U82=\"\",\"\",'１０号入力'!U82)","v":""},null,null,null,null,null,null,{"$f":"IF('１０号入力'!X82=\"\",\"\",'１０号入力'!X82)","v":""},null,null,null,null,null,null,{"$f":"IF('１０号入力'!AA82=\"\",\"\",'１０号入力'!AA82)","v":""},null,null,null,null,null,null,{"$f":"IF('１０号入力'!AD82=\"\",\"\",'１０号入力'!AD82)","v":""},null,null,null,null,null,null,{"$f":"IF('１０号入力'!AG82=\"\",\"\",'１０号入力'!AG82)","v":""},null,null,null,null,null,null,{"$f":"IF('１０号入力'!AJ82=\"\",\"\",'１０号入力'!AJ82)","v":""},null,null,null,null,null,null,{"$f":"IF('１０号入力'!AM82=\"\",\"\",'１０号入力'!AM82)","v":""},null,null,null,null,null,null,{"$f":"IF('１０号入力'!E118=\"\",\"\",'１０号入力'!E118)","v":""},null,null,null,null,{"$f":"IF('１０号入力'!H118=\"\",\"\",'１０号入力'!H118)","v":""},null,null,null,null,null,null,null,null,null,null,null,null,{"$f":"IF('１０号入力'!Q118=0,\"\",'１０号入力'!Q118)","v":""}]
[null,null,null,null,null,{"$f":"IF('１０号入力'!D83=\"\",\"\",'１０号入力'!D83)","v":""},null,null,"","","",null,null,{"$f":"IF('１０号入力'!R83=\"\",\"\",'１０号入力'!R83)","v":""},null,null,null,null,null,null,{"$f":"IF('１０号入力'!U83=\"\",\"\",'１０号入力'!U83)","v":""},null,null,null,null,null,null,{"$f":"IF('１０号入力'!X83=\"\",\"\",'１０号入力'!X83)","v":""},null,null,null,null,null,null,{"$f":"IF('１０号入力'!AA83=\"\",\"\",'１０号入力'!AA83)","v":""},null,null,null,null,null,null,{"$f":"IF('１０号入力'!AD83=\"\",\"\",'１０号入力'!AD83)","v":""},null,null,null,null,null,null,{"$f":"IF('１０号入力'!AG83=\"\",\"\",'１０号入力'!AG83)","v":""},null,null,null,null,null,null,{"$f":"IF('１０号入力'!AJ83=\"\",\"\",'１０号入力'!AJ83)","v":""},null,null,null,null,null,null,{"$f":"IF('１０号入力'!AM83=\"\",\"\",'１０号入力'!AM83)","v":""},null,null,null,null,null,null,{"$f":"IF('１０号入力'!E119=\"\",\"\",'１０号入力'!E119)","v":""},null,null,null,null,{"$f":"IF('１０号入力'!H119=\"\",\"\",'１０号入力'!H119)","v":""},null,null,null,null,null,null,null,null,null,null,null,null,{"$f":"IF('１０号入力'!Q119=0,\"\",'１０号入力'!Q119)","v":""}]
[null,null,null,null,null,{"$f":"IF('１０号入力'!D84=\"\",\"\",'１０号入力'!D84)","v":""},null,null,"","","",null,null,{"$f":"IF('１０号入力'!R84=\"\",\"\",'１０号入力'!R84)","v":""},null,null,null,null,null,null,{"$f":"IF('１０号入力'!U84=\"\",\"\",'１０号入力'!U84)","v":""},null,null,null,null,null,null,{"$f":"IF('１０号入力'!X84=\"\",\"\",'１０号入力'!X84)","v":""},null,null,null,null,null,null,{"$f":"IF('１０号入力'!AA84=\"\",\"\",'１０号入力'!AA84)","v":""},null,null,null,null,null,null,{"$f":"IF('１０号入力'!AD84=\"\",\"\",'１０号入力'!AD84)","v":""},null,null,null,null,null,null,{"$f":"IF('１０号入力'!AG84=\"\",\"\",'１０号入力'!AG84)","v":""},null,null,null,null,null,null,{"$f":"IF('１０号入力'!AJ84=\"\",\"\",'１０号入力'!AJ84)","v":""},null,null,null,null,null,null,{"$f":"IF('１０号入力'!AM84=\"\",\"\",'１０号入力'!AM84)","v":""},null,null,null,null,null,null,{"$f":"IF('１０号入力'!E120=\"\",\"\",'１０号入力'!E120)","v":""},null,null,null,null,{"$f":"IF('１０号入力'!H120=\"\",\"\",'１０号入力'!H120)","v":""},null,null,null,null,null,null,null,null,null,null,null,null,{"$f":"IF('１０号入力'!Q120=0,\"\",'１０号入力'!Q120)","v":""}]
[null,null,null,null,null,{"$f":"IF('１０号入力'!D85=\"\",\"\",'１０号入力'!D85)","v":""},null,null,"","","",null,null,{"$f":"IF('１０号入力'!R85=\"\",\"\",'１０号入力'!R85)","v":""},null,null,null,null,null,null,{"$f":"IF('１０号入力'!U85=\"\",\"\",'１０号入力'!U85)","v":""},null,null,null,null,null,null,{"$f":"IF('１０号入力'!X85=\"\",\"\",'１０号入力'!X85)","v":""},null,null,null,null,null,null,{"$f":"IF('１０号入力'!AA85=\"\",\"\",'１０号入力'!AA85)","v":""},null,null,null,null,null,null,{"$f":"IF('１０号入力'!AD85=\"\",\"\",'１０号入力'!AD85)","v":""},null,null,null,null,null,null,{"$f":"IF('１０号入力'!AG85=\"\",\"\",'１０号入力'!AG85)","v":""},null,null,null,null,null,null,{"$f":"IF('１０号入力'!AJ85=\"\",\"\",'１０号入力'!AJ85)","v":""},null,null,null,null,null,null,{"$f":"IF('１０号入力'!AM85=\"\",\"\",'１０号入力'!AM85)","v":""},null,null,null,null,null,null,{"$f":"IF('１０号入力'!E121=\"\",\"\",'１０号入力'!E121)","v":""},null,null,null,null,{"$f":"IF('１０号入力'!H121=\"\",\"\",'１０号入力'!H121)","v":""},null,null,null,null,null,null,null,null,null,null,null,null,{"$f":"IF('１０号入力'!Q121=0,\"\",'１０号入力'!Q121)","v":""}]
[null,null,null,null,null,{"$f":"IF('１０号入力'!D86=\"\",\"\",'１０号入力'!D86)","v":""},null,null,"","","",null,null,{"$f":"IF('１０号入力'!R86=\"\",\"\",'１０号入力'!R86)","v":""},null,null,null,null,null,null,{"$f":"IF('１０号入力'!U86=\"\",\"\",'１０号入力'!U86)","v":""},null,null,null,null,null,null,{"$f":"IF('１０号入力'!X86=\"\",\"\",'１０号入力'!X86)","v":""},null,null,null,null,null,null,{"$f":"IF('１０号入力'!AA86=\"\",\"\",'１０号入力'!AA86)","v":""},null,null,null,null,null,null,{"$f":"IF('１０号入力'!AD86=\"\",\"\",'１０号入力'!AD86)","v":""},null,null,null,null,null,null,{"$f":"IF('１０号入力'!AG86=\"\",\"\",'１０号入力'!AG86)","v":""},null,null,null,null,null,null,{"$f":"IF('１０号入力'!AJ86=\"\",\"\",'１０号入力'!AJ86)","v":""},null,null,null,null,null,null,{"$f":"IF('１０号入力'!AM86=\"\",\"\",'１０号入力'!AM86)","v":""},null,null,null,null,null,null,{"$f":"IF('１０号入力'!E122=\"\",\"\",'１０号入力'!E122)","v":""},null,null,null,null,{"$f":"IF('１０号入力'!H122=\"\",\"\",'１０号入力'!H122)","v":""},null,null,null,null,null,null,null,null,null,null,null,null,{"$f":"IF('１０号入力'!Q122=0,\"\",'１０号入力'!Q122)","v":""}]
[null,null,null,null,null,"植物成長調整剤",null,null,null,null,null,null,null,{"$f":"IF('１０号入力'!F91=\"\",\"/\",'１０号入力'!F91)","v":"/"},null,null,null,null,{"$f":"IF('１０号入力'!I91=0,0,'１０号入力'!I91)","v":0},null,null,null,null,null,null,null,{"$f":"IF('１０号入力'!N91=0,0,'１０号入力'!N91)","v":0},null,null,null,null,null,null,null,{"$f":"IF('１０号入力'!C94=\"\",\"\",'１０号入力'!C94)","v":"トップジンＭ水和剤"},null,null,null,null,null,null,null,null,null,null,null,null,null,null,null,{"$f":"IF('１０号入力'!F97=\"\",\"/\",'１０号入力'!F97)","v":"/"},null,null,null,null,{"$f":"IF('１０号入力'!I97=0,0,'１０号入力'!I97)","v":0},null,null,null,null,null,null,null,{"$f":"IF('１０号入力'!N97=0,0,'１０号入力'!N97)","v":0},null,null,null,null,null,null,null,{"$f":"IF('１０号入力'!F99=\"\",\"/\",'１０号入力'!F99)","v":"/"},null,null,null,null,{"$f":"IF('１０号入力'!I99=0,0,'１０号入力'!I99)","v":0},null,null,null,null,null,null,null,{"$f":"IF('１０号入力'!N99=0,0,'１０号入力'!N99)","v":0}]
[null,null,null,null,null,{"$f":"IF('１０号入力'!L88=\"\",\"\",'１０号入力'!L88)","v":"アークランド液剤"},null,null,null,null,null,null,null,{"$f":"IF('１０号入力'!F92=\"\",\"/\",'１０号入力'!F92)","v":"/"},null,null,null,null,{"$f":"IF('１０号入力'!I92=0,0,'１０号入力'!I92)","v":0},null,null,null,null,null,null,null,{"$f":"IF('１０号入力'!N92=0,0,'１０号入力'!N92)","v":0},null,null,null,null,null,null,null,null,null,null,null,null,null,null,null,null,null,null,null,null,null,null,null,{"$f":"IF('１０号入力'!F98=\"\",\"/\",'１０号入力'!F98)","v":"/"},null,null,null,null,{"$f":"IF('１０号入力'!I98=0,0,'１０号入力'!I98)","v":0},null,null,null,null,null,null,null,{"$f":"IF('１０号入力'!N98=0,0,'１０号入力'!N98)","v":0},null,null,null,null,null,null,null,{"$f":"IF('１０号入力'!F100=\"\",\"/\",'１０号入力'!F100)","v":"/"},null,null,null,null,{"$f":"IF('１０号入力'!I100=0,0,'１０号入力'!I100)","v":0},null,null,null,null,null,null,null,{"$f":"IF('１０号入力'!N100=0,0,'１０号入力'!N100)","v":0}]

{"sheet":"１１号入力","index":22,"n_rows":128,"n_cols":53,"rows_kept":128,"cut":false,"hidden":false,"merged":[[1,9,1,10],[1,11,1,14],[3,9,3,11],[3,12,3,18],[8,2,8,4],[8,5,8,11],[8,14,8,16],[8,17,8,23],[57,17,57,19],[9,2,9,4],[9,5,9,11],[11,2,11,4],[11,5,11,11],[10,5,10,11],[10,2,10,4],[12,2,12,4],[12,5,12,11],[12,14,12,31],[13,2,13,4],[13,5,13,11],[13,14,13,31],[14,2,14,4],[14,5,14,11],[15,2,15,4],[15,5,15,11],[19,5,19,7],[18,5,18,7],[20,33,20,39],[21,2,21,4],[21,5,21,7],[21,8,21,25],[21,26,21,29],[21,33,21,39],[20,2,20,4],[20,5,20,7],[20,8,20,25],[20,26,20,29],[22,33,22,39],[23,2,23,4],[23,5,23,7],[23,8,23,25],[23,26,23,29],[23,33,23,39],[22,2,22,4],[22,5,22,7],[22,8,22,25],[22,26,22,29],[24,33,24,39],[25,2,25,4],[25,5,25,7],[25,8,25,25],[25,26,25,29],[25,33,25,39],[24,2,24,4],[24,5,24,7],[24,8,24,25],[24,26,24,29],[26,33,26,39],[27,2,27,4],[27,5,27,7],[27,8,27,25],[27,26,27,29],[27,33,27,39],[26,2,26,4],[26,5,26,7],[26,8,26,25],[26,26,26,29],[28,33,28,39],[29,2,29,4],[29,5,29,7],[29,8,29,25],[29,26,29,29],[29,33,29,39],[28,2,28,4],[28,5,28,7],[28,8,28,25],[28,26,28,29],[30,33,30,39],[31,2,31,4],[31,5,31,7],[31,8,31,25],[31,26,31,29],[31,33,31,39],[30,2,30,4],[30,5,30,7],[30,8,30,25],[30,26,30,29],[32,33,32,39],[33,2,33,4],[33,5,33,7],[33,8,33,25],[33,26,33,29],[33,33,33,39],[32,2,32,4],[32,5,32,7],[32,8,32,25],[32,26,32,29],[34,33,34,39],[35,2,35,4],[35,5,35,7],[35,8,35,25],[35,26,35,29],[35,33,35,39],[34,2,34,4],[34,5,34,7],[34,8,34,25],[34,26,34,29],[36,33,36,39],[37,2,37,4],[37,5,37,7],[37,8,37,25],[37,26,37,29],[37,33,37,39],[36,2,36,4],[36,5,36,7],[36,8,36,25],[36,26,36,29],[38,33,38,39],[39,2,39,4],[39,5,39,7],[39,8,39,25],[39,26,39,29],[39,33,39,39],[38,2,38,4],[38,5,38,7],[38,8,38,25],[38,26,38,29],[40,33,40,39],[41,2,41,4],[41,5,41,7],[41,8,41,25],[41,26,41,29],[41,33,41,39],[40,2,40,4],[40,5,40,7],[40,8,40,25],[40,26,40,29],[42,33,42,39],[43,2,43,4],[43,5,43,7],[43,8,43,25],[43,26,43,29],[43,33,43,39],[42,2,42,4],[42,5,42,7],[42,8,42,25],[42,26,42,29],[52,19,52,23],[52,25,52,29],[44,33,44,39],[45,2,45,4],[45,5,45,7],[45,8,45,25],[45,26,45,29],[45,33,45,39],[44,2,44,4],[44,5,44,7],[44,8,44,25],[44,26,44,29],[60,20,60,26],[59,17,59,19],[58,17,58,19],[58,2,58,6],[58,7,58,13],[52,30,52,31],[52,32,52,37],[51,25,51,29],[46,33,46,39],[46,2,46,4],[46,5,46,7],[46,8,46,25],[46,26,46,29],[51,32,51,37],[51,30,51,31],[51,5,51,7],[51,8,51,14],[51,15,51,18],[51,2,51,4],[51,19,51,23],[52,2,52,4],[52,5,52,7],[52,8,52,14],[52,15,52,18],[61,2,61,6],[61,7,61,13],[59,2,59,6],[59,7,59,13],[53,32,53,37],[54,2,54,4],[54,5,54,7],[54,8,54,14],[54,15,54,18],[54,19,54,23],[53,15,53,18],[53,19,53,23],[57,2,57,13],[53,25,53,29],[53,30,53,31],[53,2,53,4],[53,5,53,7],[53,8,53,14],[60,2,60,6],[60,7,60,13],[60,17,60,19],[57,20,57,26],[58,20,58,26],[59,20,59,26],[66,38,66,40],[66,17,66,19],[66,20,66,22],[66,23,66,25],[66,26,66,28],[67,2,67,16],[67,17,67,19],[67,20,67,22],[67,23,67,25],[67,26,67,28],[67,29,67,31],[67,32,67,34],[67,35,67,37],[67,38,67,40],[66,29,66,31],[66,32,66,34],[66,35,66,37],[68,2,68,16],[68,17,68,19],[68,20,68,22],[68,23,68,25],[68,26,68,28],[68,29,68,31],[68,32,68,34],[68,35,68,37],[68,38,68,40],[69,23,69,25],[69,26,69,28],[70,3,70,10],[70,14,70,16],[70,17,70,19],[70,20,70,22],[71,3,71,10],[71,14,71,16],[71,17,71,19],[71,20,71,22],[69,29,69,31],[69,32,69,34],[69,35,69,37],[85,23,85,25],[85,26,85,28],[85,29,85,31],[85,32,85,34],[85,35,85,37],[69,38,69,40],[70,23,70,25],[70,26,70,28],[70,29,70,31],[70,32,70,34],[70,35,70,37],[70,38,70,40],[71,23,71,25],[71,26,71,28],[71,29,71,31],[71,32,71,34],[71,35,71,37],[71,38,71,40],[72,23,72,25],[72,26,72,28],[72,29,72,31],[72,32,72,34],[72,35,72,37],[72,38,72,40],[73,3,73,10],[73,14,73,16],[73,17,73,19],[73,20,73,22],[73,23,73,25],[73,26,73,28],[73,29,73,31],[73,32,73,34],[73,35,73,37],[73,38,73,40],[72,3,72,10],[72,14,72,16],[72,17,72,19],[72,20,72,22],[74,23,74,25],[74,26,74,28],[74,29,74,31],[74,32,74,34],[74,35,74,37],[74,38,74,40],[75,3,75,10],[75,14,75,16],[75,17,75,19],[75,20,75,22],[75,23,75,25],[75,26,75,28],[75,29,75,31],[75,32,75,34],[75,35,75,37],[75,38,75,40],[74,3,74,10],[74,14,74,16],[74,17,74,19],[76,38,76,40],[77,3,77,10],[77,14,77,16],[77,17,77,19],[77,20,77,22],[77,23,77,25],[77,26,77,28],[77,29,77,31],[77,32,77,34],[77,35,77,37],[77,38,77,40],[76,3,76,10],[76,14,76,16],[76,17,76,19],[76,20,76,22],[76,23,76,25],[76,26,76,28],[76,29,76,31],[76,32,76,34],[76,35,76,37],[78,38,78,40],[79,3,79,10],[79,14,79,16],[79,17,79,19],[79,20,79,22],[79,23,79,25],[79,26,79,28],[79,29,79,31],[79,32,79,34],[79,35,79,37],[79,38,79,40],[78,3,78,10],[78,14,78,16],[78,17,78,19],[78,20,78,22],[78,23,78,25],[78,26,78,28],[78,29,78,31],[78,32,78,34],[78,35,78,37],[80,38,80,40],[81,3,81,10],[81,14,81,16],[81,17,81,19],[81,20,81,22],[81,23,81,25],[81,26,81,28],[81,29,81,31],[81,32,81,34],[81,35,81,37],[81,38,81,40],[80,3,80,10],[80,14,80,16],[80,17,80,19],[80,20,80,22],[80,23,80,25],[80,26,80,28],[80,29,80,31],[80,32,80,34],[80,35,80,37],[82,38,82,40],[83,3,83,10],[83,14,83,16],[83,17,83,19],[83,20,83,22],[83,23,83,25],[83,26,83,28],[83,29,83,31],[83,32,83,34],[83,35,83,37],[83,38,83,40],[82,3,82,10],[82,14,82,16],[82,17,82,19],[82,20,82,22],[82,23,82,25],[82,26,82,28],[82,29,82,31],[82,32,82,34],[82,35,82,37],[84,23,84,25],[84,26,84,28],[84,29,84,31],[84,32,84,34],[85,38,85,40],[84,35,84,37],[84,38,84,40],[85,3,85,10],[85,14,85,16],[85,17,85,19],[89,2,89,4],[89,5,89,7],[89,8,89,12],[89,13,89,17],[85,20,85,22],[87,11,87,17],[90,2,90,4],[90,5,90,7],[90,8,90,12],[90,13,90,17],[69,2,85,2],[69,3,69,16],[69,17,69,19],[69,20,69,22],[84,3,84,10],[84,14,84,16],[84,17,84,19],[84,20,84,22],[74,20,74,22],[91,2,91,4],[91,5,91,7],[91,8,91,12],[91,13,91,17],[95,2,95,4],[95,5,95,7],[95,8,95,12],[95,13,95,17],[96,2,96,4],[96,5,96,7],[96,8,96,12],[96,13,96,17],[93,2,93,8],[97,2,97,4],[97,5,97,7],[97,8,97,12],[97,13,97,17],[98,2,98,4],[98,5,98,7],[98,8,98,12],[98,13,98,17],[99,2,99,4],[99,5,99,7],[99,8,99,12],[99,13,99,17],[103,2,103,3],[103,4,103,6],[103,7,103,15],[103,16,103,18],[104,2,104,3],[104,4,104,6],[104,7,104,15],[104,16,104,18],[105,2,105,3],[105,4,105,6],[105,7,105,15],[105,16,105,18],[106,2,106,3],[106,4,106,6],[106,7,106,15],[106,16,106,18],[107,2,107,3],[107,4,107,6],[107,7,107,15],[107,16,107,18],[108,2,108,3],[108,4,108,6],[108,7,108,15],[108,16,108,18],[109,2,109,3],[109,4,109,6],[109,7,109,15],[109,16,109,18],[110,2,110,3],[110,4,110,6],[110,7,110,15],[110,16,110,18],[111,2,111,3],[111,4,111,6],[111,7,111,15],[111,16,111,18],[112,2,112,3],[112,4,112,6],[112,7,112,15],[112,16,112,18],[113,2,113,3],[113,4,113,6],[113,7,113,15],[113,16,113,18],[114,2,114,3],[114,4,114,6],[114,7,114,15],[114,16,114,18],[115,2,115,3],[115,4,115,6],[115,7,115,15],[115,16,115,18],[117,7,117,15],[117,16,117,18],[116,2,116,3],[116,4,116,6],[116,7,116,15],[116,16,116,18],[117,2,117,3],[117,4,117,6],[119,16,119,18],[118,2,118,3],[118,4,118,6],[118,7,118,15],[118,16,118,18],[119,2,119,3],[119,4,119,6],[119,7,119,15],[123,27,123,32],[121,16,121,18],[120,2,120,3],[120,4,120,6],[120,7,120,15],[120,16,120,18],[121,2,121,3],[121,4,121,6],[121,7,121,15]]}
[]
[null,"１１号室の入力画面",null,null,null,null,null,null,null,"No.",null,{"$f":"メニュー画面!F18","v":"４　３　６"}]
[]
[null,null,null,null,null,null,null,null,null,"氏名",null,null,{"$f":"メニュー画面!F20","v":"中　條　文　義"},null,null,null,null,null,null,null,null,null,null,null,null,null,null,null,null,null,null,null,null,{"$f":"VLOOKUP(B2,隠しページ!P7:Q22,2,FALSE)","v":"１１号入力"},null,null,"→印刷画面へ"]
[]
[]
[null,"１．坪数～収穫日までの入力",null,null,null,null,null,null,null,null,null,null,null,null,"※白い枠のみに入力して下さい。ここで入力された値が、履歴シートに書き込まれます。"]
[]
[null,null,"部屋番号",null,null,11,null,null,null,null,null,null,null,null,"品種名",null,null,{"$f":"IF(F16=\"\",\"\",IF(AND(10<=MONTH(F16+1),MONTH(F16+1)<=11),\"秋　　系\",IF(AND(3<=MONTH(F16+1),MONTH(F16+1)<=5),\"春　　系\",IF(AND(6<=MONTH(F16+1),MONTH(F16+1)<=9),\"夏　　系\",\"冬　　系\"))))","v":""}]
[null,null,"坪数"]
[null,null,"品種名",null,null,"春　　系",null,null,null,null,null,null,null,null,{"$f":"IF(OR($R$9=$F$11,$R$9=\"\"),\"\",\"←県で指定された品種名と違いますが無視できます。\")","v":""}]
[null,null,"播種日"]
[null,null,"定植日",null,null,null,null,null,null,null,null,null,null,null,{"$f":"IF(OR(F13=\"\",F12=\"\"),\"\",IF(F13<F12,\"入力ミスです！播種日のほうが後の日付になりました。\",\"\"))","v":""},null,null,null,null,null,null,null,null,null,null,null,null,null,null,null,null,null,{"$f":"CONCATENATE(\"苗日数＝\",F13-F12,\"日\")","v":"苗日数＝0日"}]
[null,null,"交配日",null,null,null,null,null,null,null,null,null,null,null,{"$f":"IF(OR(F14=\"\",F13=\"\"),\"\",IF(F14<F13,\"入力ミスです！定植日の方が後になりました。\",\"\"))","v":""},null,null,null,null,null,null,null,null,null,null,null,null,null,null,null,null,null,{"$f":"CONCATENATE(\"交配日数＝\",F14-F13,\"日\")","v":"交配日数＝0日"}]
[null,null,"採果日数"]
[null,null,"収穫日",null,null,{"$f":"IF(OR(F14=\"\",F15=\"\"),\"\",F14+F15-1)","v":""},null,null,null,null,null,null,null,null,null,null,null,null,null,null,null,null,null,null,null,null,null,null,null,null,null,null,{"$f":"CONCATENATE(\"播種日～収穫日＝\",IF(F16=\"\",0,F16-F12),\"日\")","v":"播種日～収穫日＝0日"}]
[]
[null,"２．施用資材名の入力"]
[null,null,null,null,null,null,null,null,"［〃］このマークはリストから入力できます。日付はそのまま打ち込んでください。"]
[]
[null,null,null,null,null,"日付",null,null,"施用資材名",null,null,null,null,null,null,null,null,null,null,null,null,null,null,null,null,null,"投入量",null,null,null,null,null,null,"履歴シート表示確認欄"]
[null,null,null,null,null,{"$f":"IF(OR(C22=\"\",AH22=\"\"),\"\",IF(C22=\"育苗\",#REF!,IF(C22=\"定植\",#REF!,IF(C22=\"追肥（１）\",#REF!,IF(C22=\"追肥（２）\",#REF!,IF(C22=\"追肥（３）\",#REF!,\"入力ミス\"))))))","v":""},null,null,"育苗",null,null,null,null,null,null,null,null,null,null,null,null,null,null,null,null,null,null,null,null,null,null,null,null,{"$f":"IF(I22=\"\",\"\",VLOOKUP(I22,Ｍ肥料台帳,4,FALSE))","v":"育苗"}]
[null,null,null,null,null,"2006-01-01",null,null,null,null,null,null,null,null,null,null,null,null,null,null,null,null,null,null,null,null,null,null,null,null,null,null,null,""]
[null,null,null,null,null,"〃",null,null,null,null,null,null,null,null,null,null,null,null,null,null,null,null,null,null,null,null,null,null,null,null,null,null,null,""]
[null,null,null,null,null,"〃",null,null,null,null,null,null,null,null,null,null,null,null,null,null,null,null,null,null,null,null,null,null,null,null,null,null,null,""]
[null,null,null,null,null,"〃",null,null,null,null,null,null,null,null,null,null,null,null,null,null,null,null,null,null,null,null,null,null,null,null,null,null,null,""]
[null,null,null,null,null,"〃",null,null,null,null,null,null,null,null,null,null,null,null,null,null,null,null,null,null,null,null,null,null,null,null,null,null,null,""]
[null,null,null,null,null,"〃",null,null,null,null,null,null,null,null,null,null,null,null,null,null,null,null,null,null,null,null,null,null,null,null,null,null,null,""]
[null,null,null,null,null,"〃",null,null,null,null,null,null,null,null,null,null,null,null,null,null,null,null,null,null,null,null,null,null,null,null,null,null,null,""]
[null,null,null,null,null,"〃",null,null,null,null,null,null,null,null,null,null,null,null,null,null,null,null,null,null,null,null,null,null,null,null,null,null,null,""]
[null,null,null,null,null,"〃",null,null,null,null,null,null,null,null,null,null,null,null,null,null,null,null,null,null,null,null,null,null,null,null,null,null,null,""]
[null,null,null,null,null,"〃",null,null,null,null,null,null,null,null,null,null,null,null,null,null,null,null,null,null,null,null,null,null,null,null,null,null,null,""]
[null,null,null,null,null,"〃",null,null,null,null,null,null,null,null,null,null,null,null,null,null,null,null,null,null,null,null,null,null,null,null,null,null,null,""]
[null,null,null,null,null,"〃",null,null,null,null,null,null,null,null,null,null,null,null,null,null,null,null,null,null,null,null,null,null,null,null,null,null,null,""]
[null,null,null,null,null,"〃",null,null,null,null,null,null,null,null,null,null,null,null,null,null,null,null,null,null,null,null,null,null,null,null,null,null,null,""]
[null,null,null,null,null,null,null,null,null,null,null,null,null,null,null,null,null,null,null,null,null,null,null,null,null,null,null,null,null,null,null,null,null,""]
[null,null,null,null,null,null,null,null,null,null,null,null,null,null,null,null,null,null,null,null,null,null,null,null,null,null,null,null,null,null,null,null,null,""]
[null,null,null,null,null,null,null,null,null,null,null,null,null,null,null,null,null,null,null,null,null,null,null,null,null,null,null,null,null,null,null,null,null,""]
[null,null,null,null,null,null,null,null,null,null,null,null,null,null,null,null,null,null,null,null,null,null,null,null,null,null,null,null,null,null,null,null,null,""]
[null,null,null,null,null,null,null,null,null,null,null,null,null,null,null,null,null,null,null,null,null,null,null,null,null,null,null,null,null,null,null,null,null,""]
[null,null,null,null,null,null,null,null,null,null,null,null,null,null,null,null,null,null,null,null,null,null,null,null,null,null,null,null,null,null,null,null,null,""]
[null,null,null,null,null,null,null,null,null,null,null,null,null,null,null,null,null,null,null,null,null,null,null,null,null,null,null,null,null,null,null,null,null,""]
[null,null,null,null,null,null,null,null,null,null,null,null,null,null,null,null,null,null,null,null,null,null,null,null,null,null,null,null,null,null,null,null,null,""]
[null,null,null,null,null,null,null,null,null,null,null,null,null,null,null,null,null,null,null,null,null,null,null,null,null,null,null,null,null,null,null,null,null,""]
[null,null,null,null,null,null,null,null,null,null,null,null,null,null,null,null,null,null,null,null,null,null,null,null,null,null,null,null,null,null,null,null,null,""]
[null,null,null,null,null,null,null,null,null,null,null,null,null,null,null,null,null,null,null,null,null,null,null,null,null,null,null,null,null,null,null,null,null,""]
[null,null,null,null,null,null,null,null,null,null,null,null,null,null,null,null,null,null,null,null,null,null,null,null,null,null,null,null,null,null,null,null,null,""]
[]
[]
[null,"３．施用粒剤の入力"]
[null,null,null,null,null,null,null,null,null,null,null,null,null,null,null,null,null,null,null,null,null,null,null,null,null,null,null,null,null,null,null,null,null,null,null,null,null,null,null,null,null,null,null,null,null,null,null,null,null,null,null,null,"施用粒剤の日付入力"]
[null,null,null,null,null,"日付",null,null,"施用粒剤名",null,null,null,null,null,null,"施用量（g）",null,null,null,"施用鉢数（鉢）",null,null,null,null,null,"登録施用量",null,null,null,null,"回数",null,"時期"]
[null,null,"１回目",null,null,null,null,null,null,null,null,null,null,null,null,null,null,null,null,null,null,null,null,null,null,{"$f":"IF(I53=\"\",\"\",VLOOKUP(I53,施用粒剤台帳,2,FALSE))","v":""},null,null,null,null,{"$f":"IF(I53=\"\",\"\",VLOOKUP(I53,施用粒剤台帳,3,FALSE))","v":""},null,{"$f":"IF(I53=\"\",\"\",VLOOKUP(I53,施用粒剤台帳,4,FALSE))","v":""}]
[null,null,"２回目",null,null,null,null,null,null,null,null,null,null,null,null,null,null,null,null,null,null,null,null,null,null,{"$f":"IF(I54=\"\",\"\",VLOOKUP(I54,施用粒剤台帳,2,FALSE))","v":""},null,null,null,null,{"$f":"IF(I54=\"\",\"\",VLOOKUP(I54,施用粒剤台帳,3,FALSE))","v":""},null,{"$f":"IF(I54=\"\",\"\",VLOOKUP(I54,施用粒剤台帳,4,FALSE))","v":""}]
[]
[null,"４．硫黄くん蒸剤の入力",null,null,null,null,null,null,null,null,"※使用が２年にまたがるときは、前年の日付の前に年号を付けないとミスになります。"]
[]
[null,null,"履歴シートへの表示確認欄",null,null,null,null,null,null,null,null,null,null,null,null,null,null,"播種日",null,null,{"$f":"IF(F12=\"\",\"\",F12)","v":""}]
[null,null,"開始日",null,null,null,null,null,null,null,null,null,null,null,null,null,null,"定植日",null,null,{"$f":"IF(F13=\"\",\"\",F13)","v":""}]
[null,null,"終了日",null,null,null,null,null,null,null,null,null,null,null,{"$f":"IF(H60=\"\",\"\",IF(H60<H59,\" ミス\",\"\"))","v":""},null,null,"交配日",null,null,{"$f":"IF(F14=\"\",\"\",F14)","v":""}]
[null,null,"１日の使用量",null,null,null,null,2,null,null,null,null,null,null,null,null,null,"収穫日",null,null,{"$f":"IF(F16=\"\",\"\",F16)","v":""}]
[null,null,"総使用量",null,null,null,null,{"$f":"IF(OR(H59=\"\",OR(H60=\"\",H61=\"\")),\"\",(H60-H59)*H61)","v":""},null,null,null,null,null,null,null,null,null,null,null,null,"↑１.で入力した日付です。"]
[]
[null,"５．農薬散布の入力"]
[null,null,null,null,null,null,null,null,null,null,null,null,null,null,null,null,null,null,null,null,null,null,null,null,null,null,null,null,null,null,null,null,null,null,null,null,null,null,null,null,null,null,null,null,null,null,null,null,null,null,null,null,"農薬散布の日付入力"]
[]
[null,null,null,null,null,null,null,null,null,null,null,null,null,null,null,null,null,"Ｂ１",null,null,"Ｂ２",null,null,"Ｂ３",null,null,"Ｂ４",null,null,"Ｂ５",null,null,"Ｂ６",null,null,"Ｂ７",null,null,"Ｂ８"]
[null,null,"使用年月日"]
[null,null,"生育ステージ",null,null,null,null,null,null,null,null,null,null,null,null,null,null,"育苗",null,null,"木作り",null,null,"木作り",null,null,"肥大期",null,null,"肥大期",null,null,"仕上げ",null,null,"仕上げ",null,null,"仕上げ"]
[null,null,"使用農薬名","散布量"]
[null,null,null,null,null,null,null,null,null,null,null,{"$f":"IF(D71=\"\",\"\",VLOOKUP(D71,Ｍ農薬台帳,3,FALSE))","v":""},{"$f":"IF(D71=\"\",\"\",\"-\")","v":""},{"$f":"IF(D71=\"\",\"\",VLOOKUP(D71,Ｍ農薬台帳,2,FALSE))","v":""},{"$f":"IF(D71=\"\",\"\",VLOOKUP(D71,Ｍ農薬台帳,4,FALSE))","v":""}]
[null,null,null,null,null,null,null,null,null,null,null,"","","",""]
[null,null,null,null,null,null,null,null,null,null,null,"","","",""]
[null,null,null,null,null,null,null,null,null,null,null,"","","",""]
[null,null,null,null,null,null,null,null,null,null,null,"","","",""]
[null,null,null,null,null,null,null,null,null,null,null,"","","",""]
[null,null,null,null,null,null,null,null,null,null,null,"","","",""]
[null,null,null,null,null,null,null,null,null,null,null,"","","",""]
[null,null,null,null,null,null,null,null,null,null,null,"","","",""]
[null,null,null,null,null,null,null,null,null,null,null,"","","",""]
[null,null,null,null,null,null,null,null,null,null,null,"","","",""]
[null,null,null,null,null,null,null,null,null,null,null,"","","",""]
[null,null,null,null,null,null,null,null,null,null,null,"","","",""]
[null,null,null,null,null,null,null,null,null,null,null,"","","",""]
[null,null,null,null,null,null,null,null,null,null,null,"","","",""]
[null,null,null,null,null,null,null,null,null,null,null,"","","",""]
[]
[null,"６．植物成長調整剤の入力",null,null,null,null,null,null,null,null,null,"アークランド液剤",null,null,null,null,null,null,"　を使用した。"]
[]
[null,null,null,null,null,"日付",null,null,"希釈倍数",null,null,null,null,"散布量"]
[null,null,"1回目"]
[null,null,"2回目"]
[]
[null,"７．トップジンＭ水和剤の入力","トップジンＭ水和剤",null,null,null,null,null,null,"　の入力"]
[]
[null,null,null,null,null,"日付",null,null,"希釈倍数",null,null,null,null,"散布量"]
[null,null,"1回目"]
[null,null,"2回目"]
[null,null,"3回目"]
[null,null,"4回目"]
[]
[null,"８．施用液肥の入力"]
[]
[null,null,null,null,"日付",null,null,"液肥・葉面散布剤名",null,null,null,null,null,null,null,null,"使用量"]
[null,null,1]
[null,null,2]
[null,null,3]
[null,null,4]
[null,null,5]
[null,null,6]
[null,null,7]
[null,null,8]
[null,null,9]
[null,null,10]
[null,null,11]
[null,null,12]
[null,null,13]
[null,null,14]
[null,null,15]
[null,null,16]
[null,null,17]
[null,null,18]
[]
[null,"９.小メロンの出荷がある場合は、この枠に記載してください。リストから選べます。→"]
[]
[null,"10．印刷プレビューボタンを押し　印刷状態の確認をして　良ければそのまま印刷してください。"]
[]
[null,"11．以上で終りです。お疲れ様でした。"]

{"sheet":"１１号Ｐ","index":23,"n_rows":36,"n_cols":88,"rows_kept":36,"cut":false,"hidden":false,"merged":[[4,1,5,2],[35,84,35,91],[34,76,34,83],[34,84,34,91],[35,13,35,17],[35,18,35,25],[35,26,35,33],[33,87,33,91],[35,55,35,62],[35,63,35,70],[35,71,35,75],[35,76,35,83],[34,13,34,17],[34,18,34,25],[34,26,34,33],[34,34,35,49],[34,50,34,54],[35,50,35,54],[32,48,32,54],[32,5,32,7],[33,27,33,33],[33,34,33,40],[31,55,31,61],[31,62,31,68],[0,64,0,89],[34,55,34,62],[32,74,32,86],[32,87,32,91],[31,87,31,91],[31,69,31,73],[31,74,31,86],[30,62,30,68],[30,69,30,73],[29,87,29,91],[33,74,33,86],[34,63,34,70],[34,71,34,75],[33,55,33,61],[33,62,33,68],[32,62,32,68],[32,69,32,73],[32,55,32,61],[33,69,33,73],[30,74,30,86],[30,87,30,91],[28,69,28,73],[28,74,28,86],[29,69,29,73],[31,27,31,33],[31,34,31,40],[31,41,31,47],[31,48,31,54],[33,41,33,47],[33,48,33,54],[32,27,32,33],[32,34,32,40],[32,41,32,47],[30,41,30,47],[30,48,30,54],[30,5,30,7],[30,10,30,12],[30,13,30,19],[30,20,30,26],[30,27,30,33],[30,34,30,40],[30,55,30,61],[28,62,28,68],[29,27,29,33],[29,34,29,40],[29,41,29,47],[29,48,29,54],[28,48,28,54],[28,55,28,61],[29,55,29,61],[29,62,29,68],[29,74,29,86],[28,87,28,91],[27,87,27,91],[28,5,28,7],[28,10,28,12],[28,13,28,19],[28,20,28,26],[28,27,28,33],[28,34,28,40],[28,41,28,47],[27,69,27,73],[27,74,27,86],[27,27,27,33],[27,34,27,40],[27,41,27,47],[27,48,27,54],[27,5,27,7],[27,10,27,12],[27,13,27,19],[27,20,27,26],[29,5,29,7],[29,10,29,12],[29,13,29,19],[29,20,29,26],[26,62,26,68],[26,69,26,73],[26,48,26,54],[26,55,26,61],[27,55,27,61],[27,62,27,68],[26,87,26,91],[25,87,25,91],[26,5,26,7],[26,10,26,12],[26,13,26,19],[26,20,26,26],[26,27,26,33],[26,34,26,40],[26,41,26,47],[25,74,25,86],[25,27,25,33],[25,34,25,40],[25,41,25,47],[25,48,25,54],[26,74,26,86],[25,55,25,61],[25,62,25,68],[25,69,25,73],[24,41,24,47],[25,5,25,7],[25,10,25,12],[25,13,25,19],[25,20,25,26],[24,62,24,68],[24,5,24,7],[24,10,24,12],[24,13,24,19],[24,20,24,26],[24,27,24,33],[24,34,24,40],[23,74,23,86],[22,74,22,86],[22,87,22,91],[24,74,24,86],[24,87,24,91],[23,87,23,91],[23,41,23,47],[23,5,23,7],[23,10,23,12],[23,13,23,19],[23,20,23,26],[23,27,23,33],[23,34,23,40],[23,48,23,54],[22,48,22,54],[22,55,22,61],[22,62,22,68],[22,69,22,73],[23,55,23,61],[23,62,23,68],[23,69,23,73],[24,69,24,73],[24,48,24,54],[24,55,24,61],[21,69,21,73],[21,74,21,86],[21,87,21,91],[22,5,22,7],[22,10,22,12],[22,13,22,19],[22,20,22,26],[22,27,22,33],[22,34,22,40],[22,41,22,47],[21,41,21,47],[21,48,21,54],[21,55,21,61],[21,62,21,68],[21,13,21,19],[21,20,21,26],[21,27,21,33],[21,34,21,40],[20,69,20,73],[20,74,20,86],[20,87,20,91],[19,87,19,91],[20,5,20,7],[20,10,20,12],[20,13,20,19],[20,20,20,26],[20,27,20,33],[20,34,20,40],[20,41,20,47],[20,48,20,54],[20,55,20,61],[19,55,19,61],[19,62,19,68],[20,62,20,68],[19,69,19,73],[19,74,19,86],[19,27,19,33],[19,34,19,40],[19,41,19,47],[19,48,19,54],[18,69,18,73],[18,74,18,86],[18,87,18,91],[17,87,17,91],[18,5,18,7],[18,10,18,12],[18,13,18,19],[18,20,18,26],[18,27,18,33],[18,34,18,40],[18,41,18,47],[18,48,18,54],[18,55,18,61],[17,55,17,61],[17,62,17,68],[18,62,18,68],[17,69,17,73],[17,74,17,86],[17,27,17,33],[17,34,17,40],[17,41,17,47],[17,48,17,54],[17,4,35,4],[17,5,17,12],[17,13,17,19],[17,20,17,26],[19,5,19,7],[19,10,19,12],[19,13,19,19],[19,20,19,26],[21,5,21,7],[21,10,21,12],[31,5,31,7],[31,10,31,12],[31,13,31,19],[31,20,31,26],[32,10,32,12],[32,13,32,19],[32,20,32,26],[33,5,33,7],[33,10,33,12],[33,13,33,19],[33,20,33,26],[34,5,34,12],[35,5,35,12],[16,4,16,12],[16,13,16,19],[16,20,16,26],[16,27,16,33],[16,34,16,40],[16,41,16,47],[16,48,16,54],[16,55,16,61],[15,34,15,40],[15,41,15,47],[15,48,15,54],[15,55,15,61],[15,4,15,12],[15,13,15,19],[15,20,15,26],[15,27,15,33],[13,33,13,37],[10,53,10,57],[11,53,12,57],[16,62,16,68],[16,69,16,73],[16,74,16,86],[16,87,16,91],[15,62,15,68],[15,69,15,91],[11,4,12,5],[11,6,12,12],[11,13,12,17],[11,18,12,27],[11,28,12,32],[11,33,12,37],[11,38,12,47],[11,48,12,52],[10,83,11,91],[11,58,12,67],[11,68,12,72],[12,73,13,81],[12,82,13,91],[13,68,13,72],[10,58,10,67],[10,68,10,72],[10,73,11,82],[13,38,13,47],[13,48,13,52],[13,53,13,57],[13,58,13,67],[13,13,13,17],[13,18,13,27],[13,28,13,32],[9,58,9,67],[9,68,9,72],[9,73,9,91],[10,6,10,12],[10,13,10,17],[10,18,10,27],[10,28,10,32],[10,33,10,37],[10,38,10,47],[10,48,10,52],[9,33,9,37],[9,38,9,47],[9,48,9,52],[9,53,9,57],[9,6,9,12],[9,13,9,17],[9,18,9,27],[9,28,9,32],[8,68,8,72],[8,73,8,80],[7,78,7,91],[8,81,8,91],[7,33,7,37],[7,38,7,47],[7,48,7,52],[7,53,7,57],[8,6,8,12],[8,13,8,17],[8,18,8,27],[8,28,8,32],[8,33,8,37],[8,38,8,47],[8,48,8,52],[8,53,8,57],[8,58,8,67],[5,73,5,77],[5,78,5,91],[4,68,4,72],[4,73,4,91],[4,58,4,67],[7,6,7,7],[7,13,7,17],[7,18,7,27],[7,28,7,32],[6,73,6,80],[6,81,6,91],[6,33,6,37],[6,38,6,47],[6,48,6,52],[6,53,6,57],[6,7,6,8],[6,13,6,17],[6,18,6,27],[6,28,6,32],[7,58,7,67],[7,68,7,72],[7,73,7,77],[5,48,5,52],[4,38,4,47],[4,48,4,52],[4,53,4,57],[5,58,5,67],[5,68,5,72],[5,53,5,57],[6,58,6,67],[6,68,6,72],[2,4,2,5],[2,6,2,31],[4,13,4,27],[4,33,4,37],[5,13,5,17],[5,18,5,27],[5,28,5,32],[5,33,5,37],[5,38,5,47]]}
[null,null,null,null,null,null,null,null,null,null,null,null,null,null,null,null,null,null,null,null,null,null,null,null,null,null,null,null,null,null,null,null,null,null,null,null,null,null,null,null,null,null,null,null,null,null,null,null,null,null,null,null,null,null,null,null,null,null,null,null,null,null,null,null,{"$f":"IF('１１号入力'!AB124=\"\",\"\",'１１号入力'!AB124)","v":""}]
[]
[null,null,null,null,"栽培履歴",null,{"$f":"メニュー画面!F16","v":"静岡県温室農業協同組合（クラウンメロン支所）"},null,null,null,null,null,null,null,null,null,null,null,null,null,null,null,null,null,null,null,null,null,null,null,null,null,"検査日",null,null,null,null,null,"令和　　年　　月　　日",null,null,null,null,null,null,null,null,null,null,null,null,null,null,null,"検査責任者氏名　　　　　　　　　　 　　　　　　　　　　　　　印"]
[]
[null,"１１号室",null,null,"組合員番号：",null,{"$f":"メニュー画面!F18","v":"４　３　６"},null,null,null,null,null,null,"施用資材名",null,null,null,null,null,null,null,null,null,null,null,null,null,null,"投入量",null,null,null,null,{"$f":"IF('１１号入力'!F30=\"\",\"\",'１１号入力'!F30)","v":"〃"},null,null,null,null,{"$f":"IF('１１号入力'!AH30=\"\",\"\",'１１号入力'!AH30)","v":""},null,null,null,null,null,null,null,null,null,{"$f":"IF('１１号入力'!AA30=\"\",\"\",'１１号入力'!AA30)","v":""},null,null,null,null,{"$f":"IF('１１号入力'!F39=\"\",\"\",'１１号入力'!F39)","v":""},null,null,null,null,{"$f":"IF('１１号入力'!AH39=\"\",\"\",'１１号入力'!AH39)","v":""},null,null,null,null,null,null,null,null,null,{"$f":"IF('１１号入力'!AA39=\"\",\"\",'１１号入力'!AA39)","v":""},null,null,null,null,"施用粒剤"]
[null,null,null,null,"氏名：",null,{"$f":"メニュー画面!F20","v":"中　條　文　義"},null,null,null,null,null,null,{"$f":"IF('１１号入力'!F22=\"\",\"\",'１１号入力'!F22)","v":""},null,null,null,null,{"$f":"IF('１１号入力'!AH22=\"\",\"\",'１１号入力'!AH22)","v":"育苗"},null,null,null,null,null,null,null,null,null,{"$f":"IF('１１号入力'!AA22=\"\",\"\",'１１号入力'!AA22)","v":""},null,null,null,null,{"$f":"IF('１１号入力'!F31=\"\",\"\",'１１号入力'!F31)","v":"〃"},null,null,null,null,{"$f":"IF('１１号入力'!AH31=\"\",\"\",'１１号入力'!AH31)","v":""},null,null,null,null,null,null,null,null,null,{"$f":"IF('１１号入力'!AA31=\"\",\"\",'１１号入力'!AA31)","v":""},null,null,null,null,{"$f":"IF('１１号入力'!F40=\"\",\"\",'１１号入力'!F40)","v":""},null,null,null,null,{"$f":"IF('１１号入力'!AH40=\"\",\"\",'１１号入力'!AH40)","v":""},null,null,null,null,null,null,null,null,null,{"$f":"IF('１１号入力'!AA40=\"\",\"\",'１１号入力'!AA40)","v":""},null,null,null,null,{"$f":"IF('１１号入力'!F53=\"\",\"/\",'１１号入力'!F53)","v":"/"},null,null,null,null,{"$f":"IF('１１号入力'!I53=\"\",\"\",'１１号入力'!I53)","v":""}]
[null,null,null,null,"部屋番号：",null,{"$f":"IF('１１号入力'!F9=\"\",\"\",'１１号入力'!F9)","v":11},{"$f":"IF('１１号入力'!F10=\"\",\"\",'１１号入力'!F10)","v":""},null,null,null,null,null,{"$f":"IF('１１号入力'!F23=\"\",\"\",'１１号入力'!F23)","v":"2006-01-01"},null,null,null,null,{"$f":"IF('１１号入力'!AH23=\"\",\"\",'１１号入力'!AH23)","v":""},null,null,null,null,null,null,null,null,null,{"$f":"IF('１１号入力'!AA23=\"\",\"\",'１１号入力'!AA23)","v":""},null,null,null,null,{"$f":"IF('１１号入力'!F32=\"\",\"\",'１１号入力'!F32)","v":"〃"},null,null,null,null,{"$f":"IF('１１号入力'!AH32=\"\",\"\",'１１号入力'!AH32)","v":""},null,null,null,null,null,null,null,null,null,{"$f":"IF('１１号入力'!AA32=\"\",\"\",'１１号入力'!AA32)","v":""},null,null,null,null,{"$f":"IF('１１号入力'!F41=\"\",\"\",'１１号入力'!F41)","v":""},null,null,null,null,{"$f":"IF('１１号入力'!AH41=\"\",\"\",'１１号入力'!AH41)","v":""},null,null,null,null,null,null,null,null,null,{"$f":"IF('１１号入力'!AA41=\"\",\"\",'１１号入力'!AA41)","v":""},null,null,null,null,{"$f":"IF('１１号入力'!P53=0,\"g\",'１１号入力'!P53)","v":"g"},null,null,null,null,null,null,null,{"$f":"IF('１１号入力'!T53=0,0,'１１号入力'!T53)","v":0}]
[null,null,null,null,"品種名：",null,{"$f":"IF('１１号入力'!F11=\"\",\"\",'１１号入力'!F11)","v":"春　　系"},null,null,null,null,null,null,{"$f":"IF('１１号入力'!F24=\"\",\"\",'１１号入力'!F24)","v":"〃"},null,null,null,null,{"$f":"IF('１１号入力'!AH24=\"\",\"\",'１１号入力'!AH24)","v":""},null,null,null,null,null,null,null,null,null,{"$f":"IF('１１号入力'!AA24=\"\",\"\",'１１号入力'!AA24)","v":""},null,null,null,null,{"$f":"IF('１１号入力'!F33=\"\",\"\",'１１号入力'!F33)","v":"〃"},null,null,null,null,{"$f":"IF('１１号入力'!AH33=\"\",\"\",'１１号入力'!AH33)","v":""},null,null,null,null,null,null,null,null,null,{"$f":"IF('１１号入力'!AA33=\"\",\"\",'１１号入力'!AA33)","v":""},null,null,null,null,{"$f":"IF('１１号入力'!F42=\"\",\"\",'１１号入力'!F42)","v":""},null,null,null,null,{"$f":"IF('１１号入力'!AH42=\"\",\"\",'１１号入力'!AH42)","v":""},null,null,null,null,null,null,null,null,null,{"$f":"IF('１１号入力'!AA42=\"\",\"\",'１１号入力'!AA42)","v":""},null,null,null,null,{"$f":"IF('１１号入力'!F54=\"\",\"/\",'１１号入力'!F54)","v":"/"},null,null,null,null,{"$f":"IF('１１号入力'!I54=\"\",\"\",'１１号入力'!I54)","v":""}]
[null,null,null,null,"播種日：",null,{"$f":"IF('１１号入力'!F12=\"\",\"\",'１１号入力'!F12)","v":""},null,null,null,null,null,null,{"$f":"IF('１１号入力'!F25=\"\",\"\",'１１号入力'!F25)","v":"〃"},null,null,null,null,{"$f":"IF('１１号入力'!AH25=\"\",\"\",'１１号入力'!AH25)","v":""},null,null,null,null,null,null,null,null,null,{"$f":"IF('１１号入力'!AA25=\"\",\"\",'１１号入力'!AA25)","v":""},null,null,null,null,{"$f":"IF('１１号入力'!F34=\"\",\"\",'１１号入力'!F34)","v":"〃"},null,null,null,null,{"$f":"IF('１１号入力'!AH34=\"\",\"\",'１１号入力'!AH34)","v":""},null,null,null,null,null,null,null,null,null,{"$f":"IF('１１号入力'!AA34=\"\",\"\",'１１号入力'!AA34)","v":""},null,null,null,null,{"$f":"IF('１１号入力'!F43=\"\",\"\",'１１号入力'!F43)","v":""},null,null,null,null,{"$f":"IF('１１号入力'!AH43=\"\",\"\",'１１号入力'!AH43)","v":""},null,null,null,null,null,null,null,null,null,{"$f":"IF('１１号入力'!AA43=\"\",\"\",'１１号入力'!AA43)","v":""},null,null,null,null,{"$f":"IF('１１号入力'!P54=0,\"g\",'１１号入力'!P54)","v":"g"},null,null,null,null,null,null,null,{"$f":"IF('１１号入力'!T54=0,0,'１１号入力'!T54)","v":0}]
[null,null,null,null,"定植日：",null,{"$f":"IF('１１号入力'!F13=\"\",\"\",'１１号入力'!F13)","v":""},null,null,null,null,null,null,{"$f":"IF('１１号入力'!F26=\"\",\"\",'１１号入力'!F26)","v":"〃"},null,null,null,null,{"$f":"IF('１１号入力'!AH26=\"\",\"\",'１１号入力'!AH26)","v":""},null,null,null,null,null,null,null,null,null,{"$f":"IF('１１号入力'!AA26=\"\",\"\",'１１号入力'!AA26)","v":""},null,null,null,null,{"$f":"IF('１１号入力'!F35=\"\",\"\",'１１号入力'!F35)","v":"〃"},null,null,null,null,{"$f":"IF('１１号入力'!AH35=\"\",\"\",'１１号入力'!AH35)","v":""},null,null,null,null,null,null,null,null,null,{"$f":"IF('１１号入力'!AA35=\"\",\"\",'１１号入力'!AA35)","v":""},null,null,null,null,{"$f":"IF('１１号入力'!F44=\"\",\"\",'１１号入力'!F44)","v":""},null,null,null,null,{"$f":"IF('１１号入力'!AH44=\"\",\"\",'１１号入力'!AH44)","v":""},null,null,null,null,null,null,null,null,null,{"$f":"IF('１１号入力'!AA44=\"\",\"\",'１１号入力'!AA44)","v":""},null,null,null,null,"硫黄くん蒸剤"]
[null,null,null,null,"交配日：",null,{"$f":"IF('１１号入力'!F14=\"\",\"\",'１１号入力'!F14)","v":""},null,null,null,null,null,null,{"$f":"IF('１１号入力'!F27=\"\",\"\",'１１号入力'!F27)","v":"〃"},null,null,null,null,{"$f":"IF('１１号入力'!AH27=\"\",\"\",'１１号入力'!AH27)","v":""},null,null,null,null,null,null,null,null,null,{"$f":"IF('１１号入力'!AA27=\"\",\"\",'１１号入力'!AA27)","v":""},null,null,null,null,{"$f":"IF('１１号入力'!F36=\"\",\"\",'１１号入力'!F36)","v":""},null,null,null,null,{"$f":"IF('１１号入力'!AH36=\"\",\"\",'１１号入力'!AH36)","v":""},null,null,null,null,null,null,null,null,null,{"$f":"IF('１１号入力'!AA36=\"\",\"\",'１１号入力'!AA36)","v":""},null,null,null,null,{"$f":"IF('１１号入力'!F45=\"\",\"\",'１１号入力'!F45)","v":""},null,null,null,null,{"$f":"IF('１１号入力'!AH45=\"\",\"\",'１１号入力'!AH45)","v":""},null,null,null,null,null,null,null,null,null,{"$f":"IF('１１号入力'!AA45=\"\",\"\",'１１号入力'!AA45)","v":""},null,null,null,null,{"$f":"IF('１１号入力'!H59=\"\",\"/      ～\",'１１号入力'!H59)","v":"/      ～"},null,null,null,null,null,null,null,null,null,{"$f":"IF('１１号入力'!H60=\"\",\"    /\",'１１号入力'!H60)","v":"    /"}]
[null,null,null,null,"収穫日：",null,{"$f":"IF('１１号入力'!F16=\"\",\"\",'１１号入力'!F16)","v":""},null,null,null,null,null,null,{"$f":"IF('１１号入力'!F28=\"\",\"\",'１１号入力'!F28)","v":"〃"},null,null,null,null,{"$f":"IF('１１号入力'!AH28=\"\",\"\",'１１号入力'!AH28)","v":""},null,null,null,null,null,null,null,null,null,{"$f":"IF('１１号入力'!AA28=\"\",\"\",'１１号入力'!AA28)","v":""},null,null,null,null,{"$f":"IF('１１号入力'!F37=\"\",\"\",'１１号入力'!F37)","v":""},null,null,null,null,{"$f":"IF('１１号入力'!AH37=\"\",\"\",'１１号入力'!AH37)","v":""},null,null,null,null,null,null,null,null,null,{"$f":"IF('１１号入力'!AA37=\"\",\"\",'１１号入力'!AA37)","v":""},null,null,null,null,{"$f":"IF('１１号入力'!F46=\"\",\"\",'１１号入力'!F46)","v":""},null,null,null,null,{"$f":"IF('１１号入力'!AH46=\"\",\"\",'１１号入力'!AH46)","v":""},null,null,null,null,null,null,null,null,null,{"$f":"IF('１１号入力'!AA46=\"\",\"\",'１１号入力'!AA46)","v":""}]
[null,null,null,null,null,null,null,null,null,null,null,null,null,null,null,null,null,null,null,null,null,null,null,null,null,null,null,null,null,null,null,null,null,null,null,null,null,null,null,null,null,null,null,null,null,null,null,null,null,null,null,null,null,null,null,null,null,null,null,null,null,null,null,null,null,null,null,null,null,null,null,null,null,{"$f":"IF('１１号入力'!H61=\"\",\"g/日\",'１１号入力'!H61)","v":2},null,null,null,null,null,null,null,null,{"$f":"IF('１１号入力'!H62=\"\",\"g/部屋\",'１１号入力'!H62)","v":"g/部屋"}]
[null,null,null,null,"採果日数：",null,{"$f":"'１１号入力'!F15","v":0},null,null,null,null,null,null,{"$f":"IF('１１号入力'!F29=\"\",\"\",'１１号入力'!F29)","v":"〃"},null,null,null,null,{"$f":"IF('１１号入力'!AH29=\"\",\"\",'１１号入力'!AH29)","v":""},null,null,null,null,null,null,null,null,null,{"$f":"IF('１１号入力'!AA29=\"\",\"\",'１１号入力'!AA29)","v":""},null,null,null,null,{"$f":"IF('１１号入力'!F38=\"\",\"\",'１１号入力'!F38)","v":""},null,null,null,null,{"$f":"IF('１１号入力'!AH38=\"\",\"\",'１１号入力'!AH38)","v":""},null,null,null,null,null,null,null,null,null,{"$f":"IF('１１号入力'!AA38=\"\",\"\",'１１号入力'!AA38)","v":""},null,null,null,null,{"$f":"IF('１１号入力'!F47=\"\",\"\",'１１号入力'!F47)","v":""},null,null,null,null,{"$f":"IF('１１号入力'!AH47=\"\",\"\",'１１号入力'!AH47)","v":""},null,null,null,null,null,null,null,null,null,{"$f":"IF('１１号入力'!AA47=\"\",\"\",'１１号入力'!AA47)","v":""}]
[]
[null,null,null,null,"使用年月日",null,null,null,null,null,null,null,null,{"$f":"IF('１１号入力'!R68=\"\",\"/\",'１１号入力'!R68)","v":"/"},null,null,null,null,null,null,{"$f":"IF('１１号入力'!U68=\"\",\"/\",'１１号入力'!U68)","v":"/"},null,null,null,null,null,null,{"$f":"IF('１１号入力'!X68=\"\",\"/\",'１１号入力'!X68)","v":"/"},null,null,null,null,null,null,{"$f":"IF('１１号入力'!AA68=\"\",\"/\",'１１号入力'!AA68)","v":"/"},null,null,null,null,null,null,{"$f":"IF('１１号入力'!AD68=\"\",\"/\",'１１号入力'!AD68)","v":"/"},null,null,null,null,null,null,{"$f":"IF('１１号入力'!AG68=\"\",\"/\",'１１号入力'!AG68)","v":"/"},null,null,null,null,null,null,{"$f":"IF('１１号入力'!AJ68=\"\",\"/\",'１１号入力'!AJ68)","v":"/"},null,null,null,null,null,null,{"$f":"IF('１１号入力'!AM68=\"\",\"/\",'１１号入力'!AM68)","v":"/"},null,null,null,null,null,null,"使用液肥・葉面散布剤"]
[null,null,null,null,"生育ステージ",null,null,null,null,null,null,null,null,{"$f":"IF('１１号入力'!R69=\"\",\"\",'１１号入力'!R69)","v":"育苗"},null,null,null,null,null,null,{"$f":"IF('１１号入力'!U69=\"\",\"\",'１１号入力'!U69)","v":"木作り"},null,null,null,null,null,null,{"$f":"IF('１１号入力'!X69=\"\",\"\",'１１号入力'!X69)","v":"木作り"},null,null,null,null,null,null,{"$f":"IF('１１号入力'!AA69=\"\",\"\",'１１号入力'!AA69)","v":"肥大期"},null,null,null,null,null,null,{"$f":"IF('１１号入力'!AD69=\"\",\"\",'１１号入力'!AD69)","v":"肥大期"},null,null,null,null,null,null,{"$f":"IF('１１号入力'!AG69=\"\",\"\",'１１号入力'!AG69)","v":"仕上げ"},null,null,null,null,null,null,{"$f":"IF('１１号入力'!AJ69=\"\",\"\",'１１号入力'!AJ69)","v":"仕上げ"},null,null,null,null,null,null,{"$f":"IF('１１号入力'!AM69=\"\",\"\",'１１号入力'!AM69)","v":"仕上げ"},null,null,null,null,null,null,{"$f":"IF('１１号入力'!E105=\"\",\"/\",'１１号入力'!E105)","v":"/"},null,null,null,null,{"$f":"IF('１１号入力'!H105=\"\",\"\",'１１号入力'!H105)","v":""},null,null,null,null,null,null,null,null,null,null,null,null,{"$f":"IF('１１号入力'!Q105=0,0,'１１号入力'!Q105)","v":0}]
[null,null,null,null,"使用農薬名","散布量",null,null,null,null,null,null,null,{"$f":"IF('１１号入力'!R70=0,0,'１１号入力'!R70)","v":0},null,null,null,null,null,null,{"$f":"IF('１１号入力'!U70=0,0,'１１号入力'!U70)","v":0},null,null,null,null,null,null,{"$f":"IF('１１号入力'!X70=0,0,'１１号入力'!X70)","v":0},null,null,null,null,null,null,{"$f":"IF('１１号入力'!AA70=0,0,'１１号入力'!AA70)","v":0},null,null,null,null,null,null,{"$f":"IF('１１号入力'!AD70=0,0,'１１号入力'!AD70)","v":0},null,null,null,null,null,null,{"$f":"IF('１１号入力'!AG70=0,0,'１１号入力'!AG70)","v":0},null,null,null,null,null,null,{"$f":"IF('１１号入力'!AJ70=0,0,'１１号入力'!AJ70)","v":0},null,null,null,null,null,null,{"$f":"IF('１１号入力'!AM70=0,0,'１１号入力'!AM70)","v":0},null,null,null,null,null,null,{"$f":"IF('１１号入力'!E106=\"\",\"\",'１１号入力'!E106)","v":""},null,null,null,null,{"$f":"IF('１１号入力'!H106=\"\",\"\",'１１号入力'!H106)","v":""},null,null,null,null,null,null,null,null,null,null,null,null,{"$f":"IF('１１号入力'!Q106=0,\"\",'１１号入力'!Q106)","v":""}]
[null,null,null,null,null,{"$f":"IF('１１号入力'!D71=\"\",\"\",'１１号入力'!D71)","v":""},null,null,{"$f":"IF(F19=\"\",\"\",VLOOKUP(F19,Ｍ農薬台帳,3,FALSE))","v":""},{"$f":"IF(F19=\"\",\"\",\"-\")","v":""},{"$f":"IF(F19=\"\",\"\",VLOOKUP(F19,Ｍ農薬台帳,2,FALSE))","v":""},null,null,{"$f":"IF('１１号入力'!R71=\"\",\"\",'１１号入力'!R71)","v":""},null,null,null,null,null,null,{"$f":"IF('１１号入力'!U71=\"\",\"\",'１１号入力'!U71)","v":""},null,null,null,null,null,null,{"$f":"IF('１１号入力'!X71=\"\",\"\",'１１号入力'!X71)","v":""},null,null,null,null,null,null,{"$f":"IF('１１号入力'!AA71=\"\",\"\",'１１号入力'!AA71)","v":""},null,null,null,null,null,null,{"$f":"IF('１１号入力'!AD71=\"\",\"\",'１１号入力'!AD71)","v":""},null,null,null,null,null,null,{"$f":"IF('１１号入力'!AG71=\"\",\"\",'１１号入力'!AG71)","v":""},null,null,null,null,null,null,{"$f":"IF('１１号入力'!AJ71=\"\",\"\",'１１号入力'!AJ71)","v":""},null,null,null,null,null,null,{"$f":"IF('１１号入力'!AM71=\"\",\"\",'１１号入力'!AM71)","v":""},null,null,null,null,null,null,{"$f":"IF('１１号入力'!E107=\"\",\"\",'１１号入力'!E107)","v":""},null,null,null,null,{"$f":"IF('１１号入力'!H107=\"\",\"\",'１１号入力'!H107)","v":""},null,null,null,null,null,null,null,null,null,null,null,null,{"$f":"IF('１１号入力'!Q107=0,\"\",'１１号入力'!Q107)","v":""}]
[null,null,null,null,null,{"$f":"IF('１１号入力'!D72=\"\",\"\",'１１号入力'!D72)","v":""},null,null,"","","",null,null,{"$f":"IF('１１号入力'!R72=\"\",\"\",'１１号入力'!R72)","v":""},null,null,null,null,null,null,{"$f":"IF('１１号入力'!U72=\"\",\"\",'１１号入力'!U72)","v":""},null,null,null,null,null,null,{"$f":"IF('１１号入力'!X72=\"\",\"\",'１１号入力'!X72)","v":""},null,null,null,null,null,null,{"$f":"IF('１１号入力'!AA72=\"\",\"\",'１１号入力'!AA72)","v":""},null,null,null,null,null,null,{"$f":"IF('１１号入力'!AD72=\"\",\"\",'１１号入力'!AD72)","v":""},null,null,null,null,null,null,{"$f":"IF('１１号入力'!AG72=\"\",\"\",'１１号入力'!AG72)","v":""},null,null,null,null,null,null,{"$f":"IF('１１号入力'!AJ72=\"\",\"\",'１１号入力'!AJ72)","v":""},null,null,null,null,null,null,{"$f":"IF('１１号入力'!AM72=\"\",\"\",'１１号入力'!AM72)","v":""},null,null,null,null,null,null,{"$f":"IF('１１号入力'!E108=\"\",\"\",'１１号入力'!E108)","v":""},null,null,null,null,{"$f":"IF('１１号入力'!H108=\"\",\"\",'１１号入力'!H108)","v":""},null,null,null,null,null,null,null,null,null,null,null,null,{"$f":"IF('１１号入力'!Q108=0,\"\",'１１号入力'!Q108)","v":""}]
[null,null,null,null,null,{"$f":"IF('１１号入力'!D73=\"\",\"\",'１１号入力'!D73)","v":""},null,null,"","","",null,null,{"$f":"IF('１１号入力'!R73=\"\",\"\",'１１号入力'!R73)","v":""},null,null,null,null,null,null,{"$f":"IF('１１号入力'!U73=\"\",\"\",'１１号入力'!U73)","v":""},null,null,null,null,null,null,{"$f":"IF('１１号入力'!X73=\"\",\"\",'１１号入力'!X73)","v":""},null,null,null,null,null,null,{"$f":"IF('１１号入力'!AA73=\"\",\"\",'１１号入力'!AA73)","v":""},null,null,null,null,null,null,{"$f":"IF('１１号入力'!AD73=\"\",\"\",'１１号入力'!AD73)","v":""},null,null,null,null,null,null,{"$f":"IF('１１号入力'!AG73=\"\",\"\",'１１号入力'!AG73)","v":""},null,null,null,null,null,null,{"$f":"IF('１１号入力'!AJ73=\"\",\"\",'１１号入力'!AJ73)","v":""},null,null,null,null,null,null,{"$f":"IF('１１号入力'!AM73=\"\",\"\",'１１号入力'!AM73)","v":""},null,null,null,null,null,null,{"$f":"IF('１１号入力'!E109=\"\",\"\",'１１号入力'!E109)","v":""},null,null,null,null,{"$f":"IF('１１号入力'!H109=\"\",\"\",'１１号入力'!H109)","v":""},null,null,null,null,null,null,null,null,null,null,null,null,{"$f":"IF('１１号入力'!Q109=0,\"\",'１１号入力'!Q109)","v":""}]
[null,null,null,null,null,{"$f":"IF('１１号入力'!D74=\"\",\"\",'１１号入力'!D74)","v":""},null,null,"","","",null,null,{"$f":"IF('１１号入力'!R74=\"\",\"\",'１１号入力'!R74)","v":""},null,null,null,null,null,null,{"$f":"IF('１１号入力'!U74=\"\",\"\",'１１号入力'!U74)","v":""},null,null,null,null,null,null,{"$f":"IF('１１号入力'!X74=\"\",\"\",'１１号入力'!X74)","v":""},null,null,null,null,null,null,{"$f":"IF('１１号入力'!AA74=\"\",\"\",'１１号入力'!AA74)","v":""},null,null,null,null,null,null,{"$f":"IF('１１号入力'!AD74=\"\",\"\",'１１号入力'!AD74)","v":""},null,null,null,null,null,null,{"$f":"IF('１１号入力'!AG74=\"\",\"\",'１１号入力'!AG74)","v":""},null,null,null,null,null,null,{"$f":"IF('１１号入力'!AJ74=\"\",\"\",'１１号入力'!AJ74)","v":""},null,null,null,null,null,null,{"$f":"IF('１１号入力'!AM74=\"\",\"\",'１１号入力'!AM74)","v":""},null,null,null,null,null,null,{"$f":"IF('１１号入力'!E110=\"\",\"\",'１１号入力'!E110)","v":""},null,null,null,null,{"$f":"IF('１１号入力'!H110=\"\",\"\",'１１号入力'!H110)","v":""},null,null,null,null,null,null,null,null,null,null,null,null,{"$f":"IF('１１号入力'!Q110=0,\"\",'１１号入力'!Q110)","v":""}]
[null,null,null,null,null,{"$f":"IF('１１号入力'!D75=\"\",\"\",'１１号入力'!D75)","v":""},null,null,"","","",null,null,{"$f":"IF('１１号入力'!R75=\"\",\"\",'１１号入力'!R75)","v":""},null,null,null,null,null,null,{"$f":"IF('１１号入力'!U75=\"\",\"\",'１１号入力'!U75)","v":""},null,null,null,null,null,null,{"$f":"IF('１１号入力'!X75=\"\",\"\",'１１号入力'!X75)","v":""},null,null,null,null,null,null,{"$f":"IF('１１号入力'!AA75=\"\",\"\",'１１号入力'!AA75)","v":""},null,null,null,null,null,null,{"$f":"IF('１１号入力'!AD75=\"\",\"\",'１１号入力'!AD75)","v":""},null,null,null,null,null,null,{"$f":"IF('１１号入力'!AG75=\"\",\"\",'１１号入力'!AG75)","v":""},null,null,null,null,null,null,{"$f":"IF('１１号入力'!AJ75=\"\",\"\",'１１号入力'!AJ75)","v":""},null,null,null,null,null,null,{"$f":"IF('１１号入力'!AM75=\"\",\"\",'１１号入力'!AM75)","v":""},null,null,null,null,null,null,{"$f":"IF('１１号入力'!E111=\"\",\"\",'１１号入力'!E111)","v":""},null,null,null,null,{"$f":"IF('１１号入力'!H111=\"\",\"\",'１１号入力'!H111)","v":""},null,null,null,null,null,null,null,null,null,null,null,null,{"$f":"IF('１１号入力'!Q111=0,\"\",'１１号入力'!Q111)","v":""}]
[null,null,null,null,null,{"$f":"IF('１１号入力'!D76=\"\",\"\",'１１号入力'!D76)","v":""},null,null,"","","",null,null,{"$f":"IF('１１号入力'!R76=\"\",\"\",'１１号入力'!R76)","v":""},null,null,null,null,null,null,{"$f":"IF('１１号入力'!U76=\"\",\"\",'１１号入力'!U76)","v":""},null,null,null,null,null,null,{"$f":"IF('１１号入力'!X76=\"\",\"\",'１１号入力'!X76)","v":""},null,null,null,null,null,null,{"$f":"IF('１１号入力'!AA76=\"\",\"\",'１１号入力'!AA76)","v":""},null,null,null,null,null,null,{"$f":"IF('１１号入力'!AD76=\"\",\"\",'１１号入力'!AD76)","v":""},null,null,null,null,null,null,{"$f":"IF('１１号入力'!AG76=\"\",\"\",'１１号入力'!AG76)","v":""},null,null,null,null,null,null,{"$f":"IF('１１号入力'!AJ76=\"\",\"\",'１１号入力'!AJ76)","v":""},null,null,null,null,null,null,{"$f":"IF('１１号入力'!AM76=\"\",\"\",'１１号入力'!AM76)","v":""},null,null,null,null,null,null,{"$f":"IF('１１号入力'!E112=\"\",\"\",'１１号入力'!E112)","v":""},null,null,null,null,{"$f":"IF('１１号入力'!H112=\"\",\"\",'１１号入力'!H112)","v":""},null,null,null,null,null,null,null,null,null,null,null,null,{"$f":"IF('１１号入力'!Q112=0,\"\",'１１号入力'!Q112)","v":""}]
[null,null,null,null,null,{"$f":"IF('１１号入力'!D77=\"\",\"\",'１１号入力'!D77)","v":""},null,null,"","","",null,null,{"$f":"IF('１１号入力'!R77=\"\",\"\",'１１号入力'!R77)","v":""},null,null,null,null,null,null,{"$f":"IF('１１号入力'!U77=\"\",\"\",'１１号入力'!U77)","v":""},null,null,null,null,null,null,{"$f":"IF('１１号入力'!X77=\"\",\"\",'１１号入力'!X77)","v":""},null,null,null,null,null,null,{"$f":"IF('１１号入力'!AA77=\"\",\"\",'１１号入力'!AA77)","v":""},null,null,null,null,null,null,{"$f":"IF('１１号入力'!AD77=\"\",\"\",'１１号入力'!AD77)","v":""},null,null,null,null,null,null,{"$f":"IF('１１号入力'!AG77=\"\",\"\",'１１号入力'!AG77)","v":""},null,null,null,null,null,null,{"$f":"IF('１１号入力'!AJ77=\"\",\"\",'１１号入力'!AJ77)","v":""},null,null,null,null,null,null,{"$f":"IF('１１号入力'!AM77=\"\",\"\",'１１号入力'!AM77)","v":""},null,null,null,null,null,null,{"$f":"IF('１１号入力'!E113=\"\",\"\",'１１号入力'!E113)","v":""},null,null,null,null,{"$f":"IF('１１号入力'!H113=\"\",\"\",'１１号入力'!H113)","v":""},null,null,null,null,null,null,null,null,null,null,null,null,{"$f":"IF('１１号入力'!Q113=0,\"\",'１１号入力'!Q113)","v":""}]
[null,null,null,null,null,{"$f":"IF('１１号入力'!D78=\"\",\"\",'１１号入力'!D78)","v":""},null,null,"","","",null,null,{"$f":"IF('１１号入力'!R78=\"\",\"\",'１１号入力'!R78)","v":""},null,null,null,null,null,null,{"$f":"IF('１１号入力'!U78=\"\",\"\",'１１号入力'!U78)","v":""},null,null,null,null,null,null,{"$f":"IF('１１号入力'!X78=\"\",\"\",'１１号入力'!X78)","v":""},null,null,null,null,null,null,{"$f":"IF('１１号入力'!AA78=\"\",\"\",'１１号入力'!AA78)","v":""},null,null,null,null,null,null,{"$f":"IF('１１号入力'!AD78=\"\",\"\",'１１号入力'!AD78)","v":""},null,null,null,null,null,null,{"$f":"IF('１１号入力'!AG78=\"\",\"\",'１１号入力'!AG78)","v":""},null,null,null,null,null,null,{"$f":"IF('１１号入力'!AJ78=\"\",\"\",'１１号入力'!AJ78)","v":""},null,null,null,null,null,null,{"$f":"IF('１１号入力'!AM78=\"\",\"\",'１１号入力'!AM78)","v":""},null,null,null,null,null,null,{"$f":"IF('１１号入力'!E114=\"\",\"\",'１１号入力'!E114)","v":""},null,null,null,null,{"$f":"IF('１１号入力'!H114=\"\",\"\",'１１号入力'!H114)","v":""},null,null,null,null,null,null,null,null,null,null,null,null,{"$f":"IF('１１号入力'!Q114=0,\"\",'１１号入力'!Q114)","v":""}]
[null,null,null,null,null,{"$f":"IF('１１号入力'!D79=\"\",\"\",'１１号入力'!D79)","v":""},null,null,"","","",null,null,{"$f":"IF('１１号入力'!R79=\"\",\"\",'１１号入力'!R79)","v":""},null,null,null,null,null,null,{"$f":"IF('１１号入力'!U79=\"\",\"\",'１１号入力'!U79)","v":""},null,null,null,null,null,null,{"$f":"IF('１１号入力'!X79=\"\",\"\",'１１号入力'!X79)","v":""},null,null,null,null,null,null,{"$f":"IF('１１号入力'!AA79=\"\",\"\",'１１号入力'!AA79)","v":""},null,null,null,null,null,null,{"$f":"IF('１１号入力'!AD79=\"\",\"\",'１１号入力'!AD79)","v":""},null,null,null,null,null,null,{"$f":"IF('１１号入力'!AG79=\"\",\"\",'１１号入力'!AG79)","v":""},null,null,null,null,null,null,{"$f":"IF('１１号入力'!AJ79=\"\",\"\",'１１号入力'!AJ79)","v":""},null,null,null,null,null,null,{"$f":"IF('１１号入力'!AM79=\"\",\"\",'１１号入力'!AM79)","v":""},null,null,null,null,null,null,{"$f":"IF('１１号入力'!E115=\"\",\"\",'１１号入力'!E115)","v":""},null,null,null,null,{"$f":"IF('１１号入力'!H115=\"\",\"\",'１１号入力'!H115)","v":""},null,null,null,null,null,null,null,null,null,null,null,null,{"$f":"IF('１１号入力'!Q115=0,\"\",'１１号入力'!Q115)","v":""}]
[null,null,null,null,null,{"$f":"IF('１１号入力'!D80=\"\",\"\",'１１号入力'!D80)","v":""},null,null,"","","",null,null,{"$f":"IF('１１号入力'!R80=\"\",\"\",'１１号入力'!R80)","v":""},null,null,null,null,null,null,{"$f":"IF('１１号入力'!U80=\"\",\"\",'１１号入力'!U80)","v":""},null,null,null,null,null,null,{"$f":"IF('１１号入力'!X80=\"\",\"\",'１１号入力'!X80)","v":""},null,null,null,null,null,null,{"$f":"IF('１１号入力'!AA80=\"\",\"\",'１１号入力'!AA80)","v":""},null,null,null,null,null,null,{"$f":"IF('１１号入力'!AD80=\"\",\"\",'１１号入力'!AD80)","v":""},null,null,null,null,null,null,{"$f":"IF('１１号入力'!AG80=\"\",\"\",'１１号入力'!AG80)","v":""},null,null,null,null,null,null,{"$f":"IF('１１号入力'!AJ80=\"\",\"\",'１１号入力'!AJ80)","v":""},null,null,null,null,null,null,{"$f":"IF('１１号入力'!AM80=\"\",\"\",'１１号入力'!AM80)","v":""},null,null,null,null,null,null,{"$f":"IF('１１号入力'!E116=\"\",\"\",'１１号入力'!E116)","v":""},null,null,null,null,{"$f":"IF('１１号入力'!H116=\"\",\"\",'１１号入力'!H116)","v":""},null,null,null,null,null,null,null,null,null,null,null,null,{"$f":"IF('１１号入力'!Q116=0,\"\",'１１号入力'!Q116)","v":""}]
[null,null,null,null,null,{"$f":"IF('１１号入力'!D81=\"\",\"\",'１１号入力'!D81)","v":""},null,null,"","","",null,null,{"$f":"IF('１１号入力'!R81=\"\",\"\",'１１号入力'!R81)","v":""},null,null,null,null,null,null,{"$f":"IF('１１号入力'!U81=\"\",\"\",'１１号入力'!U81)","v":""},null,null,null,null,null,null,{"$f":"IF('１１号入力'!X81=\"\",\"\",'１１号入力'!X81)","v":""},null,null,null,null,null,null,{"$f":"IF('１１号入力'!AA81=\"\",\"\",'１１号入力'!AA81)","v":""},null,null,null,null,null,null,{"$f":"IF('１１号入力'!AD81=\"\",\"\",'１１号入力'!AD81)","v":""},null,null,null,null,null,null,{"$f":"IF('１１号入力'!AG81=\"\",\"\",'１１号入力'!AG81)","v":""},null,null,null,null,null,null,{"$f":"IF('１１号入力'!AJ81=\"\",\"\",'１１号入力'!AJ81)","v":""},null,null,null,null,null,null,{"$f":"IF('１１号入力'!AM81=\"\",\"\",'１１号入力'!AM81)","v":""},null,null,null,null,null,null,{"$f":"IF('１１号入力'!E117=\"\",\"\",'１１号入力'!E117)","v":""},null,null,null,null,{"$f":"IF('１１号入力'!H117=\"\",\"\",'１１号入力'!H117)","v":""},null,null,null,null,null,null,null,null,null,null,null,null,{"$f":"IF('１１号入力'!Q117=0,\"\",'１１号入力'!Q117)","v":""}]
[null,null,null,null,null,{"$f":"IF('１１号入力'!D82=\"\",\"\",'１１号入力'!D82)","v":""},null,null,"","","",null,null,{"$f":"IF('１１号入力'!R82=\"\",\"\",'１１号入力'!R82)","v":""},null,null,null,null,null,null,{"$f":"IF('１１号入力'!U82=\"\",\"\",'１１号入力'!U82)","v":""},null,null,null,null,null,null,{"$f":"IF('１１号入力'!X82=\"\",\"\",'１１号入力'!X82)","v":""},null,null,null,null,null,null,{"$f":"IF('１１号入力'!AA82=\"\",\"\",'１１号入力'!AA82)","v":""},null,null,null,null,null,null,{"$f":"IF('１１号入力'!AD82=\"\",\"\",'１１号入力'!AD82)","v":""},null,null,null,null,null,null,{"$f":"IF('１１号入力'!AG82=\"\",\"\",'１１号入力'!AG82)","v":""},null,null,null,null,null,null,{"$f":"IF('１１号入力'!AJ82=\"\",\"\",'１１号入力'!AJ82)","v":""},null,null,null,null,null,null,{"$f":"IF('１１号入力'!AM82=\"\",\"\",'１１号入力'!AM82)","v":""},null,null,null,null,null,null,{"$f":"IF('１１号入力'!E118=\"\",\"\",'１１号入力'!E118)","v":""},null,null,null,null,{"$f":"IF('１１号入力'!H118=\"\",\"\",'１１号入力'!H118)","v":""},null,null,null,null,null,null,null,null,null,null,null,null,{"$f":"IF('１１号入力'!Q118=0,\"\",'１１号入力'!Q118)","v":""}]
[null,null,null,null,null,{"$f":"IF('１１号入力'!D83=\"\",\"\",'１１号入力'!D83)","v":""},null,null,"","","",null,null,{"$f":"IF('１１号入力'!R83=\"\",\"\",'１１号入力'!R83)","v":""},null,null,null,null,null,null,{"$f":"IF('１１号入力'!U83=\"\",\"\",'１１号入力'!U83)","v":""},null,null,null,null,null,null,{"$f":"IF('１１号入力'!X83=\"\",\"\",'１１号入力'!X83)","v":""},null,null,null,null,null,null,{"$f":"IF('１１号入力'!AA83=\"\",\"\",'１１号入力'!AA83)","v":""},null,null,null,null,null,null,{"$f":"IF('１１号入力'!AD83=\"\",\"\",'１１号入力'!AD83)","v":""},null,null,null,null,null,null,{"$f":"IF('１１号入力'!AG83=\"\",\"\",'１１号入力'!AG83)","v":""},null,null,null,null,null,null,{"$f":"IF('１１号入力'!AJ83=\"\",\"\",'１１号入力'!AJ83)","v":""},null,null,null,null,null,null,{"$f":"IF('１１号入力'!AM83=\"\",\"\",'１１号入力'!AM83)","v":""},null,null,null,null,null,null,{"$f":"IF('１１号入力'!E119=\"\",\"\",'１１号入力'!E119)","v":""},null,null,null,null,{"$f":"IF('１１号入力'!H119=\"\",\"\",'１１号入力'!H119)","v":""},null,null,null,null,null,null,null,null,null,null,null,null,{"$f":"IF('１１号入力'!Q119=0,\"\",'１１号入力'!Q119)","v":""}]
[null,null,null,null,null,{"$f":"IF('１１号入力'!D84=\"\",\"\",'１１号入力'!D84)","v":""},null,null,"","","",null,null,{"$f":"IF('１１号入力'!R84=\"\",\"\",'１１号入力'!R84)","v":""},null,null,null,null,null,null,{"$f":"IF('１１号入力'!U84=\"\",\"\",'１１号入力'!U84)","v":""},null,null,null,null,null,null,{"$f":"IF('１１号入力'!X84=\"\",\"\",'１１号入力'!X84)","v":""},null,null,null,null,null,null,{"$f":"IF('１１号入力'!AA84=\"\",\"\",'１１号入力'!AA84)","v":""},null,null,null,null,null,null,{"$f":"IF('１１号入力'!AD84=\"\",\"\",'１１号入力'!AD84)","v":""},null,null,null,null,null,null,{"$f":"IF('１１号入力'!AG84=\"\",\"\",'１１号入力'!AG84)","v":""},null,null,null,null,null,null,{"$f":"IF('１１号入力'!AJ84=\"\",\"\",'１１号入力'!AJ84)","v":""},null,null,null,null,null,null,{"$f":"IF('１１号入力'!AM84=\"\",\"\",'１１号入力'!AM84)","v":""},null,null,null,null,null,null,{"$f":"IF('１１号入力'!E120=\"\",\"\",'１１号入力'!E120)","v":""},null,null,null,null,{"$f":"IF('１１号入力'!H120=\"\",\"\",'１１号入力'!H120)","v":""},null,null,null,null,null,null,null,null,null,null,null,null,{"$f":"IF('１１号入力'!Q120=0,\"\",'１１号入力'!Q120)","v":""}]
[null,null,null,null,null,{"$f":"IF('１１号入力'!D85=\"\",\"\",'１１号入力'!D85)","v":""},null,null,"","","",null,null,{"$f":"IF('１１号入力'!R85=\"\",\"\",'１１号入力'!R85)","v":""},null,null,null,null,null,null,{"$f":"IF('１１号入力'!U85=\"\",\"\",'１１号入力'!U85)","v":""},null,null,null,null,null,null,{"$f":"IF('１１号入力'!X85=\"\",\"\",'１１号入力'!X85)","v":""},null,null,null,null,null,null,{"$f":"IF('１１号入力'!AA85=\"\",\"\",'１１号入力'!AA85)","v":""},null,null,null,null,null,null,{"$f":"IF('１１号入力'!AD85=\"\",\"\",'１１号入力'!AD85)","v":""},null,null,null,null,null,null,{"$f":"IF('１１号入力'!AG85=\"\",\"\",'１１号入力'!AG85)","v":""},null,null,null,null,null,null,{"$f":"IF('１１号入力'!AJ85=\"\",\"\",'１１号入力'!AJ85)","v":""},null,null,null,null,null,null,{"$f":"IF('１１号入力'!AM85=\"\",\"\",'１１号入力'!AM85)","v":""},null,null,null,null,null,null,{"$f":"IF('１１号入力'!E121=\"\",\"\",'１１号入力'!E121)","v":""},null,null,null,null,{"$f":"IF('１１号入力'!H121=\"\",\"\",'１１号入力'!H121)","v":""},null,null,null,null,null,null,null,null,null,null,null,null,{"$f":"IF('１１号入力'!Q121=0,\"\",'１１号入力'!Q121)","v":""}]
[null,null,null,null,null,{"$f":"IF('１１号入力'!D86=\"\",\"\",'１１号入力'!D86)","v":""},null,null,"","","",null,null,{"$f":"IF('１１号入力'!R86=\"\",\"\",'１１号入力'!R86)","v":""},null,null,null,null,null,null,{"$f":"IF('１１号入力'!U86=\"\",\"\",'１１号入力'!U86)","v":""},null,null,null,null,null,null,{"$f":"IF('１１号入力'!X86=\"\",\"\",'１１号入力'!X86)","v":""},null,null,null,null,null,null,{"$f":"IF('１１号入力'!AA86=\"\",\"\",'１１号入力'!AA86)","v":""},null,null,null,null,null,null,{"$f":"IF('１１号入力'!AD86=\"\",\"\",'１１号入力'!AD86)","v":""},null,null,null,null,null,null,{"$f":"IF('１１号入力'!AG86=\"\",\"\",'１１号入力'!AG86)","v":""},null,null,null,null,null,null,{"$f":"IF('１１号入力'!AJ86=\"\",\"\",'１１号入力'!AJ86)","v":""},null,null,null,null,null,null,{"$f":"IF('１１号入力'!AM86=\"\",\"\",'１１号入力'!AM86)","v":""},null,null,null,null,null,null,{"$f":"IF('１１号入力'!E122=\"\",\"\",'１１号入力'!E122)","v":""},null,null,null,null,{"$f":"IF('１１号入力'!H122=\"\",\"\",'１１号入力'!H122)","v":""},null,null,null,null,null,null,null,null,null,null,null,null,{"$f":"IF('１１号入力'!Q122=0,\"\",'１１号入力'!Q122)","v":""}]
[null,null,null,null,null,"植物成長調整剤",null,null,null,null,null,null,null,{"$f":"IF('１１号入力'!F91=\"\",\"/\",'１１号入力'!F91)","v":"/"},null,null,null,null,{"$f":"IF('１１号入力'!I91=0,0,'１１号入力'!I91)","v":0},null,null,null,null,null,null,null,{"$f":"IF('１１号入力'!N91=0,0,'１１号入力'!N91)","v":0},null,null,null,null,null,null,null,{"$f":"IF('１１号入力'!C94=\"\",\"\",'１１号入力'!C94)","v":"トップジンＭ水和剤"},null,null,null,null,null,null,null,null,null,null,null,null,null,null,null,{"$f":"IF('１１号入力'!F97=\"\",\"/\",'１１号入力'!F97)","v":"/"},null,null,null,null,{"$f":"IF('１１号入力'!I97=0,0,'１１号入力'!I97)","v":0},null,null,null,null,null,null,null,{"$f":"IF('１１号入力'!N97=0,0,'１１号入力'!N97)","v":0},null,null,null,null,null,null,null,{"$f":"IF('１１号入力'!F99=\"\",\"/\",'１１号入力'!F99)","v":"/"},null,null,null,null,{"$f":"IF('１１号入力'!I99=0,0,'１１号入力'!I99)","v":0},null,null,null,null,null,null,null,{"$f":"IF('１１号入力'!N99=0,0,'１１号入力'!N99)","v":0}]
[null,null,null,null,null,{"$f":"IF('１１号入力'!L88=\"\",\"\",'１１号入力'!L88)","v":"アークランド液剤"},null,null,null,null,null,null,null,{"$f":"IF('１１号入力'!F92=\"\",\"/\",'１１号入力'!F92)","v":"/"},null,null,null,null,{"$f":"IF('１１号入力'!I92=0,0,'１１号入力'!I92)","v":0},null,null,null,null,null,null,null,{"$f":"IF('１１号入力'!N92=0,0,'１１号入力'!N92)","v":0},null,null,null,null,null,null,null,null,null,null,null,null,null,null,null,null,null,null,null,null,null,null,null,{"$f":"IF('１１号入力'!F98=\"\",\"/\",'１１号入力'!F98)","v":"/"},null,null,null,null,{"$f":"IF('１１号入力'!I98=0,0,'１１号入力'!I98)","v":0},null,null,null,null,null,null,null,{"$f":"IF('１１号入力'!N98=0,0,'１１号入力'!N98)","v":0},null,null,null,null,null,null,null,{"$f":"IF('１１号入力'!F100=\"\",\"/\",'１１号入力'!F100)","v":"/"},null,null,null,null,{"$f":"IF('１１号入力'!I100=0,0,'１１号入力'!I100)","v":0},null,null,null,null,null,null,null,{"$f":"IF('１１号入力'!N100=0,0,'１１号入力'!N100)","v":0}]

{"sheet":"１２号入力","index":24,"n_rows":128,"n_cols":53,"rows_kept":128,"cut":false,"hidden":false,"merged":[[121,16,121,18],[120,2,120,3],[120,4,120,6],[120,7,120,15],[120,16,120,18],[121,2,121,3],[121,4,121,6],[121,7,121,15],[119,16,119,18],[118,2,118,3],[118,4,118,6],[118,7,118,15],[118,16,118,18],[119,2,119,3],[119,4,119,6],[119,7,119,15],[117,7,117,15],[117,16,117,18],[116,2,116,3],[116,4,116,6],[116,7,116,15],[116,16,116,18],[117,2,117,3],[117,4,117,6],[115,2,115,3],[115,4,115,6],[115,7,115,15],[115,16,115,18],[114,2,114,3],[114,4,114,6],[114,7,114,15],[114,16,114,18],[113,2,113,3],[113,4,113,6],[113,7,113,15],[113,16,113,18],[112,2,112,3],[112,4,112,6],[112,7,112,15],[112,16,112,18],[111,2,111,3],[111,4,111,6],[111,7,111,15],[111,16,111,18],[110,2,110,3],[110,4,110,6],[110,7,110,15],[110,16,110,18],[109,2,109,3],[109,4,109,6],[109,7,109,15],[109,16,109,18],[108,2,108,3],[108,4,108,6],[108,7,108,15],[108,16,108,18],[107,2,107,3],[107,4,107,6],[107,7,107,15],[107,16,107,18],[106,2,106,3],[106,4,106,6],[106,7,106,15],[106,16,106,18],[105,2,105,3],[105,4,105,6],[105,7,105,15],[105,16,105,18],[104,2,104,3],[104,4,104,6],[104,7,104,15],[104,16,104,18],[103,2,103,3],[103,4,103,6],[103,7,103,15],[103,16,103,18],[99,2,99,4],[99,5,99,7],[99,8,99,12],[99,13,99,17],[98,2,98,4],[98,5,98,7],[98,8,98,12],[98,13,98,17],[97,2,97,4],[97,5,97,7],[97,8,97,12],[97,13,97,17],[96,2,96,4],[96,5,96,7],[96,8,96,12],[96,13,96,17],[95,2,95,4],[95,5,95,7],[95,8,95,12],[95,13,95,17],[91,2,91,4],[91,5,91,7],[91,8,91,12],[91,13,91,17],[93,2,93,8],[90,2,90,4],[90,5,90,7],[90,8,90,12],[90,13,90,17],[89,2,89,4],[89,5,89,7],[89,8,89,12],[89,13,89,17],[85,35,85,37],[69,2,85,2],[85,3,85,10],[85,14,85,16],[69,35,69,37],[85,38,85,40],[85,17,85,19],[85,20,85,22],[84,35,84,37],[84,38,84,40],[85,23,85,25],[85,26,85,28],[85,29,85,31],[85,32,85,34],[83,38,83,40],[84,3,84,10],[84,14,84,16],[84,17,84,19],[84,20,84,22],[84,23,84,25],[84,26,84,28],[84,29,84,31],[84,32,84,34],[83,3,83,10],[83,14,83,16],[83,17,83,19],[83,20,83,22],[83,23,83,25],[83,26,83,28],[83,29,83,31],[83,32,83,34],[83,35,83,37],[81,38,81,40],[82,3,82,10],[82,14,82,16],[82,17,82,19],[82,20,82,22],[82,23,82,25],[82,26,82,28],[82,29,82,31],[82,32,82,34],[82,35,82,37],[82,38,82,40],[81,3,81,10],[81,14,81,16],[81,17,81,19],[81,20,81,22],[81,23,81,25],[81,26,81,28],[81,29,81,31],[81,32,81,34],[81,35,81,37],[79,38,79,40],[80,3,80,10],[80,14,80,16],[80,17,80,19],[80,20,80,22],[80,23,80,25],[80,26,80,28],[80,29,80,31],[80,32,80,34],[80,35,80,37],[80,38,80,40],[79,3,79,10],[79,14,79,16],[79,17,79,19],[79,20,79,22],[79,23,79,25],[79,26,79,28],[79,29,79,31],[79,32,79,34],[79,35,79,37],[77,38,77,40],[78,3,78,10],[78,14,78,16],[78,17,78,19],[78,20,78,22],[78,23,78,25],[78,26,78,28],[78,29,78,31],[78,32,78,34],[78,35,78,37],[78,38,78,40],[77,3,77,10],[77,14,77,16],[77,17,77,19],[77,20,77,22],[77,23,77,25],[77,26,77,28],[77,29,77,31],[77,32,77,34],[77,35,77,37],[75,38,75,40],[76,3,76,10],[76,14,76,16],[76,17,76,19],[76,20,76,22],[76,23,76,25],[76,26,76,28],[76,29,76,31],[76,32,76,34],[76,35,76,37],[76,38,76,40],[75,3,75,10],[75,14,75,16],[75,17,75,19],[75,20,75,22],[75,23,75,25],[75,26,75,28],[75,29,75,31],[75,32,75,34],[75,35,75,37],[73,38,73,40],[74,3,74,10],[74,14,74,16],[74,17,74,19],[74,20,74,22],[74,23,74,25],[74,26,74,28],[74,29,74,31],[74,32,74,34],[74,35,74,37],[74,38,74,40],[73,3,73,10],[73,14,73,16],[73,17,73,19],[73,20,73,22],[73,23,73,25],[73,26,73,28],[73,29,73,31],[73,32,73,34],[73,35,73,37],[71,38,71,40],[72,3,72,10],[72,14,72,16],[72,17,72,19],[72,20,72,22],[72,23,72,25],[72,26,72,28],[72,29,72,31],[72,32,72,34],[72,35,72,37],[72,38,72,40],[71,3,71,10],[71,14,71,16],[71,17,71,19],[71,20,71,22],[71,23,71,25],[71,26,71,28],[71,29,71,31],[71,32,71,34],[71,35,71,37],[69,38,69,40],[70,3,70,10],[70,14,70,16],[70,17,70,19],[70,20,70,22],[70,23,70,25],[70,26,70,28],[70,29,70,31],[70,32,70,34],[69,23,69,25],[69,26,69,28],[69,29,69,31],[69,32,69,34],[69,3,69,16],[69,17,69,19],[69,20,69,22],[70,35,70,37],[70,38,70,40],[67,38,67,40],[68,2,68,16],[68,17,68,19],[68,20,68,22],[68,23,68,25],[68,26,68,28],[68,29,68,31],[68,32,68,34],[68,35,68,37],[68,38,68,40],[67,26,67,28],[67,29,67,31],[67,32,67,34],[67,35,67,37],[67,2,67,16],[67,17,67,19],[67,20,67,22],[67,23,67,25],[66,38,66,40],[66,17,66,19],[66,20,66,22],[66,23,66,25],[66,26,66,28],[57,2,57,13],[66,29,66,31],[66,32,66,34],[66,35,66,37],[58,2,58,6],[58,7,58,13],[61,2,61,6],[61,7,61,13],[59,2,59,6],[59,7,59,13],[60,2,60,6],[60,7,60,13],[52,32,52,37],[51,25,51,29],[54,2,54,4],[54,5,54,7],[54,8,54,14],[54,15,54,18],[54,19,54,23],[53,15,53,18],[53,25,53,29],[51,15,51,18],[51,30,51,31],[51,5,51,7],[51,8,51,14],[46,33,46,39],[44,33,44,39],[45,26,45,29],[45,33,45,39],[46,2,46,4],[46,5,46,7],[46,8,46,25],[46,26,46,29],[53,32,53,37],[53,30,53,31],[51,32,51,37],[52,19,52,23],[52,25,52,29],[51,2,51,4],[53,2,53,4],[53,5,53,7],[53,8,53,14],[51,19,51,23],[53,19,53,23],[52,2,52,4],[52,5,52,7],[52,8,52,14],[52,15,52,18],[52,30,52,31],[42,5,42,7],[42,8,42,25],[42,26,42,29],[45,2,45,4],[45,5,45,7],[45,8,45,25],[44,2,44,4],[40,5,40,7],[40,8,40,25],[40,26,40,29],[44,5,44,7],[44,8,44,25],[44,26,44,29],[38,33,38,39],[39,2,39,4],[39,5,39,7],[39,8,39,25],[39,26,39,29],[39,33,39,39],[38,2,38,4],[42,33,42,39],[43,2,43,4],[43,5,43,7],[43,8,43,25],[43,26,43,29],[43,33,43,39],[42,2,42,4],[38,5,38,7],[38,8,38,25],[38,26,38,29],[40,33,40,39],[41,2,41,4],[41,5,41,7],[41,8,41,25],[41,26,41,29],[41,33,41,39],[40,2,40,4],[36,33,36,39],[37,2,37,4],[37,5,37,7],[37,8,37,25],[37,26,37,29],[37,33,37,39],[36,2,36,4],[36,5,36,7],[36,8,36,25],[36,26,36,29],[34,33,34,39],[35,2,35,4],[35,5,35,7],[35,8,35,25],[35,26,35,29],[35,33,35,39],[34,2,34,4],[34,5,34,7],[34,8,34,25],[34,26,34,29],[32,33,32,39],[33,2,33,4],[33,5,33,7],[33,8,33,25],[33,26,33,29],[33,33,33,39],[32,2,32,4],[32,5,32,7],[32,8,32,25],[32,26,32,29],[30,33,30,39],[31,2,31,4],[31,5,31,7],[31,8,31,25],[31,26,31,29],[31,33,31,39],[30,2,30,4],[30,5,30,7],[30,8,30,25],[30,26,30,29],[28,33,28,39],[29,2,29,4],[29,5,29,7],[29,8,29,25],[29,26,29,29],[29,33,29,39],[28,2,28,4],[28,5,28,7],[28,8,28,25],[28,26,28,29],[26,33,26,39],[27,2,27,4],[27,5,27,7],[27,8,27,25],[27,26,27,29],[27,33,27,39],[26,2,26,4],[26,5,26,7],[26,8,26,25],[26,26,26,29],[24,33,24,39],[25,2,25,4],[25,5,25,7],[25,8,25,25],[25,26,25,29],[25,33,25,39],[24,2,24,4],[24,5,24,7],[24,8,24,25],[24,26,24,29],[22,33,22,39],[23,2,23,4],[23,5,23,7],[23,8,23,25],[23,26,23,29],[23,33,23,39],[22,2,22,4],[22,5,22,7],[22,8,22,25],[22,26,22,29],[19,5,19,7],[18,5,18,7],[20,33,20,39],[21,2,21,4],[21,5,21,7],[21,8,21,25],[21,26,21,29],[21,33,21,39],[20,2,20,4],[20,5,20,7],[20,8,20,25],[20,26,20,29],[9,5,9,11],[11,2,11,4],[11,5,11,11],[10,5,10,11],[10,2,10,4],[9,2,9,4],[12,2,12,4],[12,5,12,11],[15,5,15,11],[15,2,15,4],[1,9,1,10],[1,11,1,14],[3,9,3,11],[3,12,3,18],[8,2,8,4],[8,5,8,11],[8,14,8,16],[8,17,8,23],[123,27,123,32],[57,17,57,19],[60,17,60,19],[57,20,57,26],[58,20,58,26],[59,20,59,26],[60,20,60,26],[59,17,59,19],[58,17,58,19],[87,11,87,17],[12,14,12,31],[13,2,13,4],[13,5,13,11],[13,14,13,31],[14,2,14,4],[14,5,14,11]]}
[]
[null,"１２号室の入力画面",null,null,null,null,null,null,null,"No.",null,{"$f":"メニュー画面!F18","v":"４　３　６"}]
[]
[null,null,null,null,null,null,null,null,null,"氏名",null,null,{"$f":"メニュー画面!F20","v":"中　條　文　義"},null,null,null,null,null,null,null,null,null,null,null,null,null,null,null,null,null,null,null,null,{"$f":"VLOOKUP(B2,隠しページ!P7:Q22,2,FALSE)","v":"１２号入力"},null,null,"→印刷画面へ"]
[]
[]
[null,"１．坪数～収穫日までの入力",null,null,null,null,null,null,null,null,null,null,null,null,"※白い枠のみに入力して下さい。ここで入力された値が、履歴シートに書き込まれます。"]
[]
[null,null,"部屋番号",null,null,12,null,null,null,null,null,null,null,null,"品種名",null,null,{"$f":"IF(F16=\"\",\"\",IF(AND(10<=MONTH(F16+1),MONTH(F16+1)<=11),\"秋　　系\",IF(AND(3<=MONTH(F16+1),MONTH(F16+1)<=5),\"春　　系\",IF(AND(6<=MONTH(F16+1),MONTH(F16+1)<=9),\"夏　　系\",\"冬　　系\"))))","v":""}]
[null,null,"坪数"]
[null,null,"品種名",null,null,null,null,null,null,null,null,null,null,null,{"$f":"IF(OR($R$9=$F$11,$R$9=\"\"),\"\",\"←県で指定された品種名と違いますが無視できます。\")","v":""}]
[null,null,"播種日"]
[null,null,"定植日",null,null,null,null,null,null,null,null,null,null,null,{"$f":"IF(OR(F13=\"\",F12=\"\"),\"\",IF(F13<F12,\"入力ミスです！播種日のほうが後の日付になりました。\",\"\"))","v":""},null,null,null,null,null,null,null,null,null,null,null,null,null,null,null,null,null,{"$f":"CONCATENATE(\"苗日数＝\",F13-F12,\"日\")","v":"苗日数＝0日"}]
[null,null,"交配日",null,null,null,null,null,null,null,null,null,null,null,{"$f":"IF(OR(F14=\"\",F13=\"\"),\"\",IF(F14<F13,\"入力ミスです！定植日の方が後になりました。\",\"\"))","v":""},null,null,null,null,null,null,null,null,null,null,null,null,null,null,null,null,null,{"$f":"CONCATENATE(\"交配日数＝\",F14-F13,\"日\")","v":"交配日数＝0日"}]
[null,null,"採果日数"]
[null,null,"収穫日",null,null,{"$f":"IF(OR(F14=\"\",F15=\"\"),\"\",F14+F15-1)","v":""},null,null,null,null,null,null,null,null,null,null,null,null,null,null,null,null,null,null,null,null,null,null,null,null,null,null,{"$f":"CONCATENATE(\"播種日～収穫日＝\",IF(F16=\"\",0,F16-F12),\"日\")","v":"播種日～収穫日＝0日"}]
[]
[null,"２．施用資材名の入力"]
[null,null,null,null,null,null,null,null,"［〃］このマークはリストから入力できます。日付はそのまま打ち込んでください。"]
[]
[null,null,null,null,null,"日付",null,null,"施用資材名",null,null,null,null,null,null,null,null,null,null,null,null,null,null,null,null,null,"投入量",null,null,null,null,null,null,"履歴シート表示確認欄"]
[null,null,null,null,null,{"$f":"IF(OR(C22=\"\",AH22=\"\"),\"\",IF(C22=\"育苗\",#REF!,IF(C22=\"定植\",#REF!,IF(C22=\"追肥（１）\",#REF!,IF(C22=\"追肥（２）\",#REF!,IF(C22=\"追肥（３）\",#REF!,\"入力ミス\"))))))","v":""},null,null,"育苗",null,null,null,null,null,null,null,null,null,null,null,null,null,null,null,null,null,null,null,null,null,null,null,null,{"$f":"IF(I22=\"\",\"\",VLOOKUP(I22,Ｍ肥料台帳,4,FALSE))","v":"育苗"}]
[null,null,null,null,null,"2006-01-01",null,null,null,null,null,null,null,null,null,null,null,null,null,null,null,null,null,null,null,null,null,null,null,null,null,null,null,""]
[null,null,null,null,null,"〃",null,null,null,null,null,null,null,null,null,null,null,null,null,null,null,null,null,null,null,null,null,null,null,null,null,null,null,""]
[null,null,null,null,null,"〃",null,null,null,null,null,null,null,null,null,null,null,null,null,null,null,null,null,null,null,null,null,null,null,null,null,null,null,""]
[null,null,null,null,null,"〃",null,null,null,null,null,null,null,null,null,null,null,null,null,null,null,null,null,null,null,null,null,null,null,null,null,null,null,""]
[null,null,null,null,null,"〃",null,null,null,null,null,null,null,null,null,null,null,null,null,null,null,null,null,null,null,null,null,null,null,null,null,null,null,""]
[null,null,null,null,null,"〃",null,null,null,null,null,null,null,null,null,null,null,null,null,null,null,null,null,null,null,null,null,null,null,null,null,null,null,""]
[null,null,null,null,null,"〃",null,null,null,null,null,null,null,null,null,null,null,null,null,null,null,null,null,null,null,null,null,null,null,null,null,null,null,""]
[null,null,null,null,null,"〃",null,null,null,null,null,null,null,null,null,null,null,null,null,null,null,null,null,null,null,null,null,null,null,null,null,null,null,""]
[null,null,null,null,null,"〃",null,null,null,null,null,null,null,null,null,null,null,null,null,null,null,null,null,null,null,null,null,null,null,null,null,null,null,""]
[null,null,null,null,null,"〃",null,null,null,null,null,null,null,null,null,null,null,null,null,null,null,null,null,null,null,null,null,null,null,null,null,null,null,""]
[null,null,null,null,null,"〃",null,null,null,null,null,null,null,null,null,null,null,null,null,null,null,null,null,null,null,null,null,null,null,null,null,null,null,""]
[null,null,null,null,null,"〃",null,null,null,null,null,null,null,null,null,null,null,null,null,null,null,null,null,null,null,null,null,null,null,null,null,null,null,""]
[null,null,null,null,null,"〃",null,null,null,null,null,null,null,null,null,null,null,null,null,null,null,null,null,null,null,null,null,null,null,null,null,null,null,""]
[null,null,null,null,null,null,null,null,null,null,null,null,null,null,null,null,null,null,null,null,null,null,null,null,null,null,null,null,null,null,null,null,null,""]
[null,null,null,null,null,null,null,null,null,null,null,null,null,null,null,null,null,null,null,null,null,null,null,null,null,null,null,null,null,null,null,null,null,""]
[null,null,null,null,null,null,null,null,null,null,null,null,null,null,null,null,null,null,null,null,null,null,null,null,null,null,null,null,null,null,null,null,null,""]
[null,null,null,null,null,null,null,null,null,null,null,null,null,null,null,null,null,null,null,null,null,null,null,null,null,null,null,null,null,null,null,null,null,""]
[null,null,null,null,null,null,null,null,null,null,null,null,null,null,null,null,null,null,null,null,null,null,null,null,null,null,null,null,null,null,null,null,null,""]
[null,null,null,null,null,null,null,null,null,null,null,null,null,null,null,null,null,null,null,null,null,null,null,null,null,null,null,null,null,null,null,null,null,""]
[null,null,null,null,null,null,null,null,null,null,null,null,null,null,null,null,null,null,null,null,null,null,null,null,null,null,null,null,null,null,null,null,null,""]
[null,null,null,null,null,null,null,null,null,null,null,null,null,null,null,null,null,null,null,null,null,null,null,null,null,null,null,null,null,null,null,null,null,""]
[null,null,null,null,null,null,null,null,null,null,null,null,null,null,null,null,null,null,null,null,null,null,null,null,null,null,null,null,null,null,null,null,null,""]
[null,null,null,null,null,null,null,null,null,null,null,null,null,null,null,null,null,null,null,null,null,null,null,null,null,null,null,null,null,null,null,null,null,""]
[null,null,null,null,null,null,null,null,null,null,null,null,null,null,null,null,null,null,null,null,null,null,null,null,null,null,null,null,null,null,null,null,null,""]
[null,null,null,null,null,null,null,null,null,null,null,null,null,null,null,null,null,null,null,null,null,null,null,null,null,null,null,null,null,null,null,null,null,""]
[]
[]
[null,"３．施用粒剤の入力"]
[null,null,null,null,null,null,null,null,null,null,null,null,null,null,null,null,null,null,null,null,null,null,null,null,null,null,null,null,null,null,null,null,null,null,null,null,null,null,null,null,null,null,null,null,null,null,null,null,null,null,null,null,"施用粒剤の日付入力"]
[null,null,null,null,null,"日付",null,null,"施用粒剤名",null,null,null,null,null,null,"施用量（g）",null,null,null,"施用鉢数（鉢）",null,null,null,null,null,"登録施用量",null,null,null,null,"回数",null,"時期"]
[null,null,"１回目",null,null,null,null,null,null,null,null,null,null,null,null,null,null,null,null,null,null,null,null,null,null,{"$f":"IF(I53=\"\",\"\",VLOOKUP(I53,施用粒剤台帳,2,FALSE))","v":""},null,null,null,null,{"$f":"IF(I53=\"\",\"\",VLOOKUP(I53,施用粒剤台帳,3,FALSE))","v":""},null,{"$f":"IF(I53=\"\",\"\",VLOOKUP(I53,施用粒剤台帳,4,FALSE))","v":""}]
[null,null,"２回目",null,null,null,null,null,null,null,null,null,null,null,null,null,null,null,null,null,null,null,null,null,null,{"$f":"IF(I54=\"\",\"\",VLOOKUP(I54,施用粒剤台帳,2,FALSE))","v":""},null,null,null,null,{"$f":"IF(I54=\"\",\"\",VLOOKUP(I54,施用粒剤台帳,3,FALSE))","v":""},null,{"$f":"IF(I54=\"\",\"\",VLOOKUP(I54,施用粒剤台帳,4,FALSE))","v":""}]
[]
[null,"４．硫黄くん蒸剤の入力",null,null,null,null,null,null,null,null,"※使用が２年にまたがるときは、前年の日付の前に年号を付けないとミスになります。"]
[]
[null,null,"履歴シートへの表示確認欄",null,null,null,null,null,null,null,null,null,null,null,null,null,null,"播種日",null,null,{"$f":"IF(F12=\"\",\"\",F12)","v":""}]
[null,null,"開始日",null,null,null,null,null,null,null,null,null,null,null,null,null,null,"定植日",null,null,{"$f":"IF(F13=\"\",\"\",F13)","v":""}]
[null,null,"終了日",null,null,null,null,null,null,null,null,null,null,null,{"$f":"IF(H60=\"\",\"\",IF(H60<H59,\" ミス\",\"\"))","v":""},null,null,"交配日",null,null,{"$f":"IF(F14=\"\",\"\",F14)","v":""}]
[null,null,"１日の使用量",null,null,null,null,2,null,null,null,null,null,null,null,null,null,"収穫日",null,null,{"$f":"IF(F16=\"\",\"\",F16)","v":""}]
[null,null,"総使用量",null,null,null,null,{"$f":"IF(OR(H59=\"\",OR(H60=\"\",H61=\"\")),\"\",(H60-H59)*H61)","v":""},null,null,null,null,null,null,null,null,null,null,null,null,"↑１.で入力した日付です。"]
[]
[null,"５．農薬散布の入力"]
[null,null,null,null,null,null,null,null,null,null,null,null,null,null,null,null,null,null,null,null,null,null,null,null,null,null,null,null,null,null,null,null,null,null,null,null,null,null,null,null,null,null,null,null,null,null,null,null,null,null,null,null,"農薬散布の日付入力"]
[]
[null,null,null,null,null,null,null,null,null,null,null,null,null,null,null,null,null,"Ｂ１",null,null,"Ｂ２",null,null,"Ｂ３",null,null,"Ｂ４",null,null,"Ｂ５",null,null,"Ｂ６",null,null,"Ｂ７",null,null,"Ｂ８"]
[null,null,"使用年月日"]
[null,null,"生育ステージ",null,null,null,null,null,null,null,null,null,null,null,null,null,null,"育苗",null,null,"木作り",null,null,"木作り",null,null,"肥大期",null,null,"肥大期",null,null,"仕上げ",null,null,"仕上げ",null,null,"仕上げ"]
[null,null,"使用農薬名","散布量"]
[null,null,null,null,null,null,null,null,null,null,null,{"$f":"IF(D71=\"\",\"\",VLOOKUP(D71,Ｍ農薬台帳,3,FALSE))","v":""},{"$f":"IF(D71=\"\",\"\",\"-\")","v":""},{"$f":"IF(D71=\"\",\"\",VLOOKUP(D71,Ｍ農薬台帳,2,FALSE))","v":""},{"$f":"IF(D71=\"\",\"\",VLOOKUP(D71,Ｍ農薬台帳,4,FALSE))","v":""}]
[null,null,null,null,null,null,null,null,null,null,null,"","","",""]
[null,null,null,null,null,null,null,null,null,null,null,"","","",""]
[null,null,null,null,null,null,null,null,null,null,null,"","","",""]
[null,null,null,null,null,null,null,null,null,null,null,"","","",""]
[null,null,null,null,null,null,null,null,null,null,null,"","","",""]
[null,null,null,null,null,null,null,null,null,null,null,"","","",""]
[null,null,null,null,null,null,null,null,null,null,null,"","","",""]
[null,null,null,null,null,null,null,null,null,null,null,"","","",""]
[null,null,null,null,null,null,null,null,null,null,null,"","","",""]
[null,null,null,null,null,null,null,null,null,null,null,"","","",""]
[null,null,null,null,null,null,null,null,null,null,null,"","","",""]
[null,null,null,null,null,null,null,null,null,null,null,"","","",""]
[null,null,null,null,null,null,null,null,null,null,null,"","","",""]
[null,null,null,null,null,null,null,null,null,null,null,"","","",""]
[null,null,null,null,null,null,null,null,null,null,null,"","","",""]
[]
[null,"６．植物成長調整剤の入力",null,null,null,null,null,null,null,null,null,"アークランド液剤",null,null,null,null,null,null,"　を使用した。"]
[]
[null,null,null,null,null,"日付",null,null,"希釈倍数",null,null,null,null,"散布量"]
[null,null,"1回目"]
[null,null,"2回目"]
[]
[null,"７．トップジンＭ水和剤の入力","トップジンＭ水和剤",null,null,null,null,null,null,"　の入力"]
[]
[null,null,null,null,null,"日付",null,null,"希釈倍数",null,null,null,null,"散布量"]
[null,null,"1回目"]
[null,null,"2回目"]
[null,null,"3回目"]
[null,null,"4回目"]
[]
[null,"８．施用液肥の入力"]
[]
[null,null,null,null,"日付",null,null,"液肥・葉面散布剤名",null,null,null,null,null,null,null,null,"使用量"]
[null,null,1]
[null,null,2]
[null,null,3]
[null,null,4]
[null,null,5]
[null,null,6]
[null,null,7]
[null,null,8]
[null,null,9]
[null,null,10]
[null,null,11]
[null,null,12]
[null,null,13]
[null,null,14]
[null,null,15]
[null,null,16]
[null,null,17]
[null,null,18]
[]
[null,"９.小メロンの出荷がある場合は、この枠に記載してください。リストから選べます。→"]
[]
[null,"10．印刷プレビューボタンを押し　印刷状態の確認をして　良ければそのまま印刷してください。"]
[]
[null,"11．以上で終りです。お疲れ様でした。"]

{"sheet":"１２号Ｐ","index":25,"n_rows":36,"n_cols":88,"rows_kept":36,"cut":false,"hidden":false,"merged":[[4,38,4,47],[5,58,5,67],[0,64,0,89],[4,48,4,52],[4,53,4,57],[4,58,4,67],[4,68,4,72],[4,73,4,91],[2,4,2,5],[2,6,2,31],[4,13,4,27],[4,33,4,37],[5,68,5,72],[5,73,5,77],[5,78,5,91],[6,7,6,8],[6,13,6,17],[6,18,6,27],[6,28,6,32],[6,33,6,37],[6,38,6,47],[6,48,6,52],[6,53,6,57],[6,58,6,67],[6,68,6,72],[6,73,6,80],[6,81,6,91],[5,13,5,17],[5,18,5,27],[5,28,5,32],[5,33,5,37],[5,38,5,47],[5,48,5,52],[5,53,5,57],[7,6,7,7],[7,13,7,17],[7,18,7,27],[7,28,7,32],[7,33,7,37],[7,38,7,47],[7,48,7,52],[7,53,7,57],[8,58,8,67],[7,58,7,67],[8,6,8,12],[8,13,8,17],[8,18,8,27],[8,28,8,32],[9,58,9,67],[7,68,7,72],[7,73,7,77],[8,68,8,72],[8,73,8,80],[7,78,7,91],[8,81,8,91],[8,33,8,37],[8,38,8,47],[8,48,8,52],[8,53,8,57],[9,68,9,72],[9,73,9,91],[13,13,13,17],[13,18,13,27],[13,28,13,32],[9,18,9,27],[9,28,9,32],[9,33,9,37],[9,38,9,47],[9,48,9,52],[9,53,9,57],[10,48,10,52],[10,53,10,57],[11,53,12,57],[13,53,13,57],[11,48,12,52],[13,33,13,37],[13,38,13,47],[13,48,13,52],[10,83,11,91],[11,58,12,67],[11,68,12,72],[12,73,13,81],[12,82,13,91],[13,68,13,72],[10,58,10,67],[10,68,10,72],[10,73,11,82],[13,58,13,67],[9,6,9,12],[9,13,9,17],[11,4,12,5],[11,6,12,12],[11,13,12,17],[11,18,12,27],[11,28,12,32],[11,33,12,37],[11,38,12,47],[10,6,10,12],[10,13,10,17],[10,18,10,27],[10,28,10,32],[10,33,10,37],[10,38,10,47],[15,69,15,91],[16,4,16,12],[16,13,16,19],[16,20,16,26],[16,27,16,33],[16,34,16,40],[16,41,16,47],[16,48,16,54],[16,55,16,61],[16,62,16,68],[16,69,16,73],[16,74,16,86],[16,87,16,91],[15,4,15,12],[15,13,15,19],[15,20,15,26],[15,27,15,33],[15,34,15,40],[15,41,15,47],[15,48,15,54],[15,55,15,61],[15,62,15,68],[17,4,35,4],[17,5,17,12],[17,13,17,19],[17,20,17,26],[19,5,19,7],[19,10,19,12],[19,13,19,19],[19,20,19,26],[21,5,21,7],[21,10,21,12],[23,5,23,7],[23,10,23,12],[23,13,23,19],[23,20,23,26],[24,5,24,7],[24,10,24,12],[24,13,24,19],[24,20,24,26],[25,5,25,7],[25,10,25,12],[25,13,25,19],[25,20,25,26],[26,5,26,7],[26,10,26,12],[17,62,17,68],[17,69,17,73],[17,74,17,86],[17,87,17,91],[18,5,18,7],[18,10,18,12],[18,13,18,19],[18,20,18,26],[18,27,18,33],[18,34,18,40],[18,41,18,47],[18,48,18,54],[18,55,18,61],[18,62,18,68],[18,69,18,73],[18,74,18,86],[18,87,18,91],[17,27,17,33],[17,34,17,40],[17,41,17,47],[17,48,17,54],[17,55,17,61],[19,62,19,68],[19,69,19,73],[19,74,19,86],[19,87,19,91],[20,5,20,7],[20,10,20,12],[20,13,20,19],[20,20,20,26],[20,27,20,33],[20,34,20,40],[20,41,20,47],[20,48,20,54],[20,55,20,61],[20,62,20,68],[20,69,20,73],[20,74,20,86],[20,87,20,91],[19,27,19,33],[19,34,19,40],[19,41,19,47],[19,48,19,54],[19,55,19,61],[21,62,21,68],[21,69,21,73],[21,74,21,86],[21,87,21,91],[22,5,22,7],[22,10,22,12],[22,13,22,19],[22,20,22,26],[22,27,22,33],[22,34,22,40],[22,41,22,47],[22,48,22,54],[22,55,22,61],[22,62,22,68],[22,69,22,73],[22,74,22,86],[22,87,22,91],[21,13,21,19],[21,20,21,26],[21,27,21,33],[21,34,21,40],[21,41,21,47],[21,48,21,54],[21,55,21,61],[23,27,23,33],[23,34,23,40],[23,41,23,47],[23,48,23,54],[23,55,23,61],[23,62,23,68],[23,69,23,73],[23,74,23,86],[23,87,23,91],[25,74,25,86],[25,87,25,91],[24,27,24,33],[24,34,24,40],[24,41,24,47],[24,48,24,54],[24,55,24,61],[24,62,24,68],[24,69,24,73],[24,74,24,86],[24,87,24,91],[26,48,26,54],[26,55,26,61],[26,62,26,68],[26,69,26,73],[25,27,25,33],[25,34,25,40],[25,41,25,47],[25,48,25,54],[25,55,25,61],[25,62,25,68],[25,69,25,73],[28,34,28,40],[28,41,28,47],[28,48,28,54],[28,55,28,61],[26,74,26,86],[26,87,26,91],[27,5,27,7],[27,10,27,12],[27,13,27,19],[27,20,27,26],[27,27,27,33],[27,34,27,40],[27,41,27,47],[27,48,27,54],[27,55,27,61],[27,62,27,68],[27,69,27,73],[27,74,27,86],[27,87,27,91],[26,13,26,19],[26,20,26,26],[26,27,26,33],[26,34,26,40],[26,41,26,47],[30,48,30,54],[30,55,30,61],[28,62,28,68],[28,69,28,73],[28,74,28,86],[28,87,28,91],[29,5,29,7],[29,10,29,12],[29,13,29,19],[29,20,29,26],[29,27,29,33],[29,34,29,40],[29,41,29,47],[29,48,29,54],[29,55,29,61],[29,62,29,68],[29,69,29,73],[29,74,29,86],[29,87,29,91],[28,5,28,7],[28,10,28,12],[28,13,28,19],[28,20,28,26],[28,27,28,33],[30,62,30,68],[30,69,30,73],[30,74,30,86],[30,87,30,91],[31,5,31,7],[31,10,31,12],[31,13,31,19],[31,20,31,26],[31,27,31,33],[31,34,31,40],[31,41,31,47],[31,48,31,54],[31,55,31,61],[31,62,31,68],[31,69,31,73],[31,74,31,86],[31,87,31,91],[30,5,30,7],[30,10,30,12],[30,13,30,19],[30,20,30,26],[30,27,30,33],[30,34,30,40],[30,41,30,47],[32,5,32,7],[32,10,32,12],[32,13,32,19],[32,20,32,26],[32,27,32,33],[32,34,32,40],[32,41,32,47],[32,48,32,54],[32,55,32,61],[35,71,35,75],[33,74,33,86],[35,76,35,83],[33,5,33,7],[33,10,33,12],[33,13,33,19],[33,20,33,26],[33,62,33,68],[33,69,33,73],[33,27,33,33],[33,34,33,40],[33,41,33,47],[33,48,33,54],[34,5,34,12],[35,5,35,12],[4,1,5,2],[35,84,35,91],[34,76,34,83],[34,84,34,91],[35,13,35,17],[35,18,35,25],[35,26,35,33],[34,55,34,62],[33,87,33,91],[32,62,32,68],[32,69,32,73],[32,74,32,86],[32,87,32,91],[34,13,34,17],[34,18,34,25],[34,26,34,33],[34,34,35,49],[34,50,34,54],[35,50,35,54],[34,63,34,70],[34,71,34,75],[33,55,33,61],[35,55,35,62],[35,63,35,70]]}
[null,null,null,null,null,null,null,null,null,null,null,null,null,null,null,null,null,null,null,null,null,null,null,null,null,null,null,null,null,null,null,null,null,null,null,null,null,null,null,null,null,null,null,null,null,null,null,null,null,null,null,null,null,null,null,null,null,null,null,null,null,null,null,null,{"$f":"IF('１２号入力'!AB124=\"\",\"\",'１２号入力'!AB124)","v":""}]
[]
[null,null,null,null,"栽培履歴",null,{"$f":"メニュー画面!F16","v":"静岡県温室農業協同組合（クラウンメロン支所）"},null,null,null,null,null,null,null,null,null,null,null,null,null,null,null,null,null,null,null,null,null,null,null,null,null,"検査日",null,null,null,null,null,"令和　　年　　月　　日",null,null,null,null,null,null,null,null,null,null,null,null,null,null,null,"検査責任者氏名　　　　　　　　　　 　　　　　　　　　　　　　印"]
[]
[null,"１２号室",null,null,"組合員番号：",null,{"$f":"メニュー画面!F18","v":"４　３　６"},null,null,null,null,null,null,"施用資材名",null,null,null,null,null,null,null,null,null,null,null,null,null,null,"投入量",null,null,null,null,{"$f":"IF('１２号入力'!F30=\"\",\"\",'１２号入力'!F30)","v":"〃"},null,null,null,null,{"$f":"IF('１２号入力'!AH30=\"\",\"\",'１２号入力'!AH30)","v":""},null,null,null,null,null,null,null,null,null,{"$f":"IF('１２号入力'!AA30=\"\",\"\",'１２号入力'!AA30)","v":""},null,null,null,null,{"$f":"IF('１２号入力'!F39=\"\",\"\",'１２号入力'!F39)","v":""},null,null,null,null,{"$f":"IF('１２号入力'!AH39=\"\",\"\",'１２号入力'!AH39)","v":""},null,null,null,null,null,null,null,null,null,{"$f":"IF('１２号入力'!AA39=\"\",\"\",'１２号入力'!AA39)","v":""},null,null,null,null,"施用粒剤"]
[null,null,null,null,"氏名：",null,{"$f":"メニュー画面!F20","v":"中　條　文　義"},null,null,null,null,null,null,{"$f":"IF('１２号入力'!F22=\"\",\"\",'１２号入力'!F22)","v":""},null,null,null,null,{"$f":"IF('１２号入力'!AH22=\"\",\"\",'１２号入力'!AH22)","v":"育苗"},null,null,null,null,null,null,null,null,null,{"$f":"IF('１２号入力'!AA22=\"\",\"\",'１２号入力'!AA22)","v":""},null,null,null,null,{"$f":"IF('１２号入力'!F31=\"\",\"\",'１２号入力'!F31)","v":"〃"},null,null,null,null,{"$f":"IF('１２号入力'!AH31=\"\",\"\",'１２号入力'!AH31)","v":""},null,null,null,null,null,null,null,null,null,{"$f":"IF('１２号入力'!AA31=\"\",\"\",'１２号入力'!AA31)","v":""},null,null,null,null,{"$f":"IF('１２号入力'!F40=\"\",\"\",'１２号入力'!F40)","v":""},null,null,null,null,{"$f":"IF('１２号入力'!AH40=\"\",\"\",'１２号入力'!AH40)","v":""},null,null,null,null,null,null,null,null,null,{"$f":"IF('１２号入力'!AA40=\"\",\"\",'１２号入力'!AA40)","v":""},null,null,null,null,{"$f":"IF('１２号入力'!F53=\"\",\"/\",'１２号入力'!F53)","v":"/"},null,null,null,null,{"$f":"IF('１２号入力'!I53=\"\",\"\",'１２号入力'!I53)","v":""}]
[null,null,null,null,"部屋番号：",null,{"$f":"IF('１２号入力'!F9=\"\",\"\",'１２号入力'!F9)","v":12},{"$f":"IF('１２号入力'!F10=\"\",\"\",'１２号入力'!F10)","v":""},null,null,null,null,null,{"$f":"IF('１２号入力'!F23=\"\",\"\",'１２号入力'!F23)","v":"2006-01-01"},null,null,null,null,{"$f":"IF('１２号入力'!AH23=\"\",\"\",'１２号入力'!AH23)","v":""},null,null,null,null,null,null,null,null,null,{"$f":"IF('１２号入力'!AA23=\"\",\"\",'１２号入力'!AA23)","v":""},null,null,null,null,{"$f":"IF('１２号入力'!F32=\"\",\"\",'１２号入力'!F32)","v":"〃"},null,null,null,null,{"$f":"IF('１２号入力'!AH32=\"\",\"\",'１２号入力'!AH32)","v":""},null,null,null,null,null,null,null,null,null,{"$f":"IF('１２号入力'!AA32=\"\",\"\",'１２号入力'!AA32)","v":""},null,null,null,null,{"$f":"IF('１２号入力'!F41=\"\",\"\",'１２号入力'!F41)","v":""},null,null,null,null,{"$f":"IF('１２号入力'!AH41=\"\",\"\",'１２号入力'!AH41)","v":""},null,null,null,null,null,null,null,null,null,{"$f":"IF('１２号入力'!AA41=\"\",\"\",'１２号入力'!AA41)","v":""},null,null,null,null,{"$f":"IF('１２号入力'!P53=0,\"g\",'１２号入力'!P53)","v":"g"},null,null,null,null,null,null,null,{"$f":"IF('１２号入力'!T53=0,0,'１２号入力'!T53)","v":0}]
[null,null,null,null,"品種名：",null,{"$f":"IF('１２号入力'!F11=\"\",\"\",'１２号入力'!F11)","v":""},null,null,null,null,null,null,{"$f":"IF('１２号入力'!F24=\"\",\"\",'１２号入力'!F24)","v":"〃"},null,null,null,null,{"$f":"IF('１２号入力'!AH24=\"\",\"\",'１２号入力'!AH24)","v":""},null,null,null,null,null,null,null,null,null,{"$f":"IF('１２号入力'!AA24=\"\",\"\",'１２号入力'!AA24)","v":""},null,null,null,null,{"$f":"IF('１２号入力'!F33=\"\",\"\",'１２号入力'!F33)","v":"〃"},null,null,null,null,{"$f":"IF('１２号入力'!AH33=\"\",\"\",'１２号入力'!AH33)","v":""},null,null,null,null,null,null,null,null,null,{"$f":"IF('１２号入力'!AA33=\"\",\"\",'１２号入力'!AA33)","v":""},null,null,null,null,{"$f":"IF('１２号入力'!F42=\"\",\"\",'１２号入力'!F42)","v":""},null,null,null,null,{"$f":"IF('１２号入力'!AH42=\"\",\"\",'１２号入力'!AH42)","v":""},null,null,null,null,null,null,null,null,null,{"$f":"IF('１２号入力'!AA42=\"\",\"\",'１２号入力'!AA42)","v":""},null,null,null,null,{"$f":"IF('１２号入力'!F54=\"\",\"/\",'１２号入力'!F54)","v":"/"},null,null,null,null,{"$f":"IF('１２号入力'!I54=\"\",\"\",'１２号入力'!I54)","v":""}]
[null,null,null,null,"播種日：",null,{"$f":"IF('１２号入力'!F12=\"\",\"\",'１２号入力'!F12)","v":""},null,null,null,null,null,null,{"$f":"IF('１２号入力'!F25=\"\",\"\",'１２号入力'!F25)","v":"〃"},null,null,null,null,{"$f":"IF('１２号入力'!AH25=\"\",\"\",'１２号入力'!AH25)","v":""},null,null,null,null,null,null,null,null,null,{"$f":"IF('１２号入力'!AA25=\"\",\"\",'１２号入力'!AA25)","v":""},null,null,null,null,{"$f":"IF('１２号入力'!F34=\"\",\"\",'１２号入力'!F34)","v":"〃"},null,null,null,null,{"$f":"IF('１２号入力'!AH34=\"\",\"\",'１２号入力'!AH34)","v":""},null,null,null,null,null,null,null,null,null,{"$f":"IF('１２号入力'!AA34=\"\",\"\",'１２号入力'!AA34)","v":""},null,null,null,null,{"$f":"IF('１２号入力'!F43=\"\",\"\",'１２号入力'!F43)","v":""},null,null,null,null,{"$f":"IF('１２号入力'!AH43=\"\",\"\",'１２号入力'!AH43)","v":""},null,null,null,null,null,null,null,null,null,{"$f":"IF('１２号入力'!AA43=\"\",\"\",'１２号入力'!AA43)","v":""},null,null,null,null,{"$f":"IF('１２号入力'!P54=0,\"g\",'１２号入力'!P54)","v":"g"},null,null,null,null,null,null,null,{"$f":"IF('１２号入力'!T54=0,0,'１２号入力'!T54)","v":0}]
[null,null,null,null,"定植日：",null,{"$f":"IF('１２号入力'!F13=\"\",\"\",'１２号入力'!F13)","v":""},null,null,null,null,null,null,{"$f":"IF('１２号入力'!F26=\"\",\"\",'１２号入力'!F26)","v":"〃"},null,null,null,null,{"$f":"IF('１２号入力'!AH26=\"\",\"\",'１２号入力'!AH26)","v":""},null,null,null,null,null,null,null,null,null,{"$f":"IF('１２号入力'!AA26=\"\",\"\",'１２号入力'!AA26)","v":""},null,null,null,null,{"$f":"IF('１２号入力'!F35=\"\",\"\",'１２号入力'!F35)","v":"〃"},null,null,null,null,{"$f":"IF('１２号入力'!AH35=\"\",\"\",'１２号入力'!AH35)","v":""},null,null,null,null,null,null,null,null,null,{"$f":"IF('１２号入力'!AA35=\"\",\"\",'１２号入力'!AA35)","v":""},null,null,null,null,{"$f":"IF('１２号入力'!F44=\"\",\"\",'１２号入力'!F44)","v":""},null,null,null,null,{"$f":"IF('１２号入力'!AH44=\"\",\"\",'１２号入力'!AH44)","v":""},null,null,null,null,null,null,null,null,null,{"$f":"IF('１２号入力'!AA44=\"\",\"\",'１２号入力'!AA44)","v":""},null,null,null,null,"硫黄くん蒸剤"]
[null,null,null,null,"交配日：",null,{"$f":"IF('１２号入力'!F14=\"\",\"\",'１２号入力'!F14)","v":""},null,null,null,null,null,null,{"$f":"IF('１２号入力'!F27=\"\",\"\",'１２号入力'!F27)","v":"〃"},null,null,null,null,{"$f":"IF('１２号入力'!AH27=\"\",\"\",'１２号入力'!AH27)","v":""},null,null,null,null,null,null,null,null,null,{"$f":"IF('１２号入力'!AA27=\"\",\"\",'１２号入力'!AA27)","v":""},null,null,null,null,{"$f":"IF('１２号入力'!F36=\"\",\"\",'１２号入力'!F36)","v":""},null,null,null,null,{"$f":"IF('１２号入力'!AH36=\"\",\"\",'１２号入力'!AH36)","v":""},null,null,null,null,null,null,null,null,null,{"$f":"IF('１２号入力'!AA36=\"\",\"\",'１２号入力'!AA36)","v":""},null,null,null,null,{"$f":"IF('１２号入力'!F45=\"\",\"\",'１２号入力'!F45)","v":""},null,null,null,null,{"$f":"IF('１２号入力'!AH45=\"\",\"\",'１２号入力'!AH45)","v":""},null,null,null,null,null,null,null,null,null,{"$f":"IF('１２号入力'!AA45=\"\",\"\",'１２号入力'!AA45)","v":""},null,null,null,null,{"$f":"IF('１２号入力'!H59=\"\",\"/      ～\",'１２号入力'!H59)","v":"/      ～"},null,null,null,null,null,null,null,null,null,{"$f":"IF('１２号入力'!H60=\"\",\"    /\",'１２号入力'!H60)","v":"    /"}]
[null,null,null,null,"収穫日：",null,{"$f":"IF('１２号入力'!F16=\"\",\"\",'１２号入力'!F16)","v":""},null,null,null,null,null,null,{"$f":"IF('１２号入力'!F28=\"\",\"\",'１２号入力'!F28)","v":"〃"},null,null,null,null,{"$f":"IF('１２号入力'!AH28=\"\",\"\",'１２号入力'!AH28)","v":""},null,null,null,null,null,null,null,null,null,{"$f":"IF('１２号入力'!AA28=\"\",\"\",'１２号入力'!AA28)","v":""},null,null,null,null,{"$f":"IF('１２号入力'!F37=\"\",\"\",'１２号入力'!F37)","v":""},null,null,null,null,{"$f":"IF('１２号入力'!AH37=\"\",\"\",'１２号入力'!AH37)","v":""},null,null,null,null,null,null,null,null,null,{"$f":"IF('１２号入力'!AA37=\"\",\"\",'１２号入力'!AA37)","v":""},null,null,null,null,{"$f":"IF('１２号入力'!F46=\"\",\"\",'１２号入力'!F46)","v":""},null,null,null,null,{"$f":"IF('１２号入力'!AH46=\"\",\"\",'１２号入力'!AH46)","v":""},null,null,null,null,null,null,null,null,null,{"$f":"IF('１２号入力'!AA46=\"\",\"\",'１２号入力'!AA46)","v":""}]
[null,null,null,null,null,null,null,null,null,null,null,null,null,null,null,null,null,null,null,null,null,null,null,null,null,null,null,null,null,null,null,null,null,null,null,null,null,null,null,null,null,null,null,null,null,null,null,null,null,null,null,null,null,null,null,null,null,null,null,null,null,null,null,null,null,null,null,null,null,null,null,null,null,{"$f":"IF('１２号入力'!H61=\"\",\"g/日\",'１２号入力'!H61)","v":2},null,null,null,null,null,null,null,null,{"$f":"IF('１２号入力'!H62=\"\",\"g/部屋\",'１２号入力'!H62)","v":"g/部屋"}]
[null,null,null,null,"採果日数：",null,{"$f":"'１２号入力'!F15","v":0},null,null,null,null,null,null,{"$f":"IF('１２号入力'!F29=\"\",\"\",'１２号入力'!F29)","v":"〃"},null,null,null,null,{"$f":"IF('１２号入力'!AH29=\"\",\"\",'１２号入力'!AH29)","v":""},null,null,null,null,null,null,null,null,null,{"$f":"IF('１２号入力'!AA29=\"\",\"\",'１２号入力'!AA29)","v":""},null,null,null,null,{"$f":"IF('１２号入力'!F38=\"\",\"\",'１２号入力'!F38)","v":""},null,null,null,null,{"$f":"IF('１２号入力'!AH38=\"\",\"\",'１２号入力'!AH38)","v":""},null,null,null,null,null,null,null,null,null,{"$f":"IF('１２号入力'!AA38=\"\",\"\",'１２号入力'!AA38)","v":""},null,null,null,null,{"$f":"IF('１２号入力'!F47=\"\",\"\",'１２号入力'!F47)","v":""},null,null,null,null,{"$f":"IF('１２号入力'!AH47=\"\",\"\",'１２号入力'!AH47)","v":""},null,null,null,null,null,null,null,null,null,{"$f":"IF('１２号入力'!AA47=\"\",\"\",'１２号入力'!AA47)","v":""}]
[]
[null,null,null,null,"使用年月日",null,null,null,null,null,null,null,null,{"$f":"IF('１２号入力'!R68=\"\",\"/\",'１２号入力'!R68)","v":"/"},null,null,null,null,null,null,{"$f":"IF('１２号入力'!U68=\"\",\"/\",'１２号入力'!U68)","v":"/"},null,null,null,null,null,null,{"$f":"IF('１２号入力'!X68=\"\",\"/\",'１２号入力'!X68)","v":"/"},null,null,null,null,null,null,{"$f":"IF('１２号入力'!AA68=\"\",\"/\",'１２号入力'!AA68)","v":"/"},null,null,null,null,null,null,{"$f":"IF('１２号入力'!AD68=\"\",\"/\",'１２号入力'!AD68)","v":"/"},null,null,null,null,null,null,{"$f":"IF('１２号入力'!AG68=\"\",\"/\",'１２号入力'!AG68)","v":"/"},null,null,null,null,null,null,{"$f":"IF('１２号入力'!AJ68=\"\",\"/\",'１２号入力'!AJ68)","v":"/"},null,null,null,null,null,null,{"$f":"IF('１２号入力'!AM68=\"\",\"/\",'１２号入力'!AM68)","v":"/"},null,null,null,null,null,null,"使用液肥・葉面散布剤"]
[null,null,null,null,"生育ステージ",null,null,null,null,null,null,null,null,{"$f":"IF('１２号入力'!R69=\"\",\"\",'１２号入力'!R69)","v":"育苗"},null,null,null,null,null,null,{"$f":"IF('１２号入力'!U69=\"\",\"\",'１２号入力'!U69)","v":"木作り"},null,null,null,null,null,null,{"$f":"IF('１２号入力'!X69=\"\",\"\",'１２号入力'!X69)","v":"木作り"},null,null,null,null,null,null,{"$f":"IF('１２号入力'!AA69=\"\",\"\",'１２号入力'!AA69)","v":"肥大期"},null,null,null,null,null,null,{"$f":"IF('１２号入力'!AD69=\"\",\"\",'１２号入力'!AD69)","v":"肥大期"},null,null,null,null,null,null,{"$f":"IF('１２号入力'!AG69=\"\",\"\",'１２号入力'!AG69)","v":"仕上げ"},null,null,null,null,null,null,{"$f":"IF('１２号入力'!AJ69=\"\",\"\",'１２号入力'!AJ69)","v":"仕上げ"},null,null,null,null,null,null,{"$f":"IF('１２号入力'!AM69=\"\",\"\",'１２号入力'!AM69)","v":"仕上げ"},null,null,null,null,null,null,{"$f":"IF('１２号入力'!E105=\"\",\"/\",'１２号入力'!E105)","v":"/"},null,null,null,null,{"$f":"IF('１２号入力'!H105=\"\",\"\",'１２号入力'!H105)","v":""},null,null,null,null,null,null,null,null,null,null,null,null,{"$f":"IF('１２号入力'!Q105=0,0,'１２号入力'!Q105)","v":0}]
[null,null,null,null,"使用農薬名","散布量",null,null,null,null,null,null,null,{"$f":"IF('１２号入力'!R70=0,0,'１２号入力'!R70)","v":0},null,null,null,null,null,null,{"$f":"IF('１２号入力'!U70=0,0,'１２号入力'!U70)","v":0},null,null,null,null,null,null,{"$f":"IF('１２号入力'!X70=0,0,'１２号入力'!X70)","v":0},null,null,null,null,null,null,{"$f":"IF('１２号入力'!AA70=0,0,'１２号入力'!AA70)","v":0},null,null,null,null,null,null,{"$f":"IF('１２号入力'!AD70=0,0,'１２号入力'!AD70)","v":0},null,null,null,null,null,null,{"$f":"IF('１２号入力'!AG70=0,0,'１２号入力'!AG70)","v":0},null,null,null,null,null,null,{"$f":"IF('１２号入力'!AJ70=0,0,'１２号入力'!AJ70)","v":0},null,null,null,null,null,null,{"$f":"IF('１２号入力'!AM70=0,0,'１２号入力'!AM70)","v":0},null,null,null,null,null,null,{"$f":"IF('１２号入力'!E106=\"\",\"\",'１２号入力'!E106)","v":""},null,null,null,null,{"$f":"IF('１２号入力'!H106=\"\",\"\",'１２号入力'!H106)","v":""},null,null,null,null,null,null,null,null,null,null,null,null,{"$f":"IF('１２号入力'!Q106=0,\"\",'１２号入力'!Q106)","v":""}]
[null,null,null,null,null,{"$f":"IF('１２号入力'!D71=\"\",\"\",'１２号入力'!D71)","v":""},null,null,{"$f":"IF(F19=\"\",\"\",VLOOKUP(F19,Ｍ農薬台帳,3,FALSE))","v":""},{"$f":"IF(F19=\"\",\"\",\"-\")","v":""},{"$f":"IF(F19=\"\",\"\",VLOOKUP(F19,Ｍ農薬台帳,2,FALSE))","v":""},null,null,{"$f":"IF('１２号入力'!R71=\"\",\"\",'１２号入力'!R71)","v":""},null,null,null,null,null,null,{"$f":"IF('１２号入力'!U71=\"\",\"\",'１２号入力'!U71)","v":""},null,null,null,null,null,null,{"$f":"IF('１２号入力'!X71=\"\",\"\",'１２号入力'!X71)","v":""},null,null,null,null,null,null,{"$f":"IF('１２号入力'!AA71=\"\",\"\",'１２号入力'!AA71)","v":""},null,null,null,null,null,null,{"$f":"IF('１２号入力'!AD71=\"\",\"\",'１２号入力'!AD71)","v":""},null,null,null,null,null,null,{"$f":"IF('１２号入力'!AG71=\"\",\"\",'１２号入力'!AG71)","v":""},null,null,null,null,null,null,{"$f":"IF('１２号入力'!AJ71=\"\",\"\",'１２号入力'!AJ71)","v":""},null,null,null,null,null,null,{"$f":"IF('１２号入力'!AM71=\"\",\"\",'１２号入力'!AM71)","v":""},null,null,null,null,null,null,{"$f":"IF('１２号入力'!E107=\"\",\"\",'１２号入力'!E107)","v":""},null,null,null,null,{"$f":"IF('１２号入力'!H107=\"\",\"\",'１２号入力'!H107)","v":""},null,null,null,null,null,null,null,null,null,null,null,null,{"$f":"IF('１２号入力'!Q107=0,\"\",'１２号入力'!Q107)","v":""}]
[null,null,null,null,null,{"$f":"IF('１２号入力'!D72=\"\",\"\",'１２号入力'!D72)","v":""},null,null,"","","",null,null,{"$f":"IF('１２号入力'!R72=\"\",\"\",'１２号入力'!R72)","v":""},null,null,null,null,null,null,{"$f":"IF('１２号入力'!U72=\"\",\"\",'１２号入力'!U72)","v":""},null,null,null,null,null,null,{"$f":"IF('１２号入力'!X72=\"\",\"\",'１２号入力'!X72)","v":""},null,null,null,null,null,null,{"$f":"IF('１２号入力'!AA72=\"\",\"\",'１２号入力'!AA72)","v":""},null,null,null,null,null,null,{"$f":"IF('１２号入力'!AD72=\"\",\"\",'１２号入力'!AD72)","v":""},null,null,null,null,null,null,{"$f":"IF('１２号入力'!AG72=\"\",\"\",'１２号入力'!AG72)","v":""},null,null,null,null,null,null,{"$f":"IF('１２号入力'!AJ72=\"\",\"\",'１２号入力'!AJ72)","v":""},null,null,null,null,null,null,{"$f":"IF('１２号入力'!AM72=\"\",\"\",'１２号入力'!AM72)","v":""},null,null,null,null,null,null,{"$f":"IF('１２号入力'!E108=\"\",\"\",'１２号入力'!E108)","v":""},null,null,null,null,{"$f":"IF('１２号入力'!H108=\"\",\"\",'１２号入力'!H108)","v":""},null,null,null,null,null,null,null,null,null,null,null,null,{"$f":"IF('１２号入力'!Q108=0,\"\",'１２号入力'!Q108)","v":""}]
[null,null,null,null,null,{"$f":"IF('１２号入力'!D73=\"\",\"\",'１２号入力'!D73)","v":""},null,null,"","","",null,null,{"$f":"IF('１２号入力'!R73=\"\",\"\",'１２号入力'!R73)","v":""},null,null,null,null,null,null,{"$f":"IF('１２号入力'!U73=\"\",\"\",'１２号入力'!U73)","v":""},null,null,null,null,null,null,{"$f":"IF('１２号入力'!X73=\"\",\"\",'１２号入力'!X73)","v":""},null,null,null,null,null,null,{"$f":"IF('１２号入力'!AA73=\"\",\"\",'１２号入力'!AA73)","v":""},null,null,null,null,null,null,{"$f":"IF('１２号入力'!AD73=\"\",\"\",'１２号入力'!AD73)","v":""},null,null,null,null,null,null,{"$f":"IF('１２号入力'!AG73=\"\",\"\",'１２号入力'!AG73)","v":""},null,null,null,null,null,null,{"$f":"IF('１２号入力'!AJ73=\"\",\"\",'１２号入力'!AJ73)","v":""},null,null,null,null,null,null,{"$f":"IF('１２号入力'!AM73=\"\",\"\",'１２号入力'!AM73)","v":""},null,null,null,null,null,null,{"$f":"IF('１２号入力'!E109=\"\",\"\",'１２号入力'!E109)","v":""},null,null,null,null,{"$f":"IF('１２号入力'!H109=\"\",\"\",'１２号入力'!H109)","v":""},null,null,null,null,null,null,null,null,null,null,null,null,{"$f":"IF('１２号入力'!Q109=0,\"\",'１２号入力'!Q109)","v":""}]
[null,null,null,null,null,{"$f":"IF('１２号入力'!D74=\"\",\"\",'１２号入力'!D74)","v":""},null,null,"","","",null,null,{"$f":"IF('１２号入力'!R74=\"\",\"\",'１２号入力'!R74)","v":""},null,null,null,null,null,null,{"$f":"IF('１２号入力'!U74=\"\",\"\",'１２号入力'!U74)","v":""},null,null,null,null,null,null,{"$f":"IF('１２号入力'!X74=\"\",\"\",'１２号入力'!X74)","v":""},null,null,null,null,null,null,{"$f":"IF('１２号入力'!AA74=\"\",\"\",'１２号入力'!AA74)","v":""},null,null,null,null,null,null,{"$f":"IF('１２号入力'!AD74=\"\",\"\",'１２号入力'!AD74)","v":""},null,null,null,null,null,null,{"$f":"IF('１２号入力'!AG74=\"\",\"\",'１２号入力'!AG74)","v":""},null,null,null,null,null,null,{"$f":"IF('１２号入力'!AJ74=\"\",\"\",'１２号入力'!AJ74)","v":""},null,null,null,null,null,null,{"$f":"IF('１２号入力'!AM74=\"\",\"\",'１２号入力'!AM74)","v":""},null,null,null,null,null,null,{"$f":"IF('１２号入力'!E110=\"\",\"\",'１２号入力'!E110)","v":""},null,null,null,null,{"$f":"IF('１２号入力'!H110=\"\",\"\",'１２号入力'!H110)","v":""},null,null,null,null,null,null,null,null,null,null,null,null,{"$f":"IF('１２号入力'!Q110=0,\"\",'１２号入力'!Q110)","v":""}]
[null,null,null,null,null,{"$f":"IF('１２号入力'!D75=\"\",\"\",'１２号入力'!D75)","v":""},null,null,"","","",null,null,{"$f":"IF('１２号入力'!R75=\"\",\"\",'１２号入力'!R75)","v":""},null,null,null,null,null,null,{"$f":"IF('１２号入力'!U75=\"\",\"\",'１２号入力'!U75)","v":""},null,null,null,null,null,null,{"$f":"IF('１２号入力'!X75=\"\",\"\",'１２号入力'!X75)","v":""},null,null,null,null,null,null,{"$f":"IF('１２号入力'!AA75=\"\",\"\",'１２号入力'!AA75)","v":""},null,null,null,null,null,null,{"$f":"IF('１２号入力'!AD75=\"\",\"\",'１２号入力'!AD75)","v":""},null,null,null,null,null,null,{"$f":"IF('１２号入力'!AG75=\"\",\"\",'１２号入力'!AG75)","v":""},null,null,null,null,null,null,{"$f":"IF('１２号入力'!AJ75=\"\",\"\",'１２号入力'!AJ75)","v":""},null,null,null,null,null,null,{"$f":"IF('１２号入力'!AM75=\"\",\"\",'１２号入力'!AM75)","v":""},null,null,null,null,null,null,{"$f":"IF('１２号入力'!E111=\"\",\"\",'１２号入力'!E111)","v":""},null,null,null,null,{"$f":"IF('１２号入力'!H111=\"\",\"\",'１２号入力'!H111)","v":""},null,null,null,null,null,null,null,null,null,null,null,null,{"$f":"IF('１２号入力'!Q111=0,\"\",'１２号入力'!Q111)","v":""}]
[null,null,null,null,null,{"$f":"IF('１２号入力'!D76=\"\",\"\",'１２号入力'!D76)","v":""},null,null,"","","",null,null,{"$f":"IF('１２号入力'!R76=\"\",\"\",'１２号入力'!R76)","v":""},null,null,null,null,null,null,{"$f":"IF('１２号入力'!U76=\"\",\"\",'１２号入力'!U76)","v":""},null,null,null,null,null,null,{"$f":"IF('１２号入力'!X76=\"\",\"\",'１２号入力'!X76)","v":""},null,null,null,null,null,null,{"$f":"IF('１２号入力'!AA76=\"\",\"\",'１２号入力'!AA76)","v":""},null,null,null,null,null,null,{"$f":"IF('１２号入力'!AD76=\"\",\"\",'１２号入力'!AD76)","v":""},null,null,null,null,null,null,{"$f":"IF('１２号入力'!AG76=\"\",\"\",'１２号入力'!AG76)","v":""},null,null,null,null,null,null,{"$f":"IF('１２号入力'!AJ76=\"\",\"\",'１２号入力'!AJ76)","v":""},null,null,null,null,null,null,{"$f":"IF('１２号入力'!AM76=\"\",\"\",'１２号入力'!AM76)","v":""},null,null,null,null,null,null,{"$f":"IF('１２号入力'!E112=\"\",\"\",'１２号入力'!E112)","v":""},null,null,null,null,{"$f":"IF('１２号入力'!H112=\"\",\"\",'１２号入力'!H112)","v":""},null,null,null,null,null,null,null,null,null,null,null,null,{"$f":"IF('１２号入力'!Q112=0,\"\",'１２号入力'!Q112)","v":""}]
[null,null,null,null,null,{"$f":"IF('１２号入力'!D77=\"\",\"\",'１２号入力'!D77)","v":""},null,null,"","","",null,null,{"$f":"IF('１２号入力'!R77=\"\",\"\",'１２号入力'!R77)","v":""},null,null,null,null,null,null,{"$f":"IF('１２号入力'!U77=\"\",\"\",'１２号入力'!U77)","v":""},null,null,null,null,null,null,{"$f":"IF('１２号入力'!X77=\"\",\"\",'１２号入力'!X77)","v":""},null,null,null,null,null,null,{"$f":"IF('１２号入力'!AA77=\"\",\"\",'１２号入力'!AA77)","v":""},null,null,null,null,null,null,{"$f":"IF('１２号入力'!AD77=\"\",\"\",'１２号入力'!AD77)","v":""},null,null,null,null,null,null,{"$f":"IF('１２号入力'!AG77=\"\",\"\",'１２号入力'!AG77)","v":""},null,null,null,null,null,null,{"$f":"IF('１２号入力'!AJ77=\"\",\"\",'１２号入力'!AJ77)","v":""},null,null,null,null,null,null,{"$f":"IF('１２号入力'!AM77=\"\",\"\",'１２号入力'!AM77)","v":""},null,null,null,null,null,null,{"$f":"IF('１２号入力'!E113=\"\",\"\",'１２号入力'!E113)","v":""},null,null,null,null,{"$f":"IF('１２号入力'!H113=\"\",\"\",'１２号入力'!H113)","v":""},null,null,null,null,null,null,null,null,null,null,null,null,{"$f":"IF('１２号入力'!Q113=0,\"\",'１２号入力'!Q113)","v":""}]
[null,null,null,null,null,{"$f":"IF('１２号入力'!D78=\"\",\"\",'１２号入力'!D78)","v":""},null,null,"","","",null,null,{"$f":"IF('１２号入力'!R78=\"\",\"\",'１２号入力'!R78)","v":""},null,null,null,null,null,null,{"$f":"IF('１２号入力'!U78=\"\",\"\",'１２号入力'!U78)","v":""},null,null,null,null,null,null,{"$f":"IF('１２号入力'!X78=\"\",\"\",'１２号入力'!X78)","v":""},null,null,null,null,null,null,{"$f":"IF('１２号入力'!AA78=\"\",\"\",'１２号入力'!AA78)","v":""},null,null,null,null,null,null,{"$f":"IF('１２号入力'!AD78=\"\",\"\",'１２号入力'!AD78)","v":""},null,null,null,null,null,null,{"$f":"IF('１２号入力'!AG78=\"\",\"\",'１２号入力'!AG78)","v":""},null,null,null,null,null,null,{"$f":"IF('１２号入力'!AJ78=\"\",\"\",'１２号入力'!AJ78)","v":""},null,null,null,null,null,null,{"$f":"IF('１２号入力'!AM78=\"\",\"\",'１２号入力'!AM78)","v":""},null,null,null,null,null,null,{"$f":"IF('１２号入力'!E114=\"\",\"\",'１２号入力'!E114)","v":""},null,null,null,null,{"$f":"IF('１２号入力'!H114=\"\",\"\",'１２号入力'!H114)","v":""},null,null,null,null,null,null,null,null,null,null,null,null,{"$f":"IF('１２号入力'!Q114=0,\"\",'１２号入力'!Q114)","v":""}]
[null,null,null,null,null,{"$f":"IF('１２号入力'!D79=\"\",\"\",'１２号入力'!D79)","v":""},null,null,"","","",null,null,{"$f":"IF('１２号入力'!R79=\"\",\"\",'１２号入力'!R79)","v":""},null,null,null,null,null,null,{"$f":"IF('１２号入力'!U79=\"\",\"\",'１２号入力'!U79)","v":""},null,null,null,null,null,null,{"$f":"IF('１２号入力'!X79=\"\",\"\",'１２号入力'!X79)","v":""},null,null,null,null,null,null,{"$f":"IF('１２号入力'!AA79=\"\",\"\",'１２号入力'!AA79)","v":""},null,null,null,null,null,null,{"$f":"IF('１２号入力'!AD79=\"\",\"\",'１２号入力'!AD79)","v":""},null,null,null,null,null,null,{"$f":"IF('１２号入力'!AG79=\"\",\"\",'１２号入力'!AG79)","v":""},null,null,null,null,null,null,{"$f":"IF('１２号入力'!AJ79=\"\",\"\",'１２号入力'!AJ79)","v":""},null,null,null,null,null,null,{"$f":"IF('１２号入力'!AM79=\"\",\"\",'１２号入力'!AM79)","v":""},null,null,null,null,null,null,{"$f":"IF('１２号入力'!E115=\"\",\"\",'１２号入力'!E115)","v":""},null,null,null,null,{"$f":"IF('１２号入力'!H115=\"\",\"\",'１２号入力'!H115)","v":""},null,null,null,null,null,null,null,null,null,null,null,null,{"$f":"IF('１２号入力'!Q115=0,\"\",'１２号入力'!Q115)","v":""}]
[null,null,null,null,null,{"$f":"IF('１２号入力'!D80=\"\",\"\",'１２号入力'!D80)","v":""},null,null,"","","",null,null,{"$f":"IF('１２号入力'!R80=\"\",\"\",'１２号入力'!R80)","v":""},null,null,null,null,null,null,{"$f":"IF('１２号入力'!U80=\"\",\"\",'１２号入力'!U80)","v":""},null,null,null,null,null,null,{"$f":"IF('１２号入力'!X80=\"\",\"\",'１２号入力'!X80)","v":""},null,null,null,null,null,null,{"$f":"IF('１２号入力'!AA80=\"\",\"\",'１２号入力'!AA80)","v":""},null,null,null,null,null,null,{"$f":"IF('１２号入力'!AD80=\"\",\"\",'１２号入力'!AD80)","v":""},null,null,null,null,null,null,{"$f":"IF('１２号入力'!AG80=\"\",\"\",'１２号入力'!AG80)","v":""},null,null,null,null,null,null,{"$f":"IF('１２号入力'!AJ80=\"\",\"\",'１２号入力'!AJ80)","v":""},null,null,null,null,null,null,{"$f":"IF('１２号入力'!AM80=\"\",\"\",'１２号入力'!AM80)","v":""},null,null,null,null,null,null,{"$f":"IF('１２号入力'!E116=\"\",\"\",'１２号入力'!E116)","v":""},null,null,null,null,{"$f":"IF('１２号入力'!H116=\"\",\"\",'１２号入力'!H116)","v":""},null,null,null,null,null,null,null,null,null,null,null,null,{"$f":"IF('１２号入力'!Q116=0,\"\",'１２号入力'!Q116)","v":""}]
[null,null,null,null,null,{"$f":"IF('１２号入力'!D81=\"\",\"\",'１２号入力'!D81)","v":""},null,null,"","","",null,null,{"$f":"IF('１２号入力'!R81=\"\",\"\",'１２号入力'!R81)","v":""},null,null,null,null,null,null,{"$f":"IF('１２号入力'!U81=\"\",\"\",'１２号入力'!U81)","v":""},null,null,null,null,null,null,{"$f":"IF('１２号入力'!X81=\"\",\"\",'１２号入力'!X81)","v":""},null,null,null,null,null,null,{"$f":"IF('１２号入力'!AA81=\"\",\"\",'１２号入力'!AA81)","v":""},null,null,null,null,null,null,{"$f":"IF('１２号入力'!AD81=\"\",\"\",'１２号入力'!AD81)","v":""},null,null,null,null,null,null,{"$f":"IF('１２号入力'!AG81=\"\",\"\",'１２号入力'!AG81)","v":""},null,null,null,null,null,null,{"$f":"IF('１２号入力'!AJ81=\"\",\"\",'１２号入力'!AJ81)","v":""},null,null,null,null,null,null,{"$f":"IF('１２号入力'!AM81=\"\",\"\",'１２号入力'!AM81)","v":""},null,null,null,null,null,null,{"$f":"IF('１２号入力'!E117=\"\",\"\",'１２号入力'!E117)","v":""},null,null,null,null,{"$f":"IF('１２号入力'!H117=\"\",\"\",'１２号入力'!H117)","v":""},null,null,null,null,null,null,null,null,null,null,null,null,{"$f":"IF('１２号入力'!Q117=0,\"\",'１２号入力'!Q117)","v":""}]
[null,null,null,null,null,{"$f":"IF('１２号入力'!D82=\"\",\"\",'１２号入力'!D82)","v":""},null,null,"","","",null,null,{"$f":"IF('１２号入力'!R82=\"\",\"\",'１２号入力'!R82)","v":""},null,null,null,null,null,null,{"$f":"IF('１２号入力'!U82=\"\",\"\",'１２号入力'!U82)","v":""},null,null,null,null,null,null,{"$f":"IF('１２号入力'!X82=\"\",\"\",'１２号入力'!X82)","v":""},null,null,null,null,null,null,{"$f":"IF('１２号入力'!AA82=\"\",\"\",'１２号入力'!AA82)","v":""},null,null,null,null,null,null,{"$f":"IF('１２号入力'!AD82=\"\",\"\",'１２号入力'!AD82)","v":""},null,null,null,null,null,null,{"$f":"IF('１２号入力'!AG82=\"\",\"\",'１２号入力'!AG82)","v":""},null,null,null,null,null,null,{"$f":"IF('１２号入力'!AJ82=\"\",\"\",'１２号入力'!AJ82)","v":""},null,null,null,null,null,null,{"$f":"IF('１２号入力'!AM82=\"\",\"\",'１２号入力'!AM82)","v":""},null,null,null,null,null,null,{"$f":"IF('１２号入力'!E118=\"\",\"\",'１２号入力'!E118)","v":""},null,null,null,null,{"$f":"IF('１２号入力'!H118=\"\",\"\",'１２号入力'!H118)","v":""},null,null,null,null,null,null,null,null,null,null,null,null,{"$f":"IF('１２号入力'!Q118=0,\"\",'１２号入力'!Q118)","v":""}]
[null,null,null,null,null,{"$f":"IF('１２号入力'!D83=\"\",\"\",'１２号入力'!D83)","v":""},null,null,"","","",null,null,{"$f":"IF('１２号入力'!R83=\"\",\"\",'１２号入力'!R83)","v":""},null,null,null,null,null,null,{"$f":"IF('１２号入力'!U83=\"\",\"\",'１２号入力'!U83)","v":""},null,null,null,null,null,null,{"$f":"IF('１２号入力'!X83=\"\",\"\",'１２号入力'!X83)","v":""},null,null,null,null,null,null,{"$f":"IF('１２号入力'!AA83=\"\",\"\",'１２号入力'!AA83)","v":""},null,null,null,null,null,null,{"$f":"IF('１２号入力'!AD83=\"\",\"\",'１２号入力'!AD83)","v":""},null,null,null,null,null,null,{"$f":"IF('１２号入力'!AG83=\"\",\"\",'１２号入力'!AG83)","v":""},null,null,null,null,null,null,{"$f":"IF('１２号入力'!AJ83=\"\",\"\",'１２号入力'!AJ83)","v":""},null,null,null,null,null,null,{"$f":"IF('１２号入力'!AM83=\"\",\"\",'１２号入力'!AM83)","v":""},null,null,null,null,null,null,{"$f":"IF('１２号入力'!E119=\"\",\"\",'１２号入力'!E119)","v":""},null,null,null,null,{"$f":"IF('１２号入力'!H119=\"\",\"\",'１２号入力'!H119)","v":""},null,null,null,null,null,null,null,null,null,null,null,null,{"$f":"IF('１２号入力'!Q119=0,\"\",'１２号入力'!Q119)","v":""}]
[null,null,null,null,null,{"$f":"IF('１２号入力'!D84=\"\",\"\",'１２号入力'!D84)","v":""},null,null,"","","",null,null,{"$f":"IF('１２号入力'!R84=\"\",\"\",'１２号入力'!R84)","v":""},null,null,null,null,null,null,{"$f":"IF('１２号入力'!U84=\"\",\"\",'１２号入力'!U84)","v":""},null,null,null,null,null,null,{"$f":"IF('１２号入力'!X84=\"\",\"\",'１２号入力'!X84)","v":""},null,null,null,null,null,null,{"$f":"IF('１２号入力'!AA84=\"\",\"\",'１２号入力'!AA84)","v":""},null,null,null,null,null,null,{"$f":"IF('１２号入力'!AD84=\"\",\"\",'１２号入力'!AD84)","v":""},null,null,null,null,null,null,{"$f":"IF('１２号入力'!AG84=\"\",\"\",'１２号入力'!AG84)","v":""},null,null,null,null,null,null,{"$f":"IF('１２号入力'!AJ84=\"\",\"\",'１２号入力'!AJ84)","v":""},null,null,null,null,null,null,{"$f":"IF('１２号入力'!AM84=\"\",\"\",'１２号入力'!AM84)","v":""},null,null,null,null,null,null,{"$f":"IF('１２号入力'!E120=\"\",\"\",'１２号入力'!E120)","v":""},null,null,null,null,{"$f":"IF('１２号入力'!H120=\"\",\"\",'１２号入力'!H120)","v":""},null,null,null,null,null,null,null,null,null,null,null,null,{"$f":"IF('１２号入力'!Q120=0,\"\",'１２号入力'!Q120)","v":""}]
[null,null,null,null,null,{"$f":"IF('１２号入力'!D85=\"\",\"\",'１２号入力'!D85)","v":""},null,null,"","","",null,null,{"$f":"IF('１２号入力'!R85=\"\",\"\",'１２号入力'!R85)","v":""},null,null,null,null,null,null,{"$f":"IF('１２号入力'!U85=\"\",\"\",'１２号入力'!U85)","v":""},null,null,null,null,null,null,{"$f":"IF('１２号入力'!X85=\"\",\"\",'１２号入力'!X85)","v":""},null,null,null,null,null,null,{"$f":"IF('１２号入力'!AA85=\"\",\"\",'１２号入力'!AA85)","v":""},null,null,null,null,null,null,{"$f":"IF('１２号入力'!AD85=\"\",\"\",'１２号入力'!AD85)","v":""},null,null,null,null,null,null,{"$f":"IF('１２号入力'!AG85=\"\",\"\",'１２号入力'!AG85)","v":""},null,null,null,null,null,null,{"$f":"IF('１２号入力'!AJ85=\"\",\"\",'１２号入力'!AJ85)","v":""},null,null,null,null,null,null,{"$f":"IF('１２号入力'!AM85=\"\",\"\",'１２号入力'!AM85)","v":""},null,null,null,null,null,null,{"$f":"IF('１２号入力'!E121=\"\",\"\",'１２号入力'!E121)","v":""},null,null,null,null,{"$f":"IF('１２号入力'!H121=\"\",\"\",'１２号入力'!H121)","v":""},null,null,null,null,null,null,null,null,null,null,null,null,{"$f":"IF('１２号入力'!Q121=0,\"\",'１２号入力'!Q121)","v":""}]
[null,null,null,null,null,{"$f":"IF('１２号入力'!D86=\"\",\"\",'１２号入力'!D86)","v":""},null,null,"","","",null,null,{"$f":"IF('１２号入力'!R86=\"\",\"\",'１２号入力'!R86)","v":""},null,null,null,null,null,null,{"$f":"IF('１２号入力'!U86=\"\",\"\",'１２号入力'!U86)","v":""},null,null,null,null,null,null,{"$f":"IF('１２号入力'!X86=\"\",\"\",'１２号入力'!X86)","v":""},null,null,null,null,null,null,{"$f":"IF('１２号入力'!AA86=\"\",\"\",'１２号入力'!AA86)","v":""},null,null,null,null,null,null,{"$f":"IF('１２号入力'!AD86=\"\",\"\",'１２号入力'!AD86)","v":""},null,null,null,null,null,null,{"$f":"IF('１２号入力'!AG86=\"\",\"\",'１２号入力'!AG86)","v":""},null,null,null,null,null,null,{"$f":"IF('１２号入力'!AJ86=\"\",\"\",'１２号入力'!AJ86)","v":""},null,null,null,null,null,null,{"$f":"IF('１２号入力'!AM86=\"\",\"\",'１２号入力'!AM86)","v":""},null,null,null,null,null,null,{"$f":"IF('１２号入力'!E122=\"\",\"\",'１２号入力'!E122)","v":""},null,null,null,null,{"$f":"IF('１２号入力'!H122=\"\",\"\",'１２号入力'!H122)","v":""},null,null,null,null,null,null,null,null,null,null,null,null,{"$f":"IF('１２号入力'!Q122=0,\"\",'１２号入力'!Q122)","v":""}]
[null,null,null,null,null,"植物成長調整剤",null,null,null,null,null,null,null,{"$f":"IF('１２号入力'!F91=\"\",\"/\",'１２号入力'!F91)","v":"/"},null,null,null,null,{"$f":"IF('１２号入力'!I91=0,0,'１２号入力'!I91)","v":0},null,null,null,null,null,null,null,{"$f":"IF('１２号入力'!N91=0,0,'１２号入力'!N91)","v":0},null,null,null,null,null,null,null,{"$f":"IF('１２号入力'!C94=\"\",\"\",'１２号入力'!C94)","v":"トップジンＭ水和剤"},null,null,null,null,null,null,null,null,null,null,null,null,null,null,null,{"$f":"IF('１２号入力'!F97=\"\",\"/\",'１２号入力'!F97)","v":"/"},null,null,null,null,{"$f":"IF('１２号入力'!I97=0,0,'１２号入力'!I97)","v":0},null,null,null,null,null,null,null,{"$f":"IF('１２号入力'!N97=0,0,'１２号入力'!N97)","v":0},null,null,null,null,null,null,null,{"$f":"IF('１２号入力'!F99=\"\",\"/\",'１２号入力'!F99)","v":"/"},null,null,null,null,{"$f":"IF('１２号入力'!I99=0,0,'１２号入力'!I99)","v":0},null,null,null,null,null,null,null,{"$f":"IF('１２号入力'!N99=0,0,'１２号入力'!N99)","v":0}]
[null,null,null,null,null,{"$f":"IF('１２号入力'!L88=\"\",\"\",'１２号入力'!L88)","v":"アークランド液剤"},null,null,null,null,null,null,null,{"$f":"IF('１２号入力'!F92=\"\",\"/\",'１２号入力'!F92)","v":"/"},null,null,null,null,{"$f":"IF('１２号入力'!I92=0,0,'１２号入力'!I92)","v":0},null,null,null,null,null,null,null,{"$f":"IF('１２号入力'!N92=0,0,'１２号入力'!N92)","v":0},null,null,null,null,null,null,null,null,null,null,null,null,null,null,null,null,null,null,null,null,null,null,null,{"$f":"IF('１２号入力'!F98=\"\",\"/\",'１２号入力'!F98)","v":"/"},null,null,null,null,{"$f":"IF('１２号入力'!I98=0,0,'１２号入力'!I98)","v":0},null,null,null,null,null,null,null,{"$f":"IF('１２号入力'!N98=0,0,'１２号入力'!N98)","v":0},null,null,null,null,null,null,null,{"$f":"IF('１２号入力'!F100=\"\",\"/\",'１２号入力'!F100)","v":"/"},null,null,null,null,{"$f":"IF('１２号入力'!I100=0,0,'１２号入力'!I100)","v":0},null,null,null,null,null,null,null,{"$f":"IF('１２号入力'!N100=0,0,'１２号入力'!N100)","v":0}]

{"sheet":"１３号入力","index":26,"n_rows":128,"n_cols":53,"rows_kept":128,"cut":false,"hidden":false,"merged":[[1,9,1,10],[1,11,1,14],[3,9,3,11],[3,12,3,18],[8,2,8,4],[8,5,8,11],[8,14,8,16],[8,17,8,23],[57,17,57,19],[9,2,9,4],[9,5,9,11],[11,2,11,4],[11,5,11,11],[10,5,10,11],[10,2,10,4],[12,2,12,4],[12,5,12,11],[12,14,12,31],[13,2,13,4],[13,5,13,11],[13,14,13,31],[14,2,14,4],[14,5,14,11],[15,2,15,4],[15,5,15,11],[19,5,19,7],[18,5,18,7],[20,33,20,39],[21,2,21,4],[21,5,21,7],[21,8,21,25],[21,26,21,29],[21,33,21,39],[20,2,20,4],[20,5,20,7],[20,8,20,25],[20,26,20,29],[22,33,22,39],[23,2,23,4],[23,5,23,7],[23,8,23,25],[23,26,23,29],[23,33,23,39],[22,2,22,4],[22,5,22,7],[22,8,22,25],[22,26,22,29],[24,33,24,39],[25,2,25,4],[25,5,25,7],[25,8,25,25],[25,26,25,29],[25,33,25,39],[24,2,24,4],[24,5,24,7],[24,8,24,25],[24,26,24,29],[26,33,26,39],[27,2,27,4],[27,5,27,7],[27,8,27,25],[27,26,27,29],[27,33,27,39],[26,2,26,4],[26,5,26,7],[26,8,26,25],[26,26,26,29],[28,33,28,39],[29,2,29,4],[29,5,29,7],[29,8,29,25],[29,26,29,29],[29,33,29,39],[28,2,28,4],[28,5,28,7],[28,8,28,25],[28,26,28,29],[30,33,30,39],[31,2,31,4],[31,5,31,7],[31,8,31,25],[31,26,31,29],[31,33,31,39],[30,2,30,4],[30,5,30,7],[30,8,30,25],[30,26,30,29],[32,33,32,39],[33,2,33,4],[33,5,33,7],[33,8,33,25],[33,26,33,29],[33,33,33,39],[32,2,32,4],[32,5,32,7],[32,8,32,25],[32,26,32,29],[34,33,34,39],[35,2,35,4],[35,5,35,7],[35,8,35,25],[35,26,35,29],[35,33,35,39],[34,2,34,4],[34,5,34,7],[34,8,34,25],[34,26,34,29],[36,33,36,39],[37,2,37,4],[37,5,37,7],[37,8,37,25],[37,26,37,29],[37,33,37,39],[36,2,36,4],[36,5,36,7],[36,8,36,25],[36,26,36,29],[38,33,38,39],[39,2,39,4],[39,5,39,7],[39,8,39,25],[39,26,39,29],[39,33,39,39],[38,2,38,4],[38,5,38,7],[38,8,38,25],[38,26,38,29],[40,33,40,39],[41,2,41,4],[41,5,41,7],[41,8,41,25],[41,26,41,29],[41,33,41,39],[40,2,40,4],[40,5,40,7],[40,8,40,25],[40,26,40,29],[42,33,42,39],[43,2,43,4],[43,5,43,7],[43,8,43,25],[43,26,43,29],[43,33,43,39],[42,2,42,4],[42,5,42,7],[42,8,42,25],[42,26,42,29],[52,19,52,23],[52,25,52,29],[44,33,44,39],[45,2,45,4],[45,5,45,7],[45,8,45,25],[45,26,45,29],[45,33,45,39],[44,2,44,4],[44,5,44,7],[44,8,44,25],[44,26,44,29],[60,20,60,26],[59,17,59,19],[58,17,58,19],[58,2,58,6],[58,7,58,13],[52,30,52,31],[52,32,52,37],[51,25,51,29],[46,33,46,39],[46,2,46,4],[46,5,46,7],[46,8,46,25],[46,26,46,29],[51,32,51,37],[51,30,51,31],[51,5,51,7],[51,8,51,14],[51,15,51,18],[51,2,51,4],[51,19,51,23],[52,2,52,4],[52,5,52,7],[52,8,52,14],[52,15,52,18],[61,2,61,6],[61,7,61,13],[59,2,59,6],[59,7,59,13],[53,32,53,37],[54,2,54,4],[54,5,54,7],[54,8,54,14],[54,15,54,18],[54,19,54,23],[53,15,53,18],[53,19,53,23],[57,2,57,13],[53,25,53,29],[53,30,53,31],[53,2,53,4],[53,5,53,7],[53,8,53,14],[60,2,60,6],[60,7,60,13],[60,17,60,19],[57,20,57,26],[58,20,58,26],[59,20,59,26],[66,38,66,40],[66,17,66,19],[66,20,66,22],[66,23,66,25],[66,26,66,28],[67,2,67,16],[67,17,67,19],[67,20,67,22],[67,23,67,25],[67,26,67,28],[67,29,67,31],[67,32,67,34],[67,35,67,37],[67,38,67,40],[66,29,66,31],[66,32,66,34],[66,35,66,37],[68,2,68,16],[68,17,68,19],[68,20,68,22],[68,23,68,25],[68,26,68,28],[68,29,68,31],[68,32,68,34],[68,35,68,37],[68,38,68,40],[69,23,69,25],[69,26,69,28],[70,3,70,10],[70,14,70,16],[70,17,70,19],[70,20,70,22],[71,3,71,10],[71,14,71,16],[71,17,71,19],[71,20,71,22],[69,29,69,31],[69,32,69,34],[69,35,69,37],[85,23,85,25],[85,26,85,28],[85,29,85,31],[85,32,85,34],[85,35,85,37],[69,38,69,40],[70,23,70,25],[70,26,70,28],[70,29,70,31],[70,32,70,34],[70,35,70,37],[70,38,70,40],[71,23,71,25],[71,26,71,28],[71,29,71,31],[71,32,71,34],[71,35,71,37],[71,38,71,40],[72,23,72,25],[72,26,72,28],[72,29,72,31],[72,32,72,34],[72,35,72,37],[72,38,72,40],[73,3,73,10],[73,14,73,16],[73,17,73,19],[73,20,73,22],[73,23,73,25],[73,26,73,28],[73,29,73,31],[73,32,73,34],[73,35,73,37],[73,38,73,40],[72,3,72,10],[72,14,72,16],[72,17,72,19],[72,20,72,22],[74,23,74,25],[74,26,74,28],[74,29,74,31],[74,32,74,34],[74,35,74,37],[74,38,74,40],[75,3,75,10],[75,14,75,16],[75,17,75,19],[75,20,75,22],[75,23,75,25],[75,26,75,28],[75,29,75,31],[75,32,75,34],[75,35,75,37],[75,38,75,40],[74,3,74,10],[74,14,74,16],[74,17,74,19],[76,38,76,40],[77,3,77,10],[77,14,77,16],[77,17,77,19],[77,20,77,22],[77,23,77,25],[77,26,77,28],[77,29,77,31],[77,32,77,34],[77,35,77,37],[77,38,77,40],[76,3,76,10],[76,14,76,16],[76,17,76,19],[76,20,76,22],[76,23,76,25],[76,26,76,28],[76,29,76,31],[76,32,76,34],[76,35,76,37],[78,38,78,40],[79,3,79,10],[79,14,79,16],[79,17,79,19],[79,20,79,22],[79,23,79,25],[79,26,79,28],[79,29,79,31],[79,32,79,34],[79,35,79,37],[79,38,79,40],[78,3,78,10],[78,14,78,16],[78,17,78,19],[78,20,78,22],[78,23,78,25],[78,26,78,28],[78,29,78,31],[78,32,78,34],[78,35,78,37],[80,38,80,40],[81,3,81,10],[81,14,81,16],[81,17,81,19],[81,20,81,22],[81,23,81,25],[81,26,81,28],[81,29,81,31],[81,32,81,34],[81,35,81,37],[81,38,81,40],[80,3,80,10],[80,14,80,16],[80,17,80,19],[80,20,80,22],[80,23,80,25],[80,26,80,28],[80,29,80,31],[80,32,80,34],[80,35,80,37],[82,38,82,40],[83,3,83,10],[83,14,83,16],[83,17,83,19],[83,20,83,22],[83,23,83,25],[83,26,83,28],[83,29,83,31],[83,32,83,34],[83,35,83,37],[83,38,83,40],[82,3,82,10],[82,14,82,16],[82,17,82,19],[82,20,82,22],[82,23,82,25],[82,26,82,28],[82,29,82,31],[82,32,82,34],[82,35,82,37],[84,23,84,25],[84,26,84,28],[84,29,84,31],[84,32,84,34],[85,38,85,40],[84,35,84,37],[84,38,84,40],[85,3,85,10],[85,14,85,16],[85,17,85,19],[89,2,89,4],[89,5,89,7],[89,8,89,12],[89,13,89,17],[85,20,85,22],[87,11,87,17],[90,2,90,4],[90,5,90,7],[90,8,90,12],[90,13,90,17],[69,2,85,2],[69,3,69,16],[69,17,69,19],[69,20,69,22],[84,3,84,10],[84,14,84,16],[84,17,84,19],[84,20,84,22],[74,20,74,22],[91,2,91,4],[91,5,91,7],[91,8,91,12],[91,13,91,17],[95,2,95,4],[95,5,95,7],[95,8,95,12],[95,13,95,17],[96,2,96,4],[96,5,96,7],[96,8,96,12],[96,13,96,17],[93,2,93,8],[97,2,97,4],[97,5,97,7],[97,8,97,12],[97,13,97,17],[98,2,98,4],[98,5,98,7],[98,8,98,12],[98,13,98,17],[99,2,99,4],[99,5,99,7],[99,8,99,12],[99,13,99,17],[103,2,103,3],[103,4,103,6],[103,7,103,15],[103,16,103,18],[104,2,104,3],[104,4,104,6],[104,7,104,15],[104,16,104,18],[105,2,105,3],[105,4,105,6],[105,7,105,15],[105,16,105,18],[106,2,106,3],[106,4,106,6],[106,7,106,15],[106,16,106,18],[107,2,107,3],[107,4,107,6],[107,7,107,15],[107,16,107,18],[108,2,108,3],[108,4,108,6],[108,7,108,15],[108,16,108,18],[109,2,109,3],[109,4,109,6],[109,7,109,15],[109,16,109,18],[110,2,110,3],[110,4,110,6],[110,7,110,15],[110,16,110,18],[111,2,111,3],[111,4,111,6],[111,7,111,15],[111,16,111,18],[112,2,112,3],[112,4,112,6],[112,7,112,15],[112,16,112,18],[113,2,113,3],[113,4,113,6],[113,7,113,15],[113,16,113,18],[114,2,114,3],[114,4,114,6],[114,7,114,15],[114,16,114,18],[115,2,115,3],[115,4,115,6],[115,7,115,15],[115,16,115,18],[117,7,117,15],[117,16,117,18],[116,2,116,3],[116,4,116,6],[116,7,116,15],[116,16,116,18],[117,2,117,3],[117,4,117,6],[119,16,119,18],[118,2,118,3],[118,4,118,6],[118,7,118,15],[118,16,118,18],[119,2,119,3],[119,4,119,6],[119,7,119,15],[123,27,123,32],[121,16,121,18],[120,2,120,3],[120,4,120,6],[120,7,120,15],[120,16,120,18],[121,2,121,3],[121,4,121,6],[121,7,121,15]]}
[]
[null,"１３号室の入力画面",null,null,null,null,null,null,null,"No.",null,{"$f":"メニュー画面!F18","v":"４　３　６"}]
[]
[null,null,null,null,null,null,null,null,null,"氏名",null,null,{"$f":"メニュー画面!F20","v":"中　條　文　義"},null,null,null,null,null,null,null,null,null,null,null,null,null,null,null,null,null,null,null,null,{"$f":"VLOOKUP(B2,隠しページ!P7:Q22,2,FALSE)","v":"１３号入力"},null,null,"→印刷画面へ"]
[]
[]
[null,"１．坪数～収穫日までの入力",null,null,null,null,null,null,null,null,null,null,null,null,"※白い枠のみに入力して下さい。ここで入力された値が、履歴シートに書き込まれます。"]
[]
[null,null,"部屋番号",null,null,13,null,null,null,null,null,null,null,null,"品種名",null,null,{"$f":"IF(F16=\"\",\"\",IF(AND(10<=MONTH(F16+1),MONTH(F16+1)<=11),\"秋　　系\",IF(AND(3<=MONTH(F16+1),MONTH(F16+1)<=5),\"春　　系\",IF(AND(6<=MONTH(F16+1),MONTH(F16+1)<=9),\"夏　　系\",\"冬　　系\"))))","v":""}]
[null,null,"坪数"]
[null,null,"品種名",null,null,"春　　系",null,null,null,null,null,null,null,null,{"$f":"IF(OR($R$9=$F$11,$R$9=\"\"),\"\",\"←県で指定された品種名と違いますが無視できます。\")","v":""}]
[null,null,"播種日"]
[null,null,"定植日",null,null,null,null,null,null,null,null,null,null,null,{"$f":"IF(OR(F13=\"\",F12=\"\"),\"\",IF(F13<F12,\"入力ミスです！播種日のほうが後の日付になりました。\",\"\"))","v":""},null,null,null,null,null,null,null,null,null,null,null,null,null,null,null,null,null,{"$f":"CONCATENATE(\"苗日数＝\",F13-F12,\"日\")","v":"苗日数＝0日"}]
[null,null,"交配日",null,null,null,null,null,null,null,null,null,null,null,{"$f":"IF(OR(F14=\"\",F13=\"\"),\"\",IF(F14<F13,\"入力ミスです！定植日の方が後になりました。\",\"\"))","v":""},null,null,null,null,null,null,null,null,null,null,null,null,null,null,null,null,null,{"$f":"CONCATENATE(\"交配日数＝\",F14-F13,\"日\")","v":"交配日数＝0日"}]
[null,null,"採果日数"]
[null,null,"収穫日",null,null,{"$f":"IF(OR(F14=\"\",F15=\"\"),\"\",F14+F15-1)","v":""},null,null,null,null,null,null,null,null,null,null,null,null,null,null,null,null,null,null,null,null,null,null,null,null,null,null,{"$f":"CONCATENATE(\"播種日～収穫日＝\",IF(F16=\"\",0,F16-F12),\"日\")","v":"播種日～収穫日＝0日"}]
[]
[null,"２．施用資材名の入力"]
[null,null,null,null,null,null,null,null,"［〃］このマークはリストから入力できます。日付はそのまま打ち込んでください。"]
[]
[null,null,null,null,null,"日付",null,null,"施用資材名",null,null,null,null,null,null,null,null,null,null,null,null,null,null,null,null,null,"投入量",null,null,null,null,null,null,"履歴シート表示確認欄"]
[null,null,null,null,null,{"$f":"IF(OR(C22=\"\",AH22=\"\"),\"\",IF(C22=\"育苗\",#REF!,IF(C22=\"定植\",#REF!,IF(C22=\"追肥（１）\",#REF!,IF(C22=\"追肥（２）\",#REF!,IF(C22=\"追肥（３）\",#REF!,\"入力ミス\"))))))","v":""},null,null,"育苗",null,null,null,null,null,null,null,null,null,null,null,null,null,null,null,null,null,null,null,null,null,null,null,null,{"$f":"IF(I22=\"\",\"\",VLOOKUP(I22,Ｍ肥料台帳,4,FALSE))","v":"育苗"}]
[null,null,null,null,null,"2006-01-01",null,null,null,null,null,null,null,null,null,null,null,null,null,null,null,null,null,null,null,null,null,null,null,null,null,null,null,""]
[null,null,null,null,null,"〃",null,null,null,null,null,null,null,null,null,null,null,null,null,null,null,null,null,null,null,null,null,null,null,null,null,null,null,""]
[null,null,null,null,null,"〃",null,null,null,null,null,null,null,null,null,null,null,null,null,null,null,null,null,null,null,null,null,null,null,null,null,null,null,""]
[null,null,null,null,null,"〃",null,null,null,null,null,null,null,null,null,null,null,null,null,null,null,null,null,null,null,null,null,null,null,null,null,null,null,""]
[null,null,null,null,null,"〃",null,null,null,null,null,null,null,null,null,null,null,null,null,null,null,null,null,null,null,null,null,null,null,null,null,null,null,""]
[null,null,null,null,null,"〃",null,null,null,null,null,null,null,null,null,null,null,null,null,null,null,null,null,null,null,null,null,null,null,null,null,null,null,""]
[null,null,null,null,null,"〃",null,null,null,null,null,null,null,null,null,null,null,null,null,null,null,null,null,null,null,null,null,null,null,null,null,null,null,""]
[null,null,null,null,null,"〃",null,null,null,null,null,null,null,null,null,null,null,null,null,null,null,null,null,null,null,null,null,null,null,null,null,null,null,""]
[null,null,null,null,null,"〃",null,null,null,null,null,null,null,null,null,null,null,null,null,null,null,null,null,null,null,null,null,null,null,null,null,null,null,""]
[null,null,null,null,null,"〃",null,null,null,null,null,null,null,null,null,null,null,null,null,null,null,null,null,null,null,null,null,null,null,null,null,null,null,""]
[null,null,null,null,null,"〃",null,null,null,null,null,null,null,null,null,null,null,null,null,null,null,null,null,null,null,null,null,null,null,null,null,null,null,""]
[null,null,null,null,null,"〃",null,null,null,null,null,null,null,null,null,null,null,null,null,null,null,null,null,null,null,null,null,null,null,null,null,null,null,""]
[null,null,null,null,null,"〃",null,null,null,null,null,null,null,null,null,null,null,null,null,null,null,null,null,null,null,null,null,null,null,null,null,null,null,""]
[null,null,null,null,null,null,null,null,null,null,null,null,null,null,null,null,null,null,null,null,null,null,null,null,null,null,null,null,null,null,null,null,null,""]
[null,null,null,null,null,null,null,null,null,null,null,null,null,null,null,null,null,null,null,null,null,null,null,null,null,null,null,null,null,null,null,null,null,""]
[null,null,null,null,null,null,null,null,null,null,null,null,null,null,null,null,null,null,null,null,null,null,null,null,null,null,null,null,null,null,null,null,null,""]
[null,null,null,null,null,null,null,null,null,null,null,null,null,null,null,null,null,null,null,null,null,null,null,null,null,null,null,null,null,null,null,null,null,""]
[null,null,null,null,null,null,null,null,null,null,null,null,null,null,null,null,null,null,null,null,null,null,null,null,null,null,null,null,null,null,null,null,null,""]
[null,null,null,null,null,null,null,null,null,null,null,null,null,null,null,null,null,null,null,null,null,null,null,null,null,null,null,null,null,null,null,null,null,""]
[null,null,null,null,null,null,null,null,null,null,null,null,null,null,null,null,null,null,null,null,null,null,null,null,null,null,null,null,null,null,null,null,null,""]
[null,null,null,null,null,null,null,null,null,null,null,null,null,null,null,null,null,null,null,null,null,null,null,null,null,null,null,null,null,null,null,null,null,""]
[null,null,null,null,null,null,null,null,null,null,null,null,null,null,null,null,null,null,null,null,null,null,null,null,null,null,null,null,null,null,null,null,null,""]
[null,null,null,null,null,null,null,null,null,null,null,null,null,null,null,null,null,null,null,null,null,null,null,null,null,null,null,null,null,null,null,null,null,""]
[null,null,null,null,null,null,null,null,null,null,null,null,null,null,null,null,null,null,null,null,null,null,null,null,null,null,null,null,null,null,null,null,null,""]
[null,null,null,null,null,null,null,null,null,null,null,null,null,null,null,null,null,null,null,null,null,null,null,null,null,null,null,null,null,null,null,null,null,""]
[]
[]
[null,"３．施用粒剤の入力"]
[null,null,null,null,null,null,null,null,null,null,null,null,null,null,null,null,null,null,null,null,null,null,null,null,null,null,null,null,null,null,null,null,null,null,null,null,null,null,null,null,null,null,null,null,null,null,null,null,null,null,null,null,"施用粒剤の日付入力"]
[null,null,null,null,null,"日付",null,null,"施用粒剤名",null,null,null,null,null,null,"施用量（g）",null,null,null,"施用鉢数（鉢）",null,null,null,null,null,"登録施用量",null,null,null,null,"回数",null,"時期"]
[null,null,"１回目",null,null,null,null,null,null,null,null,null,null,null,null,null,null,null,null,null,null,null,null,null,null,{"$f":"IF(I53=\"\",\"\",VLOOKUP(I53,施用粒剤台帳,2,FALSE))","v":""},null,null,null,null,{"$f":"IF(I53=\"\",\"\",VLOOKUP(I53,施用粒剤台帳,3,FALSE))","v":""},null,{"$f":"IF(I53=\"\",\"\",VLOOKUP(I53,施用粒剤台帳,4,FALSE))","v":""}]
[null,null,"２回目",null,null,null,null,null,null,null,null,null,null,null,null,null,null,null,null,null,null,null,null,null,null,{"$f":"IF(I54=\"\",\"\",VLOOKUP(I54,施用粒剤台帳,2,FALSE))","v":""},null,null,null,null,{"$f":"IF(I54=\"\",\"\",VLOOKUP(I54,施用粒剤台帳,3,FALSE))","v":""},null,{"$f":"IF(I54=\"\",\"\",VLOOKUP(I54,施用粒剤台帳,4,FALSE))","v":""}]
[]
[null,"４．硫黄くん蒸剤の入力",null,null,null,null,null,null,null,null,"※使用が２年にまたがるときは、前年の日付の前に年号を付けないとミスになります。"]
[]
[null,null,"履歴シートへの表示確認欄",null,null,null,null,null,null,null,null,null,null,null,null,null,null,"播種日",null,null,{"$f":"IF(F12=\"\",\"\",F12)","v":""}]
[null,null,"開始日",null,null,null,null,null,null,null,null,null,null,null,null,null,null,"定植日",null,null,{"$f":"IF(F13=\"\",\"\",F13)","v":""}]
[null,null,"終了日",null,null,null,null,null,null,null,null,null,null,null,{"$f":"IF(H60=\"\",\"\",IF(H60<H59,\" ミス\",\"\"))","v":""},null,null,"交配日",null,null,{"$f":"IF(F14=\"\",\"\",F14)","v":""}]
[null,null,"１日の使用量",null,null,null,null,2,null,null,null,null,null,null,null,null,null,"収穫日",null,null,{"$f":"IF(F16=\"\",\"\",F16)","v":""}]
[null,null,"総使用量",null,null,null,null,{"$f":"IF(OR(H59=\"\",OR(H60=\"\",H61=\"\")),\"\",(H60-H59)*H61)","v":""},null,null,null,null,null,null,null,null,null,null,null,null,"↑１.で入力した日付です。"]
[]
[null,"５．農薬散布の入力"]
[null,null,null,null,null,null,null,null,null,null,null,null,null,null,null,null,null,null,null,null,null,null,null,null,null,null,null,null,null,null,null,null,null,null,null,null,null,null,null,null,null,null,null,null,null,null,null,null,null,null,null,null,"農薬散布の日付入力"]
[]
[null,null,null,null,null,null,null,null,null,null,null,null,null,null,null,null,null,"Ｂ１",null,null,"Ｂ２",null,null,"Ｂ３",null,null,"Ｂ４",null,null,"Ｂ５",null,null,"Ｂ６",null,null,"Ｂ７",null,null,"Ｂ８"]
[null,null,"使用年月日"]
[null,null,"生育ステージ",null,null,null,null,null,null,null,null,null,null,null,null,null,null,"育苗",null,null,"木作り",null,null,"木作り",null,null,"肥大期",null,null,"肥大期",null,null,"仕上げ",null,null,"仕上げ",null,null,"仕上げ"]
[null,null,"使用農薬名","散布量"]
[null,null,null,null,null,null,null,null,null,null,null,{"$f":"IF(D71=\"\",\"\",VLOOKUP(D71,Ｍ農薬台帳,3,FALSE))","v":""},{"$f":"IF(D71=\"\",\"\",\"-\")","v":""},{"$f":"IF(D71=\"\",\"\",VLOOKUP(D71,Ｍ農薬台帳,2,FALSE))","v":""},{"$f":"IF(D71=\"\",\"\",VLOOKUP(D71,Ｍ農薬台帳,4,FALSE))","v":""}]
[null,null,null,null,null,null,null,null,null,null,null,"","","",""]
[null,null,null,null,null,null,null,null,null,null,null,"","","",""]
[null,null,null,null,null,null,null,null,null,null,null,"","","",""]
[null,null,null,null,null,null,null,null,null,null,null,"","","",""]
[null,null,null,null,null,null,null,null,null,null,null,"","","",""]
[null,null,null,null,null,null,null,null,null,null,null,"","","",""]
[null,null,null,null,null,null,null,null,null,null,null,"","","",""]
[null,null,null,null,null,null,null,null,null,null,null,"","","",""]
[null,null,null,null,null,null,null,null,null,null,null,"","","",""]
[null,null,null,null,null,null,null,null,null,null,null,"","","",""]
[null,null,null,null,null,null,null,null,null,null,null,"","","",""]
[null,null,null,null,null,null,null,null,null,null,null,"","","",""]
[null,null,null,null,null,null,null,null,null,null,null,"","","",""]
[null,null,null,null,null,null,null,null,null,null,null,"","","",""]
[null,null,null,null,null,null,null,null,null,null,null,"","","",""]
[]
[null,"６．植物成長調整剤の入力",null,null,null,null,null,null,null,null,null,"アークランド液剤",null,null,null,null,null,null,"　を使用した。"]
[]
[null,null,null,null,null,"日付",null,null,"希釈倍数",null,null,null,null,"散布量"]
[null,null,"1回目"]
[null,null,"2回目"]
[]
[null,"７．トップジンＭ水和剤の入力","トップジンＭ水和剤",null,null,null,null,null,null,"　の入力"]
[]
[null,null,null,null,null,"日付",null,null,"希釈倍数",null,null,null,null,"散布量"]
[null,null,"1回目"]
[null,null,"2回目"]
[null,null,"3回目"]
[null,null,"4回目"]
[]
[null,"８．施用液肥の入力"]
[]
[null,null,null,null,"日付",null,null,"液肥・葉面散布剤名",null,null,null,null,null,null,null,null,"使用量"]
[null,null,1]
[null,null,2]
[null,null,3]
[null,null,4]
[null,null,5]
[null,null,6]
[null,null,7]
[null,null,8]
[null,null,9]
[null,null,10]
[null,null,11]
[null,null,12]
[null,null,13]
[null,null,14]
[null,null,15]
[null,null,16]
[null,null,17]
[null,null,18]
[]
[null,"９.小メロンの出荷がある場合は、この枠に記載してください。リストから選べます。→"]
[]
[null,"10．印刷プレビューボタンを押し　印刷状態の確認をして　良ければそのまま印刷してください。"]
[]
[null,"11．以上で終りです。お疲れ様でした。"]

{"sheet":"１３号Ｐ","index":27,"n_rows":36,"n_cols":88,"rows_kept":36,"cut":false,"hidden":false,"merged":[[4,1,5,2],[35,84,35,91],[34,76,34,83],[34,84,34,91],[35,13,35,17],[35,18,35,25],[35,26,35,33],[33,87,33,91],[35,55,35,62],[35,63,35,70],[35,71,35,75],[35,76,35,83],[34,13,34,17],[34,18,34,25],[34,26,34,33],[34,34,35,49],[34,50,34,54],[35,50,35,54],[32,48,32,54],[32,5,32,7],[33,27,33,33],[33,34,33,40],[31,55,31,61],[31,62,31,68],[0,64,0,89],[34,55,34,62],[32,74,32,86],[32,87,32,91],[31,87,31,91],[31,69,31,73],[31,74,31,86],[30,62,30,68],[30,69,30,73],[29,87,29,91],[33,74,33,86],[34,63,34,70],[34,71,34,75],[33,55,33,61],[33,62,33,68],[32,62,32,68],[32,69,32,73],[32,55,32,61],[33,69,33,73],[30,74,30,86],[30,87,30,91],[28,69,28,73],[28,74,28,86],[29,69,29,73],[31,27,31,33],[31,34,31,40],[31,41,31,47],[31,48,31,54],[33,41,33,47],[33,48,33,54],[32,27,32,33],[32,34,32,40],[32,41,32,47],[30,41,30,47],[30,48,30,54],[30,5,30,7],[30,10,30,12],[30,13,30,19],[30,20,30,26],[30,27,30,33],[30,34,30,40],[30,55,30,61],[28,62,28,68],[29,27,29,33],[29,34,29,40],[29,41,29,47],[29,48,29,54],[28,48,28,54],[28,55,28,61],[29,55,29,61],[29,62,29,68],[29,74,29,86],[28,87,28,91],[27,87,27,91],[28,5,28,7],[28,10,28,12],[28,13,28,19],[28,20,28,26],[28,27,28,33],[28,34,28,40],[28,41,28,47],[27,69,27,73],[27,74,27,86],[27,27,27,33],[27,34,27,40],[27,41,27,47],[27,48,27,54],[27,5,27,7],[27,10,27,12],[27,13,27,19],[27,20,27,26],[29,5,29,7],[29,10,29,12],[29,13,29,19],[29,20,29,26],[26,62,26,68],[26,69,26,73],[26,48,26,54],[26,55,26,61],[27,55,27,61],[27,62,27,68],[26,87,26,91],[25,87,25,91],[26,5,26,7],[26,10,26,12],[26,13,26,19],[26,20,26,26],[26,27,26,33],[26,34,26,40],[26,41,26,47],[25,74,25,86],[25,27,25,33],[25,34,25,40],[25,41,25,47],[25,48,25,54],[26,74,26,86],[25,55,25,61],[25,62,25,68],[25,69,25,73],[24,41,24,47],[25,5,25,7],[25,10,25,12],[25,13,25,19],[25,20,25,26],[24,62,24,68],[24,5,24,7],[24,10,24,12],[24,13,24,19],[24,20,24,26],[24,27,24,33],[24,34,24,40],[23,74,23,86],[22,74,22,86],[22,87,22,91],[24,74,24,86],[24,87,24,91],[23,87,23,91],[23,41,23,47],[23,5,23,7],[23,10,23,12],[23,13,23,19],[23,20,23,26],[23,27,23,33],[23,34,23,40],[23,48,23,54],[22,48,22,54],[22,55,22,61],[22,62,22,68],[22,69,22,73],[23,55,23,61],[23,62,23,68],[23,69,23,73],[24,69,24,73],[24,48,24,54],[24,55,24,61],[21,69,21,73],[21,74,21,86],[21,87,21,91],[22,5,22,7],[22,10,22,12],[22,13,22,19],[22,20,22,26],[22,27,22,33],[22,34,22,40],[22,41,22,47],[21,41,21,47],[21,48,21,54],[21,55,21,61],[21,62,21,68],[21,13,21,19],[21,20,21,26],[21,27,21,33],[21,34,21,40],[20,69,20,73],[20,74,20,86],[20,87,20,91],[19,87,19,91],[20,5,20,7],[20,10,20,12],[20,13,20,19],[20,20,20,26],[20,27,20,33],[20,34,20,40],[20,41,20,47],[20,48,20,54],[20,55,20,61],[19,55,19,61],[19,62,19,68],[20,62,20,68],[19,69,19,73],[19,74,19,86],[19,27,19,33],[19,34,19,40],[19,41,19,47],[19,48,19,54],[18,69,18,73],[18,74,18,86],[18,87,18,91],[17,87,17,91],[18,5,18,7],[18,10,18,12],[18,13,18,19],[18,20,18,26],[18,27,18,33],[18,34,18,40],[18,41,18,47],[18,48,18,54],[18,55,18,61],[17,55,17,61],[17,62,17,68],[18,62,18,68],[17,69,17,73],[17,74,17,86],[17,27,17,33],[17,34,17,40],[17,41,17,47],[17,48,17,54],[17,4,35,4],[17,5,17,12],[17,13,17,19],[17,20,17,26],[19,5,19,7],[19,10,19,12],[19,13,19,19],[19,20,19,26],[21,5,21,7],[21,10,21,12],[31,5,31,7],[31,10,31,12],[31,13,31,19],[31,20,31,26],[32,10,32,12],[32,13,32,19],[32,20,32,26],[33,5,33,7],[33,10,33,12],[33,13,33,19],[33,20,33,26],[34,5,34,12],[35,5,35,12],[16,4,16,12],[16,13,16,19],[16,20,16,26],[16,27,16,33],[16,34,16,40],[16,41,16,47],[16,48,16,54],[16,55,16,61],[15,34,15,40],[15,41,15,47],[15,48,15,54],[15,55,15,61],[15,4,15,12],[15,13,15,19],[15,20,15,26],[15,27,15,33],[13,33,13,37],[10,53,10,57],[11,53,12,57],[16,62,16,68],[16,69,16,73],[16,74,16,86],[16,87,16,91],[15,62,15,68],[15,69,15,91],[11,4,12,5],[11,6,12,12],[11,13,12,17],[11,18,12,27],[11,28,12,32],[11,33,12,37],[11,38,12,47],[11,48,12,52],[10,83,11,91],[11,58,12,67],[11,68,12,72],[12,73,13,81],[12,82,13,91],[13,68,13,72],[10,58,10,67],[10,68,10,72],[10,73,11,82],[13,38,13,47],[13,48,13,52],[13,53,13,57],[13,58,13,67],[13,13,13,17],[13,18,13,27],[13,28,13,32],[9,58,9,67],[9,68,9,72],[9,73,9,91],[10,6,10,12],[10,13,10,17],[10,18,10,27],[10,28,10,32],[10,33,10,37],[10,38,10,47],[10,48,10,52],[9,33,9,37],[9,38,9,47],[9,48,9,52],[9,53,9,57],[9,6,9,12],[9,13,9,17],[9,18,9,27],[9,28,9,32],[8,68,8,72],[8,73,8,80],[7,78,7,91],[8,81,8,91],[7,33,7,37],[7,38,7,47],[7,48,7,52],[7,53,7,57],[8,6,8,12],[8,13,8,17],[8,18,8,27],[8,28,8,32],[8,33,8,37],[8,38,8,47],[8,48,8,52],[8,53,8,57],[8,58,8,67],[5,73,5,77],[5,78,5,91],[4,68,4,72],[4,73,4,91],[4,58,4,67],[7,6,7,7],[7,13,7,17],[7,18,7,27],[7,28,7,32],[6,73,6,80],[6,81,6,91],[6,33,6,37],[6,38,6,47],[6,48,6,52],[6,53,6,57],[6,7,6,8],[6,13,6,17],[6,18,6,27],[6,28,6,32],[7,58,7,67],[7,68,7,72],[7,73,7,77],[5,48,5,52],[4,38,4,47],[4,48,4,52],[4,53,4,57],[5,58,5,67],[5,68,5,72],[5,53,5,57],[6,58,6,67],[6,68,6,72],[2,4,2,5],[2,6,2,31],[4,13,4,27],[4,33,4,37],[5,13,5,17],[5,18,5,27],[5,28,5,32],[5,33,5,37],[5,38,5,47]]}
[null,null,null,null,null,null,null,null,null,null,null,null,null,null,null,null,null,null,null,null,null,null,null,null,null,null,null,null,null,null,null,null,null,null,null,null,null,null,null,null,null,null,null,null,null,null,null,null,null,null,null,null,null,null,null,null,null,null,null,null,null,null,null,null,{"$f":"IF('１３号入力'!AB124=\"\",\"\",'１３号入力'!AB124)","v":""}]
[]
[null,null,null,null,"栽培履歴",null,{"$f":"メニュー画面!F16","v":"静岡県温室農業協同組合（クラウンメロン支所）"},null,null,null,null,null,null,null,null,null,null,null,null,null,null,null,null,null,null,null,null,null,null,null,null,null,"検査日",null,null,null,null,null,"令和　　年　　月　　日",null,null,null,null,null,null,null,null,null,null,null,null,null,null,null,"検査責任者氏名　　　　　　　　　　 　　　　　　　　　　　　　印"]
[]
[null,"１３号室",null,null,"組合員番号：",null,{"$f":"メニュー画面!F18","v":"４　３　６"},null,null,null,null,null,null,"施用資材名",null,null,null,null,null,null,null,null,null,null,null,null,null,null,"投入量",null,null,null,null,{"$f":"IF('１３号入力'!F30=\"\",\"\",'１３号入力'!F30)","v":"〃"},null,null,null,null,{"$f":"IF('１３号入力'!AH30=\"\",\"\",'１３号入力'!AH30)","v":""},null,null,null,null,null,null,null,null,null,{"$f":"IF('１３号入力'!AA30=\"\",\"\",'１３号入力'!AA30)","v":""},null,null,null,null,{"$f":"IF('１３号入力'!F39=\"\",\"\",'１３号入力'!F39)","v":""},null,null,null,null,{"$f":"IF('１３号入力'!AH39=\"\",\"\",'１３号入力'!AH39)","v":""},null,null,null,null,null,null,null,null,null,{"$f":"IF('１３号入力'!AA39=\"\",\"\",'１３号入力'!AA39)","v":""},null,null,null,null,"施用粒剤"]
[null,null,null,null,"氏名：",null,{"$f":"メニュー画面!F20","v":"中　條　文　義"},null,null,null,null,null,null,{"$f":"IF('１３号入力'!F22=\"\",\"\",'１３号入力'!F22)","v":""},null,null,null,null,{"$f":"IF('１３号入力'!AH22=\"\",\"\",'１３号入力'!AH22)","v":"育苗"},null,null,null,null,null,null,null,null,null,{"$f":"IF('１３号入力'!AA22=\"\",\"\",'１３号入力'!AA22)","v":""},null,null,null,null,{"$f":"IF('１３号入力'!F31=\"\",\"\",'１３号入力'!F31)","v":"〃"},null,null,null,null,{"$f":"IF('１３号入力'!AH31=\"\",\"\",'１３号入力'!AH31)","v":""},null,null,null,null,null,null,null,null,null,{"$f":"IF('１３号入力'!AA31=\"\",\"\",'１３号入力'!AA31)","v":""},null,null,null,null,{"$f":"IF('１３号入力'!F40=\"\",\"\",'１３号入力'!F40)","v":""},null,null,null,null,{"$f":"IF('１３号入力'!AH40=\"\",\"\",'１３号入力'!AH40)","v":""},null,null,null,null,null,null,null,null,null,{"$f":"IF('１３号入力'!AA40=\"\",\"\",'１３号入力'!AA40)","v":""},null,null,null,null,{"$f":"IF('１３号入力'!F53=\"\",\"/\",'１３号入力'!F53)","v":"/"},null,null,null,null,{"$f":"IF('１３号入力'!I53=\"\",\"\",'１３号入力'!I53)","v":""}]
[null,null,null,null,"部屋番号：",null,{"$f":"IF('１３号入力'!F9=\"\",\"\",'１３号入力'!F9)","v":13},{"$f":"IF('１３号入力'!F10=\"\",\"\",'１３号入力'!F10)","v":""},null,null,null,null,null,{"$f":"IF('１３号入力'!F23=\"\",\"\",'１３号入力'!F23)","v":"2006-01-01"},null,null,null,null,{"$f":"IF('１３号入力'!AH23=\"\",\"\",'１３号入力'!AH23)","v":""},null,null,null,null,null,null,null,null,null,{"$f":"IF('１３号入力'!AA23=\"\",\"\",'１３号入力'!AA23)","v":""},null,null,null,null,{"$f":"IF('１３号入力'!F32=\"\",\"\",'１３号入力'!F32)","v":"〃"},null,null,null,null,{"$f":"IF('１３号入力'!AH32=\"\",\"\",'１３号入力'!AH32)","v":""},null,null,null,null,null,null,null,null,null,{"$f":"IF('１３号入力'!AA32=\"\",\"\",'１３号入力'!AA32)","v":""},null,null,null,null,{"$f":"IF('１３号入力'!F41=\"\",\"\",'１３号入力'!F41)","v":""},null,null,null,null,{"$f":"IF('１３号入力'!AH41=\"\",\"\",'１３号入力'!AH41)","v":""},null,null,null,null,null,null,null,null,null,{"$f":"IF('１３号入力'!AA41=\"\",\"\",'１３号入力'!AA41)","v":""},null,null,null,null,{"$f":"IF('１３号入力'!P53=0,\"g\",'１３号入力'!P53)","v":"g"},null,null,null,null,null,null,null,{"$f":"IF('１３号入力'!T53=0,0,'１３号入力'!T53)","v":0}]
[null,null,null,null,"品種名：",null,{"$f":"IF('１３号入力'!F11=\"\",\"\",'１３号入力'!F11)","v":"春　　系"},null,null,null,null,null,null,{"$f":"IF('１３号入力'!F24=\"\",\"\",'１３号入力'!F24)","v":"〃"},null,null,null,null,{"$f":"IF('１３号入力'!AH24=\"\",\"\",'１３号入力'!AH24)","v":""},null,null,null,null,null,null,null,null,null,{"$f":"IF('１３号入力'!AA24=\"\",\"\",'１３号入力'!AA24)","v":""},null,null,null,null,{"$f":"IF('１３号入力'!F33=\"\",\"\",'１３号入力'!F33)","v":"〃"},null,null,null,null,{"$f":"IF('１３号入力'!AH33=\"\",\"\",'１３号入力'!AH33)","v":""},null,null,null,null,null,null,null,null,null,{"$f":"IF('１３号入力'!AA33=\"\",\"\",'１３号入力'!AA33)","v":""},null,null,null,null,{"$f":"IF('１３号入力'!F42=\"\",\"\",'１３号入力'!F42)","v":""},null,null,null,null,{"$f":"IF('１３号入力'!AH42=\"\",\"\",'１３号入力'!AH42)","v":""},null,null,null,null,null,null,null,null,null,{"$f":"IF('１３号入力'!AA42=\"\",\"\",'１３号入力'!AA42)","v":""},null,null,null,null,{"$f":"IF('１３号入力'!F54=\"\",\"/\",'１３号入力'!F54)","v":"/"},null,null,null,null,{"$f":"IF('１３号入力'!I54=\"\",\"\",'１３号入力'!I54)","v":""}]
[null,null,null,null,"播種日：",null,{"$f":"IF('１３号入力'!F12=\"\",\"\",'１３号入力'!F12)","v":""},null,null,null,null,null,null,{"$f":"IF('１３号入力'!F25=\"\",\"\",'１３号入力'!F25)","v":"〃"},null,null,null,null,{"$f":"IF('１３号入力'!AH25=\"\",\"\",'１３号入力'!AH25)","v":""},null,null,null,null,null,null,null,null,null,{"$f":"IF('１３号入力'!AA25=\"\",\"\",'１３号入力'!AA25)","v":""},null,null,null,null,{"$f":"IF('１３号入力'!F34=\"\",\"\",'１３号入力'!F34)","v":"〃"},null,null,null,null,{"$f":"IF('１３号入力'!AH34=\"\",\"\",'１３号入力'!AH34)","v":""},null,null,null,null,null,null,null,null,null,{"$f":"IF('１３号入力'!AA34=\"\",\"\",'１３号入力'!AA34)","v":""},null,null,null,null,{"$f":"IF('１３号入力'!F43=\"\",\"\",'１３号入力'!F43)","v":""},null,null,null,null,{"$f":"IF('１３号入力'!AH43=\"\",\"\",'１３号入力'!AH43)","v":""},null,null,null,null,null,null,null,null,null,{"$f":"IF('１３号入力'!AA43=\"\",\"\",'１３号入力'!AA43)","v":""},null,null,null,null,{"$f":"IF('１３号入力'!P54=0,\"g\",'１３号入力'!P54)","v":"g"},null,null,null,null,null,null,null,{"$f":"IF('１３号入力'!T54=0,0,'１３号入力'!T54)","v":0}]
[null,null,null,null,"定植日：",null,{"$f":"IF('１３号入力'!F13=\"\",\"\",'１３号入力'!F13)","v":""},null,null,null,null,null,null,{"$f":"IF('１３号入力'!F26=\"\",\"\",'１３号入力'!F26)","v":"〃"},null,null,null,null,{"$f":"IF('１３号入力'!AH26=\"\",\"\",'１３号入力'!AH26)","v":""},null,null,null,null,null,null,null,null,null,{"$f":"IF('１３号入力'!AA26=\"\",\"\",'１３号入力'!AA26)","v":""},null,null,null,null,{"$f":"IF('１３号入力'!F35=\"\",\"\",'１３号入力'!F35)","v":"〃"},null,null,null,null,{"$f":"IF('１３号入力'!AH35=\"\",\"\",'１３号入力'!AH35)","v":""},null,null,null,null,null,null,null,null,null,{"$f":"IF('１３号入力'!AA35=\"\",\"\",'１３号入力'!AA35)","v":""},null,null,null,null,{"$f":"IF('１３号入力'!F44=\"\",\"\",'１３号入力'!F44)","v":""},null,null,null,null,{"$f":"IF('１３号入力'!AH44=\"\",\"\",'１３号入力'!AH44)","v":""},null,null,null,null,null,null,null,null,null,{"$f":"IF('１３号入力'!AA44=\"\",\"\",'１３号入力'!AA44)","v":""},null,null,null,null,"硫黄くん蒸剤"]
[null,null,null,null,"交配日：",null,{"$f":"IF('１３号入力'!F14=\"\",\"\",'１３号入力'!F14)","v":""},null,null,null,null,null,null,{"$f":"IF('１３号入力'!F27=\"\",\"\",'１３号入力'!F27)","v":"〃"},null,null,null,null,{"$f":"IF('１３号入力'!AH27=\"\",\"\",'１３号入力'!AH27)","v":""},null,null,null,null,null,null,null,null,null,{"$f":"IF('１３号入力'!AA27=\"\",\"\",'１３号入力'!AA27)","v":""},null,null,null,null,{"$f":"IF('１３号入力'!F36=\"\",\"\",'１３号入力'!F36)","v":""},null,null,null,null,{"$f":"IF('１３号入力'!AH36=\"\",\"\",'１３号入力'!AH36)","v":""},null,null,null,null,null,null,null,null,null,{"$f":"IF('１３号入力'!AA36=\"\",\"\",'１３号入力'!AA36)","v":""},null,null,null,null,{"$f":"IF('１３号入力'!F45=\"\",\"\",'１３号入力'!F45)","v":""},null,null,null,null,{"$f":"IF('１３号入力'!AH45=\"\",\"\",'１３号入力'!AH45)","v":""},null,null,null,null,null,null,null,null,null,{"$f":"IF('１３号入力'!AA45=\"\",\"\",'１３号入力'!AA45)","v":""},null,null,null,null,{"$f":"IF('１３号入力'!H59=\"\",\"/      ～\",'１３号入力'!H59)","v":"/      ～"},null,null,null,null,null,null,null,null,null,{"$f":"IF('１３号入力'!H60=\"\",\"    /\",'１３号入力'!H60)","v":"    /"}]
[null,null,null,null,"収穫日：",null,{"$f":"IF('１３号入力'!F16=\"\",\"\",'１３号入力'!F16)","v":""},null,null,null,null,null,null,{"$f":"IF('１３号入力'!F28=\"\",\"\",'１３号入力'!F28)","v":"〃"},null,null,null,null,{"$f":"IF('１３号入力'!AH28=\"\",\"\",'１３号入力'!AH28)","v":""},null,null,null,null,null,null,null,null,null,{"$f":"IF('１３号入力'!AA28=\"\",\"\",'１３号入力'!AA28)","v":""},null,null,null,null,{"$f":"IF('１３号入力'!F37=\"\",\"\",'１３号入力'!F37)","v":""},null,null,null,null,{"$f":"IF('１３号入力'!AH37=\"\",\"\",'１３号入力'!AH37)","v":""},null,null,null,null,null,null,null,null,null,{"$f":"IF('１３号入力'!AA37=\"\",\"\",'１３号入力'!AA37)","v":""},null,null,null,null,{"$f":"IF('１３号入力'!F46=\"\",\"\",'１３号入力'!F46)","v":""},null,null,null,null,{"$f":"IF('１３号入力'!AH46=\"\",\"\",'１３号入力'!AH46)","v":""},null,null,null,null,null,null,null,null,null,{"$f":"IF('１３号入力'!AA46=\"\",\"\",'１３号入力'!AA46)","v":""}]
[null,null,null,null,null,null,null,null,null,null,null,null,null,null,null,null,null,null,null,null,null,null,null,null,null,null,null,null,null,null,null,null,null,null,null,null,null,null,null,null,null,null,null,null,null,null,null,null,null,null,null,null,null,null,null,null,null,null,null,null,null,null,null,null,null,null,null,null,null,null,null,null,null,{"$f":"IF('１３号入力'!H61=\"\",\"g/日\",'１３号入力'!H61)","v":2},null,null,null,null,null,null,null,null,{"$f":"IF('１３号入力'!H62=\"\",\"g/部屋\",'１３号入力'!H62)","v":"g/部屋"}]
[null,null,null,null,"採果日数：",null,{"$f":"'１３号入力'!F15","v":0},null,null,null,null,null,null,{"$f":"IF('１３号入力'!F29=\"\",\"\",'１３号入力'!F29)","v":"〃"},null,null,null,null,{"$f":"IF('１３号入力'!AH29=\"\",\"\",'１３号入力'!AH29)","v":""},null,null,null,null,null,null,null,null,null,{"$f":"IF('１３号入力'!AA29=\"\",\"\",'１３号入力'!AA29)","v":""},null,null,null,null,{"$f":"IF('１３号入力'!F38=\"\",\"\",'１３号入力'!F38)","v":""},null,null,null,null,{"$f":"IF('１３号入力'!AH38=\"\",\"\",'１３号入力'!AH38)","v":""},null,null,null,null,null,null,null,null,null,{"$f":"IF('１３号入力'!AA38=\"\",\"\",'１３号入力'!AA38)","v":""},null,null,null,null,{"$f":"IF('１３号入力'!F47=\"\",\"\",'１３号入力'!F47)","v":""},null,null,null,null,{"$f":"IF('１３号入力'!AH47=\"\",\"\",'１３号入力'!AH47)","v":""},null,null,null,null,null,null,null,null,null,{"$f":"IF('１３号入力'!AA47=\"\",\"\",'１３号入力'!AA47)","v":""}]
[]
[null,null,null,null,"使用年月日",null,null,null,null,null,null,null,null,{"$f":"IF('１３号入力'!R68=\"\",\"/\",'１３号入力'!R68)","v":"/"},null,null,null,null,null,null,{"$f":"IF('１３号入力'!U68=\"\",\"/\",'１３号入力'!U68)","v":"/"},null,null,null,null,null,null,{"$f":"IF('１３号入力'!X68=\"\",\"/\",'１３号入力'!X68)","v":"/"},null,null,null,null,null,null,{"$f":"IF('１３号入力'!AA68=\"\",\"/\",'１３号入力'!AA68)","v":"/"},null,null,null,null,null,null,{"$f":"IF('１３号入力'!AD68=\"\",\"/\",'１３号入力'!AD68)","v":"/"},null,null,null,null,null,null,{"$f":"IF('１３号入力'!AG68=\"\",\"/\",'１３号入力'!AG68)","v":"/"},null,null,null,null,null,null,{"$f":"IF('１３号入力'!AJ68=\"\",\"/\",'１３号入力'!AJ68)","v":"/"},null,null,null,null,null,null,{"$f":"IF('１３号入力'!AM68=\"\",\"/\",'１３号入力'!AM68)","v":"/"},null,null,null,null,null,null,"使用液肥・葉面散布剤"]
[null,null,null,null,"生育ステージ",null,null,null,null,null,null,null,null,{"$f":"IF('１３号入力'!R69=\"\",\"\",'１３号入力'!R69)","v":"育苗"},null,null,null,null,null,null,{"$f":"IF('１３号入力'!U69=\"\",\"\",'１３号入力'!U69)","v":"木作り"},null,null,null,null,null,null,{"$f":"IF('１３号入力'!X69=\"\",\"\",'１３号入力'!X69)","v":"木作り"},null,null,null,null,null,null,{"$f":"IF('１３号入力'!AA69=\"\",\"\",'１３号入力'!AA69)","v":"肥大期"},null,null,null,null,null,null,{"$f":"IF('１３号入力'!AD69=\"\",\"\",'１３号入力'!AD69)","v":"肥大期"},null,null,null,null,null,null,{"$f":"IF('１３号入力'!AG69=\"\",\"\",'１３号入力'!AG69)","v":"仕上げ"},null,null,null,null,null,null,{"$f":"IF('１３号入力'!AJ69=\"\",\"\",'１３号入力'!AJ69)","v":"仕上げ"},null,null,null,null,null,null,{"$f":"IF('１３号入力'!AM69=\"\",\"\",'１３号入力'!AM69)","v":"仕上げ"},null,null,null,null,null,null,{"$f":"IF('１３号入力'!E105=\"\",\"/\",'１３号入力'!E105)","v":"/"},null,null,null,null,{"$f":"IF('１３号入力'!H105=\"\",\"\",'１３号入力'!H105)","v":""},null,null,null,null,null,null,null,null,null,null,null,null,{"$f":"IF('１３号入力'!Q105=0,0,'１３号入力'!Q105)","v":0}]
[null,null,null,null,"使用農薬名","散布量",null,null,null,null,null,null,null,{"$f":"IF('１３号入力'!R70=0,0,'１３号入力'!R70)","v":0},null,null,null,null,null,null,{"$f":"IF('１３号入力'!U70=0,0,'１３号入力'!U70)","v":0},null,null,null,null,null,null,{"$f":"IF('１３号入力'!X70=0,0,'１３号入力'!X70)","v":0},null,null,null,null,null,null,{"$f":"IF('１３号入力'!AA70=0,0,'１３号入力'!AA70)","v":0},null,null,null,null,null,null,{"$f":"IF('１３号入力'!AD70=0,0,'１３号入力'!AD70)","v":0},null,null,null,null,null,null,{"$f":"IF('１３号入力'!AG70=0,0,'１３号入力'!AG70)","v":0},null,null,null,null,null,null,{"$f":"IF('１３号入力'!AJ70=0,0,'１３号入力'!AJ70)","v":0},null,null,null,null,null,null,{"$f":"IF('１３号入力'!AM70=0,0,'１３号入力'!AM70)","v":0},null,null,null,null,null,null,{"$f":"IF('１３号入力'!E106=\"\",\"\",'１３号入力'!E106)","v":""},null,null,null,null,{"$f":"IF('１３号入力'!H106=\"\",\"\",'１３号入力'!H106)","v":""},null,null,null,null,null,null,null,null,null,null,null,null,{"$f":"IF('１３号入力'!Q106=0,\"\",'１３号入力'!Q106)","v":""}]
[null,null,null,null,null,{"$f":"IF('１３号入力'!D71=\"\",\"\",'１３号入力'!D71)","v":""},null,null,{"$f":"IF(F19=\"\",\"\",VLOOKUP(F19,Ｍ農薬台帳,3,FALSE))","v":""},{"$f":"IF(F19=\"\",\"\",\"-\")","v":""},{"$f":"IF(F19=\"\",\"\",VLOOKUP(F19,Ｍ農薬台帳,2,FALSE))","v":""},null,null,{"$f":"IF('１３号入力'!R71=\"\",\"\",'１３号入力'!R71)","v":""},null,null,null,null,null,null,{"$f":"IF('１３号入力'!U71=\"\",\"\",'１３号入力'!U71)","v":""},null,null,null,null,null,null,{"$f":"IF('１３号入力'!X71=\"\",\"\",'１３号入力'!X71)","v":""},null,null,null,null,null,null,{"$f":"IF('１３号入力'!AA71=\"\",\"\",'１３号入力'!AA71)","v":""},null,null,null,null,null,null,{"$f":"IF('１３号入力'!AD71=\"\",\"\",'１３号入力'!AD71)","v":""},null,null,null,null,null,null,{"$f":"IF('１３号入力'!AG71=\"\",\"\",'１３号入力'!AG71)","v":""},null,null,null,null,null,null,{"$f":"IF('１３号入力'!AJ71=\"\",\"\",'１３号入力'!AJ71)","v":""},null,null,null,null,null,null,{"$f":"IF('１３号入力'!AM71=\"\",\"\",'１３号入力'!AM71)","v":""},null,null,null,null,null,null,{"$f":"IF('１３号入力'!E107=\"\",\"\",'１３号入力'!E107)","v":""},null,null,null,null,{"$f":"IF('１３号入力'!H107=\"\",\"\",'１３号入力'!H107)","v":""},null,null,null,null,null,null,null,null,null,null,null,null,{"$f":"IF('１３号入力'!Q107=0,\"\",'１３号入力'!Q107)","v":""}]
[null,null,null,null,null,{"$f":"IF('１３号入力'!D72=\"\",\"\",'１３号入力'!D72)","v":""},null,null,"","","",null,null,{"$f":"IF('１３号入力'!R72=\"\",\"\",'１３号入力'!R72)","v":""},null,null,null,null,null,null,{"$f":"IF('１３号入力'!U72=\"\",\"\",'１３号入力'!U72)","v":""},null,null,null,null,null,null,{"$f":"IF('１３号入力'!X72=\"\",\"\",'１３号入力'!X72)","v":""},null,null,null,null,null,null,{"$f":"IF('１３号入力'!AA72=\"\",\"\",'１３号入力'!AA72)","v":""},null,null,null,null,null,null,{"$f":"IF('１３号入力'!AD72=\"\",\"\",'１３号入力'!AD72)","v":""},null,null,null,null,null,null,{"$f":"IF('１３号入力'!AG72=\"\",\"\",'１３号入力'!AG72)","v":""},null,null,null,null,null,null,{"$f":"IF('１３号入力'!AJ72=\"\",\"\",'１３号入力'!AJ72)","v":""},null,null,null,null,null,null,{"$f":"IF('１３号入力'!AM72=\"\",\"\",'１３号入力'!AM72)","v":""},null,null,null,null,null,null,{"$f":"IF('１３号入力'!E108=\"\",\"\",'１３号入力'!E108)","v":""},null,null,null,null,{"$f":"IF('１３号入力'!H108=\"\",\"\",'１３号入力'!H108)","v":""},null,null,null,null,null,null,null,null,null,null,null,null,{"$f":"IF('１３号入力'!Q108=0,\"\",'１３号入力'!Q108)","v":""}]
[null,null,null,null,null,{"$f":"IF('１３号入力'!D73=\"\",\"\",'１３号入力'!D73)","v":""},null,null,"","","",null,null,{"$f":"IF('１３号入力'!R73=\"\",\"\",'１３号入力'!R73)","v":""},null,null,null,null,null,null,{"$f":"IF('１３号入力'!U73=\"\",\"\",'１３号入力'!U73)","v":""},null,null,null,null,null,null,{"$f":"IF('１３号入力'!X73=\"\",\"\",'１３号入力'!X73)","v":""},null,null,null,null,null,null,{"$f":"IF('１３号入力'!AA73=\"\",\"\",'１３号入力'!AA73)","v":""},null,null,null,null,null,null,{"$f":"IF('１３号入力'!AD73=\"\",\"\",'１３号入力'!AD73)","v":""},null,null,null,null,null,null,{"$f":"IF('１３号入力'!AG73=\"\",\"\",'１３号入力'!AG73)","v":""},null,null,null,null,null,null,{"$f":"IF('１３号入力'!AJ73=\"\",\"\",'１３号入力'!AJ73)","v":""},null,null,null,null,null,null,{"$f":"IF('１３号入力'!AM73=\"\",\"\",'１３号入力'!AM73)","v":""},null,null,null,null,null,null,{"$f":"IF('１３号入力'!E109=\"\",\"\",'１３号入力'!E109)","v":""},null,null,null,null,{"$f":"IF('１３号入力'!H109=\"\",\"\",'１３号入力'!H109)","v":""},null,null,null,null,null,null,null,null,null,null,null,null,{"$f":"IF('１３号入力'!Q109=0,\"\",'１３号入力'!Q109)","v":""}]
[null,null,null,null,null,{"$f":"IF('１３号入力'!D74=\"\",\"\",'１３号入力'!D74)","v":""},null,null,"","","",null,null,{"$f":"IF('１３号入力'!R74=\"\",\"\",'１３号入力'!R74)","v":""},null,null,null,null,null,null,{"$f":"IF('１３号入力'!U74=\"\",\"\",'１３号入力'!U74)","v":""},null,null,null,null,null,null,{"$f":"IF('１３号入力'!X74=\"\",\"\",'１３号入力'!X74)","v":""},null,null,null,null,null,null,{"$f":"IF('１３号入力'!AA74=\"\",\"\",'１３号入力'!AA74)","v":""},null,null,null,null,null,null,{"$f":"IF('１３号入力'!AD74=\"\",\"\",'１３号入力'!AD74)","v":""},null,null,null,null,null,null,{"$f":"IF('１３号入力'!AG74=\"\",\"\",'１３号入力'!AG74)","v":""},null,null,null,null,null,null,{"$f":"IF('１３号入力'!AJ74=\"\",\"\",'１３号入力'!AJ74)","v":""},null,null,null,null,null,null,{"$f":"IF('１３号入力'!AM74=\"\",\"\",'１３号入力'!AM74)","v":""},null,null,null,null,null,null,{"$f":"IF('１３号入力'!E110=\"\",\"\",'１３号入力'!E110)","v":""},null,null,null,null,{"$f":"IF('１３号入力'!H110=\"\",\"\",'１３号入力'!H110)","v":""},null,null,null,null,null,null,null,null,null,null,null,null,{"$f":"IF('１３号入力'!Q110=0,\"\",'１３号入力'!Q110)","v":""}]
[null,null,null,null,null,{"$f":"IF('１３号入力'!D75=\"\",\"\",'１３号入力'!D75)","v":""},null,null,"","","",null,null,{"$f":"IF('１３号入力'!R75=\"\",\"\",'１３号入力'!R75)","v":""},null,null,null,null,null,null,{"$f":"IF('１３号入力'!U75=\"\",\"\",'１３号入力'!U75)","v":""},null,null,null,null,null,null,{"$f":"IF('１３号入力'!X75=\"\",\"\",'１３号入力'!X75)","v":""},null,null,null,null,null,null,{"$f":"IF('１３号入力'!AA75=\"\",\"\",'１３号入力'!AA75)","v":""},null,null,null,null,null,null,{"$f":"IF('１３号入力'!AD75=\"\",\"\",'１３号入力'!AD75)","v":""},null,null,null,null,null,null,{"$f":"IF('１３号入力'!AG75=\"\",\"\",'１３号入力'!AG75)","v":""},null,null,null,null,null,null,{"$f":"IF('１３号入力'!AJ75=\"\",\"\",'１３号入力'!AJ75)","v":""},null,null,null,null,null,null,{"$f":"IF('１３号入力'!AM75=\"\",\"\",'１３号入力'!AM75)","v":""},null,null,null,null,null,null,{"$f":"IF('１３号入力'!E111=\"\",\"\",'１３号入力'!E111)","v":""},null,null,null,null,{"$f":"IF('１３号入力'!H111=\"\",\"\",'１３号入力'!H111)","v":""},null,null,null,null,null,null,null,null,null,null,null,null,{"$f":"IF('１３号入力'!Q111=0,\"\",'１３号入力'!Q111)","v":""}]
[null,null,null,null,null,{"$f":"IF('１３号入力'!D76=\"\",\"\",'１３号入力'!D76)","v":""},null,null,"","","",null,null,{"$f":"IF('１３号入力'!R76=\"\",\"\",'１３号入力'!R76)","v":""},null,null,null,null,null,null,{"$f":"IF('１３号入力'!U76=\"\",\"\",'１３号入力'!U76)","v":""},null,null,null,null,null,null,{"$f":"IF('１３号入力'!X76=\"\",\"\",'１３号入力'!X76)","v":""},null,null,null,null,null,null,{"$f":"IF('１３号入力'!AA76=\"\",\"\",'１３号入力'!AA76)","v":""},null,null,null,null,null,null,{"$f":"IF('１３号入力'!AD76=\"\",\"\",'１３号入力'!AD76)","v":""},null,null,null,null,null,null,{"$f":"IF('１３号入力'!AG76=\"\",\"\",'１３号入力'!AG76)","v":""},null,null,null,null,null,null,{"$f":"IF('１３号入力'!AJ76=\"\",\"\",'１３号入力'!AJ76)","v":""},null,null,null,null,null,null,{"$f":"IF('１３号入力'!AM76=\"\",\"\",'１３号入力'!AM76)","v":""},null,null,null,null,null,null,{"$f":"IF('１３号入力'!E112=\"\",\"\",'１３号入力'!E112)","v":""},null,null,null,null,{"$f":"IF('１３号入力'!H112=\"\",\"\",'１３号入力'!H112)","v":""},null,null,null,null,null,null,null,null,null,null,null,null,{"$f":"IF('１３号入力'!Q112=0,\"\",'１３号入力'!Q112)","v":""}]
[null,null,null,null,null,{"$f":"IF('１３号入力'!D77=\"\",\"\",'１３号入力'!D77)","v":""},null,null,"","","",null,null,{"$f":"IF('１３号入力'!R77=\"\",\"\",'１３号入力'!R77)","v":""},null,null,null,null,null,null,{"$f":"IF('１３号入力'!U77=\"\",\"\",'１３号入力'!U77)","v":""},null,null,null,null,null,null,{"$f":"IF('１３号入力'!X77=\"\",\"\",'１３号入力'!X77)","v":""},null,null,null,null,null,null,{"$f":"IF('１３号入力'!AA77=\"\",\"\",'１３号入力'!AA77)","v":""},null,null,null,null,null,null,{"$f":"IF('１３号入力'!AD77=\"\",\"\",'１３号入力'!AD77)","v":""},null,null,null,null,null,null,{"$f":"IF('１３号入力'!AG77=\"\",\"\",'１３号入力'!AG77)","v":""},null,null,null,null,null,null,{"$f":"IF('１３号入力'!AJ77=\"\",\"\",'１３号入力'!AJ77)","v":""},null,null,null,null,null,null,{"$f":"IF('１３号入力'!AM77=\"\",\"\",'１３号入力'!AM77)","v":""},null,null,null,null,null,null,{"$f":"IF('１３号入力'!E113=\"\",\"\",'１３号入力'!E113)","v":""},null,null,null,null,{"$f":"IF('１３号入力'!H113=\"\",\"\",'１３号入力'!H113)","v":""},null,null,null,null,null,null,null,null,null,null,null,null,{"$f":"IF('１３号入力'!Q113=0,\"\",'１３号入力'!Q113)","v":""}]
[null,null,null,null,null,{"$f":"IF('１３号入力'!D78=\"\",\"\",'１３号入力'!D78)","v":""},null,null,"","","",null,null,{"$f":"IF('１３号入力'!R78=\"\",\"\",'１３号入力'!R78)","v":""},null,null,null,null,null,null,{"$f":"IF('１３号入力'!U78=\"\",\"\",'１３号入力'!U78)","v":""},null,null,null,null,null,null,{"$f":"IF('１３号入力'!X78=\"\",\"\",'１３号入力'!X78)","v":""},null,null,null,null,null,null,{"$f":"IF('１３号入力'!AA78=\"\",\"\",'１３号入力'!AA78)","v":""},null,null,null,null,null,null,{"$f":"IF('１３号入力'!AD78=\"\",\"\",'１３号入力'!AD78)","v":""},null,null,null,null,null,null,{"$f":"IF('１３号入力'!AG78=\"\",\"\",'１３号入力'!AG78)","v":""},null,null,null,null,null,null,{"$f":"IF('１３号入力'!AJ78=\"\",\"\",'１３号入力'!AJ78)","v":""},null,null,null,null,null,null,{"$f":"IF('１３号入力'!AM78=\"\",\"\",'１３号入力'!AM78)","v":""},null,null,null,null,null,null,{"$f":"IF('１３号入力'!E114=\"\",\"\",'１３号入力'!E114)","v":""},null,null,null,null,{"$f":"IF('１３号入力'!H114=\"\",\"\",'１３号入力'!H114)","v":""},null,null,null,null,null,null,null,null,null,null,null,null,{"$f":"IF('１３号入力'!Q114=0,\"\",'１３号入力'!Q114)","v":""}]
[null,null,null,null,null,{"$f":"IF('１３号入力'!D79=\"\",\"\",'１３号入力'!D79)","v":""},null,null,"","","",null,null,{"$f":"IF('１３号入力'!R79=\"\",\"\",'１３号入力'!R79)","v":""},null,null,null,null,null,null,{"$f":"IF('１３号入力'!U79=\"\",\"\",'１３号入力'!U79)","v":""},null,null,null,null,null,null,{"$f":"IF('１３号入力'!X79=\"\",\"\",'１３号入力'!X79)","v":""},null,null,null,null,null,null,{"$f":"IF('１３号入力'!AA79=\"\",\"\",'１３号入力'!AA79)","v":""},null,null,null,null,null,null,{"$f":"IF('１３号入力'!AD79=\"\",\"\",'１３号入力'!AD79)","v":""},null,null,null,null,null,null,{"$f":"IF('１３号入力'!AG79=\"\",\"\",'１３号入力'!AG79)","v":""},null,null,null,null,null,null,{"$f":"IF('１３号入力'!AJ79=\"\",\"\",'１３号入力'!AJ79)","v":""},null,null,null,null,null,null,{"$f":"IF('１３号入力'!AM79=\"\",\"\",'１３号入力'!AM79)","v":""},null,null,null,null,null,null,{"$f":"IF('１３号入力'!E115=\"\",\"\",'１３号入力'!E115)","v":""},null,null,null,null,{"$f":"IF('１３号入力'!H115=\"\",\"\",'１３号入力'!H115)","v":""},null,null,null,null,null,null,null,null,null,null,null,null,{"$f":"IF('１３号入力'!Q115=0,\"\",'１３号入力'!Q115)","v":""}]
[null,null,null,null,null,{"$f":"IF('１３号入力'!D80=\"\",\"\",'１３号入力'!D80)","v":""},null,null,"","","",null,null,{"$f":"IF('１３号入力'!R80=\"\",\"\",'１３号入力'!R80)","v":""},null,null,null,null,null,null,{"$f":"IF('１３号入力'!U80=\"\",\"\",'１３号入力'!U80)","v":""},null,null,null,null,null,null,{"$f":"IF('１３号入力'!X80=\"\",\"\",'１３号入力'!X80)","v":""},null,null,null,null,null,null,{"$f":"IF('１３号入力'!AA80=\"\",\"\",'１３号入力'!AA80)","v":""},null,null,null,null,null,null,{"$f":"IF('１３号入力'!AD80=\"\",\"\",'１３号入力'!AD80)","v":""},null,null,null,null,null,null,{"$f":"IF('１３号入力'!AG80=\"\",\"\",'１３号入力'!AG80)","v":""},null,null,null,null,null,null,{"$f":"IF('１３号入力'!AJ80=\"\",\"\",'１３号入力'!AJ80)","v":""},null,null,null,null,null,null,{"$f":"IF('１３号入力'!AM80=\"\",\"\",'１３号入力'!AM80)","v":""},null,null,null,null,null,null,{"$f":"IF('１３号入力'!E116=\"\",\"\",'１３号入力'!E116)","v":""},null,null,null,null,{"$f":"IF('１３号入力'!H116=\"\",\"\",'１３号入力'!H116)","v":""},null,null,null,null,null,null,null,null,null,null,null,null,{"$f":"IF('１３号入力'!Q116=0,\"\",'１３号入力'!Q116)","v":""}]
[null,null,null,null,null,{"$f":"IF('１３号入力'!D81=\"\",\"\",'１３号入力'!D81)","v":""},null,null,"","","",null,null,{"$f":"IF('１３号入力'!R81=\"\",\"\",'１３号入力'!R81)","v":""},null,null,null,null,null,null,{"$f":"IF('１３号入力'!U81=\"\",\"\",'１３号入力'!U81)","v":""},null,null,null,null,null,null,{"$f":"IF('１３号入力'!X81=\"\",\"\",'１３号入力'!X81)","v":""},null,null,null,null,null,null,{"$f":"IF('１３号入力'!AA81=\"\",\"\",'１３号入力'!AA81)","v":""},null,null,null,null,null,null,{"$f":"IF('１３号入力'!AD81=\"\",\"\",'１３号入力'!AD81)","v":""},null,null,null,null,null,null,{"$f":"IF('１３号入力'!AG81=\"\",\"\",'１３号入力'!AG81)","v":""},null,null,null,null,null,null,{"$f":"IF('１３号入力'!AJ81=\"\",\"\",'１３号入力'!AJ81)","v":""},null,null,null,null,null,null,{"$f":"IF('１３号入力'!AM81=\"\",\"\",'１３号入力'!AM81)","v":""},null,null,null,null,null,null,{"$f":"IF('１３号入力'!E117=\"\",\"\",'１３号入力'!E117)","v":""},null,null,null,null,{"$f":"IF('１３号入力'!H117=\"\",\"\",'１３号入力'!H117)","v":""},null,null,null,null,null,null,null,null,null,null,null,null,{"$f":"IF('１３号入力'!Q117=0,\"\",'１３号入力'!Q117)","v":""}]
[null,null,null,null,null,{"$f":"IF('１３号入力'!D82=\"\",\"\",'１３号入力'!D82)","v":""},null,null,"","","",null,null,{"$f":"IF('１３号入力'!R82=\"\",\"\",'１３号入力'!R82)","v":""},null,null,null,null,null,null,{"$f":"IF('１３号入力'!U82=\"\",\"\",'１３号入力'!U82)","v":""},null,null,null,null,null,null,{"$f":"IF('１３号入力'!X82=\"\",\"\",'１３号入力'!X82)","v":""},null,null,null,null,null,null,{"$f":"IF('１３号入力'!AA82=\"\",\"\",'１３号入力'!AA82)","v":""},null,null,null,null,null,null,{"$f":"IF('１３号入力'!AD82=\"\",\"\",'１３号入力'!AD82)","v":""},null,null,null,null,null,null,{"$f":"IF('１３号入力'!AG82=\"\",\"\",'１３号入力'!AG82)","v":""},null,null,null,null,null,null,{"$f":"IF('１３号入力'!AJ82=\"\",\"\",'１３号入力'!AJ82)","v":""},null,null,null,null,null,null,{"$f":"IF('１３号入力'!AM82=\"\",\"\",'１３号入力'!AM82)","v":""},null,null,null,null,null,null,{"$f":"IF('１３号入力'!E118=\"\",\"\",'１３号入力'!E118)","v":""},null,null,null,null,{"$f":"IF('１３号入力'!H118=\"\",\"\",'１３号入力'!H118)","v":""},null,null,null,null,null,null,null,null,null,null,null,null,{"$f":"IF('１３号入力'!Q118=0,\"\",'１３号入力'!Q118)","v":""}]
[null,null,null,null,null,{"$f":"IF('１３号入力'!D83=\"\",\"\",'１３号入力'!D83)","v":""},null,null,"","","",null,null,{"$f":"IF('１３号入力'!R83=\"\",\"\",'１３号入力'!R83)","v":""},null,null,null,null,null,null,{"$f":"IF('１３号入力'!U83=\"\",\"\",'１３号入力'!U83)","v":""},null,null,null,null,null,null,{"$f":"IF('１３号入力'!X83=\"\",\"\",'１３号入力'!X83)","v":""},null,null,null,null,null,null,{"$f":"IF('１３号入力'!AA83=\"\",\"\",'１３号入力'!AA83)","v":""},null,null,null,null,null,null,{"$f":"IF('１３号入力'!AD83=\"\",\"\",'１３号入力'!AD83)","v":""},null,null,null,null,null,null,{"$f":"IF('１３号入力'!AG83=\"\",\"\",'１３号入力'!AG83)","v":""},null,null,null,null,null,null,{"$f":"IF('１３号入力'!AJ83=\"\",\"\",'１３号入力'!AJ83)","v":""},null,null,null,null,null,null,{"$f":"IF('１３号入力'!AM83=\"\",\"\",'１３号入力'!AM83)","v":""},null,null,null,null,null,null,{"$f":"IF('１３号入力'!E119=\"\",\"\",'１３号入力'!E119)","v":""},null,null,null,null,{"$f":"IF('１３号入力'!H119=\"\",\"\",'１３号入力'!H119)","v":""},null,null,null,null,null,null,null,null,null,null,null,null,{"$f":"IF('１３号入力'!Q119=0,\"\",'１３号入力'!Q119)","v":""}]
[null,null,null,null,null,{"$f":"IF('１３号入力'!D84=\"\",\"\",'１３号入力'!D84)","v":""},null,null,"","","",null,null,{"$f":"IF('１３号入力'!R84=\"\",\"\",'１３号入力'!R84)","v":""},null,null,null,null,null,null,{"$f":"IF('１３号入力'!U84=\"\",\"\",'１３号入力'!U84)","v":""},null,null,null,null,null,null,{"$f":"IF('１３号入力'!X84=\"\",\"\",'１３号入力'!X84)","v":""},null,null,null,null,null,null,{"$f":"IF('１３号入力'!AA84=\"\",\"\",'１３号入力'!AA84)","v":""},null,null,null,null,null,null,{"$f":"IF('１３号入力'!AD84=\"\",\"\",'１３号入力'!AD84)","v":""},null,null,null,null,null,null,{"$f":"IF('１３号入力'!AG84=\"\",\"\",'１３号入力'!AG84)","v":""},null,null,null,null,null,null,{"$f":"IF('１３号入力'!AJ84=\"\",\"\",'１３号入力'!AJ84)","v":""},null,null,null,null,null,null,{"$f":"IF('１３号入力'!AM84=\"\",\"\",'１３号入力'!AM84)","v":""},null,null,null,null,null,null,{"$f":"IF('１３号入力'!E120=\"\",\"\",'１３号入力'!E120)","v":""},null,null,null,null,{"$f":"IF('１３号入力'!H120=\"\",\"\",'１３号入力'!H120)","v":""},null,null,null,null,null,null,null,null,null,null,null,null,{"$f":"IF('１３号入力'!Q120=0,\"\",'１３号入力'!Q120)","v":""}]
[null,null,null,null,null,{"$f":"IF('１３号入力'!D85=\"\",\"\",'１３号入力'!D85)","v":""},null,null,"","","",null,null,{"$f":"IF('１３号入力'!R85=\"\",\"\",'１３号入力'!R85)","v":""},null,null,null,null,null,null,{"$f":"IF('１３号入力'!U85=\"\",\"\",'１３号入力'!U85)","v":""},null,null,null,null,null,null,{"$f":"IF('１３号入力'!X85=\"\",\"\",'１３号入力'!X85)","v":""},null,null,null,null,null,null,{"$f":"IF('１３号入力'!AA85=\"\",\"\",'１３号入力'!AA85)","v":""},null,null,null,null,null,null,{"$f":"IF('１３号入力'!AD85=\"\",\"\",'１３号入力'!AD85)","v":""},null,null,null,null,null,null,{"$f":"IF('１３号入力'!AG85=\"\",\"\",'１３号入力'!AG85)","v":""},null,null,null,null,null,null,{"$f":"IF('１３号入力'!AJ85=\"\",\"\",'１３号入力'!AJ85)","v":""},null,null,null,null,null,null,{"$f":"IF('１３号入力'!AM85=\"\",\"\",'１３号入力'!AM85)","v":""},null,null,null,null,null,null,{"$f":"IF('１３号入力'!E121=\"\",\"\",'１３号入力'!E121)","v":""},null,null,null,null,{"$f":"IF('１３号入力'!H121=\"\",\"\",'１３号入力'!H121)","v":""},null,null,null,null,null,null,null,null,null,null,null,null,{"$f":"IF('１３号入力'!Q121=0,\"\",'１３号入力'!Q121)","v":""}]
[null,null,null,null,null,{"$f":"IF('１３号入力'!D86=\"\",\"\",'１３号入力'!D86)","v":""},null,null,"","","",null,null,{"$f":"IF('１３号入力'!R86=\"\",\"\",'１３号入力'!R86)","v":""},null,null,null,null,null,null,{"$f":"IF('１３号入力'!U86=\"\",\"\",'１３号入力'!U86)","v":""},null,null,null,null,null,null,{"$f":"IF('１３号入力'!X86=\"\",\"\",'１３号入力'!X86)","v":""},null,null,null,null,null,null,{"$f":"IF('１３号入力'!AA86=\"\",\"\",'１３号入力'!AA86)","v":""},null,null,null,null,null,null,{"$f":"IF('１３号入力'!AD86=\"\",\"\",'１３号入力'!AD86)","v":""},null,null,null,null,null,null,{"$f":"IF('１３号入力'!AG86=\"\",\"\",'１３号入力'!AG86)","v":""},null,null,null,null,null,null,{"$f":"IF('１３号入力'!AJ86=\"\",\"\",'１３号入力'!AJ86)","v":""},null,null,null,null,null,null,{"$f":"IF('１３号入力'!AM86=\"\",\"\",'１３号入力'!AM86)","v":""},null,null,null,null,null,null,{"$f":"IF('１３号入力'!E122=\"\",\"\",'１３号入力'!E122)","v":""},null,null,null,null,{"$f":"IF('１３号入力'!H122=\"\",\"\",'１３号入力'!H122)","v":""},null,null,null,null,null,null,null,null,null,null,null,null,{"$f":"IF('１３号入力'!Q122=0,\"\",'１３号入力'!Q122)","v":""}]
[null,null,null,null,null,"植物成長調整剤",null,null,null,null,null,null,null,{"$f":"IF('１３号入力'!F91=\"\",\"/\",'１３号入力'!F91)","v":"/"},null,null,null,null,{"$f":"IF('１３号入力'!I91=0,0,'１３号入力'!I91)","v":0},null,null,null,null,null,null,null,{"$f":"IF('１３号入力'!N91=0,0,'１３号入力'!N91)","v":0},null,null,null,null,null,null,null,{"$f":"IF('１３号入力'!C94=\"\",\"\",'１３号入力'!C94)","v":"トップジンＭ水和剤"},null,null,null,null,null,null,null,null,null,null,null,null,null,null,null,{"$f":"IF('１３号入力'!F97=\"\",\"/\",'１３号入力'!F97)","v":"/"},null,null,null,null,{"$f":"IF('１３号入力'!I97=0,0,'１３号入力'!I97)","v":0},null,null,null,null,null,null,null,{"$f":"IF('１３号入力'!N97=0,0,'１３号入力'!N97)","v":0},null,null,null,null,null,null,null,{"$f":"IF('１３号入力'!F99=\"\",\"/\",'１３号入力'!F99)","v":"/"},null,null,null,null,{"$f":"IF('１３号入力'!I99=0,0,'１３号入力'!I99)","v":0},null,null,null,null,null,null,null,{"$f":"IF('１３号入力'!N99=0,0,'１３号入力'!N99)","v":0}]
[null,null,null,null,null,{"$f":"IF('１３号入力'!L88=\"\",\"\",'１３号入力'!L88)","v":"アークランド液剤"},null,null,null,null,null,null,null,{"$f":"IF('１３号入力'!F92=\"\",\"/\",'１３号入力'!F92)","v":"/"},null,null,null,null,{"$f":"IF('１３号入力'!I92=0,0,'１３号入力'!I92)","v":0},null,null,null,null,null,null,null,{"$f":"IF('１３号入力'!N92=0,0,'１３号入力'!N92)","v":0},null,null,null,null,null,null,null,null,null,null,null,null,null,null,null,null,null,null,null,null,null,null,null,{"$f":"IF('１３号入力'!F98=\"\",\"/\",'１３号入力'!F98)","v":"/"},null,null,null,null,{"$f":"IF('１３号入力'!I98=0,0,'１３号入力'!I98)","v":0},null,null,null,null,null,null,null,{"$f":"IF('１３号入力'!N98=0,0,'１３号入力'!N98)","v":0},null,null,null,null,null,null,null,{"$f":"IF('１３号入力'!F100=\"\",\"/\",'１３号入力'!F100)","v":"/"},null,null,null,null,{"$f":"IF('１３号入力'!I100=0,0,'１３号入力'!I100)","v":0},null,null,null,null,null,null,null,{"$f":"IF('１３号入力'!N100=0,0,'１３号入力'!N100)","v":0}]

{"sheet":"１４号入力","index":28,"n_rows":128,"n_cols":53,"rows_kept":128,"cut":false,"hidden":false,"merged":[[121,16,121,18],[120,2,120,3],[120,4,120,6],[120,7,120,15],[120,16,120,18],[121,2,121,3],[121,4,121,6],[121,7,121,15],[119,16,119,18],[118,2,118,3],[118,4,118,6],[118,7,118,15],[118,16,118,18],[119,2,119,3],[119,4,119,6],[119,7,119,15],[117,7,117,15],[117,16,117,18],[116,2,116,3],[116,4,116,6],[116,7,116,15],[116,16,116,18],[117,2,117,3],[117,4,117,6],[115,2,115,3],[115,4,115,6],[115,7,115,15],[115,16,115,18],[114,2,114,3],[114,4,114,6],[114,7,114,15],[114,16,114,18],[113,2,113,3],[113,4,113,6],[113,7,113,15],[113,16,113,18],[112,2,112,3],[112,4,112,6],[112,7,112,15],[112,16,112,18],[111,2,111,3],[111,4,111,6],[111,7,111,15],[111,16,111,18],[110,2,110,3],[110,4,110,6],[110,7,110,15],[110,16,110,18],[109,2,109,3],[109,4,109,6],[109,7,109,15],[109,16,109,18],[108,2,108,3],[108,4,108,6],[108,7,108,15],[108,16,108,18],[107,2,107,3],[107,4,107,6],[107,7,107,15],[107,16,107,18],[106,2,106,3],[106,4,106,6],[106,7,106,15],[106,16,106,18],[105,2,105,3],[105,4,105,6],[105,7,105,15],[105,16,105,18],[104,2,104,3],[104,4,104,6],[104,7,104,15],[104,16,104,18],[103,2,103,3],[103,4,103,6],[103,7,103,15],[103,16,103,18],[99,2,99,4],[99,5,99,7],[99,8,99,12],[99,13,99,17],[98,2,98,4],[98,5,98,7],[98,8,98,12],[98,13,98,17],[97,2,97,4],[97,5,97,7],[97,8,97,12],[97,13,97,17],[96,2,96,4],[96,5,96,7],[96,8,96,12],[96,13,96,17],[95,2,95,4],[95,5,95,7],[95,8,95,12],[95,13,95,17],[91,2,91,4],[91,5,91,7],[91,8,91,12],[91,13,91,17],[93,2,93,8],[90,2,90,4],[90,5,90,7],[90,8,90,12],[90,13,90,17],[89,2,89,4],[89,5,89,7],[89,8,89,12],[89,13,89,17],[85,35,85,37],[69,2,85,2],[85,3,85,10],[85,14,85,16],[69,35,69,37],[85,38,85,40],[85,17,85,19],[85,20,85,22],[84,35,84,37],[84,38,84,40],[85,23,85,25],[85,26,85,28],[85,29,85,31],[85,32,85,34],[83,38,83,40],[84,3,84,10],[84,14,84,16],[84,17,84,19],[84,20,84,22],[84,23,84,25],[84,26,84,28],[84,29,84,31],[84,32,84,34],[83,3,83,10],[83,14,83,16],[83,17,83,19],[83,20,83,22],[83,23,83,25],[83,26,83,28],[83,29,83,31],[83,32,83,34],[83,35,83,37],[81,38,81,40],[82,3,82,10],[82,14,82,16],[82,17,82,19],[82,20,82,22],[82,23,82,25],[82,26,82,28],[82,29,82,31],[82,32,82,34],[82,35,82,37],[82,38,82,40],[81,3,81,10],[81,14,81,16],[81,17,81,19],[81,20,81,22],[81,23,81,25],[81,26,81,28],[81,29,81,31],[81,32,81,34],[81,35,81,37],[79,38,79,40],[80,3,80,10],[80,14,80,16],[80,17,80,19],[80,20,80,22],[80,23,80,25],[80,26,80,28],[80,29,80,31],[80,32,80,34],[80,35,80,37],[80,38,80,40],[79,3,79,10],[79,14,79,16],[79,17,79,19],[79,20,79,22],[79,23,79,25],[79,26,79,28],[79,29,79,31],[79,32,79,34],[79,35,79,37],[77,38,77,40],[78,3,78,10],[78,14,78,16],[78,17,78,19],[78,20,78,22],[78,23,78,25],[78,26,78,28],[78,29,78,31],[78,32,78,34],[78,35,78,37],[78,38,78,40],[77,3,77,10],[77,14,77,16],[77,17,77,19],[77,20,77,22],[77,23,77,25],[77,26,77,28],[77,29,77,31],[77,32,77,34],[77,35,77,37],[75,38,75,40],[76,3,76,10],[76,14,76,16],[76,17,76,19],[76,20,76,22],[76,23,76,25],[76,26,76,28],[76,29,76,31],[76,32,76,34],[76,35,76,37],[76,38,76,40],[75,3,75,10],[75,14,75,16],[75,17,75,19],[75,20,75,22],[75,23,75,25],[75,26,75,28],[75,29,75,31],[75,32,75,34],[75,35,75,37],[73,38,73,40],[74,3,74,10],[74,14,74,16],[74,17,74,19],[74,20,74,22],[74,23,74,25],[74,26,74,28],[74,29,74,31],[74,32,74,34],[74,35,74,37],[74,38,74,40],[73,3,73,10],[73,14,73,16],[73,17,73,19],[73,20,73,22],[73,23,73,25],[73,26,73,28],[73,29,73,31],[73,32,73,34],[73,35,73,37],[71,38,71,40],[72,3,72,10],[72,14,72,16],[72,17,72,19],[72,20,72,22],[72,23,72,25],[72,26,72,28],[72,29,72,31],[72,32,72,34],[72,35,72,37],[72,38,72,40],[71,3,71,10],[71,14,71,16],[71,17,71,19],[71,20,71,22],[71,23,71,25],[71,26,71,28],[71,29,71,31],[71,32,71,34],[71,35,71,37],[69,38,69,40],[70,3,70,10],[70,14,70,16],[70,17,70,19],[70,20,70,22],[70,23,70,25],[70,26,70,28],[70,29,70,31],[70,32,70,34],[69,23,69,25],[69,26,69,28],[69,29,69,31],[69,32,69,34],[69,3,69,16],[69,17,69,19],[69,20,69,22],[70,35,70,37],[70,38,70,40],[67,38,67,40],[68,2,68,16],[68,17,68,19],[68,20,68,22],[68,23,68,25],[68,26,68,28],[68,29,68,31],[68,32,68,34],[68,35,68,37],[68,38,68,40],[67,26,67,28],[67,29,67,31],[67,32,67,34],[67,35,67,37],[67,2,67,16],[67,17,67,19],[67,20,67,22],[67,23,67,25],[66,38,66,40],[66,17,66,19],[66,20,66,22],[66,23,66,25],[66,26,66,28],[57,2,57,13],[66,29,66,31],[66,32,66,34],[66,35,66,37],[58,2,58,6],[58,7,58,13],[61,2,61,6],[61,7,61,13],[59,2,59,6],[59,7,59,13],[60,2,60,6],[60,7,60,13],[52,32,52,37],[51,25,51,29],[54,2,54,4],[54,5,54,7],[54,8,54,14],[54,15,54,18],[54,19,54,23],[53,15,53,18],[53,25,53,29],[51,15,51,18],[51,30,51,31],[51,5,51,7],[51,8,51,14],[46,33,46,39],[44,33,44,39],[45,26,45,29],[45,33,45,39],[46,2,46,4],[46,5,46,7],[46,8,46,25],[46,26,46,29],[53,32,53,37],[53,30,53,31],[51,32,51,37],[52,19,52,23],[52,25,52,29],[51,2,51,4],[53,2,53,4],[53,5,53,7],[53,8,53,14],[51,19,51,23],[53,19,53,23],[52,2,52,4],[52,5,52,7],[52,8,52,14],[52,15,52,18],[52,30,52,31],[42,5,42,7],[42,8,42,25],[42,26,42,29],[45,2,45,4],[45,5,45,7],[45,8,45,25],[44,2,44,4],[40,5,40,7],[40,8,40,25],[40,26,40,29],[44,5,44,7],[44,8,44,25],[44,26,44,29],[38,33,38,39],[39,2,39,4],[39,5,39,7],[39,8,39,25],[39,26,39,29],[39,33,39,39],[38,2,38,4],[42,33,42,39],[43,2,43,4],[43,5,43,7],[43,8,43,25],[43,26,43,29],[43,33,43,39],[42,2,42,4],[38,5,38,7],[38,8,38,25],[38,26,38,29],[40,33,40,39],[41,2,41,4],[41,5,41,7],[41,8,41,25],[41,26,41,29],[41,33,41,39],[40,2,40,4],[36,33,36,39],[37,2,37,4],[37,5,37,7],[37,8,37,25],[37,26,37,29],[37,33,37,39],[36,2,36,4],[36,5,36,7],[36,8,36,25],[36,26,36,29],[34,33,34,39],[35,2,35,4],[35,5,35,7],[35,8,35,25],[35,26,35,29],[35,33,35,39],[34,2,34,4],[34,5,34,7],[34,8,34,25],[34,26,34,29],[32,33,32,39],[33,2,33,4],[33,5,33,7],[33,8,33,25],[33,26,33,29],[33,33,33,39],[32,2,32,4],[32,5,32,7],[32,8,32,25],[32,26,32,29],[30,33,30,39],[31,2,31,4],[31,5,31,7],[31,8,31,25],[31,26,31,29],[31,33,31,39],[30,2,30,4],[30,5,30,7],[30,8,30,25],[30,26,30,29],[28,33,28,39],[29,2,29,4],[29,5,29,7],[29,8,29,25],[29,26,29,29],[29,33,29,39],[28,2,28,4],[28,5,28,7],[28,8,28,25],[28,26,28,29],[26,33,26,39],[27,2,27,4],[27,5,27,7],[27,8,27,25],[27,26,27,29],[27,33,27,39],[26,2,26,4],[26,5,26,7],[26,8,26,25],[26,26,26,29],[24,33,24,39],[25,2,25,4],[25,5,25,7],[25,8,25,25],[25,26,25,29],[25,33,25,39],[24,2,24,4],[24,5,24,7],[24,8,24,25],[24,26,24,29],[22,33,22,39],[23,2,23,4],[23,5,23,7],[23,8,23,25],[23,26,23,29],[23,33,23,39],[22,2,22,4],[22,5,22,7],[22,8,22,25],[22,26,22,29],[19,5,19,7],[18,5,18,7],[20,33,20,39],[21,2,21,4],[21,5,21,7],[21,8,21,25],[21,26,21,29],[21,33,21,39],[20,2,20,4],[20,5,20,7],[20,8,20,25],[20,26,20,29],[9,5,9,11],[11,2,11,4],[11,5,11,11],[10,5,10,11],[10,2,10,4],[9,2,9,4],[12,2,12,4],[12,5,12,11],[15,5,15,11],[15,2,15,4],[1,9,1,10],[1,11,1,14],[3,9,3,11],[3,12,3,18],[8,2,8,4],[8,5,8,11],[8,14,8,16],[8,17,8,23],[123,27,123,32],[57,17,57,19],[60,17,60,19],[57,20,57,26],[58,20,58,26],[59,20,59,26],[60,20,60,26],[59,17,59,19],[58,17,58,19],[87,11,87,17],[12,14,12,31],[13,2,13,4],[13,5,13,11],[13,14,13,31],[14,2,14,4],[14,5,14,11]]}
[]
[null,"１４号室の入力画面",null,null,null,null,null,null,null,"No.",null,{"$f":"メニュー画面!F18","v":"４　３　６"}]
[]
[null,null,null,null,null,null,null,null,null,"氏名",null,null,{"$f":"メニュー画面!F20","v":"中　條　文　義"},null,null,null,null,null,null,null,null,null,null,null,null,null,null,null,null,null,null,null,null,{"$f":"VLOOKUP(B2,隠しページ!P7:Q22,2,FALSE)","v":"１４号入力"},null,null,"→印刷画面へ"]
[]
[]
[null,"１．坪数～収穫日までの入力",null,null,null,null,null,null,null,null,null,null,null,null,"※白い枠のみに入力して下さい。ここで入力された値が、履歴シートに書き込まれます。"]
[]
[null,null,"部屋番号",null,null,14,null,null,null,null,null,null,null,null,"品種名",null,null,{"$f":"IF(F16=\"\",\"\",IF(AND(10<=MONTH(F16+1),MONTH(F16+1)<=11),\"秋　　系\",IF(AND(3<=MONTH(F16+1),MONTH(F16+1)<=5),\"春　　系\",IF(AND(6<=MONTH(F16+1),MONTH(F16+1)<=9),\"夏　　系\",\"冬　　系\"))))","v":""}]
[null,null,"坪数"]
[null,null,"品種名",null,null,"春　　系",null,null,null,null,null,null,null,null,{"$f":"IF(OR($R$9=$F$11,$R$9=\"\"),\"\",\"←県で指定された品種名と違いますが無視できます。\")","v":""}]
[null,null,"播種日"]
[null,null,"定植日",null,null,null,null,null,null,null,null,null,null,null,{"$f":"IF(OR(F13=\"\",F12=\"\"),\"\",IF(F13<F12,\"入力ミスです！播種日のほうが後の日付になりました。\",\"\"))","v":""},null,null,null,null,null,null,null,null,null,null,null,null,null,null,null,null,null,{"$f":"CONCATENATE(\"苗日数＝\",F13-F12,\"日\")","v":"苗日数＝0日"}]
[null,null,"交配日",null,null,null,null,null,null,null,null,null,null,null,{"$f":"IF(OR(F14=\"\",F13=\"\"),\"\",IF(F14<F13,\"入力ミスです！定植日の方が後になりました。\",\"\"))","v":""},null,null,null,null,null,null,null,null,null,null,null,null,null,null,null,null,null,{"$f":"CONCATENATE(\"交配日数＝\",F14-F13,\"日\")","v":"交配日数＝0日"}]
[null,null,"採果日数"]
[null,null,"収穫日",null,null,{"$f":"IF(OR(F14=\"\",F15=\"\"),\"\",F14+F15-1)","v":""},null,null,null,null,null,null,null,null,null,null,null,null,null,null,null,null,null,null,null,null,null,null,null,null,null,null,{"$f":"CONCATENATE(\"播種日～収穫日＝\",IF(F16=\"\",0,F16-F12),\"日\")","v":"播種日～収穫日＝0日"}]
[]
[null,"２．施用資材名の入力"]
[null,null,null,null,null,null,null,null,"［〃］このマークはリストから入力できます。日付はそのまま打ち込んでください。"]
[]
[null,null,null,null,null,"日付",null,null,"施用資材名",null,null,null,null,null,null,null,null,null,null,null,null,null,null,null,null,null,"投入量",null,null,null,null,null,null,"履歴シート表示確認欄"]
[null,null,null,null,null,{"$f":"IF(OR(C22=\"\",AH22=\"\"),\"\",IF(C22=\"育苗\",#REF!,IF(C22=\"定植\",#REF!,IF(C22=\"追肥（１）\",#REF!,IF(C22=\"追肥（２）\",#REF!,IF(C22=\"追肥（３）\",#REF!,\"入力ミス\"))))))","v":""},null,null,"育苗",null,null,null,null,null,null,null,null,null,null,null,null,null,null,null,null,null,null,null,null,null,null,null,null,{"$f":"IF(I22=\"\",\"\",VLOOKUP(I22,Ｍ肥料台帳,4,FALSE))","v":"育苗"}]
[null,null,null,null,null,"2006-01-01",null,null,null,null,null,null,null,null,null,null,null,null,null,null,null,null,null,null,null,null,null,null,null,null,null,null,null,""]
[null,null,null,null,null,"〃",null,null,null,null,null,null,null,null,null,null,null,null,null,null,null,null,null,null,null,null,null,null,null,null,null,null,null,""]
[null,null,null,null,null,"〃",null,null,null,null,null,null,null,null,null,null,null,null,null,null,null,null,null,null,null,null,null,null,null,null,null,null,null,""]
[null,null,null,null,null,"〃",null,null,null,null,null,null,null,null,null,null,null,null,null,null,null,null,null,null,null,null,null,null,null,null,null,null,null,""]
[null,null,null,null,null,"〃",null,null,null,null,null,null,null,null,null,null,null,null,null,null,null,null,null,null,null,null,null,null,null,null,null,null,null,""]
[null,null,null,null,null,"〃",null,null,null,null,null,null,null,null,null,null,null,null,null,null,null,null,null,null,null,null,null,null,null,null,null,null,null,""]
[null,null,null,null,null,"〃",null,null,null,null,null,null,null,null,null,null,null,null,null,null,null,null,null,null,null,null,null,null,null,null,null,null,null,""]
[null,null,null,null,null,"〃",null,null,null,null,null,null,null,null,null,null,null,null,null,null,null,null,null,null,null,null,null,null,null,null,null,null,null,""]
[null,null,null,null,null,"〃",null,null,null,null,null,null,null,null,null,null,null,null,null,null,null,null,null,null,null,null,null,null,null,null,null,null,null,""]
[null,null,null,null,null,"〃",null,null,null,null,null,null,null,null,null,null,null,null,null,null,null,null,null,null,null,null,null,null,null,null,null,null,null,""]
[null,null,null,null,null,"〃",null,null,null,null,null,null,null,null,null,null,null,null,null,null,null,null,null,null,null,null,null,null,null,null,null,null,null,""]
[null,null,null,null,null,"〃",null,null,null,null,null,null,null,null,null,null,null,null,null,null,null,null,null,null,null,null,null,null,null,null,null,null,null,""]
[null,null,null,null,null,"〃",null,null,null,null,null,null,null,null,null,null,null,null,null,null,null,null,null,null,null,null,null,null,null,null,null,null,null,""]
[null,null,null,null,null,null,null,null,null,null,null,null,null,null,null,null,null,null,null,null,null,null,null,null,null,null,null,null,null,null,null,null,null,""]
[null,null,null,null,null,null,null,null,null,null,null,null,null,null,null,null,null,null,null,null,null,null,null,null,null,null,null,null,null,null,null,null,null,""]
[null,null,null,null,null,null,null,null,null,null,null,null,null,null,null,null,null,null,null,null,null,null,null,null,null,null,null,null,null,null,null,null,null,""]
[null,null,null,null,null,null,null,null,null,null,null,null,null,null,null,null,null,null,null,null,null,null,null,null,null,null,null,null,null,null,null,null,null,""]
[null,null,null,null,null,null,null,null,null,null,null,null,null,null,null,null,null,null,null,null,null,null,null,null,null,null,null,null,null,null,null,null,null,""]
[null,null,null,null,null,null,null,null,null,null,null,null,null,null,null,null,null,null,null,null,null,null,null,null,null,null,null,null,null,null,null,null,null,""]
[null,null,null,null,null,null,null,null,null,null,null,null,null,null,null,null,null,null,null,null,null,null,null,null,null,null,null,null,null,null,null,null,null,""]
[null,null,null,null,null,null,null,null,null,null,null,null,null,null,null,null,null,null,null,null,null,null,null,null,null,null,null,null,null,null,null,null,null,""]
[null,null,null,null,null,null,null,null,null,null,null,null,null,null,null,null,null,null,null,null,null,null,null,null,null,null,null,null,null,null,null,null,null,""]
[null,null,null,null,null,null,null,null,null,null,null,null,null,null,null,null,null,null,null,null,null,null,null,null,null,null,null,null,null,null,null,null,null,""]
[null,null,null,null,null,null,null,null,null,null,null,null,null,null,null,null,null,null,null,null,null,null,null,null,null,null,null,null,null,null,null,null,null,""]
[null,null,null,null,null,null,null,null,null,null,null,null,null,null,null,null,null,null,null,null,null,null,null,null,null,null,null,null,null,null,null,null,null,""]
[]
[]
[null,"３．施用粒剤の入力"]
[null,null,null,null,null,null,null,null,null,null,null,null,null,null,null,null,null,null,null,null,null,null,null,null,null,null,null,null,null,null,null,null,null,null,null,null,null,null,null,null,null,null,null,null,null,null,null,null,null,null,null,null,"施用粒剤の日付入力"]
[null,null,null,null,null,"日付",null,null,"施用粒剤名",null,null,null,null,null,null,"施用量（g）",null,null,null,"施用鉢数（鉢）",null,null,null,null,null,"登録施用量",null,null,null,null,"回数",null,"時期"]
[null,null,"１回目",null,null,null,null,null,null,null,null,null,null,null,null,null,null,null,null,null,null,null,null,null,null,{"$f":"IF(I53=\"\",\"\",VLOOKUP(I53,施用粒剤台帳,2,FALSE))","v":""},null,null,null,null,{"$f":"IF(I53=\"\",\"\",VLOOKUP(I53,施用粒剤台帳,3,FALSE))","v":""},null,{"$f":"IF(I53=\"\",\"\",VLOOKUP(I53,施用粒剤台帳,4,FALSE))","v":""}]
[null,null,"２回目",null,null,null,null,null,null,null,null,null,null,null,null,null,null,null,null,null,null,null,null,null,null,{"$f":"IF(I54=\"\",\"\",VLOOKUP(I54,施用粒剤台帳,2,FALSE))","v":""},null,null,null,null,{"$f":"IF(I54=\"\",\"\",VLOOKUP(I54,施用粒剤台帳,3,FALSE))","v":""},null,{"$f":"IF(I54=\"\",\"\",VLOOKUP(I54,施用粒剤台帳,4,FALSE))","v":""}]
[]
[null,"４．硫黄くん蒸剤の入力",null,null,null,null,null,null,null,null,"※使用が２年にまたがるときは、前年の日付の前に年号を付けないとミスになります。"]
[]
[null,null,"履歴シートへの表示確認欄",null,null,null,null,null,null,null,null,null,null,null,null,null,null,"播種日",null,null,{"$f":"IF(F12=\"\",\"\",F12)","v":""}]
[null,null,"開始日",null,null,null,null,null,null,null,null,null,null,null,null,null,null,"定植日",null,null,{"$f":"IF(F13=\"\",\"\",F13)","v":""}]
[null,null,"終了日",null,null,null,null,null,null,null,null,null,null,null,{"$f":"IF(H60=\"\",\"\",IF(H60<H59,\" ミス\",\"\"))","v":""},null,null,"交配日",null,null,{"$f":"IF(F14=\"\",\"\",F14)","v":""}]
[null,null,"１日の使用量",null,null,null,null,2,null,null,null,null,null,null,null,null,null,"収穫日",null,null,{"$f":"IF(F16=\"\",\"\",F16)","v":""}]
[null,null,"総使用量",null,null,null,null,{"$f":"IF(OR(H59=\"\",OR(H60=\"\",H61=\"\")),\"\",(H60-H59)*H61)","v":""},null,null,null,null,null,null,null,null,null,null,null,null,"↑１.で入力した日付です。"]
[]
[null,"５．農薬散布の入力"]
[null,null,null,null,null,null,null,null,null,null,null,null,null,null,null,null,null,null,null,null,null,null,null,null,null,null,null,null,null,null,null,null,null,null,null,null,null,null,null,null,null,null,null,null,null,null,null,null,null,null,null,null,"農薬散布の日付入力"]
[]
[null,null,null,null,null,null,null,null,null,null,null,null,null,null,null,null,null,"Ｂ１",null,null,"Ｂ２",null,null,"Ｂ３",null,null,"Ｂ４",null,null,"Ｂ５",null,null,"Ｂ６",null,null,"Ｂ７",null,null,"Ｂ８"]
[null,null,"使用年月日"]
[null,null,"生育ステージ",null,null,null,null,null,null,null,null,null,null,null,null,null,null,"育苗",null,null,"木作り",null,null,"木作り",null,null,"肥大期",null,null,"肥大期",null,null,"仕上げ",null,null,"仕上げ",null,null,"仕上げ"]
[null,null,"使用農薬名","散布量"]
[null,null,null,null,null,null,null,null,null,null,null,{"$f":"IF(D71=\"\",\"\",VLOOKUP(D71,Ｍ農薬台帳,3,FALSE))","v":""},{"$f":"IF(D71=\"\",\"\",\"-\")","v":""},{"$f":"IF(D71=\"\",\"\",VLOOKUP(D71,Ｍ農薬台帳,2,FALSE))","v":""},{"$f":"IF(D71=\"\",\"\",VLOOKUP(D71,Ｍ農薬台帳,4,FALSE))","v":""}]
[null,null,null,null,null,null,null,null,null,null,null,"","","",""]
[null,null,null,null,null,null,null,null,null,null,null,"","","",""]
[null,null,null,null,null,null,null,null,null,null,null,"","","",""]
[null,null,null,null,null,null,null,null,null,null,null,"","","",""]
[null,null,null,null,null,null,null,null,null,null,null,"","","",""]
[null,null,null,null,null,null,null,null,null,null,null,"","","",""]
[null,null,null,null,null,null,null,null,null,null,null,"","","",""]
[null,null,null,null,null,null,null,null,null,null,null,"","","",""]
[null,null,null,null,null,null,null,null,null,null,null,"","","",""]
[null,null,null,null,null,null,null,null,null,null,null,"","","",""]
[null,null,null,null,null,null,null,null,null,null,null,"","","",""]
[null,null,null,null,null,null,null,null,null,null,null,"","","",""]
[null,null,null,null,null,null,null,null,null,null,null,"","","",""]
[null,null,null,null,null,null,null,null,null,null,null,"","","",""]
[null,null,null,null,null,null,null,null,null,null,null,"","","",""]
[]
[null,"６．植物成長調整剤の入力",null,null,null,null,null,null,null,null,null,"アークランド液剤",null,null,null,null,null,null,"　を使用した。"]
[]
[null,null,null,null,null,"日付",null,null,"希釈倍数",null,null,null,null,"散布量"]
[null,null,"1回目"]
[null,null,"2回目"]
[]
[null,"７．トップジンＭ水和剤の入力","トップジンＭ水和剤",null,null,null,null,null,null,"　の入力"]
[]
[null,null,null,null,null,"日付",null,null,"希釈倍数",null,null,null,null,"散布量"]
[null,null,"1回目"]
[null,null,"2回目"]
[null,null,"3回目"]
[null,null,"4回目"]
[]
[null,"８．施用液肥の入力"]
[]
[null,null,null,null,"日付",null,null,"液肥・葉面散布剤名",null,null,null,null,null,null,null,null,"使用量"]
[null,null,1]
[null,null,2]
[null,null,3]
[null,null,4]
[null,null,5]
[null,null,6]
[null,null,7]
[null,null,8]
[null,null,9]
[null,null,10]
[null,null,11]
[null,null,12]
[null,null,13]
[null,null,14]
[null,null,15]
[null,null,16]
[null,null,17]
[null,null,18]
[]
[null,"９.小メロンの出荷がある場合は、この枠に記載してください。リストから選べます。→"]
[]
[null,"10．印刷プレビューボタンを押し　印刷状態の確認をして　良ければそのまま印刷してください。"]
[]
[null,"11．以上で終りです。お疲れ様でした。"]

{"sheet":"１４号Ｐ","index":29,"n_rows":36,"n_cols":88,"rows_kept":36,"cut":false,"hidden":false,"merged":[[4,38,4,47],[5,58,5,67],[0,64,0,89],[4,48,4,52],[4,53,4,57],[4,58,4,67],[4,68,4,72],[4,73,4,91],[2,4,2,5],[2,6,2,31],[4,13,4,27],[4,33,4,37],[5,68,5,72],[5,73,5,77],[5,78,5,91],[6,7,6,8],[6,13,6,17],[6,18,6,27],[6,28,6,32],[6,33,6,37],[6,38,6,47],[6,48,6,52],[6,53,6,57],[6,58,6,67],[6,68,6,72],[6,73,6,80],[6,81,6,91],[5,13,5,17],[5,18,5,27],[5,28,5,32],[5,33,5,37],[5,38,5,47],[5,48,5,52],[5,53,5,57],[7,6,7,7],[7,13,7,17],[7,18,7,27],[7,28,7,32],[7,33,7,37],[7,38,7,47],[7,48,7,52],[7,53,7,57],[8,58,8,67],[7,58,7,67],[8,6,8,12],[8,13,8,17],[8,18,8,27],[8,28,8,32],[9,58,9,67],[7,68,7,72],[7,73,7,77],[8,68,8,72],[8,73,8,80],[7,78,7,91],[8,81,8,91],[8,33,8,37],[8,38,8,47],[8,48,8,52],[8,53,8,57],[9,68,9,72],[9,73,9,91],[13,13,13,17],[13,18,13,27],[13,28,13,32],[9,18,9,27],[9,28,9,32],[9,33,9,37],[9,38,9,47],[9,48,9,52],[9,53,9,57],[10,48,10,52],[10,53,10,57],[11,53,12,57],[13,53,13,57],[11,48,12,52],[13,33,13,37],[13,38,13,47],[13,48,13,52],[10,83,11,91],[11,58,12,67],[11,68,12,72],[12,73,13,81],[12,82,13,91],[13,68,13,72],[10,58,10,67],[10,68,10,72],[10,73,11,82],[13,58,13,67],[9,6,9,12],[9,13,9,17],[11,4,12,5],[11,6,12,12],[11,13,12,17],[11,18,12,27],[11,28,12,32],[11,33,12,37],[11,38,12,47],[10,6,10,12],[10,13,10,17],[10,18,10,27],[10,28,10,32],[10,33,10,37],[10,38,10,47],[15,69,15,91],[16,4,16,12],[16,13,16,19],[16,20,16,26],[16,27,16,33],[16,34,16,40],[16,41,16,47],[16,48,16,54],[16,55,16,61],[16,62,16,68],[16,69,16,73],[16,74,16,86],[16,87,16,91],[15,4,15,12],[15,13,15,19],[15,20,15,26],[15,27,15,33],[15,34,15,40],[15,41,15,47],[15,48,15,54],[15,55,15,61],[15,62,15,68],[17,4,35,4],[17,5,17,12],[17,13,17,19],[17,20,17,26],[19,5,19,7],[19,10,19,12],[19,13,19,19],[19,20,19,26],[21,5,21,7],[21,10,21,12],[23,5,23,7],[23,10,23,12],[23,13,23,19],[23,20,23,26],[24,5,24,7],[24,10,24,12],[24,13,24,19],[24,20,24,26],[25,5,25,7],[25,10,25,12],[25,13,25,19],[25,20,25,26],[26,5,26,7],[26,10,26,12],[17,62,17,68],[17,69,17,73],[17,74,17,86],[17,87,17,91],[18,5,18,7],[18,10,18,12],[18,13,18,19],[18,20,18,26],[18,27,18,33],[18,34,18,40],[18,41,18,47],[18,48,18,54],[18,55,18,61],[18,62,18,68],[18,69,18,73],[18,74,18,86],[18,87,18,91],[17,27,17,33],[17,34,17,40],[17,41,17,47],[17,48,17,54],[17,55,17,61],[19,62,19,68],[19,69,19,73],[19,74,19,86],[19,87,19,91],[20,5,20,7],[20,10,20,12],[20,13,20,19],[20,20,20,26],[20,27,20,33],[20,34,20,40],[20,41,20,47],[20,48,20,54],[20,55,20,61],[20,62,20,68],[20,69,20,73],[20,74,20,86],[20,87,20,91],[19,27,19,33],[19,34,19,40],[19,41,19,47],[19,48,19,54],[19,55,19,61],[21,62,21,68],[21,69,21,73],[21,74,21,86],[21,87,21,91],[22,5,22,7],[22,10,22,12],[22,13,22,19],[22,20,22,26],[22,27,22,33],[22,34,22,40],[22,41,22,47],[22,48,22,54],[22,55,22,61],[22,62,22,68],[22,69,22,73],[22,74,22,86],[22,87,22,91],[21,13,21,19],[21,20,21,26],[21,27,21,33],[21,34,21,40],[21,41,21,47],[21,48,21,54],[21,55,21,61],[23,27,23,33],[23,34,23,40],[23,41,23,47],[23,48,23,54],[23,55,23,61],[23,62,23,68],[23,69,23,73],[23,74,23,86],[23,87,23,91],[25,74,25,86],[25,87,25,91],[24,27,24,33],[24,34,24,40],[24,41,24,47],[24,48,24,54],[24,55,24,61],[24,62,24,68],[24,69,24,73],[24,74,24,86],[24,87,24,91],[26,48,26,54],[26,55,26,61],[26,62,26,68],[26,69,26,73],[25,27,25,33],[25,34,25,40],[25,41,25,47],[25,48,25,54],[25,55,25,61],[25,62,25,68],[25,69,25,73],[28,34,28,40],[28,41,28,47],[28,48,28,54],[28,55,28,61],[26,74,26,86],[26,87,26,91],[27,5,27,7],[27,10,27,12],[27,13,27,19],[27,20,27,26],[27,27,27,33],[27,34,27,40],[27,41,27,47],[27,48,27,54],[27,55,27,61],[27,62,27,68],[27,69,27,73],[27,74,27,86],[27,87,27,91],[26,13,26,19],[26,20,26,26],[26,27,26,33],[26,34,26,40],[26,41,26,47],[30,48,30,54],[30,55,30,61],[28,62,28,68],[28,69,28,73],[28,74,28,86],[28,87,28,91],[29,5,29,7],[29,10,29,12],[29,13,29,19],[29,20,29,26],[29,27,29,33],[29,34,29,40],[29,41,29,47],[29,48,29,54],[29,55,29,61],[29,62,29,68],[29,69,29,73],[29,74,29,86],[29,87,29,91],[28,5,28,7],[28,10,28,12],[28,13,28,19],[28,20,28,26],[28,27,28,33],[30,62,30,68],[30,69,30,73],[30,74,30,86],[30,87,30,91],[31,5,31,7],[31,10,31,12],[31,13,31,19],[31,20,31,26],[31,27,31,33],[31,34,31,40],[31,41,31,47],[31,48,31,54],[31,55,31,61],[31,62,31,68],[31,69,31,73],[31,74,31,86],[31,87,31,91],[30,5,30,7],[30,10,30,12],[30,13,30,19],[30,20,30,26],[30,27,30,33],[30,34,30,40],[30,41,30,47],[32,5,32,7],[32,10,32,12],[32,13,32,19],[32,20,32,26],[32,27,32,33],[32,34,32,40],[32,41,32,47],[32,48,32,54],[32,55,32,61],[35,71,35,75],[33,74,33,86],[35,76,35,83],[33,5,33,7],[33,10,33,12],[33,13,33,19],[33,20,33,26],[33,62,33,68],[33,69,33,73],[33,27,33,33],[33,34,33,40],[33,41,33,47],[33,48,33,54],[34,5,34,12],[35,5,35,12],[4,1,5,2],[35,84,35,91],[34,76,34,83],[34,84,34,91],[35,13,35,17],[35,18,35,25],[35,26,35,33],[34,55,34,62],[33,87,33,91],[32,62,32,68],[32,69,32,73],[32,74,32,86],[32,87,32,91],[34,13,34,17],[34,18,34,25],[34,26,34,33],[34,34,35,49],[34,50,34,54],[35,50,35,54],[34,63,34,70],[34,71,34,75],[33,55,33,61],[35,55,35,62],[35,63,35,70]]}
[null,null,null,null,null,null,null,null,null,null,null,null,null,null,null,null,null,null,null,null,null,null,null,null,null,null,null,null,null,null,null,null,null,null,null,null,null,null,null,null,null,null,null,null,null,null,null,null,null,null,null,null,null,null,null,null,null,null,null,null,null,null,null,null,{"$f":"IF('１４号入力'!AB124=\"\",\"\",'１４号入力'!AB124)","v":""}]
[]
[null,null,null,null,"栽培履歴",null,{"$f":"メニュー画面!F16","v":"静岡県温室農業協同組合（クラウンメロン支所）"},null,null,null,null,null,null,null,null,null,null,null,null,null,null,null,null,null,null,null,null,null,null,null,null,null,"検査日",null,null,null,null,null,"令和　　年　　月　　日",null,null,null,null,null,null,null,null,null,null,null,null,null,null,null,"検査責任者氏名　　　　　　　　　　 　　　　　　　　　　　　　印"]
[]
[null,"１４号室",null,null,"組合員番号：",null,{"$f":"メニュー画面!F18","v":"４　３　６"},null,null,null,null,null,null,"施用資材名",null,null,null,null,null,null,null,null,null,null,null,null,null,null,"投入量",null,null,null,null,{"$f":"IF('１４号入力'!F30=\"\",\"\",'１４号入力'!F30)","v":"〃"},null,null,null,null,{"$f":"IF('１４号入力'!AH30=\"\",\"\",'１４号入力'!AH30)","v":""},null,null,null,null,null,null,null,null,null,{"$f":"IF('１４号入力'!AA30=\"\",\"\",'１４号入力'!AA30)","v":""},null,null,null,null,{"$f":"IF('１４号入力'!F39=\"\",\"\",'１４号入力'!F39)","v":""},null,null,null,null,{"$f":"IF('１４号入力'!AH39=\"\",\"\",'１４号入力'!AH39)","v":""},null,null,null,null,null,null,null,null,null,{"$f":"IF('１４号入力'!AA39=\"\",\"\",'１４号入力'!AA39)","v":""},null,null,null,null,"施用粒剤"]
[null,null,null,null,"氏名：",null,{"$f":"メニュー画面!F20","v":"中　條　文　義"},null,null,null,null,null,null,{"$f":"IF('１４号入力'!F22=\"\",\"\",'１４号入力'!F22)","v":""},null,null,null,null,{"$f":"IF('１４号入力'!AH22=\"\",\"\",'１４号入力'!AH22)","v":"育苗"},null,null,null,null,null,null,null,null,null,{"$f":"IF('１４号入力'!AA22=\"\",\"\",'１４号入力'!AA22)","v":""},null,null,null,null,{"$f":"IF('１４号入力'!F31=\"\",\"\",'１４号入力'!F31)","v":"〃"},null,null,null,null,{"$f":"IF('１４号入力'!AH31=\"\",\"\",'１４号入力'!AH31)","v":""},null,null,null,null,null,null,null,null,null,{"$f":"IF('１４号入力'!AA31=\"\",\"\",'１４号入力'!AA31)","v":""},null,null,null,null,{"$f":"IF('１４号入力'!F40=\"\",\"\",'１４号入力'!F40)","v":""},null,null,null,null,{"$f":"IF('１４号入力'!AH40=\"\",\"\",'１４号入力'!AH40)","v":""},null,null,null,null,null,null,null,null,null,{"$f":"IF('１４号入力'!AA40=\"\",\"\",'１４号入力'!AA40)","v":""},null,null,null,null,{"$f":"IF('１４号入力'!F53=\"\",\"/\",'１４号入力'!F53)","v":"/"},null,null,null,null,{"$f":"IF('１４号入力'!I53=\"\",\"\",'１４号入力'!I53)","v":""}]
[null,null,null,null,"部屋番号：",null,{"$f":"IF('１４号入力'!F9=\"\",\"\",'１４号入力'!F9)","v":14},{"$f":"IF('１４号入力'!F10=\"\",\"\",'１４号入力'!F10)","v":""},null,null,null,null,null,{"$f":"IF('１４号入力'!F23=\"\",\"\",'１４号入力'!F23)","v":"2006-01-01"},null,null,null,null,{"$f":"IF('１４号入力'!AH23=\"\",\"\",'１４号入力'!AH23)","v":""},null,null,null,null,null,null,null,null,null,{"$f":"IF('１４号入力'!AA23=\"\",\"\",'１４号入力'!AA23)","v":""},null,null,null,null,{"$f":"IF('１４号入力'!F32=\"\",\"\",'１４号入力'!F32)","v":"〃"},null,null,null,null,{"$f":"IF('１４号入力'!AH32=\"\",\"\",'１４号入力'!AH32)","v":""},null,null,null,null,null,null,null,null,null,{"$f":"IF('１４号入力'!AA32=\"\",\"\",'１４号入力'!AA32)","v":""},null,null,null,null,{"$f":"IF('１４号入力'!F41=\"\",\"\",'１４号入力'!F41)","v":""},null,null,null,null,{"$f":"IF('１４号入力'!AH41=\"\",\"\",'１４号入力'!AH41)","v":""},null,null,null,null,null,null,null,null,null,{"$f":"IF('１４号入力'!AA41=\"\",\"\",'１４号入力'!AA41)","v":""},null,null,null,null,{"$f":"IF('１４号入力'!P53=0,\"g\",'１４号入力'!P53)","v":"g"},null,null,null,null,null,null,null,{"$f":"IF('１４号入力'!T53=0,0,'１４号入力'!T53)","v":0}]
[null,null,null,null,"品種名：",null,{"$f":"IF('１４号入力'!F11=\"\",\"\",'１４号入力'!F11)","v":"春　　系"},null,null,null,null,null,null,{"$f":"IF('１４号入力'!F24=\"\",\"\",'１４号入力'!F24)","v":"〃"},null,null,null,null,{"$f":"IF('１４号入力'!AH24=\"\",\"\",'１４号入力'!AH24)","v":""},null,null,null,null,null,null,null,null,null,{"$f":"IF('１４号入力'!AA24=\"\",\"\",'１４号入力'!AA24)","v":""},null,null,null,null,{"$f":"IF('１４号入力'!F33=\"\",\"\",'１４号入力'!F33)","v":"〃"},null,null,null,null,{"$f":"IF('１４号入力'!AH33=\"\",\"\",'１４号入力'!AH33)","v":""},null,null,null,null,null,null,null,null,null,{"$f":"IF('１４号入力'!AA33=\"\",\"\",'１４号入力'!AA33)","v":""},null,null,null,null,{"$f":"IF('１４号入力'!F42=\"\",\"\",'１４号入力'!F42)","v":""},null,null,null,null,{"$f":"IF('１４号入力'!AH42=\"\",\"\",'１４号入力'!AH42)","v":""},null,null,null,null,null,null,null,null,null,{"$f":"IF('１４号入力'!AA42=\"\",\"\",'１４号入力'!AA42)","v":""},null,null,null,null,{"$f":"IF('１４号入力'!F54=\"\",\"/\",'１４号入力'!F54)","v":"/"},null,null,null,null,{"$f":"IF('１４号入力'!I54=\"\",\"\",'１４号入力'!I54)","v":""}]
[null,null,null,null,"播種日：",null,{"$f":"IF('１４号入力'!F12=\"\",\"\",'１４号入力'!F12)","v":""},null,null,null,null,null,null,{"$f":"IF('１４号入力'!F25=\"\",\"\",'１４号入力'!F25)","v":"〃"},null,null,null,null,{"$f":"IF('１４号入力'!AH25=\"\",\"\",'１４号入力'!AH25)","v":""},null,null,null,null,null,null,null,null,null,{"$f":"IF('１４号入力'!AA25=\"\",\"\",'１４号入力'!AA25)","v":""},null,null,null,null,{"$f":"IF('１４号入力'!F34=\"\",\"\",'１４号入力'!F34)","v":"〃"},null,null,null,null,{"$f":"IF('１４号入力'!AH34=\"\",\"\",'１４号入力'!AH34)","v":""},null,null,null,null,null,null,null,null,null,{"$f":"IF('１４号入力'!AA34=\"\",\"\",'１４号入力'!AA34)","v":""},null,null,null,null,{"$f":"IF('１４号入力'!F43=\"\",\"\",'１４号入力'!F43)","v":""},null,null,null,null,{"$f":"IF('１４号入力'!AH43=\"\",\"\",'１４号入力'!AH43)","v":""},null,null,null,null,null,null,null,null,null,{"$f":"IF('１４号入力'!AA43=\"\",\"\",'１４号入力'!AA43)","v":""},null,null,null,null,{"$f":"IF('１４号入力'!P54=0,\"g\",'１４号入力'!P54)","v":"g"},null,null,null,null,null,null,null,{"$f":"IF('１４号入力'!T54=0,0,'１４号入力'!T54)","v":0}]
[null,null,null,null,"定植日：",null,{"$f":"IF('１４号入力'!F13=\"\",\"\",'１４号入力'!F13)","v":""},null,null,null,null,null,null,{"$f":"IF('１４号入力'!F26=\"\",\"\",'１４号入力'!F26)","v":"〃"},null,null,null,null,{"$f":"IF('１４号入力'!AH26=\"\",\"\",'１４号入力'!AH26)","v":""},null,null,null,null,null,null,null,null,null,{"$f":"IF('１４号入力'!AA26=\"\",\"\",'１４号入力'!AA26)","v":""},null,null,null,null,{"$f":"IF('１４号入力'!F35=\"\",\"\",'１４号入力'!F35)","v":"〃"},null,null,null,null,{"$f":"IF('１４号入力'!AH35=\"\",\"\",'１４号入力'!AH35)","v":""},null,null,null,null,null,null,null,null,null,{"$f":"IF('１４号入力'!AA35=\"\",\"\",'１４号入力'!AA35)","v":""},null,null,null,null,{"$f":"IF('１４号入力'!F44=\"\",\"\",'１４号入力'!F44)","v":""},null,null,null,null,{"$f":"IF('１４号入力'!AH44=\"\",\"\",'１４号入力'!AH44)","v":""},null,null,null,null,null,null,null,null,null,{"$f":"IF('１４号入力'!AA44=\"\",\"\",'１４号入力'!AA44)","v":""},null,null,null,null,"硫黄くん蒸剤"]
[null,null,null,null,"交配日：",null,{"$f":"IF('１４号入力'!F14=\"\",\"\",'１４号入力'!F14)","v":""},null,null,null,null,null,null,{"$f":"IF('１４号入力'!F27=\"\",\"\",'１４号入力'!F27)","v":"〃"},null,null,null,null,{"$f":"IF('１４号入力'!AH27=\"\",\"\",'１４号入力'!AH27)","v":""},null,null,null,null,null,null,null,null,null,{"$f":"IF('１４号入力'!AA27=\"\",\"\",'１４号入力'!AA27)","v":""},null,null,null,null,{"$f":"IF('１４号入力'!F36=\"\",\"\",'１４号入力'!F36)","v":""},null,null,null,null,{"$f":"IF('１４号入力'!AH36=\"\",\"\",'１４号入力'!AH36)","v":""},null,null,null,null,null,null,null,null,null,{"$f":"IF('１４号入力'!AA36=\"\",\"\",'１４号入力'!AA36)","v":""},null,null,null,null,{"$f":"IF('１４号入力'!F45=\"\",\"\",'１４号入力'!F45)","v":""},null,null,null,null,{"$f":"IF('１４号入力'!AH45=\"\",\"\",'１４号入力'!AH45)","v":""},null,null,null,null,null,null,null,null,null,{"$f":"IF('１４号入力'!AA45=\"\",\"\",'１４号入力'!AA45)","v":""},null,null,null,null,{"$f":"IF('１４号入力'!H59=\"\",\"/      ～\",'１４号入力'!H59)","v":"/      ～"},null,null,null,null,null,null,null,null,null,{"$f":"IF('１４号入力'!H60=\"\",\"    /\",'１４号入力'!H60)","v":"    /"}]
[null,null,null,null,"収穫日：",null,{"$f":"IF('１４号入力'!F16=\"\",\"\",'１４号入力'!F16)","v":""},null,null,null,null,null,null,{"$f":"IF('１４号入力'!F28=\"\",\"\",'１４号入力'!F28)","v":"〃"},null,null,null,null,{"$f":"IF('１４号入力'!AH28=\"\",\"\",'１４号入力'!AH28)","v":""},null,null,null,null,null,null,null,null,null,{"$f":"IF('１４号入力'!AA28=\"\",\"\",'１４号入力'!AA28)","v":""},null,null,null,null,{"$f":"IF('１４号入力'!F37=\"\",\"\",'１４号入力'!F37)","v":""},null,null,null,null,{"$f":"IF('１４号入力'!AH37=\"\",\"\",'１４号入力'!AH37)","v":""},null,null,null,null,null,null,null,null,null,{"$f":"IF('１４号入力'!AA37=\"\",\"\",'１４号入力'!AA37)","v":""},null,null,null,null,{"$f":"IF('１４号入力'!F46=\"\",\"\",'１４号入力'!F46)","v":""},null,null,null,null,{"$f":"IF('１４号入力'!AH46=\"\",\"\",'１４号入力'!AH46)","v":""},null,null,null,null,null,null,null,null,null,{"$f":"IF('１４号入力'!AA46=\"\",\"\",'１４号入力'!AA46)","v":""}]
[null,null,null,null,null,null,null,null,null,null,null,null,null,null,null,null,null,null,null,null,null,null,null,null,null,null,null,null,null,null,null,null,null,null,null,null,null,null,null,null,null,null,null,null,null,null,null,null,null,null,null,null,null,null,null,null,null,null,null,null,null,null,null,null,null,null,null,null,null,null,null,null,null,{"$f":"IF('１４号入力'!H61=\"\",\"g/日\",'１４号入力'!H61)","v":2},null,null,null,null,null,null,null,null,{"$f":"IF('１４号入力'!H62=\"\",\"g/部屋\",'１４号入力'!H62)","v":"g/部屋"}]
[null,null,null,null,"採果日数：",null,{"$f":"'１４号入力'!F15","v":0},null,null,null,null,null,null,{"$f":"IF('１４号入力'!F29=\"\",\"\",'１４号入力'!F29)","v":"〃"},null,null,null,null,{"$f":"IF('１４号入力'!AH29=\"\",\"\",'１４号入力'!AH29)","v":""},null,null,null,null,null,null,null,null,null,{"$f":"IF('１４号入力'!AA29=\"\",\"\",'１４号入力'!AA29)","v":""},null,null,null,null,{"$f":"IF('１４号入力'!F38=\"\",\"\",'１４号入力'!F38)","v":""},null,null,null,null,{"$f":"IF('１４号入力'!AH38=\"\",\"\",'１４号入力'!AH38)","v":""},null,null,null,null,null,null,null,null,null,{"$f":"IF('１４号入力'!AA38=\"\",\"\",'１４号入力'!AA38)","v":""},null,null,null,null,{"$f":"IF('１４号入力'!F47=\"\",\"\",'１４号入力'!F47)","v":""},null,null,null,null,{"$f":"IF('１４号入力'!AH47=\"\",\"\",'１４号入力'!AH47)","v":""},null,null,null,null,null,null,null,null,null,{"$f":"IF('１４号入力'!AA47=\"\",\"\",'１４号入力'!AA47)","v":""}]
[]
[null,null,null,null,"使用年月日",null,null,null,null,null,null,null,null,{"$f":"IF('１４号入力'!R68=\"\",\"/\",'１４号入力'!R68)","v":"/"},null,null,null,null,null,null,{"$f":"IF('１４号入力'!U68=\"\",\"/\",'１４号入力'!U68)","v":"/"},null,null,null,null,null,null,{"$f":"IF('１４号入力'!X68=\"\",\"/\",'１４号入力'!X68)","v":"/"},null,null,null,null,null,null,{"$f":"IF('１４号入力'!AA68=\"\",\"/\",'１４号入力'!AA68)","v":"/"},null,null,null,null,null,null,{"$f":"IF('１４号入力'!AD68=\"\",\"/\",'１４号入力'!AD68)","v":"/"},null,null,null,null,null,null,{"$f":"IF('１４号入力'!AG68=\"\",\"/\",'１４号入力'!AG68)","v":"/"},null,null,null,null,null,null,{"$f":"IF('１４号入力'!AJ68=\"\",\"/\",'１４号入力'!AJ68)","v":"/"},null,null,null,null,null,null,{"$f":"IF('１４号入力'!AM68=\"\",\"/\",'１４号入力'!AM68)","v":"/"},null,null,null,null,null,null,"使用液肥・葉面散布剤"]
[null,null,null,null,"生育ステージ",null,null,null,null,null,null,null,null,{"$f":"IF('１４号入力'!R69=\"\",\"\",'１４号入力'!R69)","v":"育苗"},null,null,null,null,null,null,{"$f":"IF('１４号入力'!U69=\"\",\"\",'１４号入力'!U69)","v":"木作り"},null,null,null,null,null,null,{"$f":"IF('１４号入力'!X69=\"\",\"\",'１４号入力'!X69)","v":"木作り"},null,null,null,null,null,null,{"$f":"IF('１４号入力'!AA69=\"\",\"\",'１４号入力'!AA69)","v":"肥大期"},null,null,null,null,null,null,{"$f":"IF('１４号入力'!AD69=\"\",\"\",'１４号入力'!AD69)","v":"肥大期"},null,null,null,null,null,null,{"$f":"IF('１４号入力'!AG69=\"\",\"\",'１４号入力'!AG69)","v":"仕上げ"},null,null,null,null,null,null,{"$f":"IF('１４号入力'!AJ69=\"\",\"\",'１４号入力'!AJ69)","v":"仕上げ"},null,null,null,null,null,null,{"$f":"IF('１４号入力'!AM69=\"\",\"\",'１４号入力'!AM69)","v":"仕上げ"},null,null,null,null,null,null,{"$f":"IF('１４号入力'!E105=\"\",\"/\",'１４号入力'!E105)","v":"/"},null,null,null,null,{"$f":"IF('１４号入力'!H105=\"\",\"\",'１４号入力'!H105)","v":""},null,null,null,null,null,null,null,null,null,null,null,null,{"$f":"IF('１４号入力'!Q105=0,0,'１４号入力'!Q105)","v":0}]
[null,null,null,null,"使用農薬名","散布量",null,null,null,null,null,null,null,{"$f":"IF('１４号入力'!R70=0,0,'１４号入力'!R70)","v":0},null,null,null,null,null,null,{"$f":"IF('１４号入力'!U70=0,0,'１４号入力'!U70)","v":0},null,null,null,null,null,null,{"$f":"IF('１４号入力'!X70=0,0,'１４号入力'!X70)","v":0},null,null,null,null,null,null,{"$f":"IF('１４号入力'!AA70=0,0,'１４号入力'!AA70)","v":0},null,null,null,null,null,null,{"$f":"IF('１４号入力'!AD70=0,0,'１４号入力'!AD70)","v":0},null,null,null,null,null,null,{"$f":"IF('１４号入力'!AG70=0,0,'１４号入力'!AG70)","v":0},null,null,null,null,null,null,{"$f":"IF('１４号入力'!AJ70=0,0,'１４号入力'!AJ70)","v":0},null,null,null,null,null,null,{"$f":"IF('１４号入力'!AM70=0,0,'１４号入力'!AM70)","v":0},null,null,null,null,null,null,{"$f":"IF('１４号入力'!E106=\"\",\"\",'１４号入力'!E106)","v":""},null,null,null,null,{"$f":"IF('１４号入力'!H106=\"\",\"\",'１４号入力'!H106)","v":""},null,null,null,null,null,null,null,null,null,null,null,null,{"$f":"IF('１４号入力'!Q106=0,\"\",'１４号入力'!Q106)","v":""}]
[null,null,null,null,null,{"$f":"IF('１４号入力'!D71=\"\",\"\",'１４号入力'!D71)","v":""},null,null,{"$f":"IF(F19=\"\",\"\",VLOOKUP(F19,Ｍ農薬台帳,3,FALSE))","v":""},{"$f":"IF(F19=\"\",\"\",\"-\")","v":""},{"$f":"IF(F19=\"\",\"\",VLOOKUP(F19,Ｍ農薬台帳,2,FALSE))","v":""},null,null,{"$f":"IF('１４号入力'!R71=\"\",\"\",'１４号入力'!R71)","v":""},null,null,null,null,null,null,{"$f":"IF('１４号入力'!U71=\"\",\"\",'１４号入力'!U71)","v":""},null,null,null,null,null,null,{"$f":"IF('１４号入力'!X71=\"\",\"\",'１４号入力'!X71)","v":""},null,null,null,null,null,null,{"$f":"IF('１４号入力'!AA71=\"\",\"\",'１４号入力'!AA71)","v":""},null,null,null,null,null,null,{"$f":"IF('１４号入力'!AD71=\"\",\"\",'１４号入力'!AD71)","v":""},null,null,null,null,null,null,{"$f":"IF('１４号入力'!AG71=\"\",\"\",'１４号入力'!AG71)","v":""},null,null,null,null,null,null,{"$f":"IF('１４号入力'!AJ71=\"\",\"\",'１４号入力'!AJ71)","v":""},null,null,null,null,null,null,{"$f":"IF('１４号入力'!AM71=\"\",\"\",'１４号入力'!AM71)","v":""},null,null,null,null,null,null,{"$f":"IF('１４号入力'!E107=\"\",\"\",'１４号入力'!E107)","v":""},null,null,null,null,{"$f":"IF('１４号入力'!H107=\"\",\"\",'１４号入力'!H107)","v":""},null,null,null,null,null,null,null,null,null,null,null,null,{"$f":"IF('１４号入力'!Q107=0,\"\",'１４号入力'!Q107)","v":""}]
[null,null,null,null,null,{"$f":"IF('１４号入力'!D72=\"\",\"\",'１４号入力'!D72)","v":""},null,null,"","","",null,null,{"$f":"IF('１４号入力'!R72=\"\",\"\",'１４号入力'!R72)","v":""},null,null,null,null,null,null,{"$f":"IF('１４号入力'!U72=\"\",\"\",'１４号入力'!U72)","v":""},null,null,null,null,null,null,{"$f":"IF('１４号入力'!X72=\"\",\"\",'１４号入力'!X72)","v":""},null,null,null,null,null,null,{"$f":"IF('１４号入力'!AA72=\"\",\"\",'１４号入力'!AA72)","v":""},null,null,null,null,null,null,{"$f":"IF('１４号入力'!AD72=\"\",\"\",'１４号入力'!AD72)","v":""},null,null,null,null,null,null,{"$f":"IF('１４号入力'!AG72=\"\",\"\",'１４号入力'!AG72)","v":""},null,null,null,null,null,null,{"$f":"IF('１４号入力'!AJ72=\"\",\"\",'１４号入力'!AJ72)","v":""},null,null,null,null,null,null,{"$f":"IF('１４号入力'!AM72=\"\",\"\",'１４号入力'!AM72)","v":""},null,null,null,null,null,null,{"$f":"IF('１４号入力'!E108=\"\",\"\",'１４号入力'!E108)","v":""},null,null,null,null,{"$f":"IF('１４号入力'!H108=\"\",\"\",'１４号入力'!H108)","v":""},null,null,null,null,null,null,null,null,null,null,null,null,{"$f":"IF('１４号入力'!Q108=0,\"\",'１４号入力'!Q108)","v":""}]
[null,null,null,null,null,{"$f":"IF('１４号入力'!D73=\"\",\"\",'１４号入力'!D73)","v":""},null,null,"","","",null,null,{"$f":"IF('１４号入力'!R73=\"\",\"\",'１４号入力'!R73)","v":""},null,null,null,null,null,null,{"$f":"IF('１４号入力'!U73=\"\",\"\",'１４号入力'!U73)","v":""},null,null,null,null,null,null,{"$f":"IF('１４号入力'!X73=\"\",\"\",'１４号入力'!X73)","v":""},null,null,null,null,null,null,{"$f":"IF('１４号入力'!AA73=\"\",\"\",'１４号入力'!AA73)","v":""},null,null,null,null,null,null,{"$f":"IF('１４号入力'!AD73=\"\",\"\",'１４号入力'!AD73)","v":""},null,null,null,null,null,null,{"$f":"IF('１４号入力'!AG73=\"\",\"\",'１４号入力'!AG73)","v":""},null,null,null,null,null,null,{"$f":"IF('１４号入力'!AJ73=\"\",\"\",'１４号入力'!AJ73)","v":""},null,null,null,null,null,null,{"$f":"IF('１４号入力'!AM73=\"\",\"\",'１４号入力'!AM73)","v":""},null,null,null,null,null,null,{"$f":"IF('１４号入力'!E109=\"\",\"\",'１４号入力'!E109)","v":""},null,null,null,null,{"$f":"IF('１４号入力'!H109=\"\",\"\",'１４号入力'!H109)","v":""},null,null,null,null,null,null,null,null,null,null,null,null,{"$f":"IF('１４号入力'!Q109=0,\"\",'１４号入力'!Q109)","v":""}]
[null,null,null,null,null,{"$f":"IF('１４号入力'!D74=\"\",\"\",'１４号入力'!D74)","v":""},null,null,"","","",null,null,{"$f":"IF('１４号入力'!R74=\"\",\"\",'１４号入力'!R74)","v":""},null,null,null,null,null,null,{"$f":"IF('１４号入力'!U74=\"\",\"\",'１４号入力'!U74)","v":""},null,null,null,null,null,null,{"$f":"IF('１４号入力'!X74=\"\",\"\",'１４号入力'!X74)","v":""},null,null,null,null,null,null,{"$f":"IF('１４号入力'!AA74=\"\",\"\",'１４号入力'!AA74)","v":""},null,null,null,null,null,null,{"$f":"IF('１４号入力'!AD74=\"\",\"\",'１４号入力'!AD74)","v":""},null,null,null,null,null,null,{"$f":"IF('１４号入力'!AG74=\"\",\"\",'１４号入力'!AG74)","v":""},null,null,null,null,null,null,{"$f":"IF('１４号入力'!AJ74=\"\",\"\",'１４号入力'!AJ74)","v":""},null,null,null,null,null,null,{"$f":"IF('１４号入力'!AM74=\"\",\"\",'１４号入力'!AM74)","v":""},null,null,null,null,null,null,{"$f":"IF('１４号入力'!E110=\"\",\"\",'１４号入力'!E110)","v":""},null,null,null,null,{"$f":"IF('１４号入力'!H110=\"\",\"\",'１４号入力'!H110)","v":""},null,null,null,null,null,null,null,null,null,null,null,null,{"$f":"IF('１４号入力'!Q110=0,\"\",'１４号入力'!Q110)","v":""}]
[null,null,null,null,null,{"$f":"IF('１４号入力'!D75=\"\",\"\",'１４号入力'!D75)","v":""},null,null,"","","",null,null,{"$f":"IF('１４号入力'!R75=\"\",\"\",'１４号入力'!R75)","v":""},null,null,null,null,null,null,{"$f":"IF('１４号入力'!U75=\"\",\"\",'１４号入力'!U75)","v":""},null,null,null,null,null,null,{"$f":"IF('１４号入力'!X75=\"\",\"\",'１４号入力'!X75)","v":""},null,null,null,null,null,null,{"$f":"IF('１４号入力'!AA75=\"\",\"\",'１４号入力'!AA75)","v":""},null,null,null,null,null,null,{"$f":"IF('１４号入力'!AD75=\"\",\"\",'１４号入力'!AD75)","v":""},null,null,null,null,null,null,{"$f":"IF('１４号入力'!AG75=\"\",\"\",'１４号入力'!AG75)","v":""},null,null,null,null,null,null,{"$f":"IF('１４号入力'!AJ75=\"\",\"\",'１４号入力'!AJ75)","v":""},null,null,null,null,null,null,{"$f":"IF('１４号入力'!AM75=\"\",\"\",'１４号入力'!AM75)","v":""},null,null,null,null,null,null,{"$f":"IF('１４号入力'!E111=\"\",\"\",'１４号入力'!E111)","v":""},null,null,null,null,{"$f":"IF('１４号入力'!H111=\"\",\"\",'１４号入力'!H111)","v":""},null,null,null,null,null,null,null,null,null,null,null,null,{"$f":"IF('１４号入力'!Q111=0,\"\",'１４号入力'!Q111)","v":""}]
[null,null,null,null,null,{"$f":"IF('１４号入力'!D76=\"\",\"\",'１４号入力'!D76)","v":""},null,null,"","","",null,null,{"$f":"IF('１４号入力'!R76=\"\",\"\",'１４号入力'!R76)","v":""},null,null,null,null,null,null,{"$f":"IF('１４号入力'!U76=\"\",\"\",'１４号入力'!U76)","v":""},null,null,null,null,null,null,{"$f":"IF('１４号入力'!X76=\"\",\"\",'１４号入力'!X76)","v":""},null,null,null,null,null,null,{"$f":"IF('１４号入力'!AA76=\"\",\"\",'１４号入力'!AA76)","v":""},null,null,null,null,null,null,{"$f":"IF('１４号入力'!AD76=\"\",\"\",'１４号入力'!AD76)","v":""},null,null,null,null,null,null,{"$f":"IF('１４号入力'!AG76=\"\",\"\",'１４号入力'!AG76)","v":""},null,null,null,null,null,null,{"$f":"IF('１４号入力'!AJ76=\"\",\"\",'１４号入力'!AJ76)","v":""},null,null,null,null,null,null,{"$f":"IF('１４号入力'!AM76=\"\",\"\",'１４号入力'!AM76)","v":""},null,null,null,null,null,null,{"$f":"IF('１４号入力'!E112=\"\",\"\",'１４号入力'!E112)","v":""},null,null,null,null,{"$f":"IF('１４号入力'!H112=\"\",\"\",'１４号入力'!H112)","v":""},null,null,null,null,null,null,null,null,null,null,null,null,{"$f":"IF('１４号入力'!Q112=0,\"\",'１４号入力'!Q112)","v":""}]
[null,null,null,null,null,{"$f":"IF('１４号入力'!D77=\"\",\"\",'１４号入力'!D77)","v":""},null,null,"","","",null,null,{"$f":"IF('１４号入力'!R77=\"\",\"\",'１４号入力'!R77)","v":""},null,null,null,null,null,null,{"$f":"IF('１４号入力'!U77=\"\",\"\",'１４号入力'!U77)","v":""},null,null,null,null,null,null,{"$f":"IF('１４号入力'!X77=\"\",\"\",'１４号入力'!X77)","v":""},null,null,null,null,null,null,{"$f":"IF('１４号入力'!AA77=\"\",\"\",'１４号入力'!AA77)","v":""},null,null,null,null,null,null,{"$f":"IF('１４号入力'!AD77=\"\",\"\",'１４号入力'!AD77)","v":""},null,null,null,null,null,null,{"$f":"IF('１４号入力'!AG77=\"\",\"\",'１４号入力'!AG77)","v":""},null,null,null,null,null,null,{"$f":"IF('１４号入力'!AJ77=\"\",\"\",'１４号入力'!AJ77)","v":""},null,null,null,null,null,null,{"$f":"IF('１４号入力'!AM77=\"\",\"\",'１４号入力'!AM77)","v":""},null,null,null,null,null,null,{"$f":"IF('１４号入力'!E113=\"\",\"\",'１４号入力'!E113)","v":""},null,null,null,null,{"$f":"IF('１４号入力'!H113=\"\",\"\",'１４号入力'!H113)","v":""},null,null,null,null,null,null,null,null,null,null,null,null,{"$f":"IF('１４号入力'!Q113=0,\"\",'１４号入力'!Q113)","v":""}]
[null,null,null,null,null,{"$f":"IF('１４号入力'!D78=\"\",\"\",'１４号入力'!D78)","v":""},null,null,"","","",null,null,{"$f":"IF('１４号入力'!R78=\"\",\"\",'１４号入力'!R78)","v":""},null,null,null,null,null,null,{"$f":"IF('１４号入力'!U78=\"\",\"\",'１４号入力'!U78)","v":""},null,null,null,null,null,null,{"$f":"IF('１４号入力'!X78=\"\",\"\",'１４号入力'!X78)","v":""},null,null,null,null,null,null,{"$f":"IF('１４号入力'!AA78=\"\",\"\",'１４号入力'!AA78)","v":""},null,null,null,null,null,null,{"$f":"IF('１４号入力'!AD78=\"\",\"\",'１４号入力'!AD78)","v":""},null,null,null,null,null,null,{"$f":"IF('１４号入力'!AG78=\"\",\"\",'１４号入力'!AG78)","v":""},null,null,null,null,null,null,{"$f":"IF('１４号入力'!AJ78=\"\",\"\",'１４号入力'!AJ78)","v":""},null,null,null,null,null,null,{"$f":"IF('１４号入力'!AM78=\"\",\"\",'１４号入力'!AM78)","v":""},null,null,null,null,null,null,{"$f":"IF('１４号入力'!E114=\"\",\"\",'１４号入力'!E114)","v":""},null,null,null,null,{"$f":"IF('１４号入力'!H114=\"\",\"\",'１４号入力'!H114)","v":""},null,null,null,null,null,null,null,null,null,null,null,null,{"$f":"IF('１４号入力'!Q114=0,\"\",'１４号入力'!Q114)","v":""}]
[null,null,null,null,null,{"$f":"IF('１４号入力'!D79=\"\",\"\",'１４号入力'!D79)","v":""},null,null,"","","",null,null,{"$f":"IF('１４号入力'!R79=\"\",\"\",'１４号入力'!R79)","v":""},null,null,null,null,null,null,{"$f":"IF('１４号入力'!U79=\"\",\"\",'１４号入力'!U79)","v":""},null,null,null,null,null,null,{"$f":"IF('１４号入力'!X79=\"\",\"\",'１４号入力'!X79)","v":""},null,null,null,null,null,null,{"$f":"IF('１４号入力'!AA79=\"\",\"\",'１４号入力'!AA79)","v":""},null,null,null,null,null,null,{"$f":"IF('１４号入力'!AD79=\"\",\"\",'１４号入力'!AD79)","v":""},null,null,null,null,null,null,{"$f":"IF('１４号入力'!AG79=\"\",\"\",'１４号入力'!AG79)","v":""},null,null,null,null,null,null,{"$f":"IF('１４号入力'!AJ79=\"\",\"\",'１４号入力'!AJ79)","v":""},null,null,null,null,null,null,{"$f":"IF('１４号入力'!AM79=\"\",\"\",'１４号入力'!AM79)","v":""},null,null,null,null,null,null,{"$f":"IF('１４号入力'!E115=\"\",\"\",'１４号入力'!E115)","v":""},null,null,null,null,{"$f":"IF('１４号入力'!H115=\"\",\"\",'１４号入力'!H115)","v":""},null,null,null,null,null,null,null,null,null,null,null,null,{"$f":"IF('１４号入力'!Q115=0,\"\",'１４号入力'!Q115)","v":""}]
[null,null,null,null,null,{"$f":"IF('１４号入力'!D80=\"\",\"\",'１４号入力'!D80)","v":""},null,null,"","","",null,null,{"$f":"IF('１４号入力'!R80=\"\",\"\",'１４号入力'!R80)","v":""},null,null,null,null,null,null,{"$f":"IF('１４号入力'!U80=\"\",\"\",'１４号入力'!U80)","v":""},null,null,null,null,null,null,{"$f":"IF('１４号入力'!X80=\"\",\"\",'１４号入力'!X80)","v":""},null,null,null,null,null,null,{"$f":"IF('１４号入力'!AA80=\"\",\"\",'１４号入力'!AA80)","v":""},null,null,null,null,null,null,{"$f":"IF('１４号入力'!AD80=\"\",\"\",'１４号入力'!AD80)","v":""},null,null,null,null,null,null,{"$f":"IF('１４号入力'!AG80=\"\",\"\",'１４号入力'!AG80)","v":""},null,null,null,null,null,null,{"$f":"IF('１４号入力'!AJ80=\"\",\"\",'１４号入力'!AJ80)","v":""},null,null,null,null,null,null,{"$f":"IF('１４号入力'!AM80=\"\",\"\",'１４号入力'!AM80)","v":""},null,null,null,null,null,null,{"$f":"IF('１４号入力'!E116=\"\",\"\",'１４号入力'!E116)","v":""},null,null,null,null,{"$f":"IF('１４号入力'!H116=\"\",\"\",'１４号入力'!H116)","v":""},null,null,null,null,null,null,null,null,null,null,null,null,{"$f":"IF('１４号入力'!Q116=0,\"\",'１４号入力'!Q116)","v":""}]
[null,null,null,null,null,{"$f":"IF('１４号入力'!D81=\"\",\"\",'１４号入力'!D81)","v":""},null,null,"","","",null,null,{"$f":"IF('１４号入力'!R81=\"\",\"\",'１４号入力'!R81)","v":""},null,null,null,null,null,null,{"$f":"IF('１４号入力'!U81=\"\",\"\",'１４号入力'!U81)","v":""},null,null,null,null,null,null,{"$f":"IF('１４号入力'!X81=\"\",\"\",'１４号入力'!X81)","v":""},null,null,null,null,null,null,{"$f":"IF('１４号入力'!AA81=\"\",\"\",'１４号入力'!AA81)","v":""},null,null,null,null,null,null,{"$f":"IF('１４号入力'!AD81=\"\",\"\",'１４号入力'!AD81)","v":""},null,null,null,null,null,null,{"$f":"IF('１４号入力'!AG81=\"\",\"\",'１４号入力'!AG81)","v":""},null,null,null,null,null,null,{"$f":"IF('１４号入力'!AJ81=\"\",\"\",'１４号入力'!AJ81)","v":""},null,null,null,null,null,null,{"$f":"IF('１４号入力'!AM81=\"\",\"\",'１４号入力'!AM81)","v":""},null,null,null,null,null,null,{"$f":"IF('１４号入力'!E117=\"\",\"\",'１４号入力'!E117)","v":""},null,null,null,null,{"$f":"IF('１４号入力'!H117=\"\",\"\",'１４号入力'!H117)","v":""},null,null,null,null,null,null,null,null,null,null,null,null,{"$f":"IF('１４号入力'!Q117=0,\"\",'１４号入力'!Q117)","v":""}]
[null,null,null,null,null,{"$f":"IF('１４号入力'!D82=\"\",\"\",'１４号入力'!D82)","v":""},null,null,"","","",null,null,{"$f":"IF('１４号入力'!R82=\"\",\"\",'１４号入力'!R82)","v":""},null,null,null,null,null,null,{"$f":"IF('１４号入力'!U82=\"\",\"\",'１４号入力'!U82)","v":""},null,null,null,null,null,null,{"$f":"IF('１４号入力'!X82=\"\",\"\",'１４号入力'!X82)","v":""},null,null,null,null,null,null,{"$f":"IF('１４号入力'!AA82=\"\",\"\",'１４号入力'!AA82)","v":""},null,null,null,null,null,null,{"$f":"IF('１４号入力'!AD82=\"\",\"\",'１４号入力'!AD82)","v":""},null,null,null,null,null,null,{"$f":"IF('１４号入力'!AG82=\"\",\"\",'１４号入力'!AG82)","v":""},null,null,null,null,null,null,{"$f":"IF('１４号入力'!AJ82=\"\",\"\",'１４号入力'!AJ82)","v":""},null,null,null,null,null,null,{"$f":"IF('１４号入力'!AM82=\"\",\"\",'１４号入力'!AM82)","v":""},null,null,null,null,null,null,{"$f":"IF('１４号入力'!E118=\"\",\"\",'１４号入力'!E118)","v":""},null,null,null,null,{"$f":"IF('１４号入力'!H118=\"\",\"\",'１４号入力'!H118)","v":""},null,null,null,null,null,null,null,null,null,null,null,null,{"$f":"IF('１４号入力'!Q118=0,\"\",'１４号入力'!Q118)","v":""}]
[null,null,null,null,null,{"$f":"IF('１４号入力'!D83=\"\",\"\",'１４号入力'!D83)","v":""},null,null,"","","",null,null,{"$f":"IF('１４号入力'!R83=\"\",\"\",'１４号入力'!R83)","v":""},null,null,null,null,null,null,{"$f":"IF('１４号入力'!U83=\"\",\"\",'１４号入力'!U83)","v":""},null,null,null,null,null,null,{"$f":"IF('１４号入力'!X83=\"\",\"\",'１４号入力'!X83)","v":""},null,null,null,null,null,null,{"$f":"IF('１４号入力'!AA83=\"\",\"\",'１４号入力'!AA83)","v":""},null,null,null,null,null,null,{"$f":"IF('１４号入力'!AD83=\"\",\"\",'１４号入力'!AD83)","v":""},null,null,null,null,null,null,{"$f":"IF('１４号入力'!AG83=\"\",\"\",'１４号入力'!AG83)","v":""},null,null,null,null,null,null,{"$f":"IF('１４号入力'!AJ83=\"\",\"\",'１４号入力'!AJ83)","v":""},null,null,null,null,null,null,{"$f":"IF('１４号入力'!AM83=\"\",\"\",'１４号入力'!AM83)","v":""},null,null,null,null,null,null,{"$f":"IF('１４号入力'!E119=\"\",\"\",'１４号入力'!E119)","v":""},null,null,null,null,{"$f":"IF('１４号入力'!H119=\"\",\"\",'１４号入力'!H119)","v":""},null,null,null,null,null,null,null,null,null,null,null,null,{"$f":"IF('１４号入力'!Q119=0,\"\",'１４号入力'!Q119)","v":""}]
[null,null,null,null,null,{"$f":"IF('１４号入力'!D84=\"\",\"\",'１４号入力'!D84)","v":""},null,null,"","","",null,null,{"$f":"IF('１４号入力'!R84=\"\",\"\",'１４号入力'!R84)","v":""},null,null,null,null,null,null,{"$f":"IF('１４号入力'!U84=\"\",\"\",'１４号入力'!U84)","v":""},null,null,null,null,null,null,{"$f":"IF('１４号入力'!X84=\"\",\"\",'１４号入力'!X84)","v":""},null,null,null,null,null,null,{"$f":"IF('１４号入力'!AA84=\"\",\"\",'１４号入力'!AA84)","v":""},null,null,null,null,null,null,{"$f":"IF('１４号入力'!AD84=\"\",\"\",'１４号入力'!AD84)","v":""},null,null,null,null,null,null,{"$f":"IF('１４号入力'!AG84=\"\",\"\",'１４号入力'!AG84)","v":""},null,null,null,null,null,null,{"$f":"IF('１４号入力'!AJ84=\"\",\"\",'１４号入力'!AJ84)","v":""},null,null,null,null,null,null,{"$f":"IF('１４号入力'!AM84=\"\",\"\",'１４号入力'!AM84)","v":""},null,null,null,null,null,null,{"$f":"IF('１４号入力'!E120=\"\",\"\",'１４号入力'!E120)","v":""},null,null,null,null,{"$f":"IF('１４号入力'!H120=\"\",\"\",'１４号入力'!H120)","v":""},null,null,null,null,null,null,null,null,null,null,null,null,{"$f":"IF('１４号入力'!Q120=0,\"\",'１４号入力'!Q120)","v":""}]
[null,null,null,null,null,{"$f":"IF('１４号入力'!D85=\"\",\"\",'１４号入力'!D85)","v":""},null,null,"","","",null,null,{"$f":"IF('１４号入力'!R85=\"\",\"\",'１４号入力'!R85)","v":""},null,null,null,null,null,null,{"$f":"IF('１４号入力'!U85=\"\",\"\",'１４号入力'!U85)","v":""},null,null,null,null,null,null,{"$f":"IF('１４号入力'!X85=\"\",\"\",'１４号入力'!X85)","v":""},null,null,null,null,null,null,{"$f":"IF('１４号入力'!AA85=\"\",\"\",'１４号入力'!AA85)","v":""},null,null,null,null,null,null,{"$f":"IF('１４号入力'!AD85=\"\",\"\",'１４号入力'!AD85)","v":""},null,null,null,null,null,null,{"$f":"IF('１４号入力'!AG85=\"\",\"\",'１４号入力'!AG85)","v":""},null,null,null,null,null,null,{"$f":"IF('１４号入力'!AJ85=\"\",\"\",'１４号入力'!AJ85)","v":""},null,null,null,null,null,null,{"$f":"IF('１４号入力'!AM85=\"\",\"\",'１４号入力'!AM85)","v":""},null,null,null,null,null,null,{"$f":"IF('１４号入力'!E121=\"\",\"\",'１４号入力'!E121)","v":""},null,null,null,null,{"$f":"IF('１４号入力'!H121=\"\",\"\",'１４号入力'!H121)","v":""},null,null,null,null,null,null,null,null,null,null,null,null,{"$f":"IF('１４号入力'!Q121=0,\"\",'１４号入力'!Q121)","v":""}]
[null,null,null,null,null,{"$f":"IF('１４号入力'!D86=\"\",\"\",'１４号入力'!D86)","v":""},null,null,"","","",null,null,{"$f":"IF('１４号入力'!R86=\"\",\"\",'１４号入力'!R86)","v":""},null,null,null,null,null,null,{"$f":"IF('１４号入力'!U86=\"\",\"\",'１４号入力'!U86)","v":""},null,null,null,null,null,null,{"$f":"IF('１４号入力'!X86=\"\",\"\",'１４号入力'!X86)","v":""},null,null,null,null,null,null,{"$f":"IF('１４号入力'!AA86=\"\",\"\",'１４号入力'!AA86)","v":""},null,null,null,null,null,null,{"$f":"IF('１４号入力'!AD86=\"\",\"\",'１４号入力'!AD86)","v":""},null,null,null,null,null,null,{"$f":"IF('１４号入力'!AG86=\"\",\"\",'１４号入力'!AG86)","v":""},null,null,null,null,null,null,{"$f":"IF('１４号入力'!AJ86=\"\",\"\",'１４号入力'!AJ86)","v":""},null,null,null,null,null,null,{"$f":"IF('１４号入力'!AM86=\"\",\"\",'１４号入力'!AM86)","v":""},null,null,null,null,null,null,{"$f":"IF('１４号入力'!E122=\"\",\"\",'１４号入力'!E122)","v":""},null,null,null,null,{"$f":"IF('１４号入力'!H122=\"\",\"\",'１４号入力'!H122)","v":""},null,null,null,null,null,null,null,null,null,null,null,null,{"$f":"IF('１４号入力'!Q122=0,\"\",'１４号入力'!Q122)","v":""}]
[null,null,null,null,null,"植物成長調整剤",null,null,null,null,null,null,null,{"$f":"IF('１４号入力'!F91=\"\",\"/\",'１４号入力'!F91)","v":"/"},null,null,null,null,{"$f":"IF('１４号入力'!I91=0,0,'１４号入力'!I91)","v":0},null,null,null,null,null,null,null,{"$f":"IF('１４号入力'!N91=0,0,'１４号入力'!N91)","v":0},null,null,null,null,null,null,null,{"$f":"IF('１４号入力'!C94=\"\",\"\",'１４号入力'!C94)","v":"トップジンＭ水和剤"},null,null,null,null,null,null,null,null,null,null,null,null,null,null,null,{"$f":"IF('１４号入力'!F97=\"\",\"/\",'１４号入力'!F97)","v":"/"},null,null,null,null,{"$f":"IF('１４号入力'!I97=0,0,'１４号入力'!I97)","v":0},null,null,null,null,null,null,null,{"$f":"IF('１４号入力'!N97=0,0,'１４号入力'!N97)","v":0},null,null,null,null,null,null,null,{"$f":"IF('１４号入力'!F99=\"\",\"/\",'１４号入力'!F99)","v":"/"},null,null,null,null,{"$f":"IF('１４号入力'!I99=0,0,'１４号入力'!I99)","v":0},null,null,null,null,null,null,null,{"$f":"IF('１４号入力'!N99=0,0,'１４号入力'!N99)","v":0}]
[null,null,null,null,null,{"$f":"IF('１４号入力'!L88=\"\",\"\",'１４号入力'!L88)","v":"アークランド液剤"},null,null,null,null,null,null,null,{"$f":"IF('１４号入力'!F92=\"\",\"/\",'１４号入力'!F92)","v":"/"},null,null,null,null,{"$f":"IF('１４号入力'!I92=0,0,'１４号入力'!I92)","v":0},null,null,null,null,null,null,null,{"$f":"IF('１４号入力'!N92=0,0,'１４号入力'!N92)","v":0},null,null,null,null,null,null,null,null,null,null,null,null,null,null,null,null,null,null,null,null,null,null,null,{"$f":"IF('１４号入力'!F98=\"\",\"/\",'１４号入力'!F98)","v":"/"},null,null,null,null,{"$f":"IF('１４号入力'!I98=0,0,'１４号入力'!I98)","v":0},null,null,null,null,null,null,null,{"$f":"IF('１４号入力'!N98=0,0,'１４号入力'!N98)","v":0},null,null,null,null,null,null,null,{"$f":"IF('１４号入力'!F100=\"\",\"/\",'１４号入力'!F100)","v":"/"},null,null,null,null,{"$f":"IF('１４号入力'!I100=0,0,'１４号入力'!I100)","v":0},null,null,null,null,null,null,null,{"$f":"IF('１４号入力'!N100=0,0,'１４号入力'!N100)","v":0}]

{"sheet":"液肥名リスト","index":30,"n_rows":202,"n_cols":5,"rows_kept":202,"cut":false,"hidden":false,"merged":[]}
[]
[null,"液肥名リスト"]
[null,null,{"$f":"CONCATENATE(\"あと\",C187,\"種類登録できます\")","v":"あと10種類登録できます"}]
[null,null,"液肥名"]
[]
["7000～",7102,"Big-up（ビック・アップ）"]
[null,7064,"CIY-111"]
[null,7055,"GP246"]
[null,7029,"GPリバース"]
[null,7056,"GPレスキュー"]
[null,7105,"LFパウダー"]
[null,7069,"Ｍエース"]
[null,7032,"ＱＳ－Ｈ２"]
[null,7030,"ＱＳ－ＩＰ"]
[null,7031,"ＱＳ－ＩＰ２"]
[null,7070,"アクアカル"]
[null,7071,"アクアマグ"]
[null,7167,"アグリキトP"]
[null,7033,"アグリボＥＸ"]
[null,7039,"ｱｺ　ﾐｸﾛｹﾞﾝ"]
[null,7115,"アミグロー"]
[null,7093,"アミノアップ634"]
[null,7128,"ｱﾐﾉｷｯﾎﾟ"]
[null,7129,"ｱﾐﾉｷｯﾎﾟ3号"]
[null,7121,"アミノメリット青"]
[null,7122,"アミノメリット黄"]
[null,7123,"アミノメリット特青"]
[null,7036,"育王K"]
[null,7133,"液体ジャンプ"]
[null,7035,"液体ボカシコンブ"]
[null,7168,"エキタンエキス"]
[null,7086,"エレマックス0-28-26"]
[null,7085,"エレマックス4-30-20"]
[null,7166,"お茶に一番"]
[null,7065,"海藻のエキス"]
[null,7096,"核酸＆プロリン"]
[null,7057,"花実菜727"]
[null,7084,"カテキンパワー"]
[null,7145,"カルゲンα"]
[null,7146,"カルゲンβ"]
[null,7097,"ｶﾙｼｳﾑ<88>液肥"]
[null,7149,"カルシウムZ"]
[null,7152,"カルビターP"]
[null,7143,"カルプラス"]
[null,7028,"キクヨトップ"]
[null,7125,"キッポ　青"]
[null,7127,"キッポ　赤"]
[null,7126,"キッポ　黄"]
[null,7002,"キャノピー"]
[null,7060,"共栄有機入り液肥1号"]
[null,7061,"共栄有機入り液肥2号"]
[null,7103,"強力ｵﾘｺﾞｴｰｽＬ"]
[null,7108,"くみあい協同液肥1号"]
[null,7109,"くみあい協同液肥2号"]
[null,7110,"グリーンアロー2号"]
[null,7111,"グリーンアロー3号"]
[null,7003,"クロロゲン赤"]
[null,7151,"ケルパック６６"]
[null,7153,"元気一番"]
[null,7155,"ゲンデル1号"]
[null,7156,"ゲンデル2号"]
[null,7004,"ゴエマー1号"]
[null,7005,"ゴエマー2号"]
[null,7075,"コフナエイドＫ"]
[null,7074,"コフナエイドＰ"]
[null,7023,"魚ソリューブル"]
[null,7022,"サナフォルテ"]
[null,7045,"サム"]
[null,7099,"サンパワー88α"]
[null,7134,"シーマジック"]
[null,7067,"シャキット"]
[null,7078,"ジャックスパワー"]
[null,7138,"新PRパワー"]
[null,7141,"神協液肥1号"]
[null,7142,"神協液肥537号"]
[null,7139,"神協液肥N4号"]
[null,7136,"神協ビビットグリーン"]
[null,7137,"神協ビビットレッド"]
[null,7154,"ｽｲｰﾄﾏｼﾞｯｸ"]
[null,7052,"スカイアミノン18"]
[null,7073,"ｽﾉｰｸﾞﾛｰｴｰｽ254"]
[null,7072,"ｽﾉｰｸﾞﾛｰｴｰｽM"]
[null,7059,"そせい"]
[null,7068,"タカクラ１号"]
[null,7006,"デカエース1号"]
[null,7007,"デカエース2号"]
[null,7041,"デリシャスエッセンス"]
[null,7066,"テンガα"]
[null,7164,"でんでんむし"]
[null,7130,"トーシンCa"]
[null,7131,"トーシンCa2号"]
[null,7132,"トーシンPK"]
[null,7113,"トミー液肥　グリーン"]
[null,7114,"トミー液肥　ハイベスト"]
[null,7112,"トミー液肥　ブラック"]
[null,7010,"トヨケルプ"]
[null,7021,"ナスマグ"]
[null,7050,"乳カルパンチ"]
[null,7089,"ネオバイロン1号"]
[null,7079,"ネニパワー"]
[null,7020,"ハイK"]
[null,7019,"ハイP"]
[null,7098,"ハイゴールド"]
[null,7011,"ハイタック294"]
[null,7051,"ﾊﾞｲﾀﾙﾊﾟｳﾀﾞｰ１号"]
[null,7062,"ﾊﾞｲﾀﾙﾊﾟｳﾀﾞｰ2号"]
[null,7047,"バイトロー"]
[null,7090,"バイロンP"]
[null,7087,"バイロンパワー1号"]
[null,7088,"バイロンパワーS号"]
[null,7161,"バクテリアンA2"]
[null,7101,"バッチリ<10>液肥"]
[null,7094,"バッチリ<50>液肥"]
[null,7095,"バッチリ<99>"]
[null,7100,"バッチリゴールド"]
[null,7049,"バッチリメロン"]
[null,7037,"花果神L"]
[null,7162,"葉菜花"]
[null,7048,"パワーミックス"]
[null,7144,"パワフルグリーン"]
[null,7159,"ピーワン１号"]
[null,7160,"ピーワン2号"]
[null,7147,"ビビファイ"]
[null,7081,"ファイト・オーツー"]
[null,7082,"ファイト・カル"]
[null,7083,"ファイト・メット"]
[null,7046,"ふじ"]
[null,7001,"フジ１号"]
[null,7013,"フチンゴールド"]
[null,7017,"ﾌﾞﾗﾄﾐﾝﾊﾟｳﾀﾞｰ"]
[null,7018,"ﾌﾞﾗﾄﾐﾝﾊﾟﾜｰ（地）"]
[null,7015,"ﾌﾞﾗﾄﾐﾝﾊﾟﾜｰ１号"]
[null,7016,"ﾌﾞﾗﾄﾐﾝﾊﾟﾜｰS"]
[null,7014,"ﾌﾞﾗﾄﾐﾝﾊﾟﾜｰ特1号"]
[null,7107,"プラントエイド１号"]
[null,7106,"プラントエイドS号"]
[null,7076,"ﾌﾟﾗﾝﾄｸﾞﾛｰ1号"]
[null,7077,"ﾌﾟﾗﾝﾄｸﾞﾛｰ9号"]
[null,7091,"プラントゲン1号"]
[null,7092,"プラントゲン2号"]
[null,7148,"プランプ１"]
[null,7116,"ﾌﾙﾊｰﾄ液肥　FH295"]
[null,7165,"プロ仕様"]
[null,7135,"ベストⅡ"]
[null,7140,"ベルニック"]
[null,7012,"ペンタキープV"]
[null,7163,"ホスグリーンＮ３号"]
[null,7124,"ホップアップ"]
[null,7053,"ボニトエキス１号"]
[null,7054,"ボニトエキス２号"]
[null,7038,"万田31号"]
[null,7058,"みのり"]
[null,7150,"妙光　みのり"]
[null,7120,"メリットM"]
[null,7117,"メリット青"]
[null,7119,"メリット赤"]
[null,7118,"メリット黄"]
[null,7034,"ヤワラ"]
[null,7042,"有機液肥21号"]
[null,7043,"有機液肥22号"]
[null,7044,"有機液肥23号"]
[null,7024,"有機液肥複合246号"]
[null,7026,"有機液肥複合484号"]
[null,7027,"有機液肥複合844号"]
[null,7025,"有機液肥複合ｵｰﾙ５"]
[null,7104,"有機カルトップ"]
[null,7040,"有機複合肥料282号"]
[null,7158,"ヨーゲン特２号"]
[null,7157,"ヨーヒ"]
[null,7080,"ライパー2号"]
[null,7008,"リーフゲン１号"]
[null,7009,"リーフゲン2号"]
[null,7063,"リキッドY"]
[]
[]
[]
[]
[]
[]
[]
[]
[]
[]
[]
[]
[]
[null,"あと",{"$f":"COUNTBLANK(C6:C183)","v":10},"種類登録できます"]
[]
[]
[null,null,"未承認"]
[null,null,"グリーンパワー88","申告中（未販売）","〃"]
[null,null,"ﾘｰﾌｺｰﾄ","内容証明書"]
[null,null,"植物免疫力向上液","内容証明書","浅井園和堂"]
[null,null,"チャンス液","内容証明書","JA静岡経済連"]
[null,null,"ルートゲイン水和剤",null,"〃"]
[null,null,"リグ",null,"JA遠州中央"]
[null,null,"ﾊｲｹﾙﾌﾟ",null,"JA遠州夢咲"]
[null,null,"ｻﾝﾊﾟﾜｰ",null,"ｽｷﾞﾑﾗ化学工業"]
[null,null,"ｸﾞﾘｰﾝｱｯﾌﾟ",null,"〃"]
[null,null,"ｻﾝﾌﾐﾝSI-60",null,"〃"]
[null,null,"ﾊﾞﾗﾝｽ酵素EX","内容証明書","川口肥料"]
[null,null,"ｾﾙｺｰﾄ","日本薬局HPMC2910","ｶﾗｰｹﾐｶﾙ工業"]

{"sheet":"肥料名リスト","index":31,"n_rows":338,"n_cols":6,"rows_kept":338,"cut":false,"hidden":false,"merged":[]}
[]
[null,null,"肥料名リスト"]
[null,null,{"$f":"CONCATENATE(\"あと\",D338,\"種類登録できます\")","v":"あと8種類登録できます"}]
[null,"No","業者名　　　　　　　　商品名","業者名","商品名","アスキー変換"]
[]
[null,1,"育苗","育苗","育苗","育苗"]
[null,2,"定植","定植","定植","定植"]
[null,3,"木作り","木作り","木作り","木作り"]
[null,4,"交配","交配","交配","交配"]
[null,5,"ネット","ネット","ネット","ネット"]
[null,4005,{"$f":"CONCATENATE(D11,REPT(\" \",20-LENB(D11)),E11)","v":"JA静岡経済連        65消石灰"},"JA静岡経済連","65消石灰",{"$f":"ASC(E11)","v":"65消石灰"}]
[null,1014,"JA静岡経済連        KKアミノ有機","JA静岡経済連","KKアミノ有機","KKｱﾐﾉ有機"]
[null,5004,"JA静岡経済連        VS３４","JA静岡経済連","VS３４","VS34"]
[null,5039,"JA静岡経済連        アグリPソイル","JA静岡経済連","アグリPソイル","ｱｸﾞﾘPｿｲﾙ"]
[null,1104,"JA静岡経済連        ｱﾐｯｸｽ682","JA静岡経済連","ｱﾐｯｸｽ682","ｱﾐｯｸｽ682"]
[null,1103,"JA静岡経済連        ｱﾐｯｸｽ744","JA静岡経済連","ｱﾐｯｸｽ744","ｱﾐｯｸｽ744"]
[null,1064,"JA静岡経済連        ｱﾙｷﾞｯﾄぼかし","JA静岡経済連","ｱﾙｷﾞｯﾄぼかし","ｱﾙｷﾞｯﾄぼかし"]
[null,4095,"JA静岡経済連        ｱﾙﾌｧｰﾃﾝ","JA静岡経済連","ｱﾙﾌｧｰﾃﾝ","ｱﾙﾌｧｰﾃﾝ"]
[null,1004,"JA静岡経済連        磐田ﾒﾛﾝ","JA静岡経済連","磐田ﾒﾛﾝ","磐田ﾒﾛﾝ"]
[null,1006,"JA静岡経済連        磐田ﾒﾛﾝ追肥","JA静岡経済連","磐田ﾒﾛﾝ追肥","磐田ﾒﾛﾝ追肥"]
[null,1005,"JA静岡経済連        磐田ﾒﾛﾝ基肥","JA静岡経済連","磐田ﾒﾛﾝ基肥","磐田ﾒﾛﾝ基肥"]
[null,4017,"JA静岡経済連        ｳﾍﾞｾﾞｵﾗｲﾄ","JA静岡経済連","ｳﾍﾞｾﾞｵﾗｲﾄ","ｳﾍﾞｾﾞｵﾗｲﾄ"]
[null,1065,"JA静岡経済連        貝殻粉砕肥料","JA静岡経済連","貝殻粉砕肥料","貝殻粉砕肥料"]
[null,4019,"JA静岡経済連        ｶﾞｯﾃﾝﾍﾟｰﾊｰ","JA静岡経済連","ｶﾞｯﾃﾝﾍﾟｰﾊｰ","ｶﾞｯﾃﾝﾍﾟｰﾊｰ"]
[null,1067,"JA静岡経済連        カニガラ","JA静岡経済連","カニガラ","ｶﾆｶﾞﾗ"]
[null,1069,"JA静岡経済連        カルゲン","JA静岡経済連","カルゲン","ｶﾙｹﾞﾝ"]
[null,4094,"JA静岡経済連        ｷｰﾜｰﾄﾞ","JA静岡経済連","ｷｰﾜｰﾄﾞ","ｷｰﾜｰﾄﾞ"]
[null,6002,"JA静岡経済連        ｷｯﾎﾟPX","JA静岡経済連","ｷｯﾎﾟPX","ｷｯﾎﾟPX"]
[null,6003,"JA静岡経済連        ｷｯﾎﾟPXｽｰﾊﾟｰ","JA静岡経済連","ｷｯﾎﾟPXｽｰﾊﾟｰ","ｷｯﾎﾟPXｽｰﾊﾟｰ"]
[null,3002,"JA静岡経済連        ｷﾉｴｰｽ","JA静岡経済連","ｷﾉｴｰｽ","ｷﾉｴｰｽ"]
[null,4007,"JA静岡経済連        ｷﾉｯｸｽH","JA静岡経済連","ｷﾉｯｸｽH","ｷﾉｯｸｽH"]
[null,4008,"JA静岡経済連        ｷﾉｯｸｽS","JA静岡経済連","ｷﾉｯｸｽS","ｷﾉｯｸｽS"]
[null,4011,"JA静岡経済連        苦土ｾﾙｶ2号","JA静岡経済連","苦土ｾﾙｶ2号","苦土ｾﾙｶ2号"]
[null,1001,"JA静岡経済連        ｸﾗｳﾝﾒﾛﾝ555","JA静岡経済連","ｸﾗｳﾝﾒﾛﾝ555","ｸﾗｳﾝﾒﾛﾝ555"]
[null,1003,"JA静岡経済連        ｸﾗｳﾝﾒﾛﾝ追肥","JA静岡経済連","ｸﾗｳﾝﾒﾛﾝ追肥","ｸﾗｳﾝﾒﾛﾝ追肥"]
[null,1002,"JA静岡経済連        ｸﾗｳﾝﾒﾛﾝ基肥","JA静岡経済連","ｸﾗｳﾝﾒﾛﾝ基肥","ｸﾗｳﾝﾒﾛﾝ基肥"]
[null,4022,"JA静岡経済連        クラブ・フレッシュ","JA静岡経済連","クラブ・フレッシュ","ｸﾗﾌﾞ･ﾌﾚｯｼｭ"]
[null,2004,"JA静岡経済連        ｸﾞﾘｰﾝﾔｰﾄﾞ","JA静岡経済連","ｸﾞﾘｰﾝﾔｰﾄﾞ","ｸﾞﾘｰﾝﾔｰﾄﾞ"]
[null,1058,"JA静岡経済連        ｼﾞｬﾝﾌﾟ　ﾎﾟｯﾄ錠","JA静岡経済連","ｼﾞｬﾝﾌﾟ　ﾎﾟｯﾄ錠","ｼﾞｬﾝﾌﾟ ﾎﾟｯﾄ錠"]
[null,1057,"JA静岡経済連        ｼﾞｬﾝﾌﾟ067","JA静岡経済連","ｼﾞｬﾝﾌﾟ067","ｼﾞｬﾝﾌﾟ067"]
[null,4003,"JA静岡経済連        十全炭素","JA静岡経済連","十全炭素","十全炭素"]
[null,6001,"JA静岡経済連        ｼﾝﾎﾞﾙ","JA静岡経済連","ｼﾝﾎﾞﾙ","ｼﾝﾎﾞﾙ"]
[null,4020,"JA静岡経済連        ｽｲｶﾙ","JA静岡経済連","ｽｲｶﾙ","ｽｲｶﾙ"]
[null,4013,"JA静岡経済連        ｽｰﾊﾟｰﾏｸﾞ","JA静岡経済連","ｽｰﾊﾟｰﾏｸﾞ","ｽｰﾊﾟｰﾏｸﾞ"]
[null,3001,"JA静岡経済連        ｽﾐﾘﾝﾒﾛﾝ培土","JA静岡経済連","ｽﾐﾘﾝﾒﾛﾝ培土","ｽﾐﾘﾝﾒﾛﾝ培土"]
[null,4010,"JA静岡経済連        ｾﾙｶ","JA静岡経済連","ｾﾙｶ","ｾﾙｶ"]
[null,4004,"JA静岡経済連        ｿﾌﾄｼﾘｶ","JA静岡経済連","ｿﾌﾄｼﾘｶ","ｿﾌﾄｼﾘｶ"]
[null,1007,"JA静岡経済連        ﾀﾞｲﾔﾒﾛﾝ1号","JA静岡経済連","ﾀﾞｲﾔﾒﾛﾝ1号","ﾀﾞｲﾔﾒﾛﾝ1号"]
[null,1008,"JA静岡経済連        ﾀﾞｲﾔﾒﾛﾝ2号","JA静岡経済連","ﾀﾞｲﾔﾒﾛﾝ2号","ﾀﾞｲﾔﾒﾛﾝ2号"]
[null,1009,"JA静岡経済連        ﾀﾞｲﾔﾒﾛﾝ3号","JA静岡経済連","ﾀﾞｲﾔﾒﾛﾝ3号","ﾀﾞｲﾔﾒﾛﾝ3号"]
[null,4006,"JA静岡経済連        炭酸苦土石灰10号","JA静岡経済連","炭酸苦土石灰10号","炭酸苦土石灰10号"]
[null,1015,"JA静岡経済連        つよし","JA静岡経済連","つよし","つよし"]
[null,4021,"JA静岡経済連        ﾃﾝﾎﾟﾛﾝ","JA静岡経済連","ﾃﾝﾎﾟﾛﾝ","ﾃﾝﾎﾟﾛﾝ"]
[null,5001,"JA静岡経済連        ﾈﾆｷﾝｺﾝ","JA静岡経済連","ﾈﾆｷﾝｺﾝ","ﾈﾆｷﾝｺﾝ"]
[null,4014,"JA静岡経済連        ﾊﾟｰﾗｲﾄ１型","JA静岡経済連","ﾊﾟｰﾗｲﾄ１型","ﾊﾟｰﾗｲﾄ1型"]
[null,4015,"JA静岡経済連        ﾊﾟｰﾗｲﾄ2型","JA静岡経済連","ﾊﾟｰﾗｲﾄ2型","ﾊﾟｰﾗｲﾄ2型"]
[null,4016,"JA静岡経済連        ﾊﾟｰﾗｲﾄ3型","JA静岡経済連","ﾊﾟｰﾗｲﾄ3型","ﾊﾟｰﾗｲﾄ3型"]
[null,5002,"JA静岡経済連        ﾊﾞｲｵﾗｲﾌ","JA静岡経済連","ﾊﾞｲｵﾗｲﾌ","ﾊﾞｲｵﾗｲﾌ"]
[null,5038,"JA静岡経済連        ﾊｲﾌﾐﾝﾃﾞﾙﾏ","JA静岡経済連","ﾊｲﾌﾐﾝﾃﾞﾙﾏ","ﾊｲﾌﾐﾝﾃﾞﾙﾏ"]
[null,4002,"JA静岡経済連        ﾊｲﾌﾐﾝ特号","JA静岡経済連","ﾊｲﾌﾐﾝ特号","ﾊｲﾌﾐﾝ特号"]
[null,4001,"JA静岡経済連        ﾊｲﾌﾐﾝ特号A","JA静岡経済連","ﾊｲﾌﾐﾝ特号A","ﾊｲﾌﾐﾝ特号A"]
[null,1010,"JA静岡経済連        浜松ﾒﾛﾝ配合","JA静岡経済連","浜松ﾒﾛﾝ配合","浜松ﾒﾛﾝ配合"]
[null,1054,"JA静岡経済連        ﾊﾞﾗﾝｽ肥料","JA静岡経済連","ﾊﾞﾗﾝｽ肥料","ﾊﾞﾗﾝｽ肥料"]
[null,5005,"JA静岡経済連        ﾋﾞｵ有機","JA静岡経済連","ﾋﾞｵ有機","ﾋﾞｵ有機"]
[null,1063,"JA静岡経済連        ビオ有機333","JA静岡経済連","ビオ有機333","ﾋﾞｵ有機333"]
[null,5006,"JA静岡経済連        ビコック","JA静岡経済連","ビコック","ﾋﾞｺｯｸ"]
[null,3003,"JA静岡経済連        ﾌｼﾞﾐ園芸培土","JA静岡経済連","ﾌｼﾞﾐ園芸培土","ﾌｼﾞﾐ園芸培土"]
[null,1055,"JA静岡経済連        ﾌｼﾞﾐぼかし642","JA静岡経済連","ﾌｼﾞﾐぼかし642","ﾌｼﾞﾐぼかし642"]
[null,3004,"JA静岡経済連        ﾌｼﾞﾐﾒﾛﾝ培土","JA静岡経済連","ﾌｼﾞﾐﾒﾛﾝ培土","ﾌｼﾞﾐﾒﾛﾝ培土"]
[null,2003,"JA静岡経済連        ﾍﾞﾀｰ堆肥","JA静岡経済連","ﾍﾞﾀｰ堆肥","ﾍﾞﾀｰ堆肥"]
[null,1060,"JA静岡経済連        ﾎｽﾎﾞﾝ","JA静岡経済連","ﾎｽﾎﾞﾝ","ﾎｽﾎﾞﾝ"]
[null,1062,"JA静岡経済連        ﾏｲｸﾌﾟﾚｲ","JA静岡経済連","ﾏｲｸﾌﾟﾚｲ","ﾏｲｸﾌﾟﾚｲ"]
[null,1061,"JA静岡経済連        ﾏｽﾉﾐｰﾙ","JA静岡経済連","ﾏｽﾉﾐｰﾙ","ﾏｽﾉﾐｰﾙ"]
[null,1066,"JA静岡経済連        マルチサポート１号","JA静岡経済連","マルチサポート１号","ﾏﾙﾁｻﾎﾟｰﾄ1号"]
[null,1056,{"$f":"CONCATENATE(D75,REPT(\" \",20-LENB(D75)),E75)","v":"JA静岡経済連        ﾐﾈﾊﾟﾜｰS"},"JA静岡経済連","ﾐﾈﾊﾟﾜｰS",{"$f":"ASC(E75)","v":"ﾐﾈﾊﾟﾜｰS"}]
[null,2001,"JA静岡経済連        みのり堆肥","JA静岡経済連","みのり堆肥","みのり堆肥"]
[null,2002,"JA静岡経済連        みのり堆肥VS","JA静岡経済連","みのり堆肥VS","みのり堆肥VS"]
[null,1013,"JA静岡経済連        妙光２号","JA静岡経済連","妙光２号","妙光2号"]
[null,4009,"JA静岡経済連        ﾒｲﾝﾘﾊﾞｰ","JA静岡経済連","ﾒｲﾝﾘﾊﾞｰ","ﾒｲﾝﾘﾊﾞｰ"]
[null,1068,"JA静岡経済連        メロックス配合１号","JA静岡経済連","メロックス配合１号","ﾒﾛｯｸｽ配合1号"]
[null,1012,"JA静岡経済連        ﾒﾛﾝぼかし555","JA静岡経済連","ﾒﾛﾝぼかし555","ﾒﾛﾝぼかし555"]
[null,null,"JA静岡経済連        ヤッシー・ミックス３号","JA静岡経済連","ヤッシー・ミックス３号","ﾔｯｼｰ･ﾐｯｸｽ3号"]
[null,1011,"JA静岡経済連        夢咲ﾒﾛﾝ配合","JA静岡経済連","夢咲ﾒﾛﾝ配合","夢咲ﾒﾛﾝ配合"]
[null,4018,"JA静岡経済連        粒状ﾁｬﾝｽ","JA静岡経済連","粒状ﾁｬﾝｽ","粒状ﾁｬﾝｽ"]
[null,4012,"JA静岡経済連        硫マグ","JA静岡経済連","硫マグ","硫ﾏｸﾞ"]
[null,1059,"JA静岡経済連        ﾘﾝｸｴｰｽ","JA静岡経済連","ﾘﾝｸｴｰｽ","ﾘﾝｸｴｰｽ"]
[null,5003,"JA静岡経済連        ﾙｰﾄﾞｹﾞｲﾝ","JA静岡経済連","ﾙｰﾄﾞｹﾞｲﾝ","ﾙｰﾄﾞｹﾞｲﾝ"]
[null,1110,"赤堀配管            粒状施肥楽","赤堀配管","粒状施肥楽","粒状施肥楽"]
[null,1107,"生熊商店            8=6魚かす粉末","生熊商店","8=6魚かす粉末","8=6魚かす粉末"]
[null,4098,"生熊商店            ｸﾄﾞﾐﾈﾗﾙ","生熊商店","ｸﾄﾞﾐﾈﾗﾙ","ｸﾄﾞﾐﾈﾗﾙ"]
[null,4099,"生熊商店            ｽｰﾊﾟｰﾌﾐﾝ","生熊商店","ｽｰﾊﾟｰﾌﾐﾝ","ｽｰﾊﾟｰﾌﾐﾝ"]
[null,1109,"生熊商店            発酵鶏糞","生熊商店","発酵鶏糞","発酵鶏糞"]
[null,1108,"生熊商店            ﾌｼﾞﾐﾊﾞｰｸ","生熊商店","ﾌｼﾞﾐﾊﾞｰｸ","ﾌｼﾞﾐﾊﾞｰｸ"]
[null,4105,"イシグロ農材        陸の恵み","イシグロ農材","陸の恵み","陸の恵み"]
[null,4100,"ｶﾗｰｹﾐｶﾙ工業         ﾅﾝﾗ","ｶﾗｰｹﾐｶﾙ工業","ﾅﾝﾗ","ﾅﾝﾗ"]
[null,4062,"川合肥料            EB-a","川合肥料","EB-a","EB-a"]
[null,5015,"川合肥料            育苗用G２","川合肥料","育苗用G２","育苗用G2"]
[null,4047,"川合肥料            息吹SR-10","川合肥料","息吹SR-10","息吹SR-10"]
[null,4046,"川合肥料            ｲﾜﾐﾗｲﾄ","川合肥料","ｲﾜﾐﾗｲﾄ","ｲﾜﾐﾗｲﾄ"]
[null,1089,"川合肥料            うずしお配合","川合肥料","うずしお配合","うずしお配合"]
[null,5013,"川合肥料            ｵｰﾚｽC","川合肥料","ｵｰﾚｽC","ｵｰﾚｽC"]
[null,5012,"川合肥料            ｵｰﾚｽG","川合肥料","ｵｰﾚｽG","ｵｰﾚｽG"]
[null,4041,"川合肥料            かきﾗｲﾑ","川合肥料","かきﾗｲﾑ","かきﾗｲﾑ"]
[null,1082,"川合肥料            かつお節煮かす","川合肥料","かつお節煮かす","かつお節煮かす"]
[null,1077,"川合肥料            かつお有機","川合肥料","かつお有機","かつお有機"]
[null,4056,"川合肥料            ｶﾅﾃﾞｨｱﾝ・ﾋﾟｰﾄ","川合肥料","ｶﾅﾃﾞｨｱﾝ・ﾋﾟｰﾄ","ｶﾅﾃﾞｨｱﾝ･ﾋﾟｰﾄ"]
[null,1085,"川合肥料            ｶﾆｶﾞﾗ（粉末）","川合肥料","ｶﾆｶﾞﾗ（粉末）","ｶﾆｶﾞﾗ(粉末)"]
[null,1086,"川合肥料            ｶﾆｶﾞﾗ（ﾍﾟﾚｯﾄ）","川合肥料","ｶﾆｶﾞﾗ（ﾍﾟﾚｯﾄ）","ｶﾆｶﾞﾗ(ﾍﾟﾚｯﾄ)"]
[null,1081,"川合肥料            魚粕（ﾊﾞｲｵ）","川合肥料","魚粕（ﾊﾞｲｵ）","魚粕(ﾊﾞｲｵ)"]
[null,1076,"川合肥料            ｷﾝｸﾞ豊穣","川合肥料","ｷﾝｸﾞ豊穣","ｷﾝｸﾞ豊穣"]
[null,4053,"川合肥料            金のつち","川合肥料","金のつち","金のつち"]
[null,1093,"川合肥料            草木灰","川合肥料","草木灰","草木灰"]
[null,4049,"川合肥料            ｸﾘｰﾝﾀﾝｿ（1号）","川合肥料","ｸﾘｰﾝﾀﾝｿ（1号）","ｸﾘｰﾝﾀﾝｿ(1号)"]
[null,4042,"川合肥料            ｸﾚｲﾝ2号","川合肥料","ｸﾚｲﾝ2号","ｸﾚｲﾝ2号"]
[null,4107,"川合肥料            ゴールドコンポ","川合肥料","ゴールドコンポ","ｺﾞｰﾙﾄﾞｺﾝﾎﾟ"]
[null,1087,"川合肥料            ｺｰﾝｴｷｽ特ﾍﾟﾚ","川合肥料","ｺｰﾝｴｷｽ特ﾍﾟﾚ","ｺｰﾝｴｷｽ特ﾍﾟﾚ"]
[null,1080,"川合肥料            米ぬかﾍﾟﾚｯﾄ","川合肥料","米ぬかﾍﾟﾚｯﾄ","米ぬかﾍﾟﾚｯﾄ"]
[null,4050,"川合肥料            ｺﾛﾅｸﾞﾘｰﾝ","川合肥料","ｺﾛﾅｸﾞﾘｰﾝ","ｺﾛﾅｸﾞﾘｰﾝ"]
[null,1078,"川合肥料            菜種粕","川合肥料","菜種粕","菜種粕"]
[null,1088,"川合肥料            ｻｶﾅｴｷｽ特ﾍﾟﾚ","川合肥料","ｻｶﾅｴｷｽ特ﾍﾟﾚ","ｻｶﾅｴｷｽ特ﾍﾟﾚ"]
[null,5016,"川合肥料            ｻﾙﾊﾟｰS","川合肥料","ｻﾙﾊﾟｰS","ｻﾙﾊﾟｰS"]
[null,1083,"川合肥料            不知火燐酸","川合肥料","不知火燐酸","不知火燐酸"]
[null,1090,"川合肥料            新ﾒﾛﾝ配合","川合肥料","新ﾒﾛﾝ配合","新ﾒﾛﾝ配合"]
[null,5009,"川合肥料            森羅","川合肥料","森羅","森羅"]
[null,5010,"川合肥料            ｽｰﾊﾟｰﾊﾞｲﾈ","川合肥料","ｽｰﾊﾟｰﾊﾞｲﾈ","ｽｰﾊﾟｰﾊﾞｲﾈ"]
[null,1091,"川合肥料            たばこくず肥料","川合肥料","たばこくず肥料","たばこくず肥料"]
[null,5017,"川合肥料            土耕芯","川合肥料","土耕芯","土耕芯"]
[null,1092,"川合肥料            椿の実粕","川合肥料","椿の実粕","椿の実粕"]
[null,1094,"川合肥料            天然硫加","川合肥料","天然硫加","天然硫加"]
[null,4043,"川合肥料            天然硫酸石灰","川合肥料","天然硫酸石灰","天然硫酸石灰"]
[null,4048,"川合肥料            透水ﾌﾟﾛ","川合肥料","透水ﾌﾟﾛ","透水ﾌﾟﾛ"]
[null,4063,"川合肥料            ニーム核油粕","川合肥料","ニーム核油粕","ﾆｰﾑ核油粕"]
[null,4064,"川合肥料            ニーメックス・ペレット","川合肥料","ニーメックス・ペレット","ﾆｰﾒｯｸｽ･ﾍﾟﾚｯﾄ"]
[null,4060,"川合肥料            ﾆｭｰｵｽﾏｼﾞｯｸ","川合肥料","ﾆｭｰｵｽﾏｼﾞｯｸ","ﾆｭｰｵｽﾏｼﾞｯｸ"]
[null,4040,"川合肥料            乳酸卵殻","川合肥料","乳酸卵殻","乳酸卵殻"]
[null,4058,"川合肥料            ﾆｭｰﾄﾝ","川合肥料","ﾆｭｰﾄﾝ","ﾆｭｰﾄﾝ"]
[null,4051,"川合肥料            農業用炭素","川合肥料","農業用炭素","農業用炭素"]
[null,4057,"川合肥料            ﾊﾟｰﾗｲﾄ","川合肥料","ﾊﾟｰﾗｲﾄ","ﾊﾟｰﾗｲﾄ"]
[null,5011,{"$f":"CONCATENATE(D139,REPT(\" \",20-LENB(D139)),E139)","v":"川合肥料            ﾊﾞｲﾈｷﾄﾝ"},"川合肥料","ﾊﾞｲﾈｷﾄﾝ",{"$f":"ASC(E139)","v":"ﾊﾞｲﾈｷﾄﾝ"}]
[null,4055,"川合肥料            ﾊﾞｶﾞｽﾌﾞﾛｯｸ","川合肥料","ﾊﾞｶﾞｽﾌﾞﾛｯｸ","ﾊﾞｶﾞｽﾌﾞﾛｯｸ"]
[null,5014,"川合肥料            光ｵｰﾚｽ","川合肥料","光ｵｰﾚｽ","光ｵｰﾚｽ"]
[null,4054,"川合肥料            ﾌﾐﾝｴｰﾄﾞ（泥炭）","川合肥料","ﾌﾐﾝｴｰﾄﾞ（泥炭）","ﾌﾐﾝｴｰﾄﾞ(泥炭)"]
[null,1072,"川合肥料            ﾌﾞﾗﾄﾐﾝ","川合肥料","ﾌﾞﾗﾄﾐﾝ","ﾌﾞﾗﾄﾐﾝ"]
[null,1073,"川合肥料            ﾌﾞﾗﾄﾐﾝ-1","川合肥料","ﾌﾞﾗﾄﾐﾝ-1","ﾌﾞﾗﾄﾐﾝ-1"]
[null,1074,"川合肥料            ﾌﾞﾗﾄﾐﾝ-5","川合肥料","ﾌﾞﾗﾄﾐﾝ-5","ﾌﾞﾗﾄﾐﾝ-5"]
[null,5018,"川合肥料            ﾌﾞﾗﾄﾐﾝPSB","川合肥料","ﾌﾞﾗﾄﾐﾝPSB","ﾌﾞﾗﾄﾐﾝPSB"]
[null,3009,"川合肥料            ﾌﾞﾗﾄﾐﾝ培養土","川合肥料","ﾌﾞﾗﾄﾐﾝ培養土","ﾌﾞﾗﾄﾐﾝ培養土"]
[null,4044,"川合肥料            ﾎﾞｶｼｺﾝﾌﾞ","川合肥料","ﾎﾞｶｼｺﾝﾌﾞ","ﾎﾞｶｼｺﾝﾌﾞ"]
[null,4045,"川合肥料            ﾎﾞｶｼｺﾝﾌﾞﾍﾟﾚｯﾄ","川合肥料","ﾎﾞｶｼｺﾝﾌﾞﾍﾟﾚｯﾄ","ﾎﾞｶｼｺﾝﾌﾞﾍﾟﾚｯﾄ"]
[null,1075,"川合肥料            ﾎﾞｶｼﾁｬﾝﾌﾟ富士","川合肥料","ﾎﾞｶｼﾁｬﾝﾌﾟ富士","ﾎﾞｶｼﾁｬﾝﾌﾟ富士"]
[null,4061,"川合肥料            ﾏｼﾞｯｸO２","川合肥料","ﾏｼﾞｯｸO２","ﾏｼﾞｯｸO2"]
[null,2015,"川合肥料            みなみエコユーキ1号","川合肥料","みなみエコユーキ1号","みなみｴｺﾕｰｷ1号"]
[null,3008,"川合肥料            ﾒﾛﾝｿｲﾙ","川合肥料","ﾒﾛﾝｿｲﾙ","ﾒﾛﾝｿｲﾙ"]
[null,4052,"川合肥料            もみがらくん炭","川合肥料","もみがらくん炭","もみがらくん炭"]
[null,4059,"川合肥料            有機酸原体","川合肥料","有機酸原体","有機酸原体"]
[null,2013,"川合肥料            有機堆肥（VS堆肥）","川合肥料","有機堆肥（VS堆肥）","有機堆肥(VS堆肥)"]
[null,1084,"川合肥料            有機燐太郎","川合肥料","有機燐太郎","有機燐太郎"]
[null,2014,"川合肥料            ﾗﾝﾄﾞﾊﾟﾜｰ","川合肥料","ﾗﾝﾄﾞﾊﾟﾜｰ","ﾗﾝﾄﾞﾊﾟﾜｰ"]
[null,1095,"川合肥料            陸王","川合肥料","陸王","陸王"]
[null,1096,"川合肥料            陸王25","川合肥料","陸王25","陸王25"]
[null,1097,"川合肥料            硫酸ﾏｸﾞﾈｼｳﾑ","川合肥料","硫酸ﾏｸﾞﾈｼｳﾑ","硫酸ﾏｸﾞﾈｼｳﾑ"]
[null,1079,"川合肥料            綿実粕","川合肥料","綿実粕","綿実粕"]
[null,2012,"川合肥料            わら堆肥","川合肥料","わら堆肥","わら堆肥"]
[null,5030,"川口肥料            YKD","川口肥料","YKD","YKD"]
[null,3019,"川口肥料            赤富士50","川口肥料","赤富士50","赤富士50"]
[null,1052,"川口肥料            アジエース555号","川口肥料","アジエース555号","ｱｼﾞｴｰｽ555号"]
[null,4102,"川口肥料            エスライム","川口肥料","エスライム","ｴｽﾗｲﾑ"]
[null,1051,"川口肥料            活性有機454","川口肥料","活性有機454","活性有機454"]
[null,4101,"川口肥料            カルエース","川口肥料","カルエース","ｶﾙｴｰｽ"]
[null,3018,"川口肥料            黄富士30","川口肥料","黄富士30","黄富士30"]
[null,3017,"川口肥料            黄富士50","川口肥料","黄富士50","黄富士50"]
[null,1111,"川口肥料            キレートP13号","川口肥料","キレートP13号","ｷﾚｰﾄP13号"]
[null,2025,"川口肥料            ｺﾞｰﾙﾃﾞﾝ堆肥","川口肥料","ｺﾞｰﾙﾃﾞﾝ堆肥","ｺﾞｰﾙﾃﾞﾝ堆肥"]
[null,5032,"川口肥料            しんこん","川口肥料","しんこん","しんこん"]
[null,5031,"川口肥料            セフティー","川口肥料","セフティー","ｾﾌﾃｨｰ"]
[null,2024,"川口肥料            長者","川口肥料","長者","長者"]
[null,2026,"川口肥料            パワー秀峰","川口肥料","パワー秀峰","ﾊﾟﾜｰ秀峰"]
[null,3016,"川口肥料            富士５０","川口肥料","富士５０","富士50"]
[null,2023,"川口肥料            リーフ","川口肥料","リーフ","ﾘｰﾌ"]
[null,5033,"コジマヤ            バクテリアン５５","コジマヤ","バクテリアン５５","ﾊﾞｸﾃﾘｱﾝ55"]
[null,3015,"鈴木暖房設備        活富源ﾒﾛﾝ用培土","鈴木暖房設備","活富源ﾒﾛﾝ用培土","活富源ﾒﾛﾝ用培土"]
[null,5037,"大成農材            マイクロキシン","大成農材","マイクロキシン","ﾏｲｸﾛｷｼﾝ"]
[null,5040,"ﾀｶｷﾞｺｰﾎﾟﾚｰｼｮﾝ       １号Ｒ","ﾀｶｷﾞｺｰﾎﾟﾚｰｼｮﾝ","１号Ｒ","1号R"]
[null,4079,"ﾀｶｷﾞｺｰﾎﾟﾚｰｼｮﾝ       ｱｸﾞﾛ加里30","ﾀｶｷﾞｺｰﾎﾟﾚｰｼｮﾝ","ｱｸﾞﾛ加里30","ｱｸﾞﾛ加里30"]
[null,1026,"ﾀｶｷﾞｺｰﾎﾟﾚｰｼｮﾝ       味菜有機","ﾀｶｷﾞｺｰﾎﾟﾚｰｼｮﾝ","味菜有機","味菜有機"]
[null,1028,"ﾀｶｷﾞｺｰﾎﾟﾚｰｼｮﾝ       味菜544","ﾀｶｷﾞｺｰﾎﾟﾚｰｼｮﾝ","味菜544","味菜544"]
[null,1033,"ﾀｶｷﾞｺｰﾎﾟﾚｰｼｮﾝ       あじまろ減塩527","ﾀｶｷﾞｺｰﾎﾟﾚｰｼｮﾝ","あじまろ減塩527","あじまろ減塩527"]
[null,1029,"ﾀｶｷﾞｺｰﾎﾟﾚｰｼｮﾝ       あじまろ減塩535","ﾀｶｷﾞｺｰﾎﾟﾚｰｼｮﾝ","あじまろ減塩535","あじまろ減塩535"]
[null,1032,"ﾀｶｷﾞｺｰﾎﾟﾚｰｼｮﾝ       あじまろ減塩537","ﾀｶｷﾞｺｰﾎﾟﾚｰｼｮﾝ","あじまろ減塩537","あじまろ減塩537"]
[null,1030,"ﾀｶｷﾞｺｰﾎﾟﾚｰｼｮﾝ       あじまろ減塩555","ﾀｶｷﾞｺｰﾎﾟﾚｰｼｮﾝ","あじまろ減塩555","あじまろ減塩555"]
[null,1031,"ﾀｶｷﾞｺｰﾎﾟﾚｰｼｮﾝ       あじまろ減塩555細目","ﾀｶｷﾞｺｰﾎﾟﾚｰｼｮﾝ","あじまろ減塩555細目","あじまろ減塩555細目"]
[null,5023,"ﾀｶｷﾞｺｰﾎﾟﾚｰｼｮﾝ       育苗用コフナ","ﾀｶｷﾞｺｰﾎﾟﾚｰｼｮﾝ","育苗用コフナ","育苗用ｺﾌﾅ"]
[null,2021,"ﾀｶｷﾞｺｰﾎﾟﾚｰｼｮﾝ       エコブラン","ﾀｶｷﾞｺｰﾎﾟﾚｰｼｮﾝ","エコブラン","ｴｺﾌﾞﾗﾝ"]
[null,4070,"ﾀｶｷﾞｺｰﾎﾟﾚｰｼｮﾝ       ｶｯﾄわら","ﾀｶｷﾞｺｰﾎﾟﾚｰｼｮﾝ","ｶｯﾄわら","ｶｯﾄわら"]
[null,1027,"ﾀｶｷﾞｺｰﾎﾟﾚｰｼｮﾝ       共栄有機100","ﾀｶｷﾞｺｰﾎﾟﾚｰｼｮﾝ","共栄有機100","共栄有機100"]
[null,2019,"ﾀｶｷﾞｺｰﾎﾟﾚｰｼｮﾝ       グリーンプラント","ﾀｶｷﾞｺｰﾎﾟﾚｰｼｮﾝ","グリーンプラント","ｸﾞﾘｰﾝﾌﾟﾗﾝﾄ"]
[null,4072,"ﾀｶｷﾞｺｰﾎﾟﾚｰｼｮﾝ       ｹｲｾﾞｵﾝ","ﾀｶｷﾞｺｰﾎﾟﾚｰｼｮﾝ","ｹｲｾﾞｵﾝ","ｹｲｾﾞｵﾝ"]
[null,4076,"ﾀｶｷﾞｺｰﾎﾟﾚｰｼｮﾝ       けいめい苦土","ﾀｶｷﾞｺｰﾎﾟﾚｰｼｮﾝ","けいめい苦土","けいめい苦土"]
[null,4073,"ﾀｶｷﾞｺｰﾎﾟﾚｰｼｮﾝ       骨ﾘﾝ酸","ﾀｶｷﾞｺｰﾎﾟﾚｰｼｮﾝ","骨ﾘﾝ酸","骨ﾘﾝ酸"]
[null,5021,"ﾀｶｷﾞｺｰﾎﾟﾚｰｼｮﾝ       コフナＭＰ","ﾀｶｷﾞｺｰﾎﾟﾚｰｼｮﾝ","コフナＭＰ","ｺﾌﾅMP"]
[null,5024,"ﾀｶｷﾞｺｰﾎﾟﾚｰｼｮﾝ       コフナS","ﾀｶｷﾞｺｰﾎﾟﾚｰｼｮﾝ","コフナS","ｺﾌﾅS"]
[null,4080,"ﾀｶｷﾞｺｰﾎﾟﾚｰｼｮﾝ       硝酸加里入り複合肥料","ﾀｶｷﾞｺｰﾎﾟﾚｰｼｮﾝ","硝酸加里入り複合肥料","硝酸加里入り複合肥料"]
[null,4077,{"$f":"CONCATENATE(D203,REPT(\" \",20-LENB(D203)),E203)","v":"ﾀｶｷﾞｺｰﾎﾟﾚｰｼｮﾝ       ｽｰﾊﾟｰﾐｸﾛﾏｸﾞ"},"ﾀｶｷﾞｺｰﾎﾟﾚｰｼｮﾝ","ｽｰﾊﾟｰﾐｸﾛﾏｸﾞ",{"$f":"ASC(E203)","v":"ｽｰﾊﾟｰﾐｸﾛﾏｸﾞ"}]
[null,1099,"ﾀｶｷﾞｺｰﾎﾟﾚｰｼｮﾝ       タカギ配合５５５","ﾀｶｷﾞｺｰﾎﾟﾚｰｼｮﾝ","タカギ配合５５５","ﾀｶｷﾞ配合555"]
[null,2017,"ﾀｶｷﾞｺｰﾎﾟﾚｰｼｮﾝ       茶がらゆうき","ﾀｶｷﾞｺｰﾎﾟﾚｰｼｮﾝ","茶がらゆうき","茶がらゆうき"]
[null,5019,"ﾀｶｷﾞｺｰﾎﾟﾚｰｼｮﾝ       土づくり1号R","ﾀｶｷﾞｺｰﾎﾟﾚｰｼｮﾝ","土づくり1号R","土づくり1号R"]
[null,1024,"ﾀｶｷﾞｺｰﾎﾟﾚｰｼｮﾝ       土づくり554","ﾀｶｷﾞｺｰﾎﾟﾚｰｼｮﾝ","土づくり554","土づくり554"]
[null,1025,"ﾀｶｷﾞｺｰﾎﾟﾚｰｼｮﾝ       土づくり555","ﾀｶｷﾞｺｰﾎﾟﾚｰｼｮﾝ","土づくり555","土づくり555"]
[null,4068,"ﾀｶｷﾞｺｰﾎﾟﾚｰｼｮﾝ       土づくり強化炭","ﾀｶｷﾞｺｰﾎﾟﾚｰｼｮﾝ","土づくり強化炭","土づくり強化炭"]
[null,2020,"ﾀｶｷﾞｺｰﾎﾟﾚｰｼｮﾝ       ツムランド","ﾀｶｷﾞｺｰﾎﾟﾚｰｼｮﾝ","ツムランド","ﾂﾑﾗﾝﾄﾞ"]
[null,4075,"ﾀｶｷﾞｺｰﾎﾟﾚｰｼｮﾝ       天然貝化石","ﾀｶｷﾞｺｰﾎﾟﾚｰｼｮﾝ","天然貝化石","天然貝化石"]
[null,4074,"ﾀｶｷﾞｺｰﾎﾟﾚｰｼｮﾝ       天然ﾏｸﾞｶﾙ","ﾀｶｷﾞｺｰﾎﾟﾚｰｼｮﾝ","天然ﾏｸﾞｶﾙ","天然ﾏｸﾞｶﾙ"]
[null,4067,"ﾀｶｷﾞｺｰﾎﾟﾚｰｼｮﾝ       ﾄｯﾌﾟﾌﾐﾝ","ﾀｶｷﾞｺｰﾎﾟﾚｰｼｮﾝ","ﾄｯﾌﾟﾌﾐﾝ","ﾄｯﾌﾟﾌﾐﾝ"]
[null,1034,"ﾀｶｷﾞｺｰﾎﾟﾚｰｼｮﾝ       ネオブレンド","ﾀｶｷﾞｺｰﾎﾟﾚｰｼｮﾝ","ネオブレンド","ﾈｵﾌﾞﾚﾝﾄﾞ"]
[null,1100,"ﾀｶｷﾞｺｰﾎﾟﾚｰｼｮﾝ       ネオブレンド５５５","ﾀｶｷﾞｺｰﾎﾟﾚｰｼｮﾝ","ネオブレンド５５５","ﾈｵﾌﾞﾚﾝﾄﾞ555"]
[null,1035,"ﾀｶｷﾞｺｰﾎﾟﾚｰｼｮﾝ       ネオブレンドボカシタイプ","ﾀｶｷﾞｺｰﾎﾟﾚｰｼｮﾝ","ネオブレンドボカシタイプ","ﾈｵﾌﾞﾚﾝﾄﾞﾎﾞｶｼﾀｲﾌﾟ"]
[null,4078,"ﾀｶｷﾞｺｰﾎﾟﾚｰｼｮﾝ       ﾊﾟｰﾄﾅｰM26","ﾀｶｷﾞｺｰﾎﾟﾚｰｼｮﾝ","ﾊﾟｰﾄﾅｰM26","ﾊﾟｰﾄﾅｰM26"]
[null,1098,"ﾀｶｷﾞｺｰﾎﾟﾚｰｼｮﾝ       バイオスター","ﾀｶｷﾞｺｰﾎﾟﾚｰｼｮﾝ","バイオスター","ﾊﾞｲｵｽﾀｰ"]
[null,5020,"ﾀｶｷﾞｺｰﾎﾟﾚｰｼｮﾝ       ﾊﾞｲｵﾋﾟｰｽ","ﾀｶｷﾞｺｰﾎﾟﾚｰｼｮﾝ","ﾊﾞｲｵﾋﾟｰｽ","ﾊﾞｲｵﾋﾟｰｽ"]
[null,4066,"ﾀｶｷﾞｺｰﾎﾟﾚｰｼｮﾝ       ﾊﾞｲｺﾝ","ﾀｶｷﾞｺｰﾎﾟﾚｰｼｮﾝ","ﾊﾞｲｺﾝ","ﾊﾞｲｺﾝ"]
[null,4071,"ﾀｶｷﾞｺｰﾎﾟﾚｰｼｮﾝ       発酵ﾊﾞｶｽ","ﾀｶｷﾞｺｰﾎﾟﾚｰｼｮﾝ","発酵ﾊﾞｶｽ","発酵ﾊﾞｶｽ"]
[null,1101,"ﾀｶｷﾞｺｰﾎﾟﾚｰｼｮﾝ       ピースソイル","ﾀｶｷﾞｺｰﾎﾟﾚｰｼｮﾝ","ピースソイル","ﾋﾟｰｽｿｲﾙ"]
[null,4065,"ﾀｶｷﾞｺｰﾎﾟﾚｰｼｮﾝ       ﾋﾟｰﾄﾓｽ堆肥A","ﾀｶｷﾞｺｰﾎﾟﾚｰｼｮﾝ","ﾋﾟｰﾄﾓｽ堆肥A","ﾋﾟｰﾄﾓｽ堆肥A"]
[null,5022,"ﾀｶｷﾞｺｰﾎﾟﾚｰｼｮﾝ       フランス・コフナ","ﾀｶｷﾞｺｰﾎﾟﾚｰｼｮﾝ","フランス・コフナ","ﾌﾗﾝｽ･ｺﾌﾅ"]
[null,4069,"ﾀｶｷﾞｺｰﾎﾟﾚｰｼｮﾝ       木炭（粉・粒）","ﾀｶｷﾞｺｰﾎﾟﾚｰｼｮﾝ","木炭（粉・粒）","木炭(粉･粒)"]
[null,2018,"ﾀｶｷﾞｺｰﾎﾟﾚｰｼｮﾝ       もみ茶がら","ﾀｶｷﾞｺｰﾎﾟﾚｰｼｮﾝ","もみ茶がら","もみ茶がら"]
[null,2016,"ﾀｶｷﾞｺｰﾎﾟﾚｰｼｮﾝ       ゆうき","ﾀｶｷﾞｺｰﾎﾟﾚｰｼｮﾝ","ゆうき","ゆうき"]
[null,1071,"豊田肥料            M.O.X","豊田肥料","M.O.X","M.O.X"]
[null,5041,"豊田肥料            Ｖ6-6-3","豊田肥料","Ｖ6-6-3","V6-6-3"]
[null,5007,"豊田肥料            VSあかきん","豊田肥料","VSあかきん","VSあかきん"]
[null,2008,"豊田肥料            VS堆肥","豊田肥料","VS堆肥","VS堆肥"]
[null,4033,"豊田肥料            ｱｸﾞﾘｶｰﾎﾞ","豊田肥料","ｱｸﾞﾘｶｰﾎﾞ","ｱｸﾞﾘｶｰﾎﾞ"]
[null,4037,"豊田肥料            ｸﾗﾌﾞ有機","豊田肥料","ｸﾗﾌﾞ有機","ｸﾗﾌﾞ有機"]
[null,3005,"豊田肥料            けんどげん","豊田肥料","けんどげん","けんどげん"]
[null,3006,"豊田肥料            健苗土","豊田肥料","健苗土","健苗土"]
[null,4028,"豊田肥料            ｺｰﾗﾙ","豊田肥料","ｺｰﾗﾙ","ｺｰﾗﾙ"]
[null,4036,"豊田肥料            ｺﾞｰﾙﾃﾞﾝﾊﾞｰｸ","豊田肥料","ｺﾞｰﾙﾃﾞﾝﾊﾞｰｸ","ｺﾞｰﾙﾃﾞﾝﾊﾞｰｸ"]
[null,4034,"豊田肥料            辛夷","豊田肥料","辛夷","辛夷"]
[null,4035,"豊田肥料            ｻﾝメート","豊田肥料","ｻﾝメート","ｻﾝﾒｰﾄ"]
[null,2006,"豊田肥料            しげる","豊田肥料","しげる","しげる"]
[null,4027,"豊田肥料            消石灰","豊田肥料","消石灰","消石灰"]
[null,5008,"豊田肥料            ｼﾝﾋﾞｵﾝ","豊田肥料","ｼﾝﾋﾞｵﾝ","ｼﾝﾋﾞｵﾝ"]
[null,4032,"豊田肥料            ｽｰﾊﾟｰﾉﾙﾁｯｿ","豊田肥料","ｽｰﾊﾟｰﾉﾙﾁｯｿ","ｽｰﾊﾟｰﾉﾙﾁｯｿ"]
[null,4026,"豊田肥料            ｽｰﾊﾟｰﾏｸﾞ","豊田肥料","ｽｰﾊﾟｰﾏｸﾞ","ｽｰﾊﾟｰﾏｸﾞ"]
[null,2007,"豊田肥料            太陽ﾊｲｺﾝﾎﾟ","豊田肥料","太陽ﾊｲｺﾝﾎﾟ","太陽ﾊｲｺﾝﾎﾟ"]
[null,4025,"豊田肥料            力","豊田肥料","力","力"]
[null,4038,"豊田肥料            土こうじの素","豊田肥料","土こうじの素","土こうじの素"]
[null,null,"豊田肥料            テンポロン","豊田肥料","テンポロン","ﾃﾝﾎﾟﾛﾝ"]
[null,2005,"豊田肥料            ﾄｰﾖｰｸﾞﾛｰｽ","豊田肥料","ﾄｰﾖｰｸﾞﾛｰｽ","ﾄｰﾖｰｸﾞﾛｰｽ"]
[null,3007,"豊田肥料            床土の素","豊田肥料","床土の素","床土の素"]
[null,6004,"豊田肥料            ﾄｯﾊﾟｰ","豊田肥料","ﾄｯﾊﾟｰ","ﾄｯﾊﾟｰ"]
[null,4029,"豊田肥料            ﾈｵｶﾙｵｷｿ","豊田肥料","ﾈｵｶﾙｵｷｿ","ﾈｵｶﾙｵｷｿ"]
[null,4030,"豊田肥料            ﾈﾊﾘｴｰｽ","豊田肥料","ﾈﾊﾘｴｰｽ","ﾈﾊﾘｴｰｽ"]
[null,4031,"豊田肥料            ﾉﾙﾁｯｿ","豊田肥料","ﾉﾙﾁｯｿ","ﾉﾙﾁｯｿ"]
[null,4024,"豊田肥料            ﾊﾞｰﾐｷｭﾗｲﾄ","豊田肥料","ﾊﾞｰﾐｷｭﾗｲﾄ","ﾊﾞｰﾐｷｭﾗｲﾄ"]
[null,1070,"豊田肥料            ﾊｲｸﾞﾘｰﾝ","豊田肥料","ﾊｲｸﾞﾘｰﾝ","ﾊｲｸﾞﾘｰﾝ"]
[null,2010,"豊田肥料            ﾊｳｽ有機肥料","豊田肥料","ﾊｳｽ有機肥料","ﾊｳｽ有機肥料"]
[null,4023,"豊田肥料            ﾋﾟｰﾄﾓｽ","豊田肥料","ﾋﾟｰﾄﾓｽ","ﾋﾟｰﾄﾓｽ"]
[null,1017,"豊田肥料            ﾌｧｰﾒﾝ474","豊田肥料","ﾌｧｰﾒﾝ474","ﾌｧｰﾒﾝ474"]
[null,1020,"豊田肥料            ﾌｧｰﾒﾝ555","豊田肥料","ﾌｧｰﾒﾝ555","ﾌｧｰﾒﾝ555"]
[null,2011,"豊田肥料            豆有機","豊田肥料","豆有機","豆有機"]
[null,4039,"豊田肥料            まんぞく","豊田肥料","まんぞく","まんぞく"]
[null,2009,"豊田肥料            都有機肥料特号","豊田肥料","都有機肥料特号","都有機肥料特号"]
[null,1023,"豊田肥料            ﾒﾛﾝ545ハエ対策用","豊田肥料","ﾒﾛﾝ545ハエ対策用","ﾒﾛﾝ545ﾊｴ対策用"]
[null,1018,"豊田肥料            ﾒﾛﾝ追肥465","豊田肥料","ﾒﾛﾝ追肥465","ﾒﾛﾝ追肥465"]
[null,1019,"豊田肥料            ﾒﾛﾝ配合555","豊田肥料","ﾒﾛﾝ配合555","ﾒﾛﾝ配合555"]
[null,1022,{"$f":"CONCATENATE(D267,REPT(\" \",20-LENB(D267)),E267)","v":"豊田肥料            ﾒﾛﾝ配合追肥用"},"豊田肥料","ﾒﾛﾝ配合追肥用",{"$f":"ASC(E267)","v":"ﾒﾛﾝ配合追肥用"}]
[null,1021,"豊田肥料            ﾒﾛﾝ配合元肥用","豊田肥料","ﾒﾛﾝ配合元肥用","ﾒﾛﾝ配合元肥用"]
[null,1016,"豊田肥料            ﾒﾛﾝ元肥474","豊田肥料","ﾒﾛﾝ元肥474","ﾒﾛﾝ元肥474"]
[null,5029,"ﾄﾖﾀ肥料農材         V333","ﾄﾖﾀ肥料農材","V333","V333"]
[null,5028,"ﾄﾖﾀ肥料農材         VSﾄﾘｺ","ﾄﾖﾀ肥料農材","VSﾄﾘｺ","VSﾄﾘｺ"]
[null,4097,"ﾄﾖﾀ肥料農材         VS葉素","ﾄﾖﾀ肥料農材","VS葉素","VS葉素"]
[null,1105,"ﾄﾖﾀ肥料農材         ｽｰﾊﾟｰﾒﾛﾝ1号","ﾄﾖﾀ肥料農材","ｽｰﾊﾟｰﾒﾛﾝ1号","ｽｰﾊﾟｰﾒﾛﾝ1号"]
[null,1106,"ﾄﾖﾀ肥料農材         ﾆｰﾑ顆粒","ﾄﾖﾀ肥料農材","ﾆｰﾑ顆粒","ﾆｰﾑ顆粒"]
[null,4096,"ﾄﾖﾀ肥料農材         ﾊﾞｶﾞｽ","ﾄﾖﾀ肥料農材","ﾊﾞｶﾞｽ","ﾊﾞｶﾞｽ"]
[null,4106,"トヨハシ種苗        ニームゴールド","トヨハシ種苗","ニームゴールド","ﾆｰﾑｺﾞｰﾙﾄﾞ"]
[null,4089,"日本ｵｰｶﾞﾆｯｸ         ｱｼﾞﾉｰﾙ","日本ｵｰｶﾞﾆｯｸ","ｱｼﾞﾉｰﾙ","ｱｼﾞﾉｰﾙ"]
[null,5027,"日本ｵｰｶﾞﾆｯｸ         菌太郎","日本ｵｰｶﾞﾆｯｸ","菌太郎","菌太郎"]
[null,1047,"日本ｵｰｶﾞﾆｯｸ         ｸﾗｳﾝﾒﾛﾝ配合　大宝15号","日本ｵｰｶﾞﾆｯｸ","ｸﾗｳﾝﾒﾛﾝ配合　大宝15号","ｸﾗｳﾝﾒﾛﾝ配合 大宝15号"]
[null,1046,"日本ｵｰｶﾞﾆｯｸ         ｸﾗｳﾝﾒﾛﾝ配合　大宝35号","日本ｵｰｶﾞﾆｯｸ","ｸﾗｳﾝﾒﾛﾝ配合　大宝35号","ｸﾗｳﾝﾒﾛﾝ配合 大宝35号"]
[null,1045,"日本ｵｰｶﾞﾆｯｸ         ｸﾗｳﾝﾒﾛﾝ配合　追肥","日本ｵｰｶﾞﾆｯｸ","ｸﾗｳﾝﾒﾛﾝ配合　追肥","ｸﾗｳﾝﾒﾛﾝ配合 追肥"]
[null,1044,"日本ｵｰｶﾞﾆｯｸ         ｸﾗｳﾝﾒﾛﾝ配合　基肥","日本ｵｰｶﾞﾆｯｸ","ｸﾗｳﾝﾒﾛﾝ配合　基肥","ｸﾗｳﾝﾒﾛﾝ配合 基肥"]
[null,4093,"日本ｵｰｶﾞﾆｯｸ         ｸﾞﾘｰﾝﾌﾐﾝ","日本ｵｰｶﾞﾆｯｸ","ｸﾞﾘｰﾝﾌﾐﾝ","ｸﾞﾘｰﾝﾌﾐﾝ"]
[null,4091,"日本ｵｰｶﾞﾆｯｸ         ｺｱﾗのﾏﾙﾁ","日本ｵｰｶﾞﾆｯｸ","ｺｱﾗのﾏﾙﾁ","ｺｱﾗのﾏﾙﾁ"]
[null,1049,"日本ｵｰｶﾞﾆｯｸ         さざなみ","日本ｵｰｶﾞﾆｯｸ","さざなみ","さざなみ"]
[null,4090,"日本ｵｰｶﾞﾆｯｸ         消石灰","日本ｵｰｶﾞﾆｯｸ","消石灰","消石灰"]
[null,1048,"日本ｵｰｶﾞﾆｯｸ         大宝ﾒｶﾞ配合　ﾊｴ対策用","日本ｵｰｶﾞﾆｯｸ","大宝ﾒｶﾞ配合　ﾊｴ対策用","大宝ﾒｶﾞ配合 ﾊｴ対策用"]
[null,1102,"日本ｵｰｶﾞﾆｯｸ         ダイヤアミノ","日本ｵｰｶﾞﾆｯｸ","ダイヤアミノ","ﾀﾞｲﾔｱﾐﾉ"]
[null,3014,"日本ｵｰｶﾞﾆｯｸ         培土王","日本ｵｰｶﾞﾆｯｸ","培土王","培土王"]
[null,4092,"日本ｵｰｶﾞﾆｯｸ         ﾊﾟﾌﾐﾝ","日本ｵｰｶﾞﾆｯｸ","ﾊﾟﾌﾐﾝ","ﾊﾟﾌﾐﾝ"]
[null,2022,"日本ｵｰｶﾞﾆｯｸ         ふわっと有機","日本ｵｰｶﾞﾆｯｸ","ふわっと有機","ふわっと有機"]
[null,4088,"日本ｵｰｶﾞﾆｯｸ         ﾑｰﾝﾗｲﾄ（粉状）","日本ｵｰｶﾞﾆｯｸ","ﾑｰﾝﾗｲﾄ（粉状）","ﾑｰﾝﾗｲﾄ(粉状)"]
[null,2027,"農芸化学商事        コトブキバーク","農芸化学商事","コトブキバーク","ｺﾄﾌﾞｷﾊﾞｰｸ"]
[null,4103,"農芸化学商事        ビオマス","農芸化学商事","ビオマス","ﾋﾞｵﾏｽ"]
[null,4104,"農芸化学商事        フランスコフナ","農芸化学商事","フランスコフナ","ﾌﾗﾝｽｺﾌﾅ"]
[null,1053,"農芸化学商事        ブレンドキング５５５","農芸化学商事","ブレンドキング５５５","ﾌﾞﾚﾝﾄﾞｷﾝｸﾞ555"]
[null,3020,"農芸化学商事        ﾔｯｼｰﾐｯｸｽ１号","農芸化学商事","ﾔｯｼｰﾐｯｸｽ１号","ﾔｯｼｰﾐｯｸｽ1号"]
[null,3021,"農芸化学商事        ﾔｯｼｰﾐｯｸｽ２号","農芸化学商事","ﾔｯｼｰﾐｯｸｽ２号","ﾔｯｼｰﾐｯｸｽ2号"]
[null,3022,"農芸化学商事        ﾔｯｼｰﾐｯｸｽ３号","農芸化学商事","ﾔｯｼｰﾐｯｸｽ３号","ﾔｯｼｰﾐｯｸｽ3号"]
[null,4087,"ﾎｰﾁ・ｱｸﾞﾘｺ          アスカマン２１","ﾎｰﾁ・ｱｸﾞﾘｺ","アスカマン２１","ｱｽｶﾏﾝ21"]
[null,4086,"ﾎｰﾁ・ｱｸﾞﾘｺ          ｶｲｶﾙ","ﾎｰﾁ・ｱｸﾞﾘｺ","ｶｲｶﾙ","ｶｲｶﾙ"]
[null,3011,"ﾎｰﾁ・ｱｸﾞﾘｺ          ﾅｰｽ・豊土","ﾎｰﾁ・ｱｸﾞﾘｺ","ﾅｰｽ・豊土","ﾅｰｽ･豊土"]
[null,3012,"ﾎｰﾁ・ｱｸﾞﾘｺ          ﾅｰｽ・豊土2号","ﾎｰﾁ・ｱｸﾞﾘｺ","ﾅｰｽ・豊土2号","ﾅｰｽ･豊土2号"]
[null,2031,"ﾎｰﾁ・ｱｸﾞﾘｺ          ﾆｯﾃﾝﾀﾝｿ","ﾎｰﾁ・ｱｸﾞﾘｺ","ﾆｯﾃﾝﾀﾝｿ","ﾆｯﾃﾝﾀﾝｿ"]
[null,4083,"ﾎｰﾁ・ｱｸﾞﾘｺ          ﾈｶｼ菌ｺﾞﾛｰ","ﾎｰﾁ・ｱｸﾞﾘｺ","ﾈｶｼ菌ｺﾞﾛｰ","ﾈｶｼ菌ｺﾞﾛｰ"]
[null,1039,"ﾎｰﾁ・ｱｸﾞﾘｺ          ﾈｶｼ配合1号","ﾎｰﾁ・ｱｸﾞﾘｺ","ﾈｶｼ配合1号","ﾈｶｼ配合1号"]
[null,1040,"ﾎｰﾁ・ｱｸﾞﾘｺ          ﾈｶｼ配合2号","ﾎｰﾁ・ｱｸﾞﾘｺ","ﾈｶｼ配合2号","ﾈｶｼ配合2号"]
[null,1041,"ﾎｰﾁ・ｱｸﾞﾘｺ          ﾈｶｼ配合3号","ﾎｰﾁ・ｱｸﾞﾘｺ","ﾈｶｼ配合3号","ﾈｶｼ配合3号"]
[null,1042,"ﾎｰﾁ・ｱｸﾞﾘｺ          ﾈｶｼ配合4号","ﾎｰﾁ・ｱｸﾞﾘｺ","ﾈｶｼ配合4号","ﾈｶｼ配合4号"]
[null,1043,"ﾎｰﾁ・ｱｸﾞﾘｺ          ﾈｶｼ配合5号","ﾎｰﾁ・ｱｸﾞﾘｺ","ﾈｶｼ配合5号","ﾈｶｼ配合5号"]
[null,4082,"ﾎｰﾁ・ｱｸﾞﾘｺ          ﾈｶｼﾕｰｷ","ﾎｰﾁ・ｱｸﾞﾘｺ","ﾈｶｼﾕｰｷ","ﾈｶｼﾕｰｷ"]
[null,5025,"ﾎｰﾁ・ｱｸﾞﾘｺ          ﾊﾞｲｵﾘｯﾁ","ﾎｰﾁ・ｱｸﾞﾘｺ","ﾊﾞｲｵﾘｯﾁ","ﾊﾞｲｵﾘｯﾁ"]
[null,2028,"ﾎｰﾁ・ｱｸﾞﾘｺ          ﾋﾞ・ｺﾝﾎﾟ","ﾎｰﾁ・ｱｸﾞﾘｺ","ﾋﾞ・ｺﾝﾎﾟ","ﾋﾞ･ｺﾝﾎﾟ"]
[null,2029,"ﾎｰﾁ・ｱｸﾞﾘｺ          ﾎｰﾁ・くろだま","ﾎｰﾁ・ｱｸﾞﾘｺ","ﾎｰﾁ・くろだま","ﾎｰﾁ･くろだま"]
[null,3010,"ﾎｰﾁ・ｱｸﾞﾘｺ          ﾎｰﾁ・ﾅｰｽ","ﾎｰﾁ・ｱｸﾞﾘｺ","ﾎｰﾁ・ﾅｰｽ","ﾎｰﾁ･ﾅｰｽ"]
[null,3013,"ﾎｰﾁ・ｱｸﾞﾘｺ          ﾎｰﾁ・ﾎﾟｯﾄﾞ","ﾎｰﾁ・ｱｸﾞﾘｺ","ﾎｰﾁ・ﾎﾟｯﾄﾞ","ﾎｰﾁ･ﾎﾟｯﾄﾞ"]
[null,2030,"ﾎｰﾁ・ｱｸﾞﾘｺ          ﾎｰﾁくん炭肥料","ﾎｰﾁ・ｱｸﾞﾘｺ","ﾎｰﾁくん炭肥料","ﾎｰﾁくん炭肥料"]
[null,4081,"ﾎｰﾁ・ｱｸﾞﾘｺ          ﾎｰﾁﾊｲﾒﾛｰ","ﾎｰﾁ・ｱｸﾞﾘｺ","ﾎｰﾁﾊｲﾒﾛｰ","ﾎｰﾁﾊｲﾒﾛｰ"]
[null,5026,"ﾎｰﾁ・ｱｸﾞﾘｺ          ﾏﾙﾁﾊﾟﾜｰ","ﾎｰﾁ・ｱｸﾞﾘｺ","ﾏﾙﾁﾊﾟﾜｰ","ﾏﾙﾁﾊﾟﾜｰ"]
[null,1036,"ﾎｰﾁ・ｱｸﾞﾘｺ          むかし肥料ⅠA","ﾎｰﾁ・ｱｸﾞﾘｺ","むかし肥料ⅠA","むかし肥料ⅠA"]
[null,1037,"ﾎｰﾁ・ｱｸﾞﾘｺ          むかし肥料ⅢA","ﾎｰﾁ・ｱｸﾞﾘｺ","むかし肥料ⅢA","むかし肥料ⅢA"]
[null,1038,"ﾎｰﾁ・ｱｸﾞﾘｺ          むかし肥料ⅢB","ﾎｰﾁ・ｱｸﾞﾘｺ","むかし肥料ⅢB","むかし肥料ⅢB"]
[null,4085,"ﾎｰﾁ・ｱｸﾞﾘｺ          籾がらくん炭","ﾎｰﾁ・ｱｸﾞﾘｺ","籾がらくん炭","籾がらくん炭"]
[null,5036,"ミノルユウキ        アグリ太郎２１","ミノルユウキ","アグリ太郎２１","ｱｸﾞﾘ太郎21"]
[null,1050,"ミノルユウキ        ﾊﾞｲｵﾉ有機S","ミノルユウキ","ﾊﾞｲｵﾉ有機S","ﾊﾞｲｵﾉ有機S"]
[null,5034,"藪崎産業            Bioメンテ","藪崎産業","Bioメンテ","Bioﾒﾝﾃ"]
[null,5035,"ヤマザキ            ハルジンL","ヤマザキ","ハルジンL","ﾊﾙｼﾞﾝL"]
[null,null,"                    ",null,null,""]
[null,null,"                    ",null,null,""]
[null,null,"                    ",null,null,""]
[null,null,{"$f":"CONCATENATE(D331,REPT(\" \",20-LENB(D331)),E331)","v":"                    "},null,null,{"$f":"ASC(E331)","v":""}]
[null,null,"                    ",null,null,""]
[null,null,"                    ",null,null,""]
[null,null,"                    ",null,null,""]
[null,null,"                    ",null,null,""]
[null,null,"                    ",null,null,""]
[]
[null,null,"あと",{"$f":"COUNTBLANK(D11:D335)","v":8},"種類登録できます。"]

{"sheet":"農薬名リスト","index":32,"n_rows":94,"n_cols":6,"rows_kept":94,"cut":false,"hidden":false,"merged":[[1,0,1,2]]}
[]
["農薬名リスト"]
[null,null,{"$f":"CONCATENATE(B94,C94,D94)","v":"あと4種類の登録ができます。"}]
[null,"№","農薬名","回数","時期","希釈倍数"]
[null,null,null,"　","　"]
[null,1,"アークランド液剤","②",3,1000]
[null,2,"アーデント水和剤","⑤","前",2000]
[null,3,"アクタラ顆粒水溶剤","③","前",2000]
[null,4,"アグリメック","③","前",1000]
[null,5,"アグロスリン水和剤","⑤","前",2000]
[null,6,"アグロスリン乳剤","⑤","前",2000]
[null,7,"アタブロン乳剤","③",14,3000]
[null,8,"アドマイヤー顆粒水和剤","③",3,10000]
[null,9,"アドマイヤー水和剤","③",3,2000]
[null,10,"アニキ乳剤","④","前",2000]
[null,11,"アファーム乳剤","②","前",3000]
[null,12,"アミスター２０フロアブル","④","前",4000]
[null,13,"アルバリン顆粒水溶剤","②","前",3000]
[null,14,"イオウフロアブル","③","前",1000]
[null,15,"エルゴール乳剤","②",20,1200]
[null,16,"塩化ベンザルコニウム","無","前",50]
[null,17,"カスケード乳剤","③",7,4000]
[null,18,"ガッテン乳剤","②","前",5000]
[null,19,"カネマイトフロアブル","①","前",2000]
[null,20,"カリグリーン","⑧","前",1000]
[null,21,"キノンドー４０水和剤","⑤",10,1000]
[null,22,"ケルセン乳剤","②",3,2000]
[null,23,"コロマイト水和剤","②","前",2000]
[null,24,"コロマイト乳剤","②","前",2000]
[null,25,"サンクリスタル乳剤",0,"前",600]
[null,26,"サンマイトフロアブル","②",3,2000]
[null,27,"サンヨール","④","前",1000]
[null,28,"ジーファイン水和剤","⑥","前",1000]
[null,29,"ジマンダイセン水和剤","⑤",7,1000]
[null,30,"ストロビーフロアブル","③","前",4000]
[null,31,"スピノエース顆粒水和剤","②","前",5000]
[null,32,"スプラサイド水和剤","②",3,2000]
[null,33,"スミレックス水和剤","③","前",2000]
[null,34,"ダイアジノン水和剤","④",14,1000]
[null,35,"ダイアジノン乳剤","④",14,1000]
[null,36,"ダイファー水和剤","③",30,1000]
[null,37,"ダコニール１０００","⑤",3,1000]
[null,38,"ダニトロンフロアブル","①","前",2000]
[null,39,"ダントツ水溶剤","③","前",3000]
[null,40,"チェス水和剤","④",3,4000]
[null,41,"ディアナSC","②","前",2500]
[null,42,"テーク水和剤","⑤",7,1000]
[null,43,"デミリン水和剤","③",7,1500]
[null,44,"テルスターくん煙剤","④","前"]
[null,45,"テルスター水和剤","④","前",2000]
[null,46,"トップジンＭ水和剤","なし","前",1500]
[null,47,"トップジンＭペースト","　","初期",0]
[null,48,"トリアジン水和剤","⑥","前",1000]
[null,49,"トリガード液剤","③","前",1000]
[null,50,"トリフミンジェット","⑤","前",0]
[null,51,"トリフミン水和剤","⑤","前",4000]
[null,52,"トレボン乳剤","④",3,2000]
[null,53,"ニッソランＶジェット","②",3,0]
[null,54,"ニッソランＶ乳剤","②",3,2000]
[null,55,"ハーモメイト水溶剤","⑧","前",1000]
[null,56,"バッサ乳剤","④","前",2000]
[null,57,"バリアート顆粒水和剤","③","前",4000]
[null,58,"パンチョＴＦジェット","②","前",0]
[null,59,"ビスダイセン水和剤","⑤",3,1000]
[null,60,"ピラニカＥＷ","①",3,3000]
[null,61,"フルピカフロアブル","④","前",4000]
[null,62,"プレオフロアブル","②","前",1000]
[null,63,"ベストガード水溶剤","③",7,2000]
[null,64,"ベルクート水和剤","⑤","前",2000]
[null,65,"ホスビット乳剤","④",3,1000]
[null,66,"ボタニガード","無","無",0]
[null,67,"ポリオキシンＡＬ水溶剤","①",7,20]
[null,68,"ポリオキシンＡＬ水和剤","⑤","前",1000]
[null,69,"ポリベリン水和剤","⑤","前",2000]
[null,70,"マイトコーネフロアブル","①","前",2000]
[null,71,"マネージ水和剤","④","前",2000]
[null,72,"マブリックジェット","②",3,0]
[null,73,"モスピランジェット","③","前",0]
[null,74,"モベントフロアブル","③","前",2000]
[null,75,"モレスタン水和剤","⑩",3,4000]
[null,76,"リドミルＭＺ水和剤","③",7,1500]
[null,77,"ローディ乳剤","④","前",2000]
[null,78,"ロディーＶＰくん煙顆粒","④","前",0]
[null,79,"ロディーくん煙顆粒","④","前",0]
[null,80,"ロブラールくん煙剤","④","前",0]
[null,81,"ロブラール水和剤","④","前",1000]
[null,82]
[null,83]
[null,84]
[null,85]
[]
[]
[]
[null,"あと",{"$f":"COUNTBLANK(C6:C90)","v":4},"種類の登録ができます。"]

{"sheet":"施用粒剤リスト","index":33,"n_rows":21,"n_cols":6,"rows_kept":21,"cut":false,"hidden":false,"merged":[[3,1,3,2]]}
[]
[null,"施用粒剤リスト"]
[null,null,{"$f":"CONCATENATE(\"あと\",C21,\"種類登録できます\")","v":"あと4種類登録できます"}]
[null,"施用粒剤リスト",null,"施用量","回数","時期"]
[]
[null,1,"アクタラ粒剤・５","１～２ｇ/株",1,"定植時"]
[null,2,"アドバンテージ粒剤","0.5～1ｇ/株",1,"育苗・定植時"]
[null,3,"アドマイヤー１粒剤","１～２ｇ/株",1,"定植時"]
[null,4,"アルバリン粒剤","１～２ｇ/株",1,"定植時"]
[null,5,"オンコル粒剤","0.5～1ｇ/株",1,"育苗・定植時"]
[null,6,"ダイアジノン粒剤・５","１～２ｇ/株",1,"定植時"]
[null,7,"ダントツ粒剤","１ｇ/株",1,"定植時"]
[null,8,"ベストガード粒剤","１～２ｇ/株",1,"定植時"]
[null,9]
[null,10]
[null,11]
[null,12]
[]
[]
[]
[null,"あと",{"$f":"COUNTBLANK(C6:C17)","v":4},"種類登録できます。"]

{"sheet":"記入帳","index":34,"n_rows":26,"n_cols":6,"rows_kept":26,"cut":false,"hidden":false,"merged":[[6,2,6,5]]}
[]
[null,"農薬散布日記入帳"]
[]
[]
[]
[]
[null,"農薬名","月　　日"]
[null,"アファーム乳剤",{"$f":"IF(B8=\"\",\"\",VLOOKUP(B8,Ｍ農薬台帳,3,FALSE))","v":"前"},{"$f":"IF(B8=\"\",\"\",\"-\")","v":"-"},{"$f":"IF(B8=\"\",\"\",VLOOKUP(B8,Ｍ農薬台帳,2,FALSE))","v":"②"},{"$f":"IF(B8=\"\",\"\",VLOOKUP(B8,Ｍ農薬台帳,4,FALSE))","v":3000}]
[null,"スピノエース顆粒水和剤","前","-","②",5000]
[null,"アニキ乳剤","前","-","④",2000]
[null,"イオウフロアブル","前","-","③",1000]
[null,"ダコニール１０００",3,"-","⑤",1000]
[null,"ベルクート水和剤","前","-","⑤",2000]
[null,"サンクリスタル乳剤","前","-",0,600]
[null,"アクタラ顆粒水溶剤","前","-","③",2000]
[null,"プレオフロアブル","前","-","②",1000]
[null,"モベントフロアブル","前","-","③",2000]
[null,"アルバリン顆粒水溶剤","前","-","②",3000]
[null,"カスケード乳剤",7,"-","③",4000]
[null,"ディアナSC","前","-","②",2500]
[null,"ダイアジノン乳剤",14,"-","④",1000]
[null,"アークランド液剤",3,"-","②",1000]
[null,"塩化ベンザルコニウム","前","-","無",50]
[null,null,{"$f":"IF(B24=\"\",\"\",VLOOKUP(B24,Ｍ農薬台帳,3,FALSE))","v":""},{"$f":"IF(B24=\"\",\"\",\"-\")","v":""},{"$f":"IF(B24=\"\",\"\",VLOOKUP(B24,Ｍ農薬台帳,2,FALSE))","v":""},{"$f":"IF(B24=\"\",\"\",VLOOKUP(B24,Ｍ農薬台帳,4,FALSE))","v":""}]
[null,null,{"$f":"IF(B25=\"\",\"\",VLOOKUP(B25,Ｍ農薬台帳,3,FALSE))","v":""},{"$f":"IF(B25=\"\",\"\",\"-\")","v":""},{"$f":"IF(B25=\"\",\"\",VLOOKUP(B25,Ｍ農薬台帳,2,FALSE))","v":""},{"$f":"IF(B25=\"\",\"\",VLOOKUP(B25,Ｍ農薬台帳,4,FALSE))","v":""}]
[null,"栽培履歴小メロン２",{"$f":"IF(B26=\"\",\"\",VLOOKUP(B26,Ｍ農薬台帳,3,FALSE))","v":{"$error":"#N/A"}},{"$f":"IF(B26=\"\",\"\",\"-\")","v":"-"},{"$f":"IF(B26=\"\",\"\",VLOOKUP(B26,Ｍ農薬台帳,2,FALSE))","v":{"$error":"#N/A"}},{"$f":"IF(B26=\"\",\"\",VLOOKUP(B26,Ｍ農薬台帳,4,FALSE))","v":{"$error":"#N/A"}}]

{"sheet":"隠しページ","index":35,"n_rows":55,"n_cols":21,"rows_kept":55,"cut":false,"hidden":true,"merged":[[2,6,2,7],[4,9,4,13],[5,9,5,13],[6,9,6,13],[2,9,2,13],[3,9,3,13]]}
[]
[]
[null,"ステージBox","設定Box.1","設定Box.2","設定Box.3","設定Box.4","生育ステージ",null,null,"所　　属　　支　　所　　名",null,null,null,null,"リンクセル",1,null,"アクティブシート","１４号入力"]
[null,null,null,null,null,null,1,null,1,"静岡県温室農業協同組合（クラウンメロン支所）",null,null,null,null,"検索結果",{"$f":"VLOOKUP(P3,O5:Q28,3,FALSE)","v":"表示する画面を選択してください"},null,"リンクするシート",{"$f":"VLOOKUP(S3,S5:U20,1,FALSE)","v":"１４号入力"},{"$f":"VLOOKUP(S3,S5:U20,2,FALSE)","v":"１４号Ｐ"},{"$f":"VLOOKUP(S3,S5:U20,3,FALSE)","v":14}]
[null,"育苗","播種","前",0,"播種",2,"育苗",2,"静岡県温室農業協同組合（磐田支所）",null,null,null,null,1,"表示する画面を選択してください","表示する画面を選択してください",1,"１号入力","１号Ｐ",1]
[null,"定植","定植","後",1,"定植",3,"木作り",3,"静岡県温室農業協同組合（静南支所）",null,null,null,null,2,"使用上の注意を読む","使用上の注意",2,"２号入力","２号Ｐ",2]
[null,"追肥（１）","交配",null,2,null,4,"玉吊り",4,"静岡県温室農業協同組合（浜松支所）",null,null,null,null,3,"１号室の入力画面","１号入力",3,"３号入力","３号Ｐ",3]
[null,"追肥（２）","収穫",null,3,null,5,"肥大期",null,null,null,null,null,null,4,"２号室の入力画面","２号入力",4,"４号入力","４号Ｐ",4]
[null,"追肥（３）",null,null,4,null,6,"ネット",null,null,null,null,null,null,5,"３号室の入力画面","３号入力",5,"５号入力","５号Ｐ",5]
[null,null,null,null,5,null,7,"仕上げ",null,null,null,null,null,null,6,"４号室の入力画面","４号入力",6,"６号入力","６号Ｐ",6]
[null,"品種名Box",null,null,6,null,null,null,null,null,null,null,null,null,7,"５号室の入力画面","５号入力",7,"７号入力","７号Ｐ",7]
[null,null,null,null,7,"設定Box.5",null,null,null,null,null,null,null,null,8,"６号室の入力画面","６号入力",8,"８号入力","８号Ｐ",8]
[null,"春　　系",null,null,8,null,null,null,null,null,null,null,null,null,9,"７号室の入力画面","７号入力",9,"９号入力","９号Ｐ",9]
[null,"夏　　系",null,null,9,"交配",null,null,null,null,null,null,null,null,10,"８号室の入力画面","８号入力",10,"１０号入力","１０号Ｐ",10]
[null,"秋　　系",null,null,10,null,null,null,null,null,null,null,null,null,11,"９号室の入力画面","９号入力",11,"１１号入力","１１号Ｐ",11]
[null,"冬　　系",null,null,11,null,null,null,null,null,null,null,null,null,12,"１０号室の入力画面","１０号入力",12,"１２号入力","１２号Ｐ",12]
[null,null,null,null,12,null,null,null,null,null,null,null,null,null,13,"１１号室の入力画面","１１号入力",13,"１３号入力","１３号Ｐ",13]
[null,null,null,null,13,null,null,null,null,null,null,null,null,null,14,"１２号室の入力画面","１２号入力",14,"１４号入力","１４号Ｐ",14]
[null,null,null,null,14,null,null,null,null,null,null,null,null,null,15,"１３号室の入力画面","１３号入力",15,"１５号入力","１５号Ｐ",15]
[null,null,null,null,15,null,null,null,null,null,null,null,null,null,16,"１４号室の入力画面","１４号入力",16,"１６号入力","１６号Ｐ",16]
[null,null,null,null,16,null,null,null,null,null,null,null,null,null,17,"農薬名リストを編集する","農薬名リスト"]
[null,null,null,null,17,null,null,null,null,null,null,null,null,null,18,"施用粒剤リストを編集する","施用粒剤リスト"]
[null,null,null,null,18,null,null,null,null,null,null,null,null,null,19,"肥料名リストを編集する","肥料名リスト"]
[null,null,null,null,19,null,null,null,null,null,null,null,null,null,20,"液肥名リストを編集する","液肥名リスト"]
[null,null,null,null,20,null,null,null,null,null,null,null,null,null,21,"農薬散布日記入帳を印刷する","記入帳"]
[null,null,null,null,21,null,null,null,null,null,null,null,null,null,22,null,"メニュー画面"]
[null,null,null,null,22,null,null,null,null,null,null,null,null,null,23,null,"メニュー画面"]
[null,null,null,null,23,null,null,null,null,null,null,null,null,null,24,null,"メニュー画面"]
[null,null,null,null,24]
[null,null,null,null,25]
[null,null,null,null,26]
[null,null,null,null,27]
[null,null,null,null,28]
[null,null,null,null,29]
[null,null,null,null,30]
[null,null,null,null,31]
[null,null,null,null,32]
[null,null,null,null,33]
[null,null,null,null,34]
[null,null,null,null,35]
[null,null,null,null,36]
[null,null,null,null,37]
[null,null,null,null,38]
[null,null,null,null,39]
[null,null,null,null,40]
[null,null,null,null,41]
[null,null,null,null,42]
[null,null,null,null,43]
[null,null,null,null,44]
[null,null,null,null,45]
[null,null,null,null,46]
[null,null,null,null,47]
[null,null,null,null,48]
[null,null,null,null,49]
[null,null,null,null,50]

{"sheet":"隠しページ２","index":36,"n_rows":23,"n_cols":7,"rows_kept":23,"cut":false,"hidden":true,"merged":[]}
["回数","時期","業者名",null,"施用量","回数","時期"]
[null,null,null,null,"0.5～1ｇ/株",1,"育苗"]
["①","前","JA静岡経済連",null,"1ｇ/株",2,"定植時"]
["②",2,"赤堀配管",null,"１～２ｇ/株",3,"育苗・定植時"]
["③",3,"生熊商店",null,"２ｇ/株",4]
["④",4,"イシグロ農材",null,"２～３ｇ/株",5]
["⑤",5,"ｶﾗｰｹﾐｶﾙ工業"]
["⑥",6,"川合肥料"]
["⑦",7,"川口肥料"]
["⑧",8,"コジマヤ"]
["⑨",9,"鈴木暖房設備"]
["⑩",10,"大成農材"]
["⑪",11,"ﾀｶｷﾞｺｰﾎﾟﾚｰｼｮﾝ",null,"記号のリスト"]
["⑫",12,"豊田肥料"]
["⑬",13,"ﾄﾖﾀ肥料農材",null,"〃"]
["⑭",14,"トヨハシ種苗"]
["⑮",15,"日本ｵｰｶﾞﾆｯｸ"]
["⑯",16,"農芸化学商事",null,"小メロン出荷リスト"]
["⑰",17,"ﾎｰﾁ・ｱｸﾞﾘｺ"]
["⑱",18,"ミノルユウキ",null,"小メロンの出荷有り"]
["⑲",19,"藪崎産業",null,"小メロンの出荷無し"]
["⑳",20,"ヤマザキ",null,"小メロンの出荷あり"]
["無",21,"その他",null,"小メロンの出荷なし"]